{"text_format":"1","workbook":"xlsx","n_sheets":16,"sheets":["Accueil","Ecoles","Statistiques","Tableau de bord","Mode d'emploi","Concert 1","Concert 2","Concert 3","Concert 4","Concert 5","Stat Concert 1","Stat Concert 2","Stat Concert 3","Stat Concert 4","Stat Concert 5","Données"],"not_rendered":{"charts":10,"images":7,"macros":1,"external_links":0,"defined_names":22,"comments":5,"pivot_tables":0},"unopened":[],"bounds":{"document_bytes":16777216,"sheet_cells":100000,"rows_first":2000,"rows_last":500,"rows_between":2000,"halvings":0,"cell_chars":16384,"cell_head_chars":4096},"cells_cut":0,"cells_raw":0,"read":"whole","date_system":"1900"}

{"sheet":"Accueil","index":0,"n_rows":19,"n_cols":8,"rows_kept":19,"cut":false,"hidden":false,"merged":[[3,7,3,8],[5,0,14,0],[2,2,2,3],[12,2,12,3],[15,2,15,3],[6,2,6,3],[3,2,3,3],[9,2,9,3],[18,2,18,3],[6,7,6,8],[9,7,9,8],[12,7,12,8],[15,7,15,8],[18,7,18,8]]}
[" "]
[]
[null,null,"JM France"]
[null,null,{"$f":"Données!M2","v":0},null,null,"Inscriptions aux",null,"Documents"]
[null,null,null,null,null,"Concerts de la saison"]
[{"$f":"Données!F2","v":0}]
[null,null,"Tableau de bord",null,null,{"$f":"Données!D12","v":0},null,"Fiche statistiques 1"]
[]
[]
[null,null,"Synthèse par établissement",null,null,{"$f":"Données!D13","v":0},null,"Fiche statistiques 2"]
[]
[]
[null,null,"Écoles - Établissements",null,null,{"$f":"Données!D14","v":0},null,"Fiche statistiques 3"]
[]
[]
[null,null,"Configuration",null,null,{"$f":"Données!D15","v":0},null,"Fiche statistiques 4"]
[]
["Version 1.01"]
["© Jean-Claude Daures",null,"Mode d'emploi",null,null,{"$f":"Données!D16","v":0},null,"Fiche statistiques 5"]

{"sheet":"Ecoles","index":1,"n_rows":193,"n_cols":14,"rows_kept":193,"cut":false,"hidden":false,"merged":[]}
[]
["Code RNE école","Ecole","Circonscription","Type école","Mail","Téléphone","RPI","Adresse ecole","Code Postal","Directeur d école"]
[]
[]
[]
[]
[]
[]
[]
[]
[]
[]
[]
[]
[]
[]
[]
[]
[]
[]
[]
[]
[]
[]
[]
[]
[]
[]
[]
[]
[]
[]
[]
[]
[]
[]
[]
[]
[]
[null,null,null,null,null,null,null,null,null,null,null,null,null,"sofipinet@hotmail.com"]
[]
[]
[]
[]
[]
[]
[]
[]
[]
[]
[]
[]
[]
[]
[]
[]
[]
[]
[]
[]
[]
[]
[]
[]
[]
[]
[]
[]
[]
[]
[]
[]
[]
[]
[]
[]
[]
[]
[]
[]
[]
[]
[]
[]
[]
[]
[]
[]
[]
[]
[]
[]
[]
[]
[]
[]
[]
[]
[]
[]
[]
[]
[]
[]
[]
[]
[]
[]
[]
[]
[]
[]
[]
[]
[]
[]
[]
[]
[]
[]
[]
[]
[]
[]
[]
[]
[]
[]
[]
[]
[]
[]
[]
[]
[]
[]
[]
[]
[]
[]
[]
[]
[]
[]
[]
[]
[]
[]
[]
[]
[]
[]
[]
[]
[]
[]
[]
[]
[]
[]
[]
[]
[]
[]
[]
[]
[]
[]
[]
[]
[]
[]
[]
[]
[]
[]
[]
[]
[]
[]
[]
[]
[]
[]
[]
[]
[]
[]
[]
[]
[]
[]
[null,null,null,null,null,null,null,null,null,null,null,null,null,"Estelle.Aries@ac-toulouse.fr"]

{"sheet":"Statistiques","index":2,"n_rows":500,"n_cols":18,"rows_kept":500,"cut":false,"hidden":false,"merged":[[1,16,4,17],[1,4,1,5],[1,8,4,9],[1,10,4,11],[1,12,4,13],[1,14,4,15]]}
[]
[null,"JM France",null,null,{"$f":"Données!F2","v":0},null,null,null,{"$f":"Données!D12","v":0},null,{"$f":"Données!D13","v":0},null,{"$f":"Données!D14","v":0},null,{"$f":"Données!D15","v":0},null,{"$f":"Données!D16","v":0}]
[null,{"$f":"Données!M2","v":0}]
["Accueil",null,null,null,"Inscrits","Présents"]
[null,null,null,null,{"$f":"SUM(E7:E233)","v":0},{"$f":"SUM(F7:F233)","v":0}]
["RNE","Établissements","Circonscription",null,null,null,null,null,"I","P","I","P","I","P","I","P","I","P"]
[{"$f":"Ecoles!A3","v":0},{"$f":"Ecoles!B3","v":0},{"$f":"Ecoles!C3","v":0},null,{"$f":"SUMIF('Concert 1'!$E$9:$E$56,Statistiques!A7,'Concert 1'!$I$9:$I$56)+SUMIF('Concert 2'!$E$9:$E$56,Statistiques!A7,'Concert 2'!$I$9:$I$56)+SUMIF('Concert 3'!$E$9:$E$56,Statistiques!A7,'Concert 3'!$I$9:$I$56)+SUMIF('Concert 4'!$E$9:$E$56,Statistiques!A7,'Concert 4'!$I$9:$I$56)+SUMIF('Concert 5'!$E$9:$E$56,Statistiques!A7,'Concert 5'!$I$9:$I$56)","v":0},{"$f":"SUMIF('Concert 1'!$E$9:$E$56,Statistiques!A7,'Concert 1'!$J$9:$J$56)+SUMIF('Concert 2'!$E$9:$E$56,Statistiques!A7,'Concert 2'!$J$9:$J$56)+SUMIF('Concert 3'!$E$9:$E$56,Statistiques!A7,'Concert 3'!$J$9:$J$56)+SUMIF('Concert 4'!$E$9:$E$56,Statistiques!A7,'Concert 4'!$J$9:$J$56)+SUMIF('Concert 5'!$E$9:$E$56,Statistiques!A7,'Concert 5'!$J$9:$J$56)","v":0},null,null,{"$f":"SUMIF('Concert 1'!$E$9:$E$56,Statistiques!A7,'Concert 1'!$I$9:$I$56)","v":0},{"$f":"SUMIF('Concert 1'!$E$9:$E$56,Statistiques!A7,'Concert 1'!$J$9:$J$56)","v":0},{"$f":"SUMIF('Concert 2'!$E$9:$E$56,Statistiques!A7,'Concert 2'!$I$9:$I$56)","v":0},{"$f":"SUMIF('Concert 2'!$E$9:$E$56,Statistiques!A7,'Concert 2'!$J$9:$J$56)","v":0},{"$f":"SUMIF('Concert 3'!$E$9:$E$56,Statistiques!A7,'Concert 3'!$I$9:$I$56)","v":0},{"$f":"SUMIF('Concert 3'!$E$9:$E$56,Statistiques!A7,'Concert 3'!$J$9:$J$56)","v":0},{"$f":"SUMIF('Concert 4'!$E$9:$E$56,Statistiques!A7,'Concert 4'!$I$9:$I$56)","v":0},{"$f":"SUMIF('Concert 4'!$E$9:$E$56,Statistiques!A7,'Concert 4'!$J$9:$J$56)","v":0},{"$f":"SUMIF('Concert 5'!$E$9:$E$56,Statistiques!A7,'Concert 5'!$I$9:$I$56)","v":0},{"$f":"SUMIF('Concert 5'!$E$9:$E$56,Statistiques!A7,'Concert 5'!$J$9:$J$56)","v":0}]
[{"$f":"Ecoles!A4","v":0},{"$f":"Ecoles!B4","v":0},{"$f":"Ecoles!C4","v":0},null,{"$f":"SUMIF('Concert 1'!$E$9:$E$56,Statistiques!A8,'Concert 1'!$I$9:$I$56)+SUMIF('Concert 2'!$E$9:$E$56,Statistiques!A8,'Concert 2'!$I$9:$I$56)+SUMIF('Concert 3'!$E$9:$E$56,Statistiques!A8,'Concert 3'!$I$9:$I$56)+SUMIF('Concert 4'!$E$9:$E$56,Statistiques!A8,'Concert 4'!$I$9:$I$56)+SUMIF('Concert 5'!$E$9:$E$56,Statistiques!A8,'Concert 5'!$I$9:$I$56)","v":0},{"$f":"SUMIF('Concert 1'!$E$9:$E$56,Statistiques!A8,'Concert 1'!$J$9:$J$56)+SUMIF('Concert 2'!$E$9:$E$56,Statistiques!A8,'Concert 2'!$J$9:$J$56)+SUMIF('Concert 3'!$E$9:$E$56,Statistiques!A8,'Concert 3'!$J$9:$J$56)+SUMIF('Concert 4'!$E$9:$E$56,Statistiques!A8,'Concert 4'!$J$9:$J$56)+SUMIF('Concert 5'!$E$9:$E$56,Statistiques!A8,'Concert 5'!$J$9:$J$56)","v":0},null,null,{"$f":"SUMIF('Concert 1'!$E$9:$E$56,Statistiques!A8,'Concert 1'!$I$9:$I$56)","v":0},{"$f":"SUMIF('Concert 1'!$E$9:$E$56,Statistiques!A8,'Concert 1'!$J$9:$J$56)","v":0},{"$f":"SUMIF('Concert 2'!$E$9:$E$56,Statistiques!A8,'Concert 2'!$I$9:$I$56)","v":0},{"$f":"SUMIF('Concert 2'!$E$9:$E$56,Statistiques!A8,'Concert 2'!$J$9:$J$56)","v":0},{"$f":"SUMIF('Concert 3'!$E$9:$E$56,Statistiques!A8,'Concert 3'!$I$9:$I$56)","v":0},{"$f":"SUMIF('Concert 3'!$E$9:$E$56,Statistiques!A8,'Concert 3'!$J$9:$J$56)","v":0},{"$f":"SUMIF('Concert 4'!$E$9:$E$56,Statistiques!A8,'Concert 4'!$I$9:$I$56)","v":0},{"$f":"SUMIF('Concert 4'!$E$9:$E$56,Statistiques!A8,'Concert 4'!$J$9:$J$56)","v":0},{"$f":"SUMIF('Concert 5'!$E$9:$E$56,Statistiques!A8,'Concert 5'!$I$9:$I$56)","v":0},{"$f":"SUMIF('Concert 5'!$E$9:$E$56,Statistiques!A8,'Concert 5'!$J$9:$J$56)","v":0}]
[{"$f":"Ecoles!A5","v":0},{"$f":"Ecoles!B5","v":0},{"$f":"Ecoles!C5","v":0},null,{"$f":"SUMIF('Concert 1'!$E$9:$E$56,Statistiques!A9,'Concert 1'!$I$9:$I$56)+SUMIF('Concert 2'!$E$9:$E$56,Statistiques!A9,'Concert 2'!$I$9:$I$56)+SUMIF('Concert 3'!$E$9:$E$56,Statistiques!A9,'Concert 3'!$I$9:$I$56)+SUMIF('Concert 4'!$E$9:$E$56,Statistiques!A9,'Concert 4'!$I$9:$I$56)+SUMIF('Concert 5'!$E$9:$E$56,Statistiques!A9,'Concert 5'!$I$9:$I$56)","v":0},{"$f":"SUMIF('Concert 1'!$E$9:$E$56,Statistiques!A9,'Concert 1'!$J$9:$J$56)+SUMIF('Concert 2'!$E$9:$E$56,Statistiques!A9,'Concert 2'!$J$9:$J$56)+SUMIF('Concert 3'!$E$9:$E$56,Statistiques!A9,'Concert 3'!$J$9:$J$56)+SUMIF('Concert 4'!$E$9:$E$56,Statistiques!A9,'Concert 4'!$J$9:$J$56)+SUMIF('Concert 5'!$E$9:$E$56,Statistiques!A9,'Concert 5'!$J$9:$J$56)","v":0},null,null,{"$f":"SUMIF('Concert 1'!$E$9:$E$56,Statistiques!A9,'Concert 1'!$I$9:$I$56)","v":0},{"$f":"SUMIF('Concert 1'!$E$9:$E$56,Statistiques!A9,'Concert 1'!$J$9:$J$56)","v":0},{"$f":"SUMIF('Concert 2'!$E$9:$E$56,Statistiques!A9,'Concert 2'!$I$9:$I$56)","v":0},{"$f":"SUMIF('Concert 2'!$E$9:$E$56,Statistiques!A9,'Concert 2'!$J$9:$J$56)","v":0},{"$f":"SUMIF('Concert 3'!$E$9:$E$56,Statistiques!A9,'Concert 3'!$I$9:$I$56)","v":0},{"$f":"SUMIF('Concert 3'!$E$9:$E$56,Statistiques!A9,'Concert 3'!$J$9:$J$56)","v":0},{"$f":"SUMIF('Concert 4'!$E$9:$E$56,Statistiques!A9,'Concert 4'!$I$9:$I$56)","v":0},{"$f":"SUMIF('Concert 4'!$E$9:$E$56,Statistiques!A9,'Concert 4'!$J$9:$J$56)","v":0},{"$f":"SUMIF('Concert 5'!$E$9:$E$56,Statistiques!A9,'Concert 5'!$I$9:$I$56)","v":0},{"$f":"SUMIF('Concert 5'!$E$9:$E$56,Statistiques!A9,'Concert 5'!$J$9:$J$56)","v":0}]
[{"$f":"Ecoles!A6","v":0},{"$f":"Ecoles!B6","v":0},{"$f":"Ecoles!C6","v":0},null,{"$f":"SUMIF('Concert 1'!$E$9:$E$56,Statistiques!A10,'Concert 1'!$I$9:$I$56)+SUMIF('Concert 2'!$E$9:$E$56,Statistiques!A10,'Concert 2'!$I$9:$I$56)+SUMIF('Concert 3'!$E$9:$E$56,Statistiques!A10,'Concert 3'!$I$9:$I$56)+SUMIF('Concert 4'!$E$9:$E$56,Statistiques!A10,'Concert 4'!$I$9:$I$56)+SUMIF('Concert 5'!$E$9:$E$56,Statistiques!A10,'Concert 5'!$I$9:$I$56)","v":0},{"$f":"SUMIF('Concert 1'!$E$9:$E$56,Statistiques!A10,'Concert 1'!$J$9:$J$56)+SUMIF('Concert 2'!$E$9:$E$56,Statistiques!A10,'Concert 2'!$J$9:$J$56)+SUMIF('Concert 3'!$E$9:$E$56,Statistiques!A10,'Concert 3'!$J$9:$J$56)+SUMIF('Concert 4'!$E$9:$E$56,Statistiques!A10,'Concert 4'!$J$9:$J$56)+SUMIF('Concert 5'!$E$9:$E$56,Statistiques!A10,'Concert 5'!$J$9:$J$56)","v":0},null,null,{"$f":"SUMIF('Concert 1'!$E$9:$E$56,Statistiques!A10,'Concert 1'!$I$9:$I$56)","v":0},{"$f":"SUMIF('Concert 1'!$E$9:$E$56,Statistiques!A10,'Concert 1'!$J$9:$J$56)","v":0},{"$f":"SUMIF('Concert 2'!$E$9:$E$56,Statistiques!A10,'Concert 2'!$I$9:$I$56)","v":0},{"$f":"SUMIF('Concert 2'!$E$9:$E$56,Statistiques!A10,'Concert 2'!$J$9:$J$56)","v":0},{"$f":"SUMIF('Concert 3'!$E$9:$E$56,Statistiques!A10,'Concert 3'!$I$9:$I$56)","v":0},{"$f":"SUMIF('Concert 3'!$E$9:$E$56,Statistiques!A10,'Concert 3'!$J$9:$J$56)","v":0},{"$f":"SUMIF('Concert 4'!$E$9:$E$56,Statistiques!A10,'Concert 4'!$I$9:$I$56)","v":0},{"$f":"SUMIF('Concert 4'!$E$9:$E$56,Statistiques!A10,'Concert 4'!$J$9:$J$56)","v":0},{"$f":"SUMIF('Concert 5'!$E$9:$E$56,Statistiques!A10,'Concert 5'!$I$9:$I$56)","v":0},{"$f":"SUMIF('Concert 5'!$E$9:$E$56,Statistiques!A10,'Concert 5'!$J$9:$J$56)","v":0}]
[{"$f":"Ecoles!A7","v":0},{"$f":"Ecoles!B7","v":0},{"$f":"Ecoles!C7","v":0},null,{"$f":"SUMIF('Concert 1'!$E$9:$E$56,Statistiques!A11,'Concert 1'!$I$9:$I$56)+SUMIF('Concert 2'!$E$9:$E$56,Statistiques!A11,'Concert 2'!$I$9:$I$56)+SUMIF('Concert 3'!$E$9:$E$56,Statistiques!A11,'Concert 3'!$I$9:$I$56)+SUMIF('Concert 4'!$E$9:$E$56,Statistiques!A11,'Concert 4'!$I$9:$I$56)+SUMIF('Concert 5'!$E$9:$E$56,Statistiques!A11,'Concert 5'!$I$9:$I$56)","v":0},{"$f":"SUMIF('Concert 1'!$E$9:$E$56,Statistiques!A11,'Concert 1'!$J$9:$J$56)+SUMIF('Concert 2'!$E$9:$E$56,Statistiques!A11,'Concert 2'!$J$9:$J$56)+SUMIF('Concert 3'!$E$9:$E$56,Statistiques!A11,'Concert 3'!$J$9:$J$56)+SUMIF('Concert 4'!$E$9:$E$56,Statistiques!A11,'Concert 4'!$J$9:$J$56)+SUMIF('Concert 5'!$E$9:$E$56,Statistiques!A11,'Concert 5'!$J$9:$J$56)","v":0},null,null,{"$f":"SUMIF('Concert 1'!$E$9:$E$56,Statistiques!A11,'Concert 1'!$I$9:$I$56)","v":0},{"$f":"SUMIF('Concert 1'!$E$9:$E$56,Statistiques!A11,'Concert 1'!$J$9:$J$56)","v":0},{"$f":"SUMIF('Concert 2'!$E$9:$E$56,Statistiques!A11,'Concert 2'!$I$9:$I$56)","v":0},{"$f":"SUMIF('Concert 2'!$E$9:$E$56,Statistiques!A11,'Concert 2'!$J$9:$J$56)","v":0},{"$f":"SUMIF('Concert 3'!$E$9:$E$56,Statistiques!A11,'Concert 3'!$I$9:$I$56)","v":0},{"$f":"SUMIF('Concert 3'!$E$9:$E$56,Statistiques!A11,'Concert 3'!$J$9:$J$56)","v":0},{"$f":"SUMIF('Concert 4'!$E$9:$E$56,Statistiques!A11,'Concert 4'!$I$9:$I$56)","v":0},{"$f":"SUMIF('Concert 4'!$E$9:$E$56,Statistiques!A11,'Concert 4'!$J$9:$J$56)","v":0},{"$f":"SUMIF('Concert 5'!$E$9:$E$56,Statistiques!A11,'Concert 5'!$I$9:$I$56)","v":0},{"$f":"SUMIF('Concert 5'!$E$9:$E$56,Statistiques!A11,'Concert 5'!$J$9:$J$56)","v":0}]
[{"$f":"Ecoles!A8","v":0},{"$f":"Ecoles!B8","v":0},{"$f":"Ecoles!C8","v":0},null,{"$f":"SUMIF('Concert 1'!$E$9:$E$56,Statistiques!A12,'Concert 1'!$I$9:$I$56)+SUMIF('Concert 2'!$E$9:$E$56,Statistiques!A12,'Concert 2'!$I$9:$I$56)+SUMIF('Concert 3'!$E$9:$E$56,Statistiques!A12,'Concert 3'!$I$9:$I$56)+SUMIF('Concert 4'!$E$9:$E$56,Statistiques!A12,'Concert 4'!$I$9:$I$56)+SUMIF('Concert 5'!$E$9:$E$56,Statistiques!A12,'Concert 5'!$I$9:$I$56)","v":0},{"$f":"SUMIF('Concert 1'!$E$9:$E$56,Statistiques!A12,'Concert 1'!$J$9:$J$56)+SUMIF('Concert 2'!$E$9:$E$56,Statistiques!A12,'Concert 2'!$J$9:$J$56)+SUMIF('Concert 3'!$E$9:$E$56,Statistiques!A12,'Concert 3'!$J$9:$J$56)+SUMIF('Concert 4'!$E$9:$E$56,Statistiques!A12,'Concert 4'!$J$9:$J$56)+SUMIF('Concert 5'!$E$9:$E$56,Statistiques!A12,'Concert 5'!$J$9:$J$56)","v":0},null,null,{"$f":"SUMIF('Concert 1'!$E$9:$E$56,Statistiques!A12,'Concert 1'!$I$9:$I$56)","v":0},{"$f":"SUMIF('Concert 1'!$E$9:$E$56,Statistiques!A12,'Concert 1'!$J$9:$J$56)","v":0},{"$f":"SUMIF('Concert 2'!$E$9:$E$56,Statistiques!A12,'Concert 2'!$I$9:$I$56)","v":0},{"$f":"SUMIF('Concert 2'!$E$9:$E$56,Statistiques!A12,'Concert 2'!$J$9:$J$56)","v":0},{"$f":"SUMIF('Concert 3'!$E$9:$E$56,Statistiques!A12,'Concert 3'!$I$9:$I$56)","v":0},{"$f":"SUMIF('Concert 3'!$E$9:$E$56,Statistiques!A12,'Concert 3'!$J$9:$J$56)","v":0},{"$f":"SUMIF('Concert 4'!$E$9:$E$56,Statistiques!A12,'Concert 4'!$I$9:$I$56)","v":0},{"$f":"SUMIF('Concert 4'!$E$9:$E$56,Statistiques!A12,'Concert 4'!$J$9:$J$56)","v":0},{"$f":"SUMIF('Concert 5'!$E$9:$E$56,Statistiques!A12,'Concert 5'!$I$9:$I$56)","v":0},{"$f":"SUMIF('Concert 5'!$E$9:$E$56,Statistiques!A12,'Concert 5'!$J$9:$J$56)","v":0}]
[{"$f":"Ecoles!A9","v":0},{"$f":"Ecoles!B9","v":0},{"$f":"Ecoles!C9","v":0},null,{"$f":"SUMIF('Concert 1'!$E$9:$E$56,Statistiques!A13,'Concert 1'!$I$9:$I$56)+SUMIF('Concert 2'!$E$9:$E$56,Statistiques!A13,'Concert 2'!$I$9:$I$56)+SUMIF('Concert 3'!$E$9:$E$56,Statistiques!A13,'Concert 3'!$I$9:$I$56)+SUMIF('Concert 4'!$E$9:$E$56,Statistiques!A13,'Concert 4'!$I$9:$I$56)+SUMIF('Concert 5'!$E$9:$E$56,Statistiques!A13,'Concert 5'!$I$9:$I$56)","v":0},{"$f":"SUMIF('Concert 1'!$E$9:$E$56,Statistiques!A13,'Concert 1'!$J$9:$J$56)+SUMIF('Concert 2'!$E$9:$E$56,Statistiques!A13,'Concert 2'!$J$9:$J$56)+SUMIF('Concert 3'!$E$9:$E$56,Statistiques!A13,'Concert 3'!$J$9:$J$56)+SUMIF('Concert 4'!$E$9:$E$56,Statistiques!A13,'Concert 4'!$J$9:$J$56)+SUMIF('Concert 5'!$E$9:$E$56,Statistiques!A13,'Concert 5'!$J$9:$J$56)","v":0},null,null,{"$f":"SUMIF('Concert 1'!$E$9:$E$56,Statistiques!A13,'Concert 1'!$I$9:$I$56)","v":0},{"$f":"SUMIF('Concert 1'!$E$9:$E$56,Statistiques!A13,'Concert 1'!$J$9:$J$56)","v":0},{"$f":"SUMIF('Concert 2'!$E$9:$E$56,Statistiques!A13,'Concert 2'!$I$9:$I$56)","v":0},{"$f":"SUMIF('Concert 2'!$E$9:$E$56,Statistiques!A13,'Concert 2'!$J$9:$J$56)","v":0},{"$f":"SUMIF('Concert 3'!$E$9:$E$56,Statistiques!A13,'Concert 3'!$I$9:$I$56)","v":0},{"$f":"SUMIF('Concert 3'!$E$9:$E$56,Statistiques!A13,'Concert 3'!$J$9:$J$56)","v":0},{"$f":"SUMIF('Concert 4'!$E$9:$E$56,Statistiques!A13,'Concert 4'!$I$9:$I$56)","v":0},{"$f":"SUMIF('Concert 4'!$E$9:$E$56,Statistiques!A13,'Concert 4'!$J$9:$J$56)","v":0},{"$f":"SUMIF('Concert 5'!$E$9:$E$56,Statistiques!A13,'Concert 5'!$I$9:$I$56)","v":0},{"$f":"SUMIF('Concert 5'!$E$9:$E$56,Statistiques!A13,'Concert 5'!$J$9:$J$56)","v":0}]
[{"$f":"Ecoles!A10","v":0},{"$f":"Ecoles!B10","v":0},{"$f":"Ecoles!C10","v":0},null,{"$f":"SUMIF('Concert 1'!$E$9:$E$56,Statistiques!A14,'Concert 1'!$I$9:$I$56)+SUMIF('Concert 2'!$E$9:$E$56,Statistiques!A14,'Concert 2'!$I$9:$I$56)+SUMIF('Concert 3'!$E$9:$E$56,Statistiques!A14,'Concert 3'!$I$9:$I$56)+SUMIF('Concert 4'!$E$9:$E$56,Statistiques!A14,'Concert 4'!$I$9:$I$56)+SUMIF('Concert 5'!$E$9:$E$56,Statistiques!A14,'Concert 5'!$I$9:$I$56)","v":0},{"$f":"SUMIF('Concert 1'!$E$9:$E$56,Statistiques!A14,'Concert 1'!$J$9:$J$56)+SUMIF('Concert 2'!$E$9:$E$56,Statistiques!A14,'Concert 2'!$J$9:$J$56)+SUMIF('Concert 3'!$E$9:$E$56,Statistiques!A14,'Concert 3'!$J$9:$J$56)+SUMIF('Concert 4'!$E$9:$E$56,Statistiques!A14,'Concert 4'!$J$9:$J$56)+SUMIF('Concert 5'!$E$9:$E$56,Statistiques!A14,'Concert 5'!$J$9:$J$56)","v":0},null,null,{"$f":"SUMIF('Concert 1'!$E$9:$E$56,Statistiques!A14,'Concert 1'!$I$9:$I$56)","v":0},{"$f":"SUMIF('Concert 1'!$E$9:$E$56,Statistiques!A14,'Concert 1'!$J$9:$J$56)","v":0},{"$f":"SUMIF('Concert 2'!$E$9:$E$56,Statistiques!A14,'Concert 2'!$I$9:$I$56)","v":0},{"$f":"SUMIF('Concert 2'!$E$9:$E$56,Statistiques!A14,'Concert 2'!$J$9:$J$56)","v":0},{"$f":"SUMIF('Concert 3'!$E$9:$E$56,Statistiques!A14,'Concert 3'!$I$9:$I$56)","v":0},{"$f":"SUMIF('Concert 3'!$E$9:$E$56,Statistiques!A14,'Concert 3'!$J$9:$J$56)","v":0},{"$f":"SUMIF('Concert 4'!$E$9:$E$56,Statistiques!A14,'Concert 4'!$I$9:$I$56)","v":0},{"$f":"SUMIF('Concert 4'!$E$9:$E$56,Statistiques!A14,'Concert 4'!$J$9:$J$56)","v":0},{"$f":"SUMIF('Concert 5'!$E$9:$E$56,Statistiques!A14,'Concert 5'!$I$9:$I$56)","v":0},{"$f":"SUMIF('Concert 5'!$E$9:$E$56,Statistiques!A14,'Concert 5'!$J$9:$J$56)","v":0}]
[{"$f":"Ecoles!A11","v":0},{"$f":"Ecoles!B11","v":0},{"$f":"Ecoles!C11","v":0},null,{"$f":"SUMIF('Concert 1'!$E$9:$E$56,Statistiques!A15,'Concert 1'!$I$9:$I$56)+SUMIF('Concert 2'!$E$9:$E$56,Statistiques!A15,'Concert 2'!$I$9:$I$56)+SUMIF('Concert 3'!$E$9:$E$56,Statistiques!A15,'Concert 3'!$I$9:$I$56)+SUMIF('Concert 4'!$E$9:$E$56,Statistiques!A15,'Concert 4'!$I$9:$I$56)+SUMIF('Concert 5'!$E$9:$E$56,Statistiques!A15,'Concert 5'!$I$9:$I$56)","v":0},{"$f":"SUMIF('Concert 1'!$E$9:$E$56,Statistiques!A15,'Concert 1'!$J$9:$J$56)+SUMIF('Concert 2'!$E$9:$E$56,Statistiques!A15,'Concert 2'!$J$9:$J$56)+SUMIF('Concert 3'!$E$9:$E$56,Statistiques!A15,'Concert 3'!$J$9:$J$56)+SUMIF('Concert 4'!$E$9:$E$56,Statistiques!A15,'Concert 4'!$J$9:$J$56)+SUMIF('Concert 5'!$E$9:$E$56,Statistiques!A15,'Concert 5'!$J$9:$J$56)","v":0},null,null,{"$f":"SUMIF('Concert 1'!$E$9:$E$56,Statistiques!A15,'Concert 1'!$I$9:$I$56)","v":0},{"$f":"SUMIF('Concert 1'!$E$9:$E$56,Statistiques!A15,'Concert 1'!$J$9:$J$56)","v":0},{"$f":"SUMIF('Concert 2'!$E$9:$E$56,Statistiques!A15,'Concert 2'!$I$9:$I$56)","v":0},{"$f":"SUMIF('Concert 2'!$E$9:$E$56,Statistiques!A15,'Concert 2'!$J$9:$J$56)","v":0},{"$f":"SUMIF('Concert 3'!$E$9:$E$56,Statistiques!A15,'Concert 3'!$I$9:$I$56)","v":0},{"$f":"SUMIF('Concert 3'!$E$9:$E$56,Statistiques!A15,'Concert 3'!$J$9:$J$56)","v":0},{"$f":"SUMIF('Concert 4'!$E$9:$E$56,Statistiques!A15,'Concert 4'!$I$9:$I$56)","v":0},{"$f":"SUMIF('Concert 4'!$E$9:$E$56,Statistiques!A15,'Concert 4'!$J$9:$J$56)","v":0},{"$f":"SUMIF('Concert 5'!$E$9:$E$56,Statistiques!A15,'Concert 5'!$I$9:$I$56)","v":0},{"$f":"SUMIF('Concert 5'!$E$9:$E$56,Statistiques!A15,'Concert 5'!$J$9:$J$56)","v":0}]
[{"$f":"Ecoles!A12","v":0},{"$f":"Ecoles!B12","v":0},{"$f":"Ecoles!C12","v":0},null,{"$f":"SUMIF('Concert 1'!$E$9:$E$56,Statistiques!A16,'Concert 1'!$I$9:$I$56)+SUMIF('Concert 2'!$E$9:$E$56,Statistiques!A16,'Concert 2'!$I$9:$I$56)+SUMIF('Concert 3'!$E$9:$E$56,Statistiques!A16,'Concert 3'!$I$9:$I$56)+SUMIF('Concert 4'!$E$9:$E$56,Statistiques!A16,'Concert 4'!$I$9:$I$56)+SUMIF('Concert 5'!$E$9:$E$56,Statistiques!A16,'Concert 5'!$I$9:$I$56)","v":0},{"$f":"SUMIF('Concert 1'!$E$9:$E$56,Statistiques!A16,'Concert 1'!$J$9:$J$56)+SUMIF('Concert 2'!$E$9:$E$56,Statistiques!A16,'Concert 2'!$J$9:$J$56)+SUMIF('Concert 3'!$E$9:$E$56,Statistiques!A16,'Concert 3'!$J$9:$J$56)+SUMIF('Concert 4'!$E$9:$E$56,Statistiques!A16,'Concert 4'!$J$9:$J$56)+SUMIF('Concert 5'!$E$9:$E$56,Statistiques!A16,'Concert 5'!$J$9:$J$56)","v":0},null,null,{"$f":"SUMIF('Concert 1'!$E$9:$E$56,Statistiques!A16,'Concert 1'!$I$9:$I$56)","v":0},{"$f":"SUMIF('Concert 1'!$E$9:$E$56,Statistiques!A16,'Concert 1'!$J$9:$J$56)","v":0},{"$f":"SUMIF('Concert 2'!$E$9:$E$56,Statistiques!A16,'Concert 2'!$I$9:$I$56)","v":0},{"$f":"SUMIF('Concert 2'!$E$9:$E$56,Statistiques!A16,'Concert 2'!$J$9:$J$56)","v":0},{"$f":"SUMIF('Concert 3'!$E$9:$E$56,Statistiques!A16,'Concert 3'!$I$9:$I$56)","v":0},{"$f":"SUMIF('Concert 3'!$E$9:$E$56,Statistiques!A16,'Concert 3'!$J$9:$J$56)","v":0},{"$f":"SUMIF('Concert 4'!$E$9:$E$56,Statistiques!A16,'Concert 4'!$I$9:$I$56)","v":0},{"$f":"SUMIF('Concert 4'!$E$9:$E$56,Statistiques!A16,'Concert 4'!$J$9:$J$56)","v":0},{"$f":"SUMIF('Concert 5'!$E$9:$E$56,Statistiques!A16,'Concert 5'!$I$9:$I$56)","v":0},{"$f":"SUMIF('Concert 5'!$E$9:$E$56,Statistiques!A16,'Concert 5'!$J$9:$J$56)","v":0}]
[{"$f":"Ecoles!A13","v":0},{"$f":"Ecoles!B13","v":0},{"$f":"Ecoles!C13","v":0},null,{"$f":"SUMIF('Concert 1'!$E$9:$E$56,Statistiques!A17,'Concert 1'!$I$9:$I$56)+SUMIF('Concert 2'!$E$9:$E$56,Statistiques!A17,'Concert 2'!$I$9:$I$56)+SUMIF('Concert 3'!$E$9:$E$56,Statistiques!A17,'Concert 3'!$I$9:$I$56)+SUMIF('Concert 4'!$E$9:$E$56,Statistiques!A17,'Concert 4'!$I$9:$I$56)+SUMIF('Concert 5'!$E$9:$E$56,Statistiques!A17,'Concert 5'!$I$9:$I$56)","v":0},{"$f":"SUMIF('Concert 1'!$E$9:$E$56,Statistiques!A17,'Concert 1'!$J$9:$J$56)+SUMIF('Concert 2'!$E$9:$E$56,Statistiques!A17,'Concert 2'!$J$9:$J$56)+SUMIF('Concert 3'!$E$9:$E$56,Statistiques!A17,'Concert 3'!$J$9:$J$56)+SUMIF('Concert 4'!$E$9:$E$56,Statistiques!A17,'Concert 4'!$J$9:$J$56)+SUMIF('Concert 5'!$E$9:$E$56,Statistiques!A17,'Concert 5'!$J$9:$J$56)","v":0},null,null,{"$f":"SUMIF('Concert 1'!$E$9:$E$56,Statistiques!A17,'Concert 1'!$I$9:$I$56)","v":0},{"$f":"SUMIF('Concert 1'!$E$9:$E$56,Statistiques!A17,'Concert 1'!$J$9:$J$56)","v":0},{"$f":"SUMIF('Concert 2'!$E$9:$E$56,Statistiques!A17,'Concert 2'!$I$9:$I$56)","v":0},{"$f":"SUMIF('Concert 2'!$E$9:$E$56,Statistiques!A17,'Concert 2'!$J$9:$J$56)","v":0},{"$f":"SUMIF('Concert 3'!$E$9:$E$56,Statistiques!A17,'Concert 3'!$I$9:$I$56)","v":0},{"$f":"SUMIF('Concert 3'!$E$9:$E$56,Statistiques!A17,'Concert 3'!$J$9:$J$56)","v":0},{"$f":"SUMIF('Concert 4'!$E$9:$E$56,Statistiques!A17,'Concert 4'!$I$9:$I$56)","v":0},{"$f":"SUMIF('Concert 4'!$E$9:$E$56,Statistiques!A17,'Concert 4'!$J$9:$J$56)","v":0},{"$f":"SUMIF('Concert 5'!$E$9:$E$56,Statistiques!A17,'Concert 5'!$I$9:$I$56)","v":0},{"$f":"SUMIF('Concert 5'!$E$9:$E$56,Statistiques!A17,'Concert 5'!$J$9:$J$56)","v":0}]
[{"$f":"Ecoles!A14","v":0},{"$f":"Ecoles!B14","v":0},{"$f":"Ecoles!C14","v":0},null,{"$f":"SUMIF('Concert 1'!$E$9:$E$56,Statistiques!A18,'Concert 1'!$I$9:$I$56)+SUMIF('Concert 2'!$E$9:$E$56,Statistiques!A18,'Concert 2'!$I$9:$I$56)+SUMIF('Concert 3'!$E$9:$E$56,Statistiques!A18,'Concert 3'!$I$9:$I$56)+SUMIF('Concert 4'!$E$9:$E$56,Statistiques!A18,'Concert 4'!$I$9:$I$56)+SUMIF('Concert 5'!$E$9:$E$56,Statistiques!A18,'Concert 5'!$I$9:$I$56)","v":0},{"$f":"SUMIF('Concert 1'!$E$9:$E$56,Statistiques!A18,'Concert 1'!$J$9:$J$56)+SUMIF('Concert 2'!$E$9:$E$56,Statistiques!A18,'Concert 2'!$J$9:$J$56)+SUMIF('Concert 3'!$E$9:$E$56,Statistiques!A18,'Concert 3'!$J$9:$J$56)+SUMIF('Concert 4'!$E$9:$E$56,Statistiques!A18,'Concert 4'!$J$9:$J$56)+SUMIF('Concert 5'!$E$9:$E$56,Statistiques!A18,'Concert 5'!$J$9:$J$56)","v":0},null,null,{"$f":"SUMIF('Concert 1'!$E$9:$E$56,Statistiques!A18,'Concert 1'!$I$9:$I$56)","v":0},{"$f":"SUMIF('Concert 1'!$E$9:$E$56,Statistiques!A18,'Concert 1'!$J$9:$J$56)","v":0},{"$f":"SUMIF('Concert 2'!$E$9:$E$56,Statistiques!A18,'Concert 2'!$I$9:$I$56)","v":0},{"$f":"SUMIF('Concert 2'!$E$9:$E$56,Statistiques!A18,'Concert 2'!$J$9:$J$56)","v":0},{"$f":"SUMIF('Concert 3'!$E$9:$E$56,Statistiques!A18,'Concert 3'!$I$9:$I$56)","v":0},{"$f":"SUMIF('Concert 3'!$E$9:$E$56,Statistiques!A18,'Concert 3'!$J$9:$J$56)","v":0},{"$f":"SUMIF('Concert 4'!$E$9:$E$56,Statistiques!A18,'Concert 4'!$I$9:$I$56)","v":0},{"$f":"SUMIF('Concert 4'!$E$9:$E$56,Statistiques!A18,'Concert 4'!$J$9:$J$56)","v":0},{"$f":"SUMIF('Concert 5'!$E$9:$E$56,Statistiques!A18,'Concert 5'!$I$9:$I$56)","v":0},{"$f":"SUMIF('Concert 5'!$E$9:$E$56,Statistiques!A18,'Concert 5'!$J$9:$J$56)","v":0}]
[{"$f":"Ecoles!A15","v":0},{"$f":"Ecoles!B15","v":0},{"$f":"Ecoles!C15","v":0},null,{"$f":"SUMIF('Concert 1'!$E$9:$E$56,Statistiques!A19,'Concert 1'!$I$9:$I$56)+SUMIF('Concert 2'!$E$9:$E$56,Statistiques!A19,'Concert 2'!$I$9:$I$56)+SUMIF('Concert 3'!$E$9:$E$56,Statistiques!A19,'Concert 3'!$I$9:$I$56)+SUMIF('Concert 4'!$E$9:$E$56,Statistiques!A19,'Concert 4'!$I$9:$I$56)+SUMIF('Concert 5'!$E$9:$E$56,Statistiques!A19,'Concert 5'!$I$9:$I$56)","v":0},{"$f":"SUMIF('Concert 1'!$E$9:$E$56,Statistiques!A19,'Concert 1'!$J$9:$J$56)+SUMIF('Concert 2'!$E$9:$E$56,Statistiques!A19,'Concert 2'!$J$9:$J$56)+SUMIF('Concert 3'!$E$9:$E$56,Statistiques!A19,'Concert 3'!$J$9:$J$56)+SUMIF('Concert 4'!$E$9:$E$56,Statistiques!A19,'Concert 4'!$J$9:$J$56)+SUMIF('Concert 5'!$E$9:$E$56,Statistiques!A19,'Concert 5'!$J$9:$J$56)","v":0},null,null,{"$f":"SUMIF('Concert 1'!$E$9:$E$56,Statistiques!A19,'Concert 1'!$I$9:$I$56)","v":0},{"$f":"SUMIF('Concert 1'!$E$9:$E$56,Statistiques!A19,'Concert 1'!$J$9:$J$56)","v":0},{"$f":"SUMIF('Concert 2'!$E$9:$E$56,Statistiques!A19,'Concert 2'!$I$9:$I$56)","v":0},{"$f":"SUMIF('Concert 2'!$E$9:$E$56,Statistiques!A19,'Concert 2'!$J$9:$J$56)","v":0},{"$f":"SUMIF('Concert 3'!$E$9:$E$56,Statistiques!A19,'Concert 3'!$I$9:$I$56)","v":0},{"$f":"SUMIF('Concert 3'!$E$9:$E$56,Statistiques!A19,'Concert 3'!$J$9:$J$56)","v":0},{"$f":"SUMIF('Concert 4'!$E$9:$E$56,Statistiques!A19,'Concert 4'!$I$9:$I$56)","v":0},{"$f":"SUMIF('Concert 4'!$E$9:$E$56,Statistiques!A19,'Concert 4'!$J$9:$J$56)","v":0},{"$f":"SUMIF('Concert 5'!$E$9:$E$56,Statistiques!A19,'Concert 5'!$I$9:$I$56)","v":0},{"$f":"SUMIF('Concert 5'!$E$9:$E$56,Statistiques!A19,'Concert 5'!$J$9:$J$56)","v":0}]
[{"$f":"Ecoles!A16","v":0},{"$f":"Ecoles!B16","v":0},{"$f":"Ecoles!C16","v":0},null,{"$f":"SUMIF('Concert 1'!$E$9:$E$56,Statistiques!A20,'Concert 1'!$I$9:$I$56)+SUMIF('Concert 2'!$E$9:$E$56,Statistiques!A20,'Concert 2'!$I$9:$I$56)+SUMIF('Concert 3'!$E$9:$E$56,Statistiques!A20,'Concert 3'!$I$9:$I$56)+SUMIF('Concert 4'!$E$9:$E$56,Statistiques!A20,'Concert 4'!$I$9:$I$56)+SUMIF('Concert 5'!$E$9:$E$56,Statistiques!A20,'Concert 5'!$I$9:$I$56)","v":0},{"$f":"SUMIF('Concert 1'!$E$9:$E$56,Statistiques!A20,'Concert 1'!$J$9:$J$56)+SUMIF('Concert 2'!$E$9:$E$56,Statistiques!A20,'Concert 2'!$J$9:$J$56)+SUMIF('Concert 3'!$E$9:$E$56,Statistiques!A20,'Concert 3'!$J$9:$J$56)+SUMIF('Concert 4'!$E$9:$E$56,Statistiques!A20,'Concert 4'!$J$9:$J$56)+SUMIF('Concert 5'!$E$9:$E$56,Statistiques!A20,'Concert 5'!$J$9:$J$56)","v":0},null,null,{"$f":"SUMIF('Concert 1'!$E$9:$E$56,Statistiques!A20,'Concert 1'!$I$9:$I$56)","v":0},{"$f":"SUMIF('Concert 1'!$E$9:$E$56,Statistiques!A20,'Concert 1'!$J$9:$J$56)","v":0},{"$f":"SUMIF('Concert 2'!$E$9:$E$56,Statistiques!A20,'Concert 2'!$I$9:$I$56)","v":0},{"$f":"SUMIF('Concert 2'!$E$9:$E$56,Statistiques!A20,'Concert 2'!$J$9:$J$56)","v":0},{"$f":"SUMIF('Concert 3'!$E$9:$E$56,Statistiques!A20,'Concert 3'!$I$9:$I$56)","v":0},{"$f":"SUMIF('Concert 3'!$E$9:$E$56,Statistiques!A20,'Concert 3'!$J$9:$J$56)","v":0},{"$f":"SUMIF('Concert 4'!$E$9:$E$56,Statistiques!A20,'Concert 4'!$I$9:$I$56)","v":0},{"$f":"SUMIF('Concert 4'!$E$9:$E$56,Statistiques!A20,'Concert 4'!$J$9:$J$56)","v":0},{"$f":"SUMIF('Concert 5'!$E$9:$E$56,Statistiques!A20,'Concert 5'!$I$9:$I$56)","v":0},{"$f":"SUMIF('Concert 5'!$E$9:$E$56,Statistiques!A20,'Concert 5'!$J$9:$J$56)","v":0}]
[{"$f":"Ecoles!A17","v":0},{"$f":"Ecoles!B17","v":0},{"$f":"Ecoles!C17","v":0},null,{"$f":"SUMIF('Concert 1'!$E$9:$E$56,Statistiques!A21,'Concert 1'!$I$9:$I$56)+SUMIF('Concert 2'!$E$9:$E$56,Statistiques!A21,'Concert 2'!$I$9:$I$56)+SUMIF('Concert 3'!$E$9:$E$56,Statistiques!A21,'Concert 3'!$I$9:$I$56)+SUMIF('Concert 4'!$E$9:$E$56,Statistiques!A21,'Concert 4'!$I$9:$I$56)+SUMIF('Concert 5'!$E$9:$E$56,Statistiques!A21,'Concert 5'!$I$9:$I$56)","v":0},{"$f":"SUMIF('Concert 1'!$E$9:$E$56,Statistiques!A21,'Concert 1'!$J$9:$J$56)+SUMIF('Concert 2'!$E$9:$E$56,Statistiques!A21,'Concert 2'!$J$9:$J$56)+SUMIF('Concert 3'!$E$9:$E$56,Statistiques!A21,'Concert 3'!$J$9:$J$56)+SUMIF('Concert 4'!$E$9:$E$56,Statistiques!A21,'Concert 4'!$J$9:$J$56)+SUMIF('Concert 5'!$E$9:$E$56,Statistiques!A21,'Concert 5'!$J$9:$J$56)","v":0},null,null,{"$f":"SUMIF('Concert 1'!$E$9:$E$56,Statistiques!A21,'Concert 1'!$I$9:$I$56)","v":0},{"$f":"SUMIF('Concert 1'!$E$9:$E$56,Statistiques!A21,'Concert 1'!$J$9:$J$56)","v":0},{"$f":"SUMIF('Concert 2'!$E$9:$E$56,Statistiques!A21,'Concert 2'!$I$9:$I$56)","v":0},{"$f":"SUMIF('Concert 2'!$E$9:$E$56,Statistiques!A21,'Concert 2'!$J$9:$J$56)","v":0},{"$f":"SUMIF('Concert 3'!$E$9:$E$56,Statistiques!A21,'Concert 3'!$I$9:$I$56)","v":0},{"$f":"SUMIF('Concert 3'!$E$9:$E$56,Statistiques!A21,'Concert 3'!$J$9:$J$56)","v":0},{"$f":"SUMIF('Concert 4'!$E$9:$E$56,Statistiques!A21,'Concert 4'!$I$9:$I$56)","v":0},{"$f":"SUMIF('Concert 4'!$E$9:$E$56,Statistiques!A21,'Concert 4'!$J$9:$J$56)","v":0},{"$f":"SUMIF('Concert 5'!$E$9:$E$56,Statistiques!A21,'Concert 5'!$I$9:$I$56)","v":0},{"$f":"SUMIF('Concert 5'!$E$9:$E$56,Statistiques!A21,'Concert 5'!$J$9:$J$56)","v":0}]
[{"$f":"Ecoles!A18","v":0},{"$f":"Ecoles!B18","v":0},{"$f":"Ecoles!C18","v":0},null,{"$f":"SUMIF('Concert 1'!$E$9:$E$56,Statistiques!A22,'Concert 1'!$I$9:$I$56)+SUMIF('Concert 2'!$E$9:$E$56,Statistiques!A22,'Concert 2'!$I$9:$I$56)+SUMIF('Concert 3'!$E$9:$E$56,Statistiques!A22,'Concert 3'!$I$9:$I$56)+SUMIF('Concert 4'!$E$9:$E$56,Statistiques!A22,'Concert 4'!$I$9:$I$56)+SUMIF('Concert 5'!$E$9:$E$56,Statistiques!A22,'Concert 5'!$I$9:$I$56)","v":0},{"$f":"SUMIF('Concert 1'!$E$9:$E$56,Statistiques!A22,'Concert 1'!$J$9:$J$56)+SUMIF('Concert 2'!$E$9:$E$56,Statistiques!A22,'Concert 2'!$J$9:$J$56)+SUMIF('Concert 3'!$E$9:$E$56,Statistiques!A22,'Concert 3'!$J$9:$J$56)+SUMIF('Concert 4'!$E$9:$E$56,Statistiques!A22,'Concert 4'!$J$9:$J$56)+SUMIF('Concert 5'!$E$9:$E$56,Statistiques!A22,'Concert 5'!$J$9:$J$56)","v":0},null,null,{"$f":"SUMIF('Concert 1'!$E$9:$E$56,Statistiques!A22,'Concert 1'!$I$9:$I$56)","v":0},{"$f":"SUMIF('Concert 1'!$E$9:$E$56,Statistiques!A22,'Concert 1'!$J$9:$J$56)","v":0},{"$f":"SUMIF('Concert 2'!$E$9:$E$56,Statistiques!A22,'Concert 2'!$I$9:$I$56)","v":0},{"$f":"SUMIF('Concert 2'!$E$9:$E$56,Statistiques!A22,'Concert 2'!$J$9:$J$56)","v":0},{"$f":"SUMIF('Concert 3'!$E$9:$E$56,Statistiques!A22,'Concert 3'!$I$9:$I$56)","v":0},{"$f":"SUMIF('Concert 3'!$E$9:$E$56,Statistiques!A22,'Concert 3'!$J$9:$J$56)","v":0},{"$f":"SUMIF('Concert 4'!$E$9:$E$56,Statistiques!A22,'Concert 4'!$I$9:$I$56)","v":0},{"$f":"SUMIF('Concert 4'!$E$9:$E$56,Statistiques!A22,'Concert 4'!$J$9:$J$56)","v":0},{"$f":"SUMIF('Concert 5'!$E$9:$E$56,Statistiques!A22,'Concert 5'!$I$9:$I$56)","v":0},{"$f":"SUMIF('Concert 5'!$E$9:$E$56,Statistiques!A22,'Concert 5'!$J$9:$J$56)","v":0}]
[{"$f":"Ecoles!A19","v":0},{"$f":"Ecoles!B19","v":0},{"$f":"Ecoles!C19","v":0},null,{"$f":"SUMIF('Concert 1'!$E$9:$E$56,Statistiques!A23,'Concert 1'!$I$9:$I$56)+SUMIF('Concert 2'!$E$9:$E$56,Statistiques!A23,'Concert 2'!$I$9:$I$56)+SUMIF('Concert 3'!$E$9:$E$56,Statistiques!A23,'Concert 3'!$I$9:$I$56)+SUMIF('Concert 4'!$E$9:$E$56,Statistiques!A23,'Concert 4'!$I$9:$I$56)+SUMIF('Concert 5'!$E$9:$E$56,Statistiques!A23,'Concert 5'!$I$9:$I$56)","v":0},{"$f":"SUMIF('Concert 1'!$E$9:$E$56,Statistiques!A23,'Concert 1'!$J$9:$J$56)+SUMIF('Concert 2'!$E$9:$E$56,Statistiques!A23,'Concert 2'!$J$9:$J$56)+SUMIF('Concert 3'!$E$9:$E$56,Statistiques!A23,'Concert 3'!$J$9:$J$56)+SUMIF('Concert 4'!$E$9:$E$56,Statistiques!A23,'Concert 4'!$J$9:$J$56)+SUMIF('Concert 5'!$E$9:$E$56,Statistiques!A23,'Concert 5'!$J$9:$J$56)","v":0},null,null,{"$f":"SUMIF('Concert 1'!$E$9:$E$56,Statistiques!A23,'Concert 1'!$I$9:$I$56)","v":0},{"$f":"SUMIF('Concert 1'!$E$9:$E$56,Statistiques!A23,'Concert 1'!$J$9:$J$56)","v":0},{"$f":"SUMIF('Concert 2'!$E$9:$E$56,Statistiques!A23,'Concert 2'!$I$9:$I$56)","v":0},{"$f":"SUMIF('Concert 2'!$E$9:$E$56,Statistiques!A23,'Concert 2'!$J$9:$J$56)","v":0},{"$f":"SUMIF('Concert 3'!$E$9:$E$56,Statistiques!A23,'Concert 3'!$I$9:$I$56)","v":0},{"$f":"SUMIF('Concert 3'!$E$9:$E$56,Statistiques!A23,'Concert 3'!$J$9:$J$56)","v":0},{"$f":"SUMIF('Concert 4'!$E$9:$E$56,Statistiques!A23,'Concert 4'!$I$9:$I$56)","v":0},{"$f":"SUMIF('Concert 4'!$E$9:$E$56,Statistiques!A23,'Concert 4'!$J$9:$J$56)","v":0},{"$f":"SUMIF('Concert 5'!$E$9:$E$56,Statistiques!A23,'Concert 5'!$I$9:$I$56)","v":0},{"$f":"SUMIF('Concert 5'!$E$9:$E$56,Statistiques!A23,'Concert 5'!$J$9:$J$56)","v":0}]
[{"$f":"Ecoles!A20","v":0},{"$f":"Ecoles!B20","v":0},{"$f":"Ecoles!C20","v":0},null,{"$f":"SUMIF('Concert 1'!$E$9:$E$56,Statistiques!A24,'Concert 1'!$I$9:$I$56)+SUMIF('Concert 2'!$E$9:$E$56,Statistiques!A24,'Concert 2'!$I$9:$I$56)+SUMIF('Concert 3'!$E$9:$E$56,Statistiques!A24,'Concert 3'!$I$9:$I$56)+SUMIF('Concert 4'!$E$9:$E$56,Statistiques!A24,'Concert 4'!$I$9:$I$56)+SUMIF('Concert 5'!$E$9:$E$56,Statistiques!A24,'Concert 5'!$I$9:$I$56)","v":0},{"$f":"SUMIF('Concert 1'!$E$9:$E$56,Statistiques!A24,'Concert 1'!$J$9:$J$56)+SUMIF('Concert 2'!$E$9:$E$56,Statistiques!A24,'Concert 2'!$J$9:$J$56)+SUMIF('Concert 3'!$E$9:$E$56,Statistiques!A24,'Concert 3'!$J$9:$J$56)+SUMIF('Concert 4'!$E$9:$E$56,Statistiques!A24,'Concert 4'!$J$9:$J$56)+SUMIF('Concert 5'!$E$9:$E$56,Statistiques!A24,'Concert 5'!$J$9:$J$56)","v":0},null,null,{"$f":"SUMIF('Concert 1'!$E$9:$E$56,Statistiques!A24,'Concert 1'!$I$9:$I$56)","v":0},{"$f":"SUMIF('Concert 1'!$E$9:$E$56,Statistiques!A24,'Concert 1'!$J$9:$J$56)","v":0},{"$f":"SUMIF('Concert 2'!$E$9:$E$56,Statistiques!A24,'Concert 2'!$I$9:$I$56)","v":0},{"$f":"SUMIF('Concert 2'!$E$9:$E$56,Statistiques!A24,'Concert 2'!$J$9:$J$56)","v":0},{"$f":"SUMIF('Concert 3'!$E$9:$E$56,Statistiques!A24,'Concert 3'!$I$9:$I$56)","v":0},{"$f":"SUMIF('Concert 3'!$E$9:$E$56,Statistiques!A24,'Concert 3'!$J$9:$J$56)","v":0},{"$f":"SUMIF('Concert 4'!$E$9:$E$56,Statistiques!A24,'Concert 4'!$I$9:$I$56)","v":0},{"$f":"SUMIF('Concert 4'!$E$9:$E$56,Statistiques!A24,'Concert 4'!$J$9:$J$56)","v":0},{"$f":"SUMIF('Concert 5'!$E$9:$E$56,Statistiques!A24,'Concert 5'!$I$9:$I$56)","v":0},{"$f":"SUMIF('Concert 5'!$E$9:$E$56,Statistiques!A24,'Concert 5'!$J$9:$J$56)","v":0}]
[{"$f":"Ecoles!A21","v":0},{"$f":"Ecoles!B21","v":0},{"$f":"Ecoles!C21","v":0},null,{"$f":"SUMIF('Concert 1'!$E$9:$E$56,Statistiques!A25,'Concert 1'!$I$9:$I$56)+SUMIF('Concert 2'!$E$9:$E$56,Statistiques!A25,'Concert 2'!$I$9:$I$56)+SUMIF('Concert 3'!$E$9:$E$56,Statistiques!A25,'Concert 3'!$I$9:$I$56)+SUMIF('Concert 4'!$E$9:$E$56,Statistiques!A25,'Concert 4'!$I$9:$I$56)+SUMIF('Concert 5'!$E$9:$E$56,Statistiques!A25,'Concert 5'!$I$9:$I$56)","v":0},{"$f":"SUMIF('Concert 1'!$E$9:$E$56,Statistiques!A25,'Concert 1'!$J$9:$J$56)+SUMIF('Concert 2'!$E$9:$E$56,Statistiques!A25,'Concert 2'!$J$9:$J$56)+SUMIF('Concert 3'!$E$9:$E$56,Statistiques!A25,'Concert 3'!$J$9:$J$56)+SUMIF('Concert 4'!$E$9:$E$56,Statistiques!A25,'Concert 4'!$J$9:$J$56)+SUMIF('Concert 5'!$E$9:$E$56,Statistiques!A25,'Concert 5'!$J$9:$J$56)","v":0},null,null,{"$f":"SUMIF('Concert 1'!$E$9:$E$56,Statistiques!A25,'Concert 1'!$I$9:$I$56)","v":0},{"$f":"SUMIF('Concert 1'!$E$9:$E$56,Statistiques!A25,'Concert 1'!$J$9:$J$56)","v":0},{"$f":"SUMIF('Concert 2'!$E$9:$E$56,Statistiques!A25,'Concert 2'!$I$9:$I$56)","v":0},{"$f":"SUMIF('Concert 2'!$E$9:$E$56,Statistiques!A25,'Concert 2'!$J$9:$J$56)","v":0},{"$f":"SUMIF('Concert 3'!$E$9:$E$56,Statistiques!A25,'Concert 3'!$I$9:$I$56)","v":0},{"$f":"SUMIF('Concert 3'!$E$9:$E$56,Statistiques!A25,'Concert 3'!$J$9:$J$56)","v":0},{"$f":"SUMIF('Concert 4'!$E$9:$E$56,Statistiques!A25,'Concert 4'!$I$9:$I$56)","v":0},{"$f":"SUMIF('Concert 4'!$E$9:$E$56,Statistiques!A25,'Concert 4'!$J$9:$J$56)","v":0},{"$f":"SUMIF('Concert 5'!$E$9:$E$56,Statistiques!A25,'Concert 5'!$I$9:$I$56)","v":0},{"$f":"SUMIF('Concert 5'!$E$9:$E$56,Statistiques!A25,'Concert 5'!$J$9:$J$56)","v":0}]
[{"$f":"Ecoles!A22","v":0},{"$f":"Ecoles!B22","v":0},{"$f":"Ecoles!C22","v":0},null,{"$f":"SUMIF('Concert 1'!$E$9:$E$56,Statistiques!A26,'Concert 1'!$I$9:$I$56)+SUMIF('Concert 2'!$E$9:$E$56,Statistiques!A26,'Concert 2'!$I$9:$I$56)+SUMIF('Concert 3'!$E$9:$E$56,Statistiques!A26,'Concert 3'!$I$9:$I$56)+SUMIF('Concert 4'!$E$9:$E$56,Statistiques!A26,'Concert 4'!$I$9:$I$56)+SUMIF('Concert 5'!$E$9:$E$56,Statistiques!A26,'Concert 5'!$I$9:$I$56)","v":0},{"$f":"SUMIF('Concert 1'!$E$9:$E$56,Statistiques!A26,'Concert 1'!$J$9:$J$56)+SUMIF('Concert 2'!$E$9:$E$56,Statistiques!A26,'Concert 2'!$J$9:$J$56)+SUMIF('Concert 3'!$E$9:$E$56,Statistiques!A26,'Concert 3'!$J$9:$J$56)+SUMIF('Concert 4'!$E$9:$E$56,Statistiques!A26,'Concert 4'!$J$9:$J$56)+SUMIF('Concert 5'!$E$9:$E$56,Statistiques!A26,'Concert 5'!$J$9:$J$56)","v":0},null,null,{"$f":"SUMIF('Concert 1'!$E$9:$E$56,Statistiques!A26,'Concert 1'!$I$9:$I$56)","v":0},{"$f":"SUMIF('Concert 1'!$E$9:$E$56,Statistiques!A26,'Concert 1'!$J$9:$J$56)","v":0},{"$f":"SUMIF('Concert 2'!$E$9:$E$56,Statistiques!A26,'Concert 2'!$I$9:$I$56)","v":0},{"$f":"SUMIF('Concert 2'!$E$9:$E$56,Statistiques!A26,'Concert 2'!$J$9:$J$56)","v":0},{"$f":"SUMIF('Concert 3'!$E$9:$E$56,Statistiques!A26,'Concert 3'!$I$9:$I$56)","v":0},{"$f":"SUMIF('Concert 3'!$E$9:$E$56,Statistiques!A26,'Concert 3'!$J$9:$J$56)","v":0},{"$f":"SUMIF('Concert 4'!$E$9:$E$56,Statistiques!A26,'Concert 4'!$I$9:$I$56)","v":0},{"$f":"SUMIF('Concert 4'!$E$9:$E$56,Statistiques!A26,'Concert 4'!$J$9:$J$56)","v":0},{"$f":"SUMIF('Concert 5'!$E$9:$E$56,Statistiques!A26,'Concert 5'!$I$9:$I$56)","v":0},{"$f":"SUMIF('Concert 5'!$E$9:$E$56,Statistiques!A26,'Concert 5'!$J$9:$J$56)","v":0}]
[{"$f":"Ecoles!A23","v":0},{"$f":"Ecoles!B23","v":0},{"$f":"Ecoles!C23","v":0},null,{"$f":"SUMIF('Concert 1'!$E$9:$E$56,Statistiques!A27,'Concert 1'!$I$9:$I$56)+SUMIF('Concert 2'!$E$9:$E$56,Statistiques!A27,'Concert 2'!$I$9:$I$56)+SUMIF('Concert 3'!$E$9:$E$56,Statistiques!A27,'Concert 3'!$I$9:$I$56)+SUMIF('Concert 4'!$E$9:$E$56,Statistiques!A27,'Concert 4'!$I$9:$I$56)+SUMIF('Concert 5'!$E$9:$E$56,Statistiques!A27,'Concert 5'!$I$9:$I$56)","v":0},{"$f":"SUMIF('Concert 1'!$E$9:$E$56,Statistiques!A27,'Concert 1'!$J$9:$J$56)+SUMIF('Concert 2'!$E$9:$E$56,Statistiques!A27,'Concert 2'!$J$9:$J$56)+SUMIF('Concert 3'!$E$9:$E$56,Statistiques!A27,'Concert 3'!$J$9:$J$56)+SUMIF('Concert 4'!$E$9:$E$56,Statistiques!A27,'Concert 4'!$J$9:$J$56)+SUMIF('Concert 5'!$E$9:$E$56,Statistiques!A27,'Concert 5'!$J$9:$J$56)","v":0},null,null,{"$f":"SUMIF('Concert 1'!$E$9:$E$56,Statistiques!A27,'Concert 1'!$I$9:$I$56)","v":0},{"$f":"SUMIF('Concert 1'!$E$9:$E$56,Statistiques!A27,'Concert 1'!$J$9:$J$56)","v":0},{"$f":"SUMIF('Concert 2'!$E$9:$E$56,Statistiques!A27,'Concert 2'!$I$9:$I$56)","v":0},{"$f":"SUMIF('Concert 2'!$E$9:$E$56,Statistiques!A27,'Concert 2'!$J$9:$J$56)","v":0},{"$f":"SUMIF('Concert 3'!$E$9:$E$56,Statistiques!A27,'Concert 3'!$I$9:$I$56)","v":0},{"$f":"SUMIF('Concert 3'!$E$9:$E$56,Statistiques!A27,'Concert 3'!$J$9:$J$56)","v":0},{"$f":"SUMIF('Concert 4'!$E$9:$E$56,Statistiques!A27,'Concert 4'!$I$9:$I$56)","v":0},{"$f":"SUMIF('Concert 4'!$E$9:$E$56,Statistiques!A27,'Concert 4'!$J$9:$J$56)","v":0},{"$f":"SUMIF('Concert 5'!$E$9:$E$56,Statistiques!A27,'Concert 5'!$I$9:$I$56)","v":0},{"$f":"SUMIF('Concert 5'!$E$9:$E$56,Statistiques!A27,'Concert 5'!$J$9:$J$56)","v":0}]
[{"$f":"Ecoles!A24","v":0},{"$f":"Ecoles!B24","v":0},{"$f":"Ecoles!C24","v":0},null,{"$f":"SUMIF('Concert 1'!$E$9:$E$56,Statistiques!A28,'Concert 1'!$I$9:$I$56)+SUMIF('Concert 2'!$E$9:$E$56,Statistiques!A28,'Concert 2'!$I$9:$I$56)+SUMIF('Concert 3'!$E$9:$E$56,Statistiques!A28,'Concert 3'!$I$9:$I$56)+SUMIF('Concert 4'!$E$9:$E$56,Statistiques!A28,'Concert 4'!$I$9:$I$56)+SUMIF('Concert 5'!$E$9:$E$56,Statistiques!A28,'Concert 5'!$I$9:$I$56)","v":0},{"$f":"SUMIF('Concert 1'!$E$9:$E$56,Statistiques!A28,'Concert 1'!$J$9:$J$56)+SUMIF('Concert 2'!$E$9:$E$56,Statistiques!A28,'Concert 2'!$J$9:$J$56)+SUMIF('Concert 3'!$E$9:$E$56,Statistiques!A28,'Concert 3'!$J$9:$J$56)+SUMIF('Concert 4'!$E$9:$E$56,Statistiques!A28,'Concert 4'!$J$9:$J$56)+SUMIF('Concert 5'!$E$9:$E$56,Statistiques!A28,'Concert 5'!$J$9:$J$56)","v":0},null,null,{"$f":"SUMIF('Concert 1'!$E$9:$E$56,Statistiques!A28,'Concert 1'!$I$9:$I$56)","v":0},{"$f":"SUMIF('Concert 1'!$E$9:$E$56,Statistiques!A28,'Concert 1'!$J$9:$J$56)","v":0},{"$f":"SUMIF('Concert 2'!$E$9:$E$56,Statistiques!A28,'Concert 2'!$I$9:$I$56)","v":0},{"$f":"SUMIF('Concert 2'!$E$9:$E$56,Statistiques!A28,'Concert 2'!$J$9:$J$56)","v":0},{"$f":"SUMIF('Concert 3'!$E$9:$E$56,Statistiques!A28,'Concert 3'!$I$9:$I$56)","v":0},{"$f":"SUMIF('Concert 3'!$E$9:$E$56,Statistiques!A28,'Concert 3'!$J$9:$J$56)","v":0},{"$f":"SUMIF('Concert 4'!$E$9:$E$56,Statistiques!A28,'Concert 4'!$I$9:$I$56)","v":0},{"$f":"SUMIF('Concert 4'!$E$9:$E$56,Statistiques!A28,'Concert 4'!$J$9:$J$56)","v":0},{"$f":"SUMIF('Concert 5'!$E$9:$E$56,Statistiques!A28,'Concert 5'!$I$9:$I$56)","v":0},{"$f":"SUMIF('Concert 5'!$E$9:$E$56,Statistiques!A28,'Concert 5'!$J$9:$J$56)","v":0}]
[{"$f":"Ecoles!A25","v":0},{"$f":"Ecoles!B25","v":0},{"$f":"Ecoles!C25","v":0},null,{"$f":"SUMIF('Concert 1'!$E$9:$E$56,Statistiques!A29,'Concert 1'!$I$9:$I$56)+SUMIF('Concert 2'!$E$9:$E$56,Statistiques!A29,'Concert 2'!$I$9:$I$56)+SUMIF('Concert 3'!$E$9:$E$56,Statistiques!A29,'Concert 3'!$I$9:$I$56)+SUMIF('Concert 4'!$E$9:$E$56,Statistiques!A29,'Concert 4'!$I$9:$I$56)+SUMIF('Concert 5'!$E$9:$E$56,Statistiques!A29,'Concert 5'!$I$9:$I$56)","v":0},{"$f":"SUMIF('Concert 1'!$E$9:$E$56,Statistiques!A29,'Concert 1'!$J$9:$J$56)+SUMIF('Concert 2'!$E$9:$E$56,Statistiques!A29,'Concert 2'!$J$9:$J$56)+SUMIF('Concert 3'!$E$9:$E$56,Statistiques!A29,'Concert 3'!$J$9:$J$56)+SUMIF('Concert 4'!$E$9:$E$56,Statistiques!A29,'Concert 4'!$J$9:$J$56)+SUMIF('Concert 5'!$E$9:$E$56,Statistiques!A29,'Concert 5'!$J$9:$J$56)","v":0},null,null,{"$f":"SUMIF('Concert 1'!$E$9:$E$56,Statistiques!A29,'Concert 1'!$I$9:$I$56)","v":0},{"$f":"SUMIF('Concert 1'!$E$9:$E$56,Statistiques!A29,'Concert 1'!$J$9:$J$56)","v":0},{"$f":"SUMIF('Concert 2'!$E$9:$E$56,Statistiques!A29,'Concert 2'!$I$9:$I$56)","v":0},{"$f":"SUMIF('Concert 2'!$E$9:$E$56,Statistiques!A29,'Concert 2'!$J$9:$J$56)","v":0},{"$f":"SUMIF('Concert 3'!$E$9:$E$56,Statistiques!A29,'Concert 3'!$I$9:$I$56)","v":0},{"$f":"SUMIF('Concert 3'!$E$9:$E$56,Statistiques!A29,'Concert 3'!$J$9:$J$56)","v":0},{"$f":"SUMIF('Concert 4'!$E$9:$E$56,Statistiques!A29,'Concert 4'!$I$9:$I$56)","v":0},{"$f":"SUMIF('Concert 4'!$E$9:$E$56,Statistiques!A29,'Concert 4'!$J$9:$J$56)","v":0},{"$f":"SUMIF('Concert 5'!$E$9:$E$56,Statistiques!A29,'Concert 5'!$I$9:$I$56)","v":0},{"$f":"SUMIF('Concert 5'!$E$9:$E$56,Statistiques!A29,'Concert 5'!$J$9:$J$56)","v":0}]
[{"$f":"Ecoles!A26","v":0},{"$f":"Ecoles!B26","v":0},{"$f":"Ecoles!C26","v":0},null,{"$f":"SUMIF('Concert 1'!$E$9:$E$56,Statistiques!A30,'Concert 1'!$I$9:$I$56)+SUMIF('Concert 2'!$E$9:$E$56,Statistiques!A30,'Concert 2'!$I$9:$I$56)+SUMIF('Concert 3'!$E$9:$E$56,Statistiques!A30,'Concert 3'!$I$9:$I$56)+SUMIF('Concert 4'!$E$9:$E$56,Statistiques!A30,'Concert 4'!$I$9:$I$56)+SUMIF('Concert 5'!$E$9:$E$56,Statistiques!A30,'Concert 5'!$I$9:$I$56)","v":0},{"$f":"SUMIF('Concert 1'!$E$9:$E$56,Statistiques!A30,'Concert 1'!$J$9:$J$56)+SUMIF('Concert 2'!$E$9:$E$56,Statistiques!A30,'Concert 2'!$J$9:$J$56)+SUMIF('Concert 3'!$E$9:$E$56,Statistiques!A30,'Concert 3'!$J$9:$J$56)+SUMIF('Concert 4'!$E$9:$E$56,Statistiques!A30,'Concert 4'!$J$9:$J$56)+SUMIF('Concert 5'!$E$9:$E$56,Statistiques!A30,'Concert 5'!$J$9:$J$56)","v":0},null,null,{"$f":"SUMIF('Concert 1'!$E$9:$E$56,Statistiques!A30,'Concert 1'!$I$9:$I$56)","v":0},{"$f":"SUMIF('Concert 1'!$E$9:$E$56,Statistiques!A30,'Concert 1'!$J$9:$J$56)","v":0},{"$f":"SUMIF('Concert 2'!$E$9:$E$56,Statistiques!A30,'Concert 2'!$I$9:$I$56)","v":0},{"$f":"SUMIF('Concert 2'!$E$9:$E$56,Statistiques!A30,'Concert 2'!$J$9:$J$56)","v":0},{"$f":"SUMIF('Concert 3'!$E$9:$E$56,Statistiques!A30,'Concert 3'!$I$9:$I$56)","v":0},{"$f":"SUMIF('Concert 3'!$E$9:$E$56,Statistiques!A30,'Concert 3'!$J$9:$J$56)","v":0},{"$f":"SUMIF('Concert 4'!$E$9:$E$56,Statistiques!A30,'Concert 4'!$I$9:$I$56)","v":0},{"$f":"SUMIF('Concert 4'!$E$9:$E$56,Statistiques!A30,'Concert 4'!$J$9:$J$56)","v":0},{"$f":"SUMIF('Concert 5'!$E$9:$E$56,Statistiques!A30,'Concert 5'!$I$9:$I$56)","v":0},{"$f":"SUMIF('Concert 5'!$E$9:$E$56,Statistiques!A30,'Concert 5'!$J$9:$J$56)","v":0}]
[{"$f":"Ecoles!A27","v":0},{"$f":"Ecoles!B27","v":0},{"$f":"Ecoles!C27","v":0},null,{"$f":"SUMIF('Concert 1'!$E$9:$E$56,Statistiques!A31,'Concert 1'!$I$9:$I$56)+SUMIF('Concert 2'!$E$9:$E$56,Statistiques!A31,'Concert 2'!$I$9:$I$56)+SUMIF('Concert 3'!$E$9:$E$56,Statistiques!A31,'Concert 3'!$I$9:$I$56)+SUMIF('Concert 4'!$E$9:$E$56,Statistiques!A31,'Concert 4'!$I$9:$I$56)+SUMIF('Concert 5'!$E$9:$E$56,Statistiques!A31,'Concert 5'!$I$9:$I$56)","v":0},{"$f":"SUMIF('Concert 1'!$E$9:$E$56,Statistiques!A31,'Concert 1'!$J$9:$J$56)+SUMIF('Concert 2'!$E$9:$E$56,Statistiques!A31,'Concert 2'!$J$9:$J$56)+SUMIF('Concert 3'!$E$9:$E$56,Statistiques!A31,'Concert 3'!$J$9:$J$56)+SUMIF('Concert 4'!$E$9:$E$56,Statistiques!A31,'Concert 4'!$J$9:$J$56)+SUMIF('Concert 5'!$E$9:$E$56,Statistiques!A31,'Concert 5'!$J$9:$J$56)","v":0},null,null,{"$f":"SUMIF('Concert 1'!$E$9:$E$56,Statistiques!A31,'Concert 1'!$I$9:$I$56)","v":0},{"$f":"SUMIF('Concert 1'!$E$9:$E$56,Statistiques!A31,'Concert 1'!$J$9:$J$56)","v":0},{"$f":"SUMIF('Concert 2'!$E$9:$E$56,Statistiques!A31,'Concert 2'!$I$9:$I$56)","v":0},{"$f":"SUMIF('Concert 2'!$E$9:$E$56,Statistiques!A31,'Concert 2'!$J$9:$J$56)","v":0},{"$f":"SUMIF('Concert 3'!$E$9:$E$56,Statistiques!A31,'Concert 3'!$I$9:$I$56)","v":0},{"$f":"SUMIF('Concert 3'!$E$9:$E$56,Statistiques!A31,'Concert 3'!$J$9:$J$56)","v":0},{"$f":"SUMIF('Concert 4'!$E$9:$E$56,Statistiques!A31,'Concert 4'!$I$9:$I$56)","v":0},{"$f":"SUMIF('Concert 4'!$E$9:$E$56,Statistiques!A31,'Concert 4'!$J$9:$J$56)","v":0},{"$f":"SUMIF('Concert 5'!$E$9:$E$56,Statistiques!A31,'Concert 5'!$I$9:$I$56)","v":0},{"$f":"SUMIF('Concert 5'!$E$9:$E$56,Statistiques!A31,'Concert 5'!$J$9:$J$56)","v":0}]
[{"$f":"Ecoles!A28","v":0},{"$f":"Ecoles!B28","v":0},{"$f":"Ecoles!C28","v":0},null,{"$f":"SUMIF('Concert 1'!$E$9:$E$56,Statistiques!A32,'Concert 1'!$I$9:$I$56)+SUMIF('Concert 2'!$E$9:$E$56,Statistiques!A32,'Concert 2'!$I$9:$I$56)+SUMIF('Concert 3'!$E$9:$E$56,Statistiques!A32,'Concert 3'!$I$9:$I$56)+SUMIF('Concert 4'!$E$9:$E$56,Statistiques!A32,'Concert 4'!$I$9:$I$56)+SUMIF('Concert 5'!$E$9:$E$56,Statistiques!A32,'Concert 5'!$I$9:$I$56)","v":0},{"$f":"SUMIF('Concert 1'!$E$9:$E$56,Statistiques!A32,'Concert 1'!$J$9:$J$56)+SUMIF('Concert 2'!$E$9:$E$56,Statistiques!A32,'Concert 2'!$J$9:$J$56)+SUMIF('Concert 3'!$E$9:$E$56,Statistiques!A32,'Concert 3'!$J$9:$J$56)+SUMIF('Concert 4'!$E$9:$E$56,Statistiques!A32,'Concert 4'!$J$9:$J$56)+SUMIF('Concert 5'!$E$9:$E$56,Statistiques!A32,'Concert 5'!$J$9:$J$56)","v":0},null,null,{"$f":"SUMIF('Concert 1'!$E$9:$E$56,Statistiques!A32,'Concert 1'!$I$9:$I$56)","v":0},{"$f":"SUMIF('Concert 1'!$E$9:$E$56,Statistiques!A32,'Concert 1'!$J$9:$J$56)","v":0},{"$f":"SUMIF('Concert 2'!$E$9:$E$56,Statistiques!A32,'Concert 2'!$I$9:$I$56)","v":0},{"$f":"SUMIF('Concert 2'!$E$9:$E$56,Statistiques!A32,'Concert 2'!$J$9:$J$56)","v":0},{"$f":"SUMIF('Concert 3'!$E$9:$E$56,Statistiques!A32,'Concert 3'!$I$9:$I$56)","v":0},{"$f":"SUMIF('Concert 3'!$E$9:$E$56,Statistiques!A32,'Concert 3'!$J$9:$J$56)","v":0},{"$f":"SUMIF('Concert 4'!$E$9:$E$56,Statistiques!A32,'Concert 4'!$I$9:$I$56)","v":0},{"$f":"SUMIF('Concert 4'!$E$9:$E$56,Statistiques!A32,'Concert 4'!$J$9:$J$56)","v":0},{"$f":"SUMIF('Concert 5'!$E$9:$E$56,Statistiques!A32,'Concert 5'!$I$9:$I$56)","v":0},{"$f":"SUMIF('Concert 5'!$E$9:$E$56,Statistiques!A32,'Concert 5'!$J$9:$J$56)","v":0}]
[{"$f":"Ecoles!A29","v":0},{"$f":"Ecoles!B29","v":0},{"$f":"Ecoles!C29","v":0},null,{"$f":"SUMIF('Concert 1'!$E$9:$E$56,Statistiques!A33,'Concert 1'!$I$9:$I$56)+SUMIF('Concert 2'!$E$9:$E$56,Statistiques!A33,'Concert 2'!$I$9:$I$56)+SUMIF('Concert 3'!$E$9:$E$56,Statistiques!A33,'Concert 3'!$I$9:$I$56)+SUMIF('Concert 4'!$E$9:$E$56,Statistiques!A33,'Concert 4'!$I$9:$I$56)+SUMIF('Concert 5'!$E$9:$E$56,Statistiques!A33,'Concert 5'!$I$9:$I$56)","v":0},{"$f":"SUMIF('Concert 1'!$E$9:$E$56,Statistiques!A33,'Concert 1'!$J$9:$J$56)+SUMIF('Concert 2'!$E$9:$E$56,Statistiques!A33,'Concert 2'!$J$9:$J$56)+SUMIF('Concert 3'!$E$9:$E$56,Statistiques!A33,'Concert 3'!$J$9:$J$56)+SUMIF('Concert 4'!$E$9:$E$56,Statistiques!A33,'Concert 4'!$J$9:$J$56)+SUMIF('Concert 5'!$E$9:$E$56,Statistiques!A33,'Concert 5'!$J$9:$J$56)","v":0},null,null,{"$f":"SUMIF('Concert 1'!$E$9:$E$56,Statistiques!A33,'Concert 1'!$I$9:$I$56)","v":0},{"$f":"SUMIF('Concert 1'!$E$9:$E$56,Statistiques!A33,'Concert 1'!$J$9:$J$56)","v":0},{"$f":"SUMIF('Concert 2'!$E$9:$E$56,Statistiques!A33,'Concert 2'!$I$9:$I$56)","v":0},{"$f":"SUMIF('Concert 2'!$E$9:$E$56,Statistiques!A33,'Concert 2'!$J$9:$J$56)","v":0},{"$f":"SUMIF('Concert 3'!$E$9:$E$56,Statistiques!A33,'Concert 3'!$I$9:$I$56)","v":0},{"$f":"SUMIF('Concert 3'!$E$9:$E$56,Statistiques!A33,'Concert 3'!$J$9:$J$56)","v":0},{"$f":"SUMIF('Concert 4'!$E$9:$E$56,Statistiques!A33,'Concert 4'!$I$9:$I$56)","v":0},{"$f":"SUMIF('Concert 4'!$E$9:$E$56,Statistiques!A33,'Concert 4'!$J$9:$J$56)","v":0},{"$f":"SUMIF('Concert 5'!$E$9:$E$56,Statistiques!A33,'Concert 5'!$I$9:$I$56)","v":0},{"$f":"SUMIF('Concert 5'!$E$9:$E$56,Statistiques!A33,'Concert 5'!$J$9:$J$56)","v":0}]
[{"$f":"Ecoles!A30","v":0},{"$f":"Ecoles!B30","v":0},{"$f":"Ecoles!C30","v":0},null,{"$f":"SUMIF('Concert 1'!$E$9:$E$56,Statistiques!A34,'Concert 1'!$I$9:$I$56)+SUMIF('Concert 2'!$E$9:$E$56,Statistiques!A34,'Concert 2'!$I$9:$I$56)+SUMIF('Concert 3'!$E$9:$E$56,Statistiques!A34,'Concert 3'!$I$9:$I$56)+SUMIF('Concert 4'!$E$9:$E$56,Statistiques!A34,'Concert 4'!$I$9:$I$56)+SUMIF('Concert 5'!$E$9:$E$56,Statistiques!A34,'Concert 5'!$I$9:$I$56)","v":0},{"$f":"SUMIF('Concert 1'!$E$9:$E$56,Statistiques!A34,'Concert 1'!$J$9:$J$56)+SUMIF('Concert 2'!$E$9:$E$56,Statistiques!A34,'Concert 2'!$J$9:$J$56)+SUMIF('Concert 3'!$E$9:$E$56,Statistiques!A34,'Concert 3'!$J$9:$J$56)+SUMIF('Concert 4'!$E$9:$E$56,Statistiques!A34,'Concert 4'!$J$9:$J$56)+SUMIF('Concert 5'!$E$9:$E$56,Statistiques!A34,'Concert 5'!$J$9:$J$56)","v":0},null,null,{"$f":"SUMIF('Concert 1'!$E$9:$E$56,Statistiques!A34,'Concert 1'!$I$9:$I$56)","v":0},{"$f":"SUMIF('Concert 1'!$E$9:$E$56,Statistiques!A34,'Concert 1'!$J$9:$J$56)","v":0},{"$f":"SUMIF('Concert 2'!$E$9:$E$56,Statistiques!A34,'Concert 2'!$I$9:$I$56)","v":0},{"$f":"SUMIF('Concert 2'!$E$9:$E$56,Statistiques!A34,'Concert 2'!$J$9:$J$56)","v":0},{"$f":"SUMIF('Concert 3'!$E$9:$E$56,Statistiques!A34,'Concert 3'!$I$9:$I$56)","v":0},{"$f":"SUMIF('Concert 3'!$E$9:$E$56,Statistiques!A34,'Concert 3'!$J$9:$J$56)","v":0},{"$f":"SUMIF('Concert 4'!$E$9:$E$56,Statistiques!A34,'Concert 4'!$I$9:$I$56)","v":0},{"$f":"SUMIF('Concert 4'!$E$9:$E$56,Statistiques!A34,'Concert 4'!$J$9:$J$56)","v":0},{"$f":"SUMIF('Concert 5'!$E$9:$E$56,Statistiques!A34,'Concert 5'!$I$9:$I$56)","v":0},{"$f":"SUMIF('Concert 5'!$E$9:$E$56,Statistiques!A34,'Concert 5'!$J$9:$J$56)","v":0}]
[{"$f":"Ecoles!A31","v":0},{"$f":"Ecoles!B31","v":0},{"$f":"Ecoles!C31","v":0},null,{"$f":"SUMIF('Concert 1'!$E$9:$E$56,Statistiques!A35,'Concert 1'!$I$9:$I$56)+SUMIF('Concert 2'!$E$9:$E$56,Statistiques!A35,'Concert 2'!$I$9:$I$56)+SUMIF('Concert 3'!$E$9:$E$56,Statistiques!A35,'Concert 3'!$I$9:$I$56)+SUMIF('Concert 4'!$E$9:$E$56,Statistiques!A35,'Concert 4'!$I$9:$I$56)+SUMIF('Concert 5'!$E$9:$E$56,Statistiques!A35,'Concert 5'!$I$9:$I$56)","v":0},{"$f":"SUMIF('Concert 1'!$E$9:$E$56,Statistiques!A35,'Concert 1'!$J$9:$J$56)+SUMIF('Concert 2'!$E$9:$E$56,Statistiques!A35,'Concert 2'!$J$9:$J$56)+SUMIF('Concert 3'!$E$9:$E$56,Statistiques!A35,'Concert 3'!$J$9:$J$56)+SUMIF('Concert 4'!$E$9:$E$56,Statistiques!A35,'Concert 4'!$J$9:$J$56)+SUMIF('Concert 5'!$E$9:$E$56,Statistiques!A35,'Concert 5'!$J$9:$J$56)","v":0},null,null,{"$f":"SUMIF('Concert 1'!$E$9:$E$56,Statistiques!A35,'Concert 1'!$I$9:$I$56)","v":0},{"$f":"SUMIF('Concert 1'!$E$9:$E$56,Statistiques!A35,'Concert 1'!$J$9:$J$56)","v":0},{"$f":"SUMIF('Concert 2'!$E$9:$E$56,Statistiques!A35,'Concert 2'!$I$9:$I$56)","v":0},{"$f":"SUMIF('Concert 2'!$E$9:$E$56,Statistiques!A35,'Concert 2'!$J$9:$J$56)","v":0},{"$f":"SUMIF('Concert 3'!$E$9:$E$56,Statistiques!A35,'Concert 3'!$I$9:$I$56)","v":0},{"$f":"SUMIF('Concert 3'!$E$9:$E$56,Statistiques!A35,'Concert 3'!$J$9:$J$56)","v":0},{"$f":"SUMIF('Concert 4'!$E$9:$E$56,Statistiques!A35,'Concert 4'!$I$9:$I$56)","v":0},{"$f":"SUMIF('Concert 4'!$E$9:$E$56,Statistiques!A35,'Concert 4'!$J$9:$J$56)","v":0},{"$f":"SUMIF('Concert 5'!$E$9:$E$56,Statistiques!A35,'Concert 5'!$I$9:$I$56)","v":0},{"$f":"SUMIF('Concert 5'!$E$9:$E$56,Statistiques!A35,'Concert 5'!$J$9:$J$56)","v":0}]
[{"$f":"Ecoles!A32","v":0},{"$f":"Ecoles!B32","v":0},{"$f":"Ecoles!C32","v":0},null,{"$f":"SUMIF('Concert 1'!$E$9:$E$56,Statistiques!A36,'Concert 1'!$I$9:$I$56)+SUMIF('Concert 2'!$E$9:$E$56,Statistiques!A36,'Concert 2'!$I$9:$I$56)+SUMIF('Concert 3'!$E$9:$E$56,Statistiques!A36,'Concert 3'!$I$9:$I$56)+SUMIF('Concert 4'!$E$9:$E$56,Statistiques!A36,'Concert 4'!$I$9:$I$56)+SUMIF('Concert 5'!$E$9:$E$56,Statistiques!A36,'Concert 5'!$I$9:$I$56)","v":0},{"$f":"SUMIF('Concert 1'!$E$9:$E$56,Statistiques!A36,'Concert 1'!$J$9:$J$56)+SUMIF('Concert 2'!$E$9:$E$56,Statistiques!A36,'Concert 2'!$J$9:$J$56)+SUMIF('Concert 3'!$E$9:$E$56,Statistiques!A36,'Concert 3'!$J$9:$J$56)+SUMIF('Concert 4'!$E$9:$E$56,Statistiques!A36,'Concert 4'!$J$9:$J$56)+SUMIF('Concert 5'!$E$9:$E$56,Statistiques!A36,'Concert 5'!$J$9:$J$56)","v":0},null,null,{"$f":"SUMIF('Concert 1'!$E$9:$E$56,Statistiques!A36,'Concert 1'!$I$9:$I$56)","v":0},{"$f":"SUMIF('Concert 1'!$E$9:$E$56,Statistiques!A36,'Concert 1'!$J$9:$J$56)","v":0},{"$f":"SUMIF('Concert 2'!$E$9:$E$56,Statistiques!A36,'Concert 2'!$I$9:$I$56)","v":0},{"$f":"SUMIF('Concert 2'!$E$9:$E$56,Statistiques!A36,'Concert 2'!$J$9:$J$56)","v":0},{"$f":"SUMIF('Concert 3'!$E$9:$E$56,Statistiques!A36,'Concert 3'!$I$9:$I$56)","v":0},{"$f":"SUMIF('Concert 3'!$E$9:$E$56,Statistiques!A36,'Concert 3'!$J$9:$J$56)","v":0},{"$f":"SUMIF('Concert 4'!$E$9:$E$56,Statistiques!A36,'Concert 4'!$I$9:$I$56)","v":0},{"$f":"SUMIF('Concert 4'!$E$9:$E$56,Statistiques!A36,'Concert 4'!$J$9:$J$56)","v":0},{"$f":"SUMIF('Concert 5'!$E$9:$E$56,Statistiques!A36,'Concert 5'!$I$9:$I$56)","v":0},{"$f":"SUMIF('Concert 5'!$E$9:$E$56,Statistiques!A36,'Concert 5'!$J$9:$J$56)","v":0}]
[{"$f":"Ecoles!A33","v":0},{"$f":"Ecoles!B33","v":0},{"$f":"Ecoles!C33","v":0},null,{"$f":"SUMIF('Concert 1'!$E$9:$E$56,Statistiques!A37,'Concert 1'!$I$9:$I$56)+SUMIF('Concert 2'!$E$9:$E$56,Statistiques!A37,'Concert 2'!$I$9:$I$56)+SUMIF('Concert 3'!$E$9:$E$56,Statistiques!A37,'Concert 3'!$I$9:$I$56)+SUMIF('Concert 4'!$E$9:$E$56,Statistiques!A37,'Concert 4'!$I$9:$I$56)+SUMIF('Concert 5'!$E$9:$E$56,Statistiques!A37,'Concert 5'!$I$9:$I$56)","v":0},{"$f":"SUMIF('Concert 1'!$E$9:$E$56,Statistiques!A37,'Concert 1'!$J$9:$J$56)+SUMIF('Concert 2'!$E$9:$E$56,Statistiques!A37,'Concert 2'!$J$9:$J$56)+SUMIF('Concert 3'!$E$9:$E$56,Statistiques!A37,'Concert 3'!$J$9:$J$56)+SUMIF('Concert 4'!$E$9:$E$56,Statistiques!A37,'Concert 4'!$J$9:$J$56)+SUMIF('Concert 5'!$E$9:$E$56,Statistiques!A37,'Concert 5'!$J$9:$J$56)","v":0},null,null,{"$f":"SUMIF('Concert 1'!$E$9:$E$56,Statistiques!A37,'Concert 1'!$I$9:$I$56)","v":0},{"$f":"SUMIF('Concert 1'!$E$9:$E$56,Statistiques!A37,'Concert 1'!$J$9:$J$56)","v":0},{"$f":"SUMIF('Concert 2'!$E$9:$E$56,Statistiques!A37,'Concert 2'!$I$9:$I$56)","v":0},{"$f":"SUMIF('Concert 2'!$E$9:$E$56,Statistiques!A37,'Concert 2'!$J$9:$J$56)","v":0},{"$f":"SUMIF('Concert 3'!$E$9:$E$56,Statistiques!A37,'Concert 3'!$I$9:$I$56)","v":0},{"$f":"SUMIF('Concert 3'!$E$9:$E$56,Statistiques!A37,'Concert 3'!$J$9:$J$56)","v":0},{"$f":"SUMIF('Concert 4'!$E$9:$E$56,Statistiques!A37,'Concert 4'!$I$9:$I$56)","v":0},{"$f":"SUMIF('Concert 4'!$E$9:$E$56,Statistiques!A37,'Concert 4'!$J$9:$J$56)","v":0},{"$f":"SUMIF('Concert 5'!$E$9:$E$56,Statistiques!A37,'Concert 5'!$I$9:$I$56)","v":0},{"$f":"SUMIF('Concert 5'!$E$9:$E$56,Statistiques!A37,'Concert 5'!$J$9:$J$56)","v":0}]
[{"$f":"Ecoles!A34","v":0},{"$f":"Ecoles!B34","v":0},{"$f":"Ecoles!C34","v":0},null,{"$f":"SUMIF('Concert 1'!$E$9:$E$56,Statistiques!A38,'Concert 1'!$I$9:$I$56)+SUMIF('Concert 2'!$E$9:$E$56,Statistiques!A38,'Concert 2'!$I$9:$I$56)+SUMIF('Concert 3'!$E$9:$E$56,Statistiques!A38,'Concert 3'!$I$9:$I$56)+SUMIF('Concert 4'!$E$9:$E$56,Statistiques!A38,'Concert 4'!$I$9:$I$56)+SUMIF('Concert 5'!$E$9:$E$56,Statistiques!A38,'Concert 5'!$I$9:$I$56)","v":0},{"$f":"SUMIF('Concert 1'!$E$9:$E$56,Statistiques!A38,'Concert 1'!$J$9:$J$56)+SUMIF('Concert 2'!$E$9:$E$56,Statistiques!A38,'Concert 2'!$J$9:$J$56)+SUMIF('Concert 3'!$E$9:$E$56,Statistiques!A38,'Concert 3'!$J$9:$J$56)+SUMIF('Concert 4'!$E$9:$E$56,Statistiques!A38,'Concert 4'!$J$9:$J$56)+SUMIF('Concert 5'!$E$9:$E$56,Statistiques!A38,'Concert 5'!$J$9:$J$56)","v":0},null,null,{"$f":"SUMIF('Concert 1'!$E$9:$E$56,Statistiques!A38,'Concert 1'!$I$9:$I$56)","v":0},{"$f":"SUMIF('Concert 1'!$E$9:$E$56,Statistiques!A38,'Concert 1'!$J$9:$J$56)","v":0},{"$f":"SUMIF('Concert 2'!$E$9:$E$56,Statistiques!A38,'Concert 2'!$I$9:$I$56)","v":0},{"$f":"SUMIF('Concert 2'!$E$9:$E$56,Statistiques!A38,'Concert 2'!$J$9:$J$56)","v":0},{"$f":"SUMIF('Concert 3'!$E$9:$E$56,Statistiques!A38,'Concert 3'!$I$9:$I$56)","v":0},{"$f":"SUMIF('Concert 3'!$E$9:$E$56,Statistiques!A38,'Concert 3'!$J$9:$J$56)","v":0},{"$f":"SUMIF('Concert 4'!$E$9:$E$56,Statistiques!A38,'Concert 4'!$I$9:$I$56)","v":0},{"$f":"SUMIF('Concert 4'!$E$9:$E$56,Statistiques!A38,'Concert 4'!$J$9:$J$56)","v":0},{"$f":"SUMIF('Concert 5'!$E$9:$E$56,Statistiques!A38,'Concert 5'!$I$9:$I$56)","v":0},{"$f":"SUMIF('Concert 5'!$E$9:$E$56,Statistiques!A38,'Concert 5'!$J$9:$J$56)","v":0}]
[{"$f":"Ecoles!A35","v":0},{"$f":"Ecoles!B35","v":0},{"$f":"Ecoles!C35","v":0},null,{"$f":"SUMIF('Concert 1'!$E$9:$E$56,Statistiques!A39,'Concert 1'!$I$9:$I$56)+SUMIF('Concert 2'!$E$9:$E$56,Statistiques!A39,'Concert 2'!$I$9:$I$56)+SUMIF('Concert 3'!$E$9:$E$56,Statistiques!A39,'Concert 3'!$I$9:$I$56)+SUMIF('Concert 4'!$E$9:$E$56,Statistiques!A39,'Concert 4'!$I$9:$I$56)+SUMIF('Concert 5'!$E$9:$E$56,Statistiques!A39,'Concert 5'!$I$9:$I$56)","v":0},{"$f":"SUMIF('Concert 1'!$E$9:$E$56,Statistiques!A39,'Concert 1'!$J$9:$J$56)+SUMIF('Concert 2'!$E$9:$E$56,Statistiques!A39,'Concert 2'!$J$9:$J$56)+SUMIF('Concert 3'!$E$9:$E$56,Statistiques!A39,'Concert 3'!$J$9:$J$56)+SUMIF('Concert 4'!$E$9:$E$56,Statistiques!A39,'Concert 4'!$J$9:$J$56)+SUMIF('Concert 5'!$E$9:$E$56,Statistiques!A39,'Concert 5'!$J$9:$J$56)","v":0},null,null,{"$f":"SUMIF('Concert 1'!$E$9:$E$56,Statistiques!A39,'Concert 1'!$I$9:$I$56)","v":0},{"$f":"SUMIF('Concert 1'!$E$9:$E$56,Statistiques!A39,'Concert 1'!$J$9:$J$56)","v":0},{"$f":"SUMIF('Concert 2'!$E$9:$E$56,Statistiques!A39,'Concert 2'!$I$9:$I$56)","v":0},{"$f":"SUMIF('Concert 2'!$E$9:$E$56,Statistiques!A39,'Concert 2'!$J$9:$J$56)","v":0},{"$f":"SUMIF('Concert 3'!$E$9:$E$56,Statistiques!A39,'Concert 3'!$I$9:$I$56)","v":0},{"$f":"SUMIF('Concert 3'!$E$9:$E$56,Statistiques!A39,'Concert 3'!$J$9:$J$56)","v":0},{"$f":"SUMIF('Concert 4'!$E$9:$E$56,Statistiques!A39,'Concert 4'!$I$9:$I$56)","v":0},{"$f":"SUMIF('Concert 4'!$E$9:$E$56,Statistiques!A39,'Concert 4'!$J$9:$J$56)","v":0},{"$f":"SUMIF('Concert 5'!$E$9:$E$56,Statistiques!A39,'Concert 5'!$I$9:$I$56)","v":0},{"$f":"SUMIF('Concert 5'!$E$9:$E$56,Statistiques!A39,'Concert 5'!$J$9:$J$56)","v":0}]
[{"$f":"Ecoles!A36","v":0},{"$f":"Ecoles!B36","v":0},{"$f":"Ecoles!C36","v":0},null,{"$f":"SUMIF('Concert 1'!$E$9:$E$56,Statistiques!A40,'Concert 1'!$I$9:$I$56)+SUMIF('Concert 2'!$E$9:$E$56,Statistiques!A40,'Concert 2'!$I$9:$I$56)+SUMIF('Concert 3'!$E$9:$E$56,Statistiques!A40,'Concert 3'!$I$9:$I$56)+SUMIF('Concert 4'!$E$9:$E$56,Statistiques!A40,'Concert 4'!$I$9:$I$56)+SUMIF('Concert 5'!$E$9:$E$56,Statistiques!A40,'Concert 5'!$I$9:$I$56)","v":0},{"$f":"SUMIF('Concert 1'!$E$9:$E$56,Statistiques!A40,'Concert 1'!$J$9:$J$56)+SUMIF('Concert 2'!$E$9:$E$56,Statistiques!A40,'Concert 2'!$J$9:$J$56)+SUMIF('Concert 3'!$E$9:$E$56,Statistiques!A40,'Concert 3'!$J$9:$J$56)+SUMIF('Concert 4'!$E$9:$E$56,Statistiques!A40,'Concert 4'!$J$9:$J$56)+SUMIF('Concert 5'!$E$9:$E$56,Statistiques!A40,'Concert 5'!$J$9:$J$56)","v":0},null,null,{"$f":"SUMIF('Concert 1'!$E$9:$E$56,Statistiques!A40,'Concert 1'!$I$9:$I$56)","v":0},{"$f":"SUMIF('Concert 1'!$E$9:$E$56,Statistiques!A40,'Concert 1'!$J$9:$J$56)","v":0},{"$f":"SUMIF('Concert 2'!$E$9:$E$56,Statistiques!A40,'Concert 2'!$I$9:$I$56)","v":0},{"$f":"SUMIF('Concert 2'!$E$9:$E$56,Statistiques!A40,'Concert 2'!$J$9:$J$56)","v":0},{"$f":"SUMIF('Concert 3'!$E$9:$E$56,Statistiques!A40,'Concert 3'!$I$9:$I$56)","v":0},{"$f":"SUMIF('Concert 3'!$E$9:$E$56,Statistiques!A40,'Concert 3'!$J$9:$J$56)","v":0},{"$f":"SUMIF('Concert 4'!$E$9:$E$56,Statistiques!A40,'Concert 4'!$I$9:$I$56)","v":0},{"$f":"SUMIF('Concert 4'!$E$9:$E$56,Statistiques!A40,'Concert 4'!$J$9:$J$56)","v":0},{"$f":"SUMIF('Concert 5'!$E$9:$E$56,Statistiques!A40,'Concert 5'!$I$9:$I$56)","v":0},{"$f":"SUMIF('Concert 5'!$E$9:$E$56,Statistiques!A40,'Concert 5'!$J$9:$J$56)","v":0}]
[{"$f":"Ecoles!A37","v":0},{"$f":"Ecoles!B37","v":0},{"$f":"Ecoles!C37","v":0},null,{"$f":"SUMIF('Concert 1'!$E$9:$E$56,Statistiques!A41,'Concert 1'!$I$9:$I$56)+SUMIF('Concert 2'!$E$9:$E$56,Statistiques!A41,'Concert 2'!$I$9:$I$56)+SUMIF('Concert 3'!$E$9:$E$56,Statistiques!A41,'Concert 3'!$I$9:$I$56)+SUMIF('Concert 4'!$E$9:$E$56,Statistiques!A41,'Concert 4'!$I$9:$I$56)+SUMIF('Concert 5'!$E$9:$E$56,Statistiques!A41,'Concert 5'!$I$9:$I$56)","v":0},{"$f":"SUMIF('Concert 1'!$E$9:$E$56,Statistiques!A41,'Concert 1'!$J$9:$J$56)+SUMIF('Concert 2'!$E$9:$E$56,Statistiques!A41,'Concert 2'!$J$9:$J$56)+SUMIF('Concert 3'!$E$9:$E$56,Statistiques!A41,'Concert 3'!$J$9:$J$56)+SUMIF('Concert 4'!$E$9:$E$56,Statistiques!A41,'Concert 4'!$J$9:$J$56)+SUMIF('Concert 5'!$E$9:$E$56,Statistiques!A41,'Concert 5'!$J$9:$J$56)","v":0},null,null,{"$f":"SUMIF('Concert 1'!$E$9:$E$56,Statistiques!A41,'Concert 1'!$I$9:$I$56)","v":0},{"$f":"SUMIF('Concert 1'!$E$9:$E$56,Statistiques!A41,'Concert 1'!$J$9:$J$56)","v":0},{"$f":"SUMIF('Concert 2'!$E$9:$E$56,Statistiques!A41,'Concert 2'!$I$9:$I$56)","v":0},{"$f":"SUMIF('Concert 2'!$E$9:$E$56,Statistiques!A41,'Concert 2'!$J$9:$J$56)","v":0},{"$f":"SUMIF('Concert 3'!$E$9:$E$56,Statistiques!A41,'Concert 3'!$I$9:$I$56)","v":0},{"$f":"SUMIF('Concert 3'!$E$9:$E$56,Statistiques!A41,'Concert 3'!$J$9:$J$56)","v":0},{"$f":"SUMIF('Concert 4'!$E$9:$E$56,Statistiques!A41,'Concert 4'!$I$9:$I$56)","v":0},{"$f":"SUMIF('Concert 4'!$E$9:$E$56,Statistiques!A41,'Concert 4'!$J$9:$J$56)","v":0},{"$f":"SUMIF('Concert 5'!$E$9:$E$56,Statistiques!A41,'Concert 5'!$I$9:$I$56)","v":0},{"$f":"SUMIF('Concert 5'!$E$9:$E$56,Statistiques!A41,'Concert 5'!$J$9:$J$56)","v":0}]
[{"$f":"Ecoles!A38","v":0},{"$f":"Ecoles!B38","v":0},{"$f":"Ecoles!C38","v":0},null,{"$f":"SUMIF('Concert 1'!$E$9:$E$56,Statistiques!A42,'Concert 1'!$I$9:$I$56)+SUMIF('Concert 2'!$E$9:$E$56,Statistiques!A42,'Concert 2'!$I$9:$I$56)+SUMIF('Concert 3'!$E$9:$E$56,Statistiques!A42,'Concert 3'!$I$9:$I$56)+SUMIF('Concert 4'!$E$9:$E$56,Statistiques!A42,'Concert 4'!$I$9:$I$56)+SUMIF('Concert 5'!$E$9:$E$56,Statistiques!A42,'Concert 5'!$I$9:$I$56)","v":0},{"$f":"SUMIF('Concert 1'!$E$9:$E$56,Statistiques!A42,'Concert 1'!$J$9:$J$56)+SUMIF('Concert 2'!$E$9:$E$56,Statistiques!A42,'Concert 2'!$J$9:$J$56)+SUMIF('Concert 3'!$E$9:$E$56,Statistiques!A42,'Concert 3'!$J$9:$J$56)+SUMIF('Concert 4'!$E$9:$E$56,Statistiques!A42,'Concert 4'!$J$9:$J$56)+SUMIF('Concert 5'!$E$9:$E$56,Statistiques!A42,'Concert 5'!$J$9:$J$56)","v":0},null,null,{"$f":"SUMIF('Concert 1'!$E$9:$E$56,Statistiques!A42,'Concert 1'!$I$9:$I$56)","v":0},{"$f":"SUMIF('Concert 1'!$E$9:$E$56,Statistiques!A42,'Concert 1'!$J$9:$J$56)","v":0},{"$f":"SUMIF('Concert 2'!$E$9:$E$56,Statistiques!A42,'Concert 2'!$I$9:$I$56)","v":0},{"$f":"SUMIF('Concert 2'!$E$9:$E$56,Statistiques!A42,'Concert 2'!$J$9:$J$56)","v":0},{"$f":"SUMIF('Concert 3'!$E$9:$E$56,Statistiques!A42,'Concert 3'!$I$9:$I$56)","v":0},{"$f":"SUMIF('Concert 3'!$E$9:$E$56,Statistiques!A42,'Concert 3'!$J$9:$J$56)","v":0},{"$f":"SUMIF('Concert 4'!$E$9:$E$56,Statistiques!A42,'Concert 4'!$I$9:$I$56)","v":0},{"$f":"SUMIF('Concert 4'!$E$9:$E$56,Statistiques!A42,'Concert 4'!$J$9:$J$56)","v":0},{"$f":"SUMIF('Concert 5'!$E$9:$E$56,Statistiques!A42,'Concert 5'!$I$9:$I$56)","v":0},{"$f":"SUMIF('Concert 5'!$E$9:$E$56,Statistiques!A42,'Concert 5'!$J$9:$J$56)","v":0}]
[{"$f":"Ecoles!A39","v":0},{"$f":"Ecoles!B39","v":0},{"$f":"Ecoles!C39","v":0},null,{"$f":"SUMIF('Concert 1'!$E$9:$E$56,Statistiques!A43,'Concert 1'!$I$9:$I$56)+SUMIF('Concert 2'!$E$9:$E$56,Statistiques!A43,'Concert 2'!$I$9:$I$56)+SUMIF('Concert 3'!$E$9:$E$56,Statistiques!A43,'Concert 3'!$I$9:$I$56)+SUMIF('Concert 4'!$E$9:$E$56,Statistiques!A43,'Concert 4'!$I$9:$I$56)+SUMIF('Concert 5'!$E$9:$E$56,Statistiques!A43,'Concert 5'!$I$9:$I$56)","v":0},{"$f":"SUMIF('Concert 1'!$E$9:$E$56,Statistiques!A43,'Concert 1'!$J$9:$J$56)+SUMIF('Concert 2'!$E$9:$E$56,Statistiques!A43,'Concert 2'!$J$9:$J$56)+SUMIF('Concert 3'!$E$9:$E$56,Statistiques!A43,'Concert 3'!$J$9:$J$56)+SUMIF('Concert 4'!$E$9:$E$56,Statistiques!A43,'Concert 4'!$J$9:$J$56)+SUMIF('Concert 5'!$E$9:$E$56,Statistiques!A43,'Concert 5'!$J$9:$J$56)","v":0},null,null,{"$f":"SUMIF('Concert 1'!$E$9:$E$56,Statistiques!A43,'Concert 1'!$I$9:$I$56)","v":0},{"$f":"SUMIF('Concert 1'!$E$9:$E$56,Statistiques!A43,'Concert 1'!$J$9:$J$56)","v":0},{"$f":"SUMIF('Concert 2'!$E$9:$E$56,Statistiques!A43,'Concert 2'!$I$9:$I$56)","v":0},{"$f":"SUMIF('Concert 2'!$E$9:$E$56,Statistiques!A43,'Concert 2'!$J$9:$J$56)","v":0},{"$f":"SUMIF('Concert 3'!$E$9:$E$56,Statistiques!A43,'Concert 3'!$I$9:$I$56)","v":0},{"$f":"SUMIF('Concert 3'!$E$9:$E$56,Statistiques!A43,'Concert 3'!$J$9:$J$56)","v":0},{"$f":"SUMIF('Concert 4'!$E$9:$E$56,Statistiques!A43,'Concert 4'!$I$9:$I$56)","v":0},{"$f":"SUMIF('Concert 4'!$E$9:$E$56,Statistiques!A43,'Concert 4'!$J$9:$J$56)","v":0},{"$f":"SUMIF('Concert 5'!$E$9:$E$56,Statistiques!A43,'Concert 5'!$I$9:$I$56)","v":0},{"$f":"SUMIF('Concert 5'!$E$9:$E$56,Statistiques!A43,'Concert 5'!$J$9:$J$56)","v":0}]
[{"$f":"Ecoles!A40","v":0},{"$f":"Ecoles!B40","v":0},{"$f":"Ecoles!C40","v":0},null,{"$f":"SUMIF('Concert 1'!$E$9:$E$56,Statistiques!A44,'Concert 1'!$I$9:$I$56)+SUMIF('Concert 2'!$E$9:$E$56,Statistiques!A44,'Concert 2'!$I$9:$I$56)+SUMIF('Concert 3'!$E$9:$E$56,Statistiques!A44,'Concert 3'!$I$9:$I$56)+SUMIF('Concert 4'!$E$9:$E$56,Statistiques!A44,'Concert 4'!$I$9:$I$56)+SUMIF('Concert 5'!$E$9:$E$56,Statistiques!A44,'Concert 5'!$I$9:$I$56)","v":0},{"$f":"SUMIF('Concert 1'!$E$9:$E$56,Statistiques!A44,'Concert 1'!$J$9:$J$56)+SUMIF('Concert 2'!$E$9:$E$56,Statistiques!A44,'Concert 2'!$J$9:$J$56)+SUMIF('Concert 3'!$E$9:$E$56,Statistiques!A44,'Concert 3'!$J$9:$J$56)+SUMIF('Concert 4'!$E$9:$E$56,Statistiques!A44,'Concert 4'!$J$9:$J$56)+SUMIF('Concert 5'!$E$9:$E$56,Statistiques!A44,'Concert 5'!$J$9:$J$56)","v":0},null,null,{"$f":"SUMIF('Concert 1'!$E$9:$E$56,Statistiques!A44,'Concert 1'!$I$9:$I$56)","v":0},{"$f":"SUMIF('Concert 1'!$E$9:$E$56,Statistiques!A44,'Concert 1'!$J$9:$J$56)","v":0},{"$f":"SUMIF('Concert 2'!$E$9:$E$56,Statistiques!A44,'Concert 2'!$I$9:$I$56)","v":0},{"$f":"SUMIF('Concert 2'!$E$9:$E$56,Statistiques!A44,'Concert 2'!$J$9:$J$56)","v":0},{"$f":"SUMIF('Concert 3'!$E$9:$E$56,Statistiques!A44,'Concert 3'!$I$9:$I$56)","v":0},{"$f":"SUMIF('Concert 3'!$E$9:$E$56,Statistiques!A44,'Concert 3'!$J$9:$J$56)","v":0},{"$f":"SUMIF('Concert 4'!$E$9:$E$56,Statistiques!A44,'Concert 4'!$I$9:$I$56)","v":0},{"$f":"SUMIF('Concert 4'!$E$9:$E$56,Statistiques!A44,'Concert 4'!$J$9:$J$56)","v":0},{"$f":"SUMIF('Concert 5'!$E$9:$E$56,Statistiques!A44,'Concert 5'!$I$9:$I$56)","v":0},{"$f":"SUMIF('Concert 5'!$E$9:$E$56,Statistiques!A44,'Concert 5'!$J$9:$J$56)","v":0}]
[{"$f":"Ecoles!A41","v":0},{"$f":"Ecoles!B41","v":0},{"$f":"Ecoles!C41","v":0},null,{"$f":"SUMIF('Concert 1'!$E$9:$E$56,Statistiques!A45,'Concert 1'!$I$9:$I$56)+SUMIF('Concert 2'!$E$9:$E$56,Statistiques!A45,'Concert 2'!$I$9:$I$56)+SUMIF('Concert 3'!$E$9:$E$56,Statistiques!A45,'Concert 3'!$I$9:$I$56)+SUMIF('Concert 4'!$E$9:$E$56,Statistiques!A45,'Concert 4'!$I$9:$I$56)+SUMIF('Concert 5'!$E$9:$E$56,Statistiques!A45,'Concert 5'!$I$9:$I$56)","v":0},{"$f":"SUMIF('Concert 1'!$E$9:$E$56,Statistiques!A45,'Concert 1'!$J$9:$J$56)+SUMIF('Concert 2'!$E$9:$E$56,Statistiques!A45,'Concert 2'!$J$9:$J$56)+SUMIF('Concert 3'!$E$9:$E$56,Statistiques!A45,'Concert 3'!$J$9:$J$56)+SUMIF('Concert 4'!$E$9:$E$56,Statistiques!A45,'Concert 4'!$J$9:$J$56)+SUMIF('Concert 5'!$E$9:$E$56,Statistiques!A45,'Concert 5'!$J$9:$J$56)","v":0},null,null,{"$f":"SUMIF('Concert 1'!$E$9:$E$56,Statistiques!A45,'Concert 1'!$I$9:$I$56)","v":0},{"$f":"SUMIF('Concert 1'!$E$9:$E$56,Statistiques!A45,'Concert 1'!$J$9:$J$56)","v":0},{"$f":"SUMIF('Concert 2'!$E$9:$E$56,Statistiques!A45,'Concert 2'!$I$9:$I$56)","v":0},{"$f":"SUMIF('Concert 2'!$E$9:$E$56,Statistiques!A45,'Concert 2'!$J$9:$J$56)","v":0},{"$f":"SUMIF('Concert 3'!$E$9:$E$56,Statistiques!A45,'Concert 3'!$I$9:$I$56)","v":0},{"$f":"SUMIF('Concert 3'!$E$9:$E$56,Statistiques!A45,'Concert 3'!$J$9:$J$56)","v":0},{"$f":"SUMIF('Concert 4'!$E$9:$E$56,Statistiques!A45,'Concert 4'!$I$9:$I$56)","v":0},{"$f":"SUMIF('Concert 4'!$E$9:$E$56,Statistiques!A45,'Concert 4'!$J$9:$J$56)","v":0},{"$f":"SUMIF('Concert 5'!$E$9:$E$56,Statistiques!A45,'Concert 5'!$I$9:$I$56)","v":0},{"$f":"SUMIF('Concert 5'!$E$9:$E$56,Statistiques!A45,'Concert 5'!$J$9:$J$56)","v":0}]
[{"$f":"Ecoles!A42","v":0},{"$f":"Ecoles!B42","v":0},{"$f":"Ecoles!C42","v":0},null,{"$f":"SUMIF('Concert 1'!$E$9:$E$56,Statistiques!A46,'Concert 1'!$I$9:$I$56)+SUMIF('Concert 2'!$E$9:$E$56,Statistiques!A46,'Concert 2'!$I$9:$I$56)+SUMIF('Concert 3'!$E$9:$E$56,Statistiques!A46,'Concert 3'!$I$9:$I$56)+SUMIF('Concert 4'!$E$9:$E$56,Statistiques!A46,'Concert 4'!$I$9:$I$56)+SUMIF('Concert 5'!$E$9:$E$56,Statistiques!A46,'Concert 5'!$I$9:$I$56)","v":0},{"$f":"SUMIF('Concert 1'!$E$9:$E$56,Statistiques!A46,'Concert 1'!$J$9:$J$56)+SUMIF('Concert 2'!$E$9:$E$56,Statistiques!A46,'Concert 2'!$J$9:$J$56)+SUMIF('Concert 3'!$E$9:$E$56,Statistiques!A46,'Concert 3'!$J$9:$J$56)+SUMIF('Concert 4'!$E$9:$E$56,Statistiques!A46,'Concert 4'!$J$9:$J$56)+SUMIF('Concert 5'!$E$9:$E$56,Statistiques!A46,'Concert 5'!$J$9:$J$56)","v":0},null,null,{"$f":"SUMIF('Concert 1'!$E$9:$E$56,Statistiques!A46,'Concert 1'!$I$9:$I$56)","v":0},{"$f":"SUMIF('Concert 1'!$E$9:$E$56,Statistiques!A46,'Concert 1'!$J$9:$J$56)","v":0},{"$f":"SUMIF('Concert 2'!$E$9:$E$56,Statistiques!A46,'Concert 2'!$I$9:$I$56)","v":0},{"$f":"SUMIF('Concert 2'!$E$9:$E$56,Statistiques!A46,'Concert 2'!$J$9:$J$56)","v":0},{"$f":"SUMIF('Concert 3'!$E$9:$E$56,Statistiques!A46,'Concert 3'!$I$9:$I$56)","v":0},{"$f":"SUMIF('Concert 3'!$E$9:$E$56,Statistiques!A46,'Concert 3'!$J$9:$J$56)","v":0},{"$f":"SUMIF('Concert 4'!$E$9:$E$56,Statistiques!A46,'Concert 4'!$I$9:$I$56)","v":0},{"$f":"SUMIF('Concert 4'!$E$9:$E$56,Statistiques!A46,'Concert 4'!$J$9:$J$56)","v":0},{"$f":"SUMIF('Concert 5'!$E$9:$E$56,Statistiques!A46,'Concert 5'!$I$9:$I$56)","v":0},{"$f":"SUMIF('Concert 5'!$E$9:$E$56,Statistiques!A46,'Concert 5'!$J$9:$J$56)","v":0}]
[{"$f":"Ecoles!A43","v":0},{"$f":"Ecoles!B43","v":0},{"$f":"Ecoles!C43","v":0},null,{"$f":"SUMIF('Concert 1'!$E$9:$E$56,Statistiques!A47,'Concert 1'!$I$9:$I$56)+SUMIF('Concert 2'!$E$9:$E$56,Statistiques!A47,'Concert 2'!$I$9:$I$56)+SUMIF('Concert 3'!$E$9:$E$56,Statistiques!A47,'Concert 3'!$I$9:$I$56)+SUMIF('Concert 4'!$E$9:$E$56,Statistiques!A47,'Concert 4'!$I$9:$I$56)+SUMIF('Concert 5'!$E$9:$E$56,Statistiques!A47,'Concert 5'!$I$9:$I$56)","v":0},{"$f":"SUMIF('Concert 1'!$E$9:$E$56,Statistiques!A47,'Concert 1'!$J$9:$J$56)+SUMIF('Concert 2'!$E$9:$E$56,Statistiques!A47,'Concert 2'!$J$9:$J$56)+SUMIF('Concert 3'!$E$9:$E$56,Statistiques!A47,'Concert 3'!$J$9:$J$56)+SUMIF('Concert 4'!$E$9:$E$56,Statistiques!A47,'Concert 4'!$J$9:$J$56)+SUMIF('Concert 5'!$E$9:$E$56,Statistiques!A47,'Concert 5'!$J$9:$J$56)","v":0},null,null,{"$f":"SUMIF('Concert 1'!$E$9:$E$56,Statistiques!A47,'Concert 1'!$I$9:$I$56)","v":0},{"$f":"SUMIF('Concert 1'!$E$9:$E$56,Statistiques!A47,'Concert 1'!$J$9:$J$56)","v":0},{"$f":"SUMIF('Concert 2'!$E$9:$E$56,Statistiques!A47,'Concert 2'!$I$9:$I$56)","v":0},{"$f":"SUMIF('Concert 2'!$E$9:$E$56,Statistiques!A47,'Concert 2'!$J$9:$J$56)","v":0},{"$f":"SUMIF('Concert 3'!$E$9:$E$56,Statistiques!A47,'Concert 3'!$I$9:$I$56)","v":0},{"$f":"SUMIF('Concert 3'!$E$9:$E$56,Statistiques!A47,'Concert 3'!$J$9:$J$56)","v":0},{"$f":"SUMIF('Concert 4'!$E$9:$E$56,Statistiques!A47,'Concert 4'!$I$9:$I$56)","v":0},{"$f":"SUMIF('Concert 4'!$E$9:$E$56,Statistiques!A47,'Concert 4'!$J$9:$J$56)","v":0},{"$f":"SUMIF('Concert 5'!$E$9:$E$56,Statistiques!A47,'Concert 5'!$I$9:$I$56)","v":0},{"$f":"SUMIF('Concert 5'!$E$9:$E$56,Statistiques!A47,'Concert 5'!$J$9:$J$56)","v":0}]
[{"$f":"Ecoles!A44","v":0},{"$f":"Ecoles!B44","v":0},{"$f":"Ecoles!C44","v":0},null,{"$f":"SUMIF('Concert 1'!$E$9:$E$56,Statistiques!A48,'Concert 1'!$I$9:$I$56)+SUMIF('Concert 2'!$E$9:$E$56,Statistiques!A48,'Concert 2'!$I$9:$I$56)+SUMIF('Concert 3'!$E$9:$E$56,Statistiques!A48,'Concert 3'!$I$9:$I$56)+SUMIF('Concert 4'!$E$9:$E$56,Statistiques!A48,'Concert 4'!$I$9:$I$56)+SUMIF('Concert 5'!$E$9:$E$56,Statistiques!A48,'Concert 5'!$I$9:$I$56)","v":0},{"$f":"SUMIF('Concert 1'!$E$9:$E$56,Statistiques!A48,'Concert 1'!$J$9:$J$56)+SUMIF('Concert 2'!$E$9:$E$56,Statistiques!A48,'Concert 2'!$J$9:$J$56)+SUMIF('Concert 3'!$E$9:$E$56,Statistiques!A48,'Concert 3'!$J$9:$J$56)+SUMIF('Concert 4'!$E$9:$E$56,Statistiques!A48,'Concert 4'!$J$9:$J$56)+SUMIF('Concert 5'!$E$9:$E$56,Statistiques!A48,'Concert 5'!$J$9:$J$56)","v":0},null,null,{"$f":"SUMIF('Concert 1'!$E$9:$E$56,Statistiques!A48,'Concert 1'!$I$9:$I$56)","v":0},{"$f":"SUMIF('Concert 1'!$E$9:$E$56,Statistiques!A48,'Concert 1'!$J$9:$J$56)","v":0},{"$f":"SUMIF('Concert 2'!$E$9:$E$56,Statistiques!A48,'Concert 2'!$I$9:$I$56)","v":0},{"$f":"SUMIF('Concert 2'!$E$9:$E$56,Statistiques!A48,'Concert 2'!$J$9:$J$56)","v":0},{"$f":"SUMIF('Concert 3'!$E$9:$E$56,Statistiques!A48,'Concert 3'!$I$9:$I$56)","v":0},{"$f":"SUMIF('Concert 3'!$E$9:$E$56,Statistiques!A48,'Concert 3'!$J$9:$J$56)","v":0},{"$f":"SUMIF('Concert 4'!$E$9:$E$56,Statistiques!A48,'Concert 4'!$I$9:$I$56)","v":0},{"$f":"SUMIF('Concert 4'!$E$9:$E$56,Statistiques!A48,'Concert 4'!$J$9:$J$56)","v":0},{"$f":"SUMIF('Concert 5'!$E$9:$E$56,Statistiques!A48,'Concert 5'!$I$9:$I$56)","v":0},{"$f":"SUMIF('Concert 5'!$E$9:$E$56,Statistiques!A48,'Concert 5'!$J$9:$J$56)","v":0}]
[{"$f":"Ecoles!A45","v":0},{"$f":"Ecoles!B45","v":0},{"$f":"Ecoles!C45","v":0},null,{"$f":"SUMIF('Concert 1'!$E$9:$E$56,Statistiques!A49,'Concert 1'!$I$9:$I$56)+SUMIF('Concert 2'!$E$9:$E$56,Statistiques!A49,'Concert 2'!$I$9:$I$56)+SUMIF('Concert 3'!$E$9:$E$56,Statistiques!A49,'Concert 3'!$I$9:$I$56)+SUMIF('Concert 4'!$E$9:$E$56,Statistiques!A49,'Concert 4'!$I$9:$I$56)+SUMIF('Concert 5'!$E$9:$E$56,Statistiques!A49,'Concert 5'!$I$9:$I$56)","v":0},{"$f":"SUMIF('Concert 1'!$E$9:$E$56,Statistiques!A49,'Concert 1'!$J$9:$J$56)+SUMIF('Concert 2'!$E$9:$E$56,Statistiques!A49,'Concert 2'!$J$9:$J$56)+SUMIF('Concert 3'!$E$9:$E$56,Statistiques!A49,'Concert 3'!$J$9:$J$56)+SUMIF('Concert 4'!$E$9:$E$56,Statistiques!A49,'Concert 4'!$J$9:$J$56)+SUMIF('Concert 5'!$E$9:$E$56,Statistiques!A49,'Concert 5'!$J$9:$J$56)","v":0},null,null,{"$f":"SUMIF('Concert 1'!$E$9:$E$56,Statistiques!A49,'Concert 1'!$I$9:$I$56)","v":0},{"$f":"SUMIF('Concert 1'!$E$9:$E$56,Statistiques!A49,'Concert 1'!$J$9:$J$56)","v":0},{"$f":"SUMIF('Concert 2'!$E$9:$E$56,Statistiques!A49,'Concert 2'!$I$9:$I$56)","v":0},{"$f":"SUMIF('Concert 2'!$E$9:$E$56,Statistiques!A49,'Concert 2'!$J$9:$J$56)","v":0},{"$f":"SUMIF('Concert 3'!$E$9:$E$56,Statistiques!A49,'Concert 3'!$I$9:$I$56)","v":0},{"$f":"SUMIF('Concert 3'!$E$9:$E$56,Statistiques!A49,'Concert 3'!$J$9:$J$56)","v":0},{"$f":"SUMIF('Concert 4'!$E$9:$E$56,Statistiques!A49,'Concert 4'!$I$9:$I$56)","v":0},{"$f":"SUMIF('Concert 4'!$E$9:$E$56,Statistiques!A49,'Concert 4'!$J$9:$J$56)","v":0},{"$f":"SUMIF('Concert 5'!$E$9:$E$56,Statistiques!A49,'Concert 5'!$I$9:$I$56)","v":0},{"$f":"SUMIF('Concert 5'!$E$9:$E$56,Statistiques!A49,'Concert 5'!$J$9:$J$56)","v":0}]
[{"$f":"Ecoles!A46","v":0},{"$f":"Ecoles!B46","v":0},{"$f":"Ecoles!C46","v":0},null,{"$f":"SUMIF('Concert 1'!$E$9:$E$56,Statistiques!A50,'Concert 1'!$I$9:$I$56)+SUMIF('Concert 2'!$E$9:$E$56,Statistiques!A50,'Concert 2'!$I$9:$I$56)+SUMIF('Concert 3'!$E$9:$E$56,Statistiques!A50,'Concert 3'!$I$9:$I$56)+SUMIF('Concert 4'!$E$9:$E$56,Statistiques!A50,'Concert 4'!$I$9:$I$56)+SUMIF('Concert 5'!$E$9:$E$56,Statistiques!A50,'Concert 5'!$I$9:$I$56)","v":0},{"$f":"SUMIF('Concert 1'!$E$9:$E$56,Statistiques!A50,'Concert 1'!$J$9:$J$56)+SUMIF('Concert 2'!$E$9:$E$56,Statistiques!A50,'Concert 2'!$J$9:$J$56)+SUMIF('Concert 3'!$E$9:$E$56,Statistiques!A50,'Concert 3'!$J$9:$J$56)+SUMIF('Concert 4'!$E$9:$E$56,Statistiques!A50,'Concert 4'!$J$9:$J$56)+SUMIF('Concert 5'!$E$9:$E$56,Statistiques!A50,'Concert 5'!$J$9:$J$56)","v":0},null,null,{"$f":"SUMIF('Concert 1'!$E$9:$E$56,Statistiques!A50,'Concert 1'!$I$9:$I$56)","v":0},{"$f":"SUMIF('Concert 1'!$E$9:$E$56,Statistiques!A50,'Concert 1'!$J$9:$J$56)","v":0},{"$f":"SUMIF('Concert 2'!$E$9:$E$56,Statistiques!A50,'Concert 2'!$I$9:$I$56)","v":0},{"$f":"SUMIF('Concert 2'!$E$9:$E$56,Statistiques!A50,'Concert 2'!$J$9:$J$56)","v":0},{"$f":"SUMIF('Concert 3'!$E$9:$E$56,Statistiques!A50,'Concert 3'!$I$9:$I$56)","v":0},{"$f":"SUMIF('Concert 3'!$E$9:$E$56,Statistiques!A50,'Concert 3'!$J$9:$J$56)","v":0},{"$f":"SUMIF('Concert 4'!$E$9:$E$56,Statistiques!A50,'Concert 4'!$I$9:$I$56)","v":0},{"$f":"SUMIF('Concert 4'!$E$9:$E$56,Statistiques!A50,'Concert 4'!$J$9:$J$56)","v":0},{"$f":"SUMIF('Concert 5'!$E$9:$E$56,Statistiques!A50,'Concert 5'!$I$9:$I$56)","v":0},{"$f":"SUMIF('Concert 5'!$E$9:$E$56,Statistiques!A50,'Concert 5'!$J$9:$J$56)","v":0}]
[{"$f":"Ecoles!A47","v":0},{"$f":"Ecoles!B47","v":0},{"$f":"Ecoles!C47","v":0},null,{"$f":"SUMIF('Concert 1'!$E$9:$E$56,Statistiques!A51,'Concert 1'!$I$9:$I$56)+SUMIF('Concert 2'!$E$9:$E$56,Statistiques!A51,'Concert 2'!$I$9:$I$56)+SUMIF('Concert 3'!$E$9:$E$56,Statistiques!A51,'Concert 3'!$I$9:$I$56)+SUMIF('Concert 4'!$E$9:$E$56,Statistiques!A51,'Concert 4'!$I$9:$I$56)+SUMIF('Concert 5'!$E$9:$E$56,Statistiques!A51,'Concert 5'!$I$9:$I$56)","v":0},{"$f":"SUMIF('Concert 1'!$E$9:$E$56,Statistiques!A51,'Concert 1'!$J$9:$J$56)+SUMIF('Concert 2'!$E$9:$E$56,Statistiques!A51,'Concert 2'!$J$9:$J$56)+SUMIF('Concert 3'!$E$9:$E$56,Statistiques!A51,'Concert 3'!$J$9:$J$56)+SUMIF('Concert 4'!$E$9:$E$56,Statistiques!A51,'Concert 4'!$J$9:$J$56)+SUMIF('Concert 5'!$E$9:$E$56,Statistiques!A51,'Concert 5'!$J$9:$J$56)","v":0},null,null,{"$f":"SUMIF('Concert 1'!$E$9:$E$56,Statistiques!A51,'Concert 1'!$I$9:$I$56)","v":0},{"$f":"SUMIF('Concert 1'!$E$9:$E$56,Statistiques!A51,'Concert 1'!$J$9:$J$56)","v":0},{"$f":"SUMIF('Concert 2'!$E$9:$E$56,Statistiques!A51,'Concert 2'!$I$9:$I$56)","v":0},{"$f":"SUMIF('Concert 2'!$E$9:$E$56,Statistiques!A51,'Concert 2'!$J$9:$J$56)","v":0},{"$f":"SUMIF('Concert 3'!$E$9:$E$56,Statistiques!A51,'Concert 3'!$I$9:$I$56)","v":0},{"$f":"SUMIF('Concert 3'!$E$9:$E$56,Statistiques!A51,'Concert 3'!$J$9:$J$56)","v":0},{"$f":"SUMIF('Concert 4'!$E$9:$E$56,Statistiques!A51,'Concert 4'!$I$9:$I$56)","v":0},{"$f":"SUMIF('Concert 4'!$E$9:$E$56,Statistiques!A51,'Concert 4'!$J$9:$J$56)","v":0},{"$f":"SUMIF('Concert 5'!$E$9:$E$56,Statistiques!A51,'Concert 5'!$I$9:$I$56)","v":0},{"$f":"SUMIF('Concert 5'!$E$9:$E$56,Statistiques!A51,'Concert 5'!$J$9:$J$56)","v":0}]
[{"$f":"Ecoles!A48","v":0},{"$f":"Ecoles!B48","v":0},{"$f":"Ecoles!C48","v":0},null,{"$f":"SUMIF('Concert 1'!$E$9:$E$56,Statistiques!A52,'Concert 1'!$I$9:$I$56)+SUMIF('Concert 2'!$E$9:$E$56,Statistiques!A52,'Concert 2'!$I$9:$I$56)+SUMIF('Concert 3'!$E$9:$E$56,Statistiques!A52,'Concert 3'!$I$9:$I$56)+SUMIF('Concert 4'!$E$9:$E$56,Statistiques!A52,'Concert 4'!$I$9:$I$56)+SUMIF('Concert 5'!$E$9:$E$56,Statistiques!A52,'Concert 5'!$I$9:$I$56)","v":0},{"$f":"SUMIF('Concert 1'!$E$9:$E$56,Statistiques!A52,'Concert 1'!$J$9:$J$56)+SUMIF('Concert 2'!$E$9:$E$56,Statistiques!A52,'Concert 2'!$J$9:$J$56)+SUMIF('Concert 3'!$E$9:$E$56,Statistiques!A52,'Concert 3'!$J$9:$J$56)+SUMIF('Concert 4'!$E$9:$E$56,Statistiques!A52,'Concert 4'!$J$9:$J$56)+SUMIF('Concert 5'!$E$9:$E$56,Statistiques!A52,'Concert 5'!$J$9:$J$56)","v":0},null,null,{"$f":"SUMIF('Concert 1'!$E$9:$E$56,Statistiques!A52,'Concert 1'!$I$9:$I$56)","v":0},{"$f":"SUMIF('Concert 1'!$E$9:$E$56,Statistiques!A52,'Concert 1'!$J$9:$J$56)","v":0},{"$f":"SUMIF('Concert 2'!$E$9:$E$56,Statistiques!A52,'Concert 2'!$I$9:$I$56)","v":0},{"$f":"SUMIF('Concert 2'!$E$9:$E$56,Statistiques!A52,'Concert 2'!$J$9:$J$56)","v":0},{"$f":"SUMIF('Concert 3'!$E$9:$E$56,Statistiques!A52,'Concert 3'!$I$9:$I$56)","v":0},{"$f":"SUMIF('Concert 3'!$E$9:$E$56,Statistiques!A52,'Concert 3'!$J$9:$J$56)","v":0},{"$f":"SUMIF('Concert 4'!$E$9:$E$56,Statistiques!A52,'Concert 4'!$I$9:$I$56)","v":0},{"$f":"SUMIF('Concert 4'!$E$9:$E$56,Statistiques!A52,'Concert 4'!$J$9:$J$56)","v":0},{"$f":"SUMIF('Concert 5'!$E$9:$E$56,Statistiques!A52,'Concert 5'!$I$9:$I$56)","v":0},{"$f":"SUMIF('Concert 5'!$E$9:$E$56,Statistiques!A52,'Concert 5'!$J$9:$J$56)","v":0}]
[{"$f":"Ecoles!A49","v":0},{"$f":"Ecoles!B49","v":0},{"$f":"Ecoles!C49","v":0},null,{"$f":"SUMIF('Concert 1'!$E$9:$E$56,Statistiques!A53,'Concert 1'!$I$9:$I$56)+SUMIF('Concert 2'!$E$9:$E$56,Statistiques!A53,'Concert 2'!$I$9:$I$56)+SUMIF('Concert 3'!$E$9:$E$56,Statistiques!A53,'Concert 3'!$I$9:$I$56)+SUMIF('Concert 4'!$E$9:$E$56,Statistiques!A53,'Concert 4'!$I$9:$I$56)+SUMIF('Concert 5'!$E$9:$E$56,Statistiques!A53,'Concert 5'!$I$9:$I$56)","v":0},{"$f":"SUMIF('Concert 1'!$E$9:$E$56,Statistiques!A53,'Concert 1'!$J$9:$J$56)+SUMIF('Concert 2'!$E$9:$E$56,Statistiques!A53,'Concert 2'!$J$9:$J$56)+SUMIF('Concert 3'!$E$9:$E$56,Statistiques!A53,'Concert 3'!$J$9:$J$56)+SUMIF('Concert 4'!$E$9:$E$56,Statistiques!A53,'Concert 4'!$J$9:$J$56)+SUMIF('Concert 5'!$E$9:$E$56,Statistiques!A53,'Concert 5'!$J$9:$J$56)","v":0},null,null,{"$f":"SUMIF('Concert 1'!$E$9:$E$56,Statistiques!A53,'Concert 1'!$I$9:$I$56)","v":0},{"$f":"SUMIF('Concert 1'!$E$9:$E$56,Statistiques!A53,'Concert 1'!$J$9:$J$56)","v":0},{"$f":"SUMIF('Concert 2'!$E$9:$E$56,Statistiques!A53,'Concert 2'!$I$9:$I$56)","v":0},{"$f":"SUMIF('Concert 2'!$E$9:$E$56,Statistiques!A53,'Concert 2'!$J$9:$J$56)","v":0},{"$f":"SUMIF('Concert 3'!$E$9:$E$56,Statistiques!A53,'Concert 3'!$I$9:$I$56)","v":0},{"$f":"SUMIF('Concert 3'!$E$9:$E$56,Statistiques!A53,'Concert 3'!$J$9:$J$56)","v":0},{"$f":"SUMIF('Concert 4'!$E$9:$E$56,Statistiques!A53,'Concert 4'!$I$9:$I$56)","v":0},{"$f":"SUMIF('Concert 4'!$E$9:$E$56,Statistiques!A53,'Concert 4'!$J$9:$J$56)","v":0},{"$f":"SUMIF('Concert 5'!$E$9:$E$56,Statistiques!A53,'Concert 5'!$I$9:$I$56)","v":0},{"$f":"SUMIF('Concert 5'!$E$9:$E$56,Statistiques!A53,'Concert 5'!$J$9:$J$56)","v":0}]
[{"$f":"Ecoles!A50","v":0},{"$f":"Ecoles!B50","v":0},{"$f":"Ecoles!C50","v":0},null,{"$f":"SUMIF('Concert 1'!$E$9:$E$56,Statistiques!A54,'Concert 1'!$I$9:$I$56)+SUMIF('Concert 2'!$E$9:$E$56,Statistiques!A54,'Concert 2'!$I$9:$I$56)+SUMIF('Concert 3'!$E$9:$E$56,Statistiques!A54,'Concert 3'!$I$9:$I$56)+SUMIF('Concert 4'!$E$9:$E$56,Statistiques!A54,'Concert 4'!$I$9:$I$56)+SUMIF('Concert 5'!$E$9:$E$56,Statistiques!A54,'Concert 5'!$I$9:$I$56)","v":0},{"$f":"SUMIF('Concert 1'!$E$9:$E$56,Statistiques!A54,'Concert 1'!$J$9:$J$56)+SUMIF('Concert 2'!$E$9:$E$56,Statistiques!A54,'Concert 2'!$J$9:$J$56)+SUMIF('Concert 3'!$E$9:$E$56,Statistiques!A54,'Concert 3'!$J$9:$J$56)+SUMIF('Concert 4'!$E$9:$E$56,Statistiques!A54,'Concert 4'!$J$9:$J$56)+SUMIF('Concert 5'!$E$9:$E$56,Statistiques!A54,'Concert 5'!$J$9:$J$56)","v":0},null,null,{"$f":"SUMIF('Concert 1'!$E$9:$E$56,Statistiques!A54,'Concert 1'!$I$9:$I$56)","v":0},{"$f":"SUMIF('Concert 1'!$E$9:$E$56,Statistiques!A54,'Concert 1'!$J$9:$J$56)","v":0},{"$f":"SUMIF('Concert 2'!$E$9:$E$56,Statistiques!A54,'Concert 2'!$I$9:$I$56)","v":0},{"$f":"SUMIF('Concert 2'!$E$9:$E$56,Statistiques!A54,'Concert 2'!$J$9:$J$56)","v":0},{"$f":"SUMIF('Concert 3'!$E$9:$E$56,Statistiques!A54,'Concert 3'!$I$9:$I$56)","v":0},{"$f":"SUMIF('Concert 3'!$E$9:$E$56,Statistiques!A54,'Concert 3'!$J$9:$J$56)","v":0},{"$f":"SUMIF('Concert 4'!$E$9:$E$56,Statistiques!A54,'Concert 4'!$I$9:$I$56)","v":0},{"$f":"SUMIF('Concert 4'!$E$9:$E$56,Statistiques!A54,'Concert 4'!$J$9:$J$56)","v":0},{"$f":"SUMIF('Concert 5'!$E$9:$E$56,Statistiques!A54,'Concert 5'!$I$9:$I$56)","v":0},{"$f":"SUMIF('Concert 5'!$E$9:$E$56,Statistiques!A54,'Concert 5'!$J$9:$J$56)","v":0}]
[{"$f":"Ecoles!A51","v":0},{"$f":"Ecoles!B51","v":0},{"$f":"Ecoles!C51","v":0},null,{"$f":"SUMIF('Concert 1'!$E$9:$E$56,Statistiques!A55,'Concert 1'!$I$9:$I$56)+SUMIF('Concert 2'!$E$9:$E$56,Statistiques!A55,'Concert 2'!$I$9:$I$56)+SUMIF('Concert 3'!$E$9:$E$56,Statistiques!A55,'Concert 3'!$I$9:$I$56)+SUMIF('Concert 4'!$E$9:$E$56,Statistiques!A55,'Concert 4'!$I$9:$I$56)+SUMIF('Concert 5'!$E$9:$E$56,Statistiques!A55,'Concert 5'!$I$9:$I$56)","v":0},{"$f":"SUMIF('Concert 1'!$E$9:$E$56,Statistiques!A55,'Concert 1'!$J$9:$J$56)+SUMIF('Concert 2'!$E$9:$E$56,Statistiques!A55,'Concert 2'!$J$9:$J$56)+SUMIF('Concert 3'!$E$9:$E$56,Statistiques!A55,'Concert 3'!$J$9:$J$56)+SUMIF('Concert 4'!$E$9:$E$56,Statistiques!A55,'Concert 4'!$J$9:$J$56)+SUMIF('Concert 5'!$E$9:$E$56,Statistiques!A55,'Concert 5'!$J$9:$J$56)","v":0},null,null,{"$f":"SUMIF('Concert 1'!$E$9:$E$56,Statistiques!A55,'Concert 1'!$I$9:$I$56)","v":0},{"$f":"SUMIF('Concert 1'!$E$9:$E$56,Statistiques!A55,'Concert 1'!$J$9:$J$56)","v":0},{"$f":"SUMIF('Concert 2'!$E$9:$E$56,Statistiques!A55,'Concert 2'!$I$9:$I$56)","v":0},{"$f":"SUMIF('Concert 2'!$E$9:$E$56,Statistiques!A55,'Concert 2'!$J$9:$J$56)","v":0},{"$f":"SUMIF('Concert 3'!$E$9:$E$56,Statistiques!A55,'Concert 3'!$I$9:$I$56)","v":0},{"$f":"SUMIF('Concert 3'!$E$9:$E$56,Statistiques!A55,'Concert 3'!$J$9:$J$56)","v":0},{"$f":"SUMIF('Concert 4'!$E$9:$E$56,Statistiques!A55,'Concert 4'!$I$9:$I$56)","v":0},{"$f":"SUMIF('Concert 4'!$E$9:$E$56,Statistiques!A55,'Concert 4'!$J$9:$J$56)","v":0},{"$f":"SUMIF('Concert 5'!$E$9:$E$56,Statistiques!A55,'Concert 5'!$I$9:$I$56)","v":0},{"$f":"SUMIF('Concert 5'!$E$9:$E$56,Statistiques!A55,'Concert 5'!$J$9:$J$56)","v":0}]
[{"$f":"Ecoles!A52","v":0},{"$f":"Ecoles!B52","v":0},{"$f":"Ecoles!C52","v":0},null,{"$f":"SUMIF('Concert 1'!$E$9:$E$56,Statistiques!A56,'Concert 1'!$I$9:$I$56)+SUMIF('Concert 2'!$E$9:$E$56,Statistiques!A56,'Concert 2'!$I$9:$I$56)+SUMIF('Concert 3'!$E$9:$E$56,Statistiques!A56,'Concert 3'!$I$9:$I$56)+SUMIF('Concert 4'!$E$9:$E$56,Statistiques!A56,'Concert 4'!$I$9:$I$56)+SUMIF('Concert 5'!$E$9:$E$56,Statistiques!A56,'Concert 5'!$I$9:$I$56)","v":0},{"$f":"SUMIF('Concert 1'!$E$9:$E$56,Statistiques!A56,'Concert 1'!$J$9:$J$56)+SUMIF('Concert 2'!$E$9:$E$56,Statistiques!A56,'Concert 2'!$J$9:$J$56)+SUMIF('Concert 3'!$E$9:$E$56,Statistiques!A56,'Concert 3'!$J$9:$J$56)+SUMIF('Concert 4'!$E$9:$E$56,Statistiques!A56,'Concert 4'!$J$9:$J$56)+SUMIF('Concert 5'!$E$9:$E$56,Statistiques!A56,'Concert 5'!$J$9:$J$56)","v":0},null,null,{"$f":"SUMIF('Concert 1'!$E$9:$E$56,Statistiques!A56,'Concert 1'!$I$9:$I$56)","v":0},{"$f":"SUMIF('Concert 1'!$E$9:$E$56,Statistiques!A56,'Concert 1'!$J$9:$J$56)","v":0},{"$f":"SUMIF('Concert 2'!$E$9:$E$56,Statistiques!A56,'Concert 2'!$I$9:$I$56)","v":0},{"$f":"SUMIF('Concert 2'!$E$9:$E$56,Statistiques!A56,'Concert 2'!$J$9:$J$56)","v":0},{"$f":"SUMIF('Concert 3'!$E$9:$E$56,Statistiques!A56,'Concert 3'!$I$9:$I$56)","v":0},{"$f":"SUMIF('Concert 3'!$E$9:$E$56,Statistiques!A56,'Concert 3'!$J$9:$J$56)","v":0},{"$f":"SUMIF('Concert 4'!$E$9:$E$56,Statistiques!A56,'Concert 4'!$I$9:$I$56)","v":0},{"$f":"SUMIF('Concert 4'!$E$9:$E$56,Statistiques!A56,'Concert 4'!$J$9:$J$56)","v":0},{"$f":"SUMIF('Concert 5'!$E$9:$E$56,Statistiques!A56,'Concert 5'!$I$9:$I$56)","v":0},{"$f":"SUMIF('Concert 5'!$E$9:$E$56,Statistiques!A56,'Concert 5'!$J$9:$J$56)","v":0}]
[{"$f":"Ecoles!A53","v":0},{"$f":"Ecoles!B53","v":0},{"$f":"Ecoles!C53","v":0},null,{"$f":"SUMIF('Concert 1'!$E$9:$E$56,Statistiques!A57,'Concert 1'!$I$9:$I$56)+SUMIF('Concert 2'!$E$9:$E$56,Statistiques!A57,'Concert 2'!$I$9:$I$56)+SUMIF('Concert 3'!$E$9:$E$56,Statistiques!A57,'Concert 3'!$I$9:$I$56)+SUMIF('Concert 4'!$E$9:$E$56,Statistiques!A57,'Concert 4'!$I$9:$I$56)+SUMIF('Concert 5'!$E$9:$E$56,Statistiques!A57,'Concert 5'!$I$9:$I$56)","v":0},{"$f":"SUMIF('Concert 1'!$E$9:$E$56,Statistiques!A57,'Concert 1'!$J$9:$J$56)+SUMIF('Concert 2'!$E$9:$E$56,Statistiques!A57,'Concert 2'!$J$9:$J$56)+SUMIF('Concert 3'!$E$9:$E$56,Statistiques!A57,'Concert 3'!$J$9:$J$56)+SUMIF('Concert 4'!$E$9:$E$56,Statistiques!A57,'Concert 4'!$J$9:$J$56)+SUMIF('Concert 5'!$E$9:$E$56,Statistiques!A57,'Concert 5'!$J$9:$J$56)","v":0},null,null,{"$f":"SUMIF('Concert 1'!$E$9:$E$56,Statistiques!A57,'Concert 1'!$I$9:$I$56)","v":0},{"$f":"SUMIF('Concert 1'!$E$9:$E$56,Statistiques!A57,'Concert 1'!$J$9:$J$56)","v":0},{"$f":"SUMIF('Concert 2'!$E$9:$E$56,Statistiques!A57,'Concert 2'!$I$9:$I$56)","v":0},{"$f":"SUMIF('Concert 2'!$E$9:$E$56,Statistiques!A57,'Concert 2'!$J$9:$J$56)","v":0},{"$f":"SUMIF('Concert 3'!$E$9:$E$56,Statistiques!A57,'Concert 3'!$I$9:$I$56)","v":0},{"$f":"SUMIF('Concert 3'!$E$9:$E$56,Statistiques!A57,'Concert 3'!$J$9:$J$56)","v":0},{"$f":"SUMIF('Concert 4'!$E$9:$E$56,Statistiques!A57,'Concert 4'!$I$9:$I$56)","v":0},{"$f":"SUMIF('Concert 4'!$E$9:$E$56,Statistiques!A57,'Concert 4'!$J$9:$J$56)","v":0},{"$f":"SUMIF('Concert 5'!$E$9:$E$56,Statistiques!A57,'Concert 5'!$I$9:$I$56)","v":0},{"$f":"SUMIF('Concert 5'!$E$9:$E$56,Statistiques!A57,'Concert 5'!$J$9:$J$56)","v":0}]
[{"$f":"Ecoles!A54","v":0},{"$f":"Ecoles!B54","v":0},{"$f":"Ecoles!C54","v":0},null,{"$f":"SUMIF('Concert 1'!$E$9:$E$56,Statistiques!A58,'Concert 1'!$I$9:$I$56)+SUMIF('Concert 2'!$E$9:$E$56,Statistiques!A58,'Concert 2'!$I$9:$I$56)+SUMIF('Concert 3'!$E$9:$E$56,Statistiques!A58,'Concert 3'!$I$9:$I$56)+SUMIF('Concert 4'!$E$9:$E$56,Statistiques!A58,'Concert 4'!$I$9:$I$56)+SUMIF('Concert 5'!$E$9:$E$56,Statistiques!A58,'Concert 5'!$I$9:$I$56)","v":0},{"$f":"SUMIF('Concert 1'!$E$9:$E$56,Statistiques!A58,'Concert 1'!$J$9:$J$56)+SUMIF('Concert 2'!$E$9:$E$56,Statistiques!A58,'Concert 2'!$J$9:$J$56)+SUMIF('Concert 3'!$E$9:$E$56,Statistiques!A58,'Concert 3'!$J$9:$J$56)+SUMIF('Concert 4'!$E$9:$E$56,Statistiques!A58,'Concert 4'!$J$9:$J$56)+SUMIF('Concert 5'!$E$9:$E$56,Statistiques!A58,'Concert 5'!$J$9:$J$56)","v":0},null,null,{"$f":"SUMIF('Concert 1'!$E$9:$E$56,Statistiques!A58,'Concert 1'!$I$9:$I$56)","v":0},{"$f":"SUMIF('Concert 1'!$E$9:$E$56,Statistiques!A58,'Concert 1'!$J$9:$J$56)","v":0},{"$f":"SUMIF('Concert 2'!$E$9:$E$56,Statistiques!A58,'Concert 2'!$I$9:$I$56)","v":0},{"$f":"SUMIF('Concert 2'!$E$9:$E$56,Statistiques!A58,'Concert 2'!$J$9:$J$56)","v":0},{"$f":"SUMIF('Concert 3'!$E$9:$E$56,Statistiques!A58,'Concert 3'!$I$9:$I$56)","v":0},{"$f":"SUMIF('Concert 3'!$E$9:$E$56,Statistiques!A58,'Concert 3'!$J$9:$J$56)","v":0},{"$f":"SUMIF('Concert 4'!$E$9:$E$56,Statistiques!A58,'Concert 4'!$I$9:$I$56)","v":0},{"$f":"SUMIF('Concert 4'!$E$9:$E$56,Statistiques!A58,'Concert 4'!$J$9:$J$56)","v":0},{"$f":"SUMIF('Concert 5'!$E$9:$E$56,Statistiques!A58,'Concert 5'!$I$9:$I$56)","v":0},{"$f":"SUMIF('Concert 5'!$E$9:$E$56,Statistiques!A58,'Concert 5'!$J$9:$J$56)","v":0}]
[{"$f":"Ecoles!A55","v":0},{"$f":"Ecoles!B55","v":0},{"$f":"Ecoles!C55","v":0},null,{"$f":"SUMIF('Concert 1'!$E$9:$E$56,Statistiques!A59,'Concert 1'!$I$9:$I$56)+SUMIF('Concert 2'!$E$9:$E$56,Statistiques!A59,'Concert 2'!$I$9:$I$56)+SUMIF('Concert 3'!$E$9:$E$56,Statistiques!A59,'Concert 3'!$I$9:$I$56)+SUMIF('Concert 4'!$E$9:$E$56,Statistiques!A59,'Concert 4'!$I$9:$I$56)+SUMIF('Concert 5'!$E$9:$E$56,Statistiques!A59,'Concert 5'!$I$9:$I$56)","v":0},{"$f":"SUMIF('Concert 1'!$E$9:$E$56,Statistiques!A59,'Concert 1'!$J$9:$J$56)+SUMIF('Concert 2'!$E$9:$E$56,Statistiques!A59,'Concert 2'!$J$9:$J$56)+SUMIF('Concert 3'!$E$9:$E$56,Statistiques!A59,'Concert 3'!$J$9:$J$56)+SUMIF('Concert 4'!$E$9:$E$56,Statistiques!A59,'Concert 4'!$J$9:$J$56)+SUMIF('Concert 5'!$E$9:$E$56,Statistiques!A59,'Concert 5'!$J$9:$J$56)","v":0},null,null,{"$f":"SUMIF('Concert 1'!$E$9:$E$56,Statistiques!A59,'Concert 1'!$I$9:$I$56)","v":0},{"$f":"SUMIF('Concert 1'!$E$9:$E$56,Statistiques!A59,'Concert 1'!$J$9:$J$56)","v":0},{"$f":"SUMIF('Concert 2'!$E$9:$E$56,Statistiques!A59,'Concert 2'!$I$9:$I$56)","v":0},{"$f":"SUMIF('Concert 2'!$E$9:$E$56,Statistiques!A59,'Concert 2'!$J$9:$J$56)","v":0},{"$f":"SUMIF('Concert 3'!$E$9:$E$56,Statistiques!A59,'Concert 3'!$I$9:$I$56)","v":0},{"$f":"SUMIF('Concert 3'!$E$9:$E$56,Statistiques!A59,'Concert 3'!$J$9:$J$56)","v":0},{"$f":"SUMIF('Concert 4'!$E$9:$E$56,Statistiques!A59,'Concert 4'!$I$9:$I$56)","v":0},{"$f":"SUMIF('Concert 4'!$E$9:$E$56,Statistiques!A59,'Concert 4'!$J$9:$J$56)","v":0},{"$f":"SUMIF('Concert 5'!$E$9:$E$56,Statistiques!A59,'Concert 5'!$I$9:$I$56)","v":0},{"$f":"SUMIF('Concert 5'!$E$9:$E$56,Statistiques!A59,'Concert 5'!$J$9:$J$56)","v":0}]
[{"$f":"Ecoles!A56","v":0},{"$f":"Ecoles!B56","v":0},{"$f":"Ecoles!C56","v":0},null,{"$f":"SUMIF('Concert 1'!$E$9:$E$56,Statistiques!A60,'Concert 1'!$I$9:$I$56)+SUMIF('Concert 2'!$E$9:$E$56,Statistiques!A60,'Concert 2'!$I$9:$I$56)+SUMIF('Concert 3'!$E$9:$E$56,Statistiques!A60,'Concert 3'!$I$9:$I$56)+SUMIF('Concert 4'!$E$9:$E$56,Statistiques!A60,'Concert 4'!$I$9:$I$56)+SUMIF('Concert 5'!$E$9:$E$56,Statistiques!A60,'Concert 5'!$I$9:$I$56)","v":0},{"$f":"SUMIF('Concert 1'!$E$9:$E$56,Statistiques!A60,'Concert 1'!$J$9:$J$56)+SUMIF('Concert 2'!$E$9:$E$56,Statistiques!A60,'Concert 2'!$J$9:$J$56)+SUMIF('Concert 3'!$E$9:$E$56,Statistiques!A60,'Concert 3'!$J$9:$J$56)+SUMIF('Concert 4'!$E$9:$E$56,Statistiques!A60,'Concert 4'!$J$9:$J$56)+SUMIF('Concert 5'!$E$9:$E$56,Statistiques!A60,'Concert 5'!$J$9:$J$56)","v":0},null,null,{"$f":"SUMIF('Concert 1'!$E$9:$E$56,Statistiques!A60,'Concert 1'!$I$9:$I$56)","v":0},{"$f":"SUMIF('Concert 1'!$E$9:$E$56,Statistiques!A60,'Concert 1'!$J$9:$J$56)","v":0},{"$f":"SUMIF('Concert 2'!$E$9:$E$56,Statistiques!A60,'Concert 2'!$I$9:$I$56)","v":0},{"$f":"SUMIF('Concert 2'!$E$9:$E$56,Statistiques!A60,'Concert 2'!$J$9:$J$56)","v":0},{"$f":"SUMIF('Concert 3'!$E$9:$E$56,Statistiques!A60,'Concert 3'!$I$9:$I$56)","v":0},{"$f":"SUMIF('Concert 3'!$E$9:$E$56,Statistiques!A60,'Concert 3'!$J$9:$J$56)","v":0},{"$f":"SUMIF('Concert 4'!$E$9:$E$56,Statistiques!A60,'Concert 4'!$I$9:$I$56)","v":0},{"$f":"SUMIF('Concert 4'!$E$9:$E$56,Statistiques!A60,'Concert 4'!$J$9:$J$56)","v":0},{"$f":"SUMIF('Concert 5'!$E$9:$E$56,Statistiques!A60,'Concert 5'!$I$9:$I$56)","v":0},{"$f":"SUMIF('Concert 5'!$E$9:$E$56,Statistiques!A60,'Concert 5'!$J$9:$J$56)","v":0}]
[{"$f":"Ecoles!A57","v":0},{"$f":"Ecoles!B57","v":0},{"$f":"Ecoles!C57","v":0},null,{"$f":"SUMIF('Concert 1'!$E$9:$E$56,Statistiques!A61,'Concert 1'!$I$9:$I$56)+SUMIF('Concert 2'!$E$9:$E$56,Statistiques!A61,'Concert 2'!$I$9:$I$56)+SUMIF('Concert 3'!$E$9:$E$56,Statistiques!A61,'Concert 3'!$I$9:$I$56)+SUMIF('Concert 4'!$E$9:$E$56,Statistiques!A61,'Concert 4'!$I$9:$I$56)+SUMIF('Concert 5'!$E$9:$E$56,Statistiques!A61,'Concert 5'!$I$9:$I$56)","v":0},{"$f":"SUMIF('Concert 1'!$E$9:$E$56,Statistiques!A61,'Concert 1'!$J$9:$J$56)+SUMIF('Concert 2'!$E$9:$E$56,Statistiques!A61,'Concert 2'!$J$9:$J$56)+SUMIF('Concert 3'!$E$9:$E$56,Statistiques!A61,'Concert 3'!$J$9:$J$56)+SUMIF('Concert 4'!$E$9:$E$56,Statistiques!A61,'Concert 4'!$J$9:$J$56)+SUMIF('Concert 5'!$E$9:$E$56,Statistiques!A61,'Concert 5'!$J$9:$J$56)","v":0},null,null,{"$f":"SUMIF('Concert 1'!$E$9:$E$56,Statistiques!A61,'Concert 1'!$I$9:$I$56)","v":0},{"$f":"SUMIF('Concert 1'!$E$9:$E$56,Statistiques!A61,'Concert 1'!$J$9:$J$56)","v":0},{"$f":"SUMIF('Concert 2'!$E$9:$E$56,Statistiques!A61,'Concert 2'!$I$9:$I$56)","v":0},{"$f":"SUMIF('Concert 2'!$E$9:$E$56,Statistiques!A61,'Concert 2'!$J$9:$J$56)","v":0},{"$f":"SUMIF('Concert 3'!$E$9:$E$56,Statistiques!A61,'Concert 3'!$I$9:$I$56)","v":0},{"$f":"SUMIF('Concert 3'!$E$9:$E$56,Statistiques!A61,'Concert 3'!$J$9:$J$56)","v":0},{"$f":"SUMIF('Concert 4'!$E$9:$E$56,Statistiques!A61,'Concert 4'!$I$9:$I$56)","v":0},{"$f":"SUMIF('Concert 4'!$E$9:$E$56,Statistiques!A61,'Concert 4'!$J$9:$J$56)","v":0},{"$f":"SUMIF('Concert 5'!$E$9:$E$56,Statistiques!A61,'Concert 5'!$I$9:$I$56)","v":0},{"$f":"SUMIF('Concert 5'!$E$9:$E$56,Statistiques!A61,'Concert 5'!$J$9:$J$56)","v":0}]
[{"$f":"Ecoles!A58","v":0},{"$f":"Ecoles!B58","v":0},{"$f":"Ecoles!C58","v":0},null,{"$f":"SUMIF('Concert 1'!$E$9:$E$56,Statistiques!A62,'Concert 1'!$I$9:$I$56)+SUMIF('Concert 2'!$E$9:$E$56,Statistiques!A62,'Concert 2'!$I$9:$I$56)+SUMIF('Concert 3'!$E$9:$E$56,Statistiques!A62,'Concert 3'!$I$9:$I$56)+SUMIF('Concert 4'!$E$9:$E$56,Statistiques!A62,'Concert 4'!$I$9:$I$56)+SUMIF('Concert 5'!$E$9:$E$56,Statistiques!A62,'Concert 5'!$I$9:$I$56)","v":0},{"$f":"SUMIF('Concert 1'!$E$9:$E$56,Statistiques!A62,'Concert 1'!$J$9:$J$56)+SUMIF('Concert 2'!$E$9:$E$56,Statistiques!A62,'Concert 2'!$J$9:$J$56)+SUMIF('Concert 3'!$E$9:$E$56,Statistiques!A62,'Concert 3'!$J$9:$J$56)+SUMIF('Concert 4'!$E$9:$E$56,Statistiques!A62,'Concert 4'!$J$9:$J$56)+SUMIF('Concert 5'!$E$9:$E$56,Statistiques!A62,'Concert 5'!$J$9:$J$56)","v":0},null,null,{"$f":"SUMIF('Concert 1'!$E$9:$E$56,Statistiques!A62,'Concert 1'!$I$9:$I$56)","v":0},{"$f":"SUMIF('Concert 1'!$E$9:$E$56,Statistiques!A62,'Concert 1'!$J$9:$J$56)","v":0},{"$f":"SUMIF('Concert 2'!$E$9:$E$56,Statistiques!A62,'Concert 2'!$I$9:$I$56)","v":0},{"$f":"SUMIF('Concert 2'!$E$9:$E$56,Statistiques!A62,'Concert 2'!$J$9:$J$56)","v":0},{"$f":"SUMIF('Concert 3'!$E$9:$E$56,Statistiques!A62,'Concert 3'!$I$9:$I$56)","v":0},{"$f":"SUMIF('Concert 3'!$E$9:$E$56,Statistiques!A62,'Concert 3'!$J$9:$J$56)","v":0},{"$f":"SUMIF('Concert 4'!$E$9:$E$56,Statistiques!A62,'Concert 4'!$I$9:$I$56)","v":0},{"$f":"SUMIF('Concert 4'!$E$9:$E$56,Statistiques!A62,'Concert 4'!$J$9:$J$56)","v":0},{"$f":"SUMIF('Concert 5'!$E$9:$E$56,Statistiques!A62,'Concert 5'!$I$9:$I$56)","v":0},{"$f":"SUMIF('Concert 5'!$E$9:$E$56,Statistiques!A62,'Concert 5'!$J$9:$J$56)","v":0}]
[{"$f":"Ecoles!A59","v":0},{"$f":"Ecoles!B59","v":0},{"$f":"Ecoles!C59","v":0},null,{"$f":"SUMIF('Concert 1'!$E$9:$E$56,Statistiques!A63,'Concert 1'!$I$9:$I$56)+SUMIF('Concert 2'!$E$9:$E$56,Statistiques!A63,'Concert 2'!$I$9:$I$56)+SUMIF('Concert 3'!$E$9:$E$56,Statistiques!A63,'Concert 3'!$I$9:$I$56)+SUMIF('Concert 4'!$E$9:$E$56,Statistiques!A63,'Concert 4'!$I$9:$I$56)+SUMIF('Concert 5'!$E$9:$E$56,Statistiques!A63,'Concert 5'!$I$9:$I$56)","v":0},{"$f":"SUMIF('Concert 1'!$E$9:$E$56,Statistiques!A63,'Concert 1'!$J$9:$J$56)+SUMIF('Concert 2'!$E$9:$E$56,Statistiques!A63,'Concert 2'!$J$9:$J$56)+SUMIF('Concert 3'!$E$9:$E$56,Statistiques!A63,'Concert 3'!$J$9:$J$56)+SUMIF('Concert 4'!$E$9:$E$56,Statistiques!A63,'Concert 4'!$J$9:$J$56)+SUMIF('Concert 5'!$E$9:$E$56,Statistiques!A63,'Concert 5'!$J$9:$J$56)","v":0},null,null,{"$f":"SUMIF('Concert 1'!$E$9:$E$56,Statistiques!A63,'Concert 1'!$I$9:$I$56)","v":0},{"$f":"SUMIF('Concert 1'!$E$9:$E$56,Statistiques!A63,'Concert 1'!$J$9:$J$56)","v":0},{"$f":"SUMIF('Concert 2'!$E$9:$E$56,Statistiques!A63,'Concert 2'!$I$9:$I$56)","v":0},{"$f":"SUMIF('Concert 2'!$E$9:$E$56,Statistiques!A63,'Concert 2'!$J$9:$J$56)","v":0},{"$f":"SUMIF('Concert 3'!$E$9:$E$56,Statistiques!A63,'Concert 3'!$I$9:$I$56)","v":0},{"$f":"SUMIF('Concert 3'!$E$9:$E$56,Statistiques!A63,'Concert 3'!$J$9:$J$56)","v":0},{"$f":"SUMIF('Concert 4'!$E$9:$E$56,Statistiques!A63,'Concert 4'!$I$9:$I$56)","v":0},{"$f":"SUMIF('Concert 4'!$E$9:$E$56,Statistiques!A63,'Concert 4'!$J$9:$J$56)","v":0},{"$f":"SUMIF('Concert 5'!$E$9:$E$56,Statistiques!A63,'Concert 5'!$I$9:$I$56)","v":0},{"$f":"SUMIF('Concert 5'!$E$9:$E$56,Statistiques!A63,'Concert 5'!$J$9:$J$56)","v":0}]
[{"$f":"Ecoles!A60","v":0},{"$f":"Ecoles!B60","v":0},{"$f":"Ecoles!C60","v":0},null,{"$f":"SUMIF('Concert 1'!$E$9:$E$56,Statistiques!A64,'Concert 1'!$I$9:$I$56)+SUMIF('Concert 2'!$E$9:$E$56,Statistiques!A64,'Concert 2'!$I$9:$I$56)+SUMIF('Concert 3'!$E$9:$E$56,Statistiques!A64,'Concert 3'!$I$9:$I$56)+SUMIF('Concert 4'!$E$9:$E$56,Statistiques!A64,'Concert 4'!$I$9:$I$56)+SUMIF('Concert 5'!$E$9:$E$56,Statistiques!A64,'Concert 5'!$I$9:$I$56)","v":0},{"$f":"SUMIF('Concert 1'!$E$9:$E$56,Statistiques!A64,'Concert 1'!$J$9:$J$56)+SUMIF('Concert 2'!$E$9:$E$56,Statistiques!A64,'Concert 2'!$J$9:$J$56)+SUMIF('Concert 3'!$E$9:$E$56,Statistiques!A64,'Concert 3'!$J$9:$J$56)+SUMIF('Concert 4'!$E$9:$E$56,Statistiques!A64,'Concert 4'!$J$9:$J$56)+SUMIF('Concert 5'!$E$9:$E$56,Statistiques!A64,'Concert 5'!$J$9:$J$56)","v":0},null,null,{"$f":"SUMIF('Concert 1'!$E$9:$E$56,Statistiques!A64,'Concert 1'!$I$9:$I$56)","v":0},{"$f":"SUMIF('Concert 1'!$E$9:$E$56,Statistiques!A64,'Concert 1'!$J$9:$J$56)","v":0},{"$f":"SUMIF('Concert 2'!$E$9:$E$56,Statistiques!A64,'Concert 2'!$I$9:$I$56)","v":0},{"$f":"SUMIF('Concert 2'!$E$9:$E$56,Statistiques!A64,'Concert 2'!$J$9:$J$56)","v":0},{"$f":"SUMIF('Concert 3'!$E$9:$E$56,Statistiques!A64,'Concert 3'!$I$9:$I$56)","v":0},{"$f":"SUMIF('Concert 3'!$E$9:$E$56,Statistiques!A64,'Concert 3'!$J$9:$J$56)","v":0},{"$f":"SUMIF('Concert 4'!$E$9:$E$56,Statistiques!A64,'Concert 4'!$I$9:$I$56)","v":0},{"$f":"SUMIF('Concert 4'!$E$9:$E$56,Statistiques!A64,'Concert 4'!$J$9:$J$56)","v":0},{"$f":"SUMIF('Concert 5'!$E$9:$E$56,Statistiques!A64,'Concert 5'!$I$9:$I$56)","v":0},{"$f":"SUMIF('Concert 5'!$E$9:$E$56,Statistiques!A64,'Concert 5'!$J$9:$J$56)","v":0}]
[{"$f":"Ecoles!A61","v":0},{"$f":"Ecoles!B61","v":0},{"$f":"Ecoles!C61","v":0},null,{"$f":"SUMIF('Concert 1'!$E$9:$E$56,Statistiques!A65,'Concert 1'!$I$9:$I$56)+SUMIF('Concert 2'!$E$9:$E$56,Statistiques!A65,'Concert 2'!$I$9:$I$56)+SUMIF('Concert 3'!$E$9:$E$56,Statistiques!A65,'Concert 3'!$I$9:$I$56)+SUMIF('Concert 4'!$E$9:$E$56,Statistiques!A65,'Concert 4'!$I$9:$I$56)+SUMIF('Concert 5'!$E$9:$E$56,Statistiques!A65,'Concert 5'!$I$9:$I$56)","v":0},{"$f":"SUMIF('Concert 1'!$E$9:$E$56,Statistiques!A65,'Concert 1'!$J$9:$J$56)+SUMIF('Concert 2'!$E$9:$E$56,Statistiques!A65,'Concert 2'!$J$9:$J$56)+SUMIF('Concert 3'!$E$9:$E$56,Statistiques!A65,'Concert 3'!$J$9:$J$56)+SUMIF('Concert 4'!$E$9:$E$56,Statistiques!A65,'Concert 4'!$J$9:$J$56)+SUMIF('Concert 5'!$E$9:$E$56,Statistiques!A65,'Concert 5'!$J$9:$J$56)","v":0},null,null,{"$f":"SUMIF('Concert 1'!$E$9:$E$56,Statistiques!A65,'Concert 1'!$I$9:$I$56)","v":0},{"$f":"SUMIF('Concert 1'!$E$9:$E$56,Statistiques!A65,'Concert 1'!$J$9:$J$56)","v":0},{"$f":"SUMIF('Concert 2'!$E$9:$E$56,Statistiques!A65,'Concert 2'!$I$9:$I$56)","v":0},{"$f":"SUMIF('Concert 2'!$E$9:$E$56,Statistiques!A65,'Concert 2'!$J$9:$J$56)","v":0},{"$f":"SUMIF('Concert 3'!$E$9:$E$56,Statistiques!A65,'Concert 3'!$I$9:$I$56)","v":0},{"$f":"SUMIF('Concert 3'!$E$9:$E$56,Statistiques!A65,'Concert 3'!$J$9:$J$56)","v":0},{"$f":"SUMIF('Concert 4'!$E$9:$E$56,Statistiques!A65,'Concert 4'!$I$9:$I$56)","v":0},{"$f":"SUMIF('Concert 4'!$E$9:$E$56,Statistiques!A65,'Concert 4'!$J$9:$J$56)","v":0},{"$f":"SUMIF('Concert 5'!$E$9:$E$56,Statistiques!A65,'Concert 5'!$I$9:$I$56)","v":0},{"$f":"SUMIF('Concert 5'!$E$9:$E$56,Statistiques!A65,'Concert 5'!$J$9:$J$56)","v":0}]
[{"$f":"Ecoles!A62","v":0},{"$f":"Ecoles!B62","v":0},{"$f":"Ecoles!C62","v":0},null,{"$f":"SUMIF('Concert 1'!$E$9:$E$56,Statistiques!A66,'Concert 1'!$I$9:$I$56)+SUMIF('Concert 2'!$E$9:$E$56,Statistiques!A66,'Concert 2'!$I$9:$I$56)+SUMIF('Concert 3'!$E$9:$E$56,Statistiques!A66,'Concert 3'!$I$9:$I$56)+SUMIF('Concert 4'!$E$9:$E$56,Statistiques!A66,'Concert 4'!$I$9:$I$56)+SUMIF('Concert 5'!$E$9:$E$56,Statistiques!A66,'Concert 5'!$I$9:$I$56)","v":0},{"$f":"SUMIF('Concert 1'!$E$9:$E$56,Statistiques!A66,'Concert 1'!$J$9:$J$56)+SUMIF('Concert 2'!$E$9:$E$56,Statistiques!A66,'Concert 2'!$J$9:$J$56)+SUMIF('Concert 3'!$E$9:$E$56,Statistiques!A66,'Concert 3'!$J$9:$J$56)+SUMIF('Concert 4'!$E$9:$E$56,Statistiques!A66,'Concert 4'!$J$9:$J$56)+SUMIF('Concert 5'!$E$9:$E$56,Statistiques!A66,'Concert 5'!$J$9:$J$56)","v":0},null,null,{"$f":"SUMIF('Concert 1'!$E$9:$E$56,Statistiques!A66,'Concert 1'!$I$9:$I$56)","v":0},{"$f":"SUMIF('Concert 1'!$E$9:$E$56,Statistiques!A66,'Concert 1'!$J$9:$J$56)","v":0},{"$f":"SUMIF('Concert 2'!$E$9:$E$56,Statistiques!A66,'Concert 2'!$I$9:$I$56)","v":0},{"$f":"SUMIF('Concert 2'!$E$9:$E$56,Statistiques!A66,'Concert 2'!$J$9:$J$56)","v":0},{"$f":"SUMIF('Concert 3'!$E$9:$E$56,Statistiques!A66,'Concert 3'!$I$9:$I$56)","v":0},{"$f":"SUMIF('Concert 3'!$E$9:$E$56,Statistiques!A66,'Concert 3'!$J$9:$J$56)","v":0},{"$f":"SUMIF('Concert 4'!$E$9:$E$56,Statistiques!A66,'Concert 4'!$I$9:$I$56)","v":0},{"$f":"SUMIF('Concert 4'!$E$9:$E$56,Statistiques!A66,'Concert 4'!$J$9:$J$56)","v":0},{"$f":"SUMIF('Concert 5'!$E$9:$E$56,Statistiques!A66,'Concert 5'!$I$9:$I$56)","v":0},{"$f":"SUMIF('Concert 5'!$E$9:$E$56,Statistiques!A66,'Concert 5'!$J$9:$J$56)","v":0}]
[{"$f":"Ecoles!A63","v":0},{"$f":"Ecoles!B63","v":0},{"$f":"Ecoles!C63","v":0},null,{"$f":"SUMIF('Concert 1'!$E$9:$E$56,Statistiques!A67,'Concert 1'!$I$9:$I$56)+SUMIF('Concert 2'!$E$9:$E$56,Statistiques!A67,'Concert 2'!$I$9:$I$56)+SUMIF('Concert 3'!$E$9:$E$56,Statistiques!A67,'Concert 3'!$I$9:$I$56)+SUMIF('Concert 4'!$E$9:$E$56,Statistiques!A67,'Concert 4'!$I$9:$I$56)+SUMIF('Concert 5'!$E$9:$E$56,Statistiques!A67,'Concert 5'!$I$9:$I$56)","v":0},{"$f":"SUMIF('Concert 1'!$E$9:$E$56,Statistiques!A67,'Concert 1'!$J$9:$J$56)+SUMIF('Concert 2'!$E$9:$E$56,Statistiques!A67,'Concert 2'!$J$9:$J$56)+SUMIF('Concert 3'!$E$9:$E$56,Statistiques!A67,'Concert 3'!$J$9:$J$56)+SUMIF('Concert 4'!$E$9:$E$56,Statistiques!A67,'Concert 4'!$J$9:$J$56)+SUMIF('Concert 5'!$E$9:$E$56,Statistiques!A67,'Concert 5'!$J$9:$J$56)","v":0},null,null,{"$f":"SUMIF('Concert 1'!$E$9:$E$56,Statistiques!A67,'Concert 1'!$I$9:$I$56)","v":0},{"$f":"SUMIF('Concert 1'!$E$9:$E$56,Statistiques!A67,'Concert 1'!$J$9:$J$56)","v":0},{"$f":"SUMIF('Concert 2'!$E$9:$E$56,Statistiques!A67,'Concert 2'!$I$9:$I$56)","v":0},{"$f":"SUMIF('Concert 2'!$E$9:$E$56,Statistiques!A67,'Concert 2'!$J$9:$J$56)","v":0},{"$f":"SUMIF('Concert 3'!$E$9:$E$56,Statistiques!A67,'Concert 3'!$I$9:$I$56)","v":0},{"$f":"SUMIF('Concert 3'!$E$9:$E$56,Statistiques!A67,'Concert 3'!$J$9:$J$56)","v":0},{"$f":"SUMIF('Concert 4'!$E$9:$E$56,Statistiques!A67,'Concert 4'!$I$9:$I$56)","v":0},{"$f":"SUMIF('Concert 4'!$E$9:$E$56,Statistiques!A67,'Concert 4'!$J$9:$J$56)","v":0},{"$f":"SUMIF('Concert 5'!$E$9:$E$56,Statistiques!A67,'Concert 5'!$I$9:$I$56)","v":0},{"$f":"SUMIF('Concert 5'!$E$9:$E$56,Statistiques!A67,'Concert 5'!$J$9:$J$56)","v":0}]
[{"$f":"Ecoles!A64","v":0},{"$f":"Ecoles!B64","v":0},{"$f":"Ecoles!C64","v":0},null,{"$f":"SUMIF('Concert 1'!$E$9:$E$56,Statistiques!A68,'Concert 1'!$I$9:$I$56)+SUMIF('Concert 2'!$E$9:$E$56,Statistiques!A68,'Concert 2'!$I$9:$I$56)+SUMIF('Concert 3'!$E$9:$E$56,Statistiques!A68,'Concert 3'!$I$9:$I$56)+SUMIF('Concert 4'!$E$9:$E$56,Statistiques!A68,'Concert 4'!$I$9:$I$56)+SUMIF('Concert 5'!$E$9:$E$56,Statistiques!A68,'Concert 5'!$I$9:$I$56)","v":0},{"$f":"SUMIF('Concert 1'!$E$9:$E$56,Statistiques!A68,'Concert 1'!$J$9:$J$56)+SUMIF('Concert 2'!$E$9:$E$56,Statistiques!A68,'Concert 2'!$J$9:$J$56)+SUMIF('Concert 3'!$E$9:$E$56,Statistiques!A68,'Concert 3'!$J$9:$J$56)+SUMIF('Concert 4'!$E$9:$E$56,Statistiques!A68,'Concert 4'!$J$9:$J$56)+SUMIF('Concert 5'!$E$9:$E$56,Statistiques!A68,'Concert 5'!$J$9:$J$56)","v":0},null,null,{"$f":"SUMIF('Concert 1'!$E$9:$E$56,Statistiques!A68,'Concert 1'!$I$9:$I$56)","v":0},{"$f":"SUMIF('Concert 1'!$E$9:$E$56,Statistiques!A68,'Concert 1'!$J$9:$J$56)","v":0},{"$f":"SUMIF('Concert 2'!$E$9:$E$56,Statistiques!A68,'Concert 2'!$I$9:$I$56)","v":0},{"$f":"SUMIF('Concert 2'!$E$9:$E$56,Statistiques!A68,'Concert 2'!$J$9:$J$56)","v":0},{"$f":"SUMIF('Concert 3'!$E$9:$E$56,Statistiques!A68,'Concert 3'!$I$9:$I$56)","v":0},{"$f":"SUMIF('Concert 3'!$E$9:$E$56,Statistiques!A68,'Concert 3'!$J$9:$J$56)","v":0},{"$f":"SUMIF('Concert 4'!$E$9:$E$56,Statistiques!A68,'Concert 4'!$I$9:$I$56)","v":0},{"$f":"SUMIF('Concert 4'!$E$9:$E$56,Statistiques!A68,'Concert 4'!$J$9:$J$56)","v":0},{"$f":"SUMIF('Concert 5'!$E$9:$E$56,Statistiques!A68,'Concert 5'!$I$9:$I$56)","v":0},{"$f":"SUMIF('Concert 5'!$E$9:$E$56,Statistiques!A68,'Concert 5'!$J$9:$J$56)","v":0}]
[{"$f":"Ecoles!A65","v":0},{"$f":"Ecoles!B65","v":0},{"$f":"Ecoles!C65","v":0},null,{"$f":"SUMIF('Concert 1'!$E$9:$E$56,Statistiques!A69,'Concert 1'!$I$9:$I$56)+SUMIF('Concert 2'!$E$9:$E$56,Statistiques!A69,'Concert 2'!$I$9:$I$56)+SUMIF('Concert 3'!$E$9:$E$56,Statistiques!A69,'Concert 3'!$I$9:$I$56)+SUMIF('Concert 4'!$E$9:$E$56,Statistiques!A69,'Concert 4'!$I$9:$I$56)+SUMIF('Concert 5'!$E$9:$E$56,Statistiques!A69,'Concert 5'!$I$9:$I$56)","v":0},{"$f":"SUMIF('Concert 1'!$E$9:$E$56,Statistiques!A69,'Concert 1'!$J$9:$J$56)+SUMIF('Concert 2'!$E$9:$E$56,Statistiques!A69,'Concert 2'!$J$9:$J$56)+SUMIF('Concert 3'!$E$9:$E$56,Statistiques!A69,'Concert 3'!$J$9:$J$56)+SUMIF('Concert 4'!$E$9:$E$56,Statistiques!A69,'Concert 4'!$J$9:$J$56)+SUMIF('Concert 5'!$E$9:$E$56,Statistiques!A69,'Concert 5'!$J$9:$J$56)","v":0},null,null,{"$f":"SUMIF('Concert 1'!$E$9:$E$56,Statistiques!A69,'Concert 1'!$I$9:$I$56)","v":0},{"$f":"SUMIF('Concert 1'!$E$9:$E$56,Statistiques!A69,'Concert 1'!$J$9:$J$56)","v":0},{"$f":"SUMIF('Concert 2'!$E$9:$E$56,Statistiques!A69,'Concert 2'!$I$9:$I$56)","v":0},{"$f":"SUMIF('Concert 2'!$E$9:$E$56,Statistiques!A69,'Concert 2'!$J$9:$J$56)","v":0},{"$f":"SUMIF('Concert 3'!$E$9:$E$56,Statistiques!A69,'Concert 3'!$I$9:$I$56)","v":0},{"$f":"SUMIF('Concert 3'!$E$9:$E$56,Statistiques!A69,'Concert 3'!$J$9:$J$56)","v":0},{"$f":"SUMIF('Concert 4'!$E$9:$E$56,Statistiques!A69,'Concert 4'!$I$9:$I$56)","v":0},{"$f":"SUMIF('Concert 4'!$E$9:$E$56,Statistiques!A69,'Concert 4'!$J$9:$J$56)","v":0},{"$f":"SUMIF('Concert 5'!$E$9:$E$56,Statistiques!A69,'Concert 5'!$I$9:$I$56)","v":0},{"$f":"SUMIF('Concert 5'!$E$9:$E$56,Statistiques!A69,'Concert 5'!$J$9:$J$56)","v":0}]
[{"$f":"Ecoles!A66","v":0},{"$f":"Ecoles!B66","v":0},{"$f":"Ecoles!C66","v":0},null,{"$f":"SUMIF('Concert 1'!$E$9:$E$56,Statistiques!A70,'Concert 1'!$I$9:$I$56)+SUMIF('Concert 2'!$E$9:$E$56,Statistiques!A70,'Concert 2'!$I$9:$I$56)+SUMIF('Concert 3'!$E$9:$E$56,Statistiques!A70,'Concert 3'!$I$9:$I$56)+SUMIF('Concert 4'!$E$9:$E$56,Statistiques!A70,'Concert 4'!$I$9:$I$56)+SUMIF('Concert 5'!$E$9:$E$56,Statistiques!A70,'Concert 5'!$I$9:$I$56)","v":0},{"$f":"SUMIF('Concert 1'!$E$9:$E$56,Statistiques!A70,'Concert 1'!$J$9:$J$56)+SUMIF('Concert 2'!$E$9:$E$56,Statistiques!A70,'Concert 2'!$J$9:$J$56)+SUMIF('Concert 3'!$E$9:$E$56,Statistiques!A70,'Concert 3'!$J$9:$J$56)+SUMIF('Concert 4'!$E$9:$E$56,Statistiques!A70,'Concert 4'!$J$9:$J$56)+SUMIF('Concert 5'!$E$9:$E$56,Statistiques!A70,'Concert 5'!$J$9:$J$56)","v":0},null,null,{"$f":"SUMIF('Concert 1'!$E$9:$E$56,Statistiques!A70,'Concert 1'!$I$9:$I$56)","v":0},{"$f":"SUMIF('Concert 1'!$E$9:$E$56,Statistiques!A70,'Concert 1'!$J$9:$J$56)","v":0},{"$f":"SUMIF('Concert 2'!$E$9:$E$56,Statistiques!A70,'Concert 2'!$I$9:$I$56)","v":0},{"$f":"SUMIF('Concert 2'!$E$9:$E$56,Statistiques!A70,'Concert 2'!$J$9:$J$56)","v":0},{"$f":"SUMIF('Concert 3'!$E$9:$E$56,Statistiques!A70,'Concert 3'!$I$9:$I$56)","v":0},{"$f":"SUMIF('Concert 3'!$E$9:$E$56,Statistiques!A70,'Concert 3'!$J$9:$J$56)","v":0},{"$f":"SUMIF('Concert 4'!$E$9:$E$56,Statistiques!A70,'Concert 4'!$I$9:$I$56)","v":0},{"$f":"SUMIF('Concert 4'!$E$9:$E$56,Statistiques!A70,'Concert 4'!$J$9:$J$56)","v":0},{"$f":"SUMIF('Concert 5'!$E$9:$E$56,Statistiques!A70,'Concert 5'!$I$9:$I$56)","v":0},{"$f":"SUMIF('Concert 5'!$E$9:$E$56,Statistiques!A70,'Concert 5'!$J$9:$J$56)","v":0}]
[{"$f":"Ecoles!A67","v":0},{"$f":"Ecoles!B67","v":0},{"$f":"Ecoles!C67","v":0},null,{"$f":"SUMIF('Concert 1'!$E$9:$E$56,Statistiques!A71,'Concert 1'!$I$9:$I$56)+SUMIF('Concert 2'!$E$9:$E$56,Statistiques!A71,'Concert 2'!$I$9:$I$56)+SUMIF('Concert 3'!$E$9:$E$56,Statistiques!A71,'Concert 3'!$I$9:$I$56)+SUMIF('Concert 4'!$E$9:$E$56,Statistiques!A71,'Concert 4'!$I$9:$I$56)+SUMIF('Concert 5'!$E$9:$E$56,Statistiques!A71,'Concert 5'!$I$9:$I$56)","v":0},{"$f":"SUMIF('Concert 1'!$E$9:$E$56,Statistiques!A71,'Concert 1'!$J$9:$J$56)+SUMIF('Concert 2'!$E$9:$E$56,Statistiques!A71,'Concert 2'!$J$9:$J$56)+SUMIF('Concert 3'!$E$9:$E$56,Statistiques!A71,'Concert 3'!$J$9:$J$56)+SUMIF('Concert 4'!$E$9:$E$56,Statistiques!A71,'Concert 4'!$J$9:$J$56)+SUMIF('Concert 5'!$E$9:$E$56,Statistiques!A71,'Concert 5'!$J$9:$J$56)","v":0},null,null,{"$f":"SUMIF('Concert 1'!$E$9:$E$56,Statistiques!A71,'Concert 1'!$I$9:$I$56)","v":0},{"$f":"SUMIF('Concert 1'!$E$9:$E$56,Statistiques!A71,'Concert 1'!$J$9:$J$56)","v":0},{"$f":"SUMIF('Concert 2'!$E$9:$E$56,Statistiques!A71,'Concert 2'!$I$9:$I$56)","v":0},{"$f":"SUMIF('Concert 2'!$E$9:$E$56,Statistiques!A71,'Concert 2'!$J$9:$J$56)","v":0},{"$f":"SUMIF('Concert 3'!$E$9:$E$56,Statistiques!A71,'Concert 3'!$I$9:$I$56)","v":0},{"$f":"SUMIF('Concert 3'!$E$9:$E$56,Statistiques!A71,'Concert 3'!$J$9:$J$56)","v":0},{"$f":"SUMIF('Concert 4'!$E$9:$E$56,Statistiques!A71,'Concert 4'!$I$9:$I$56)","v":0},{"$f":"SUMIF('Concert 4'!$E$9:$E$56,Statistiques!A71,'Concert 4'!$J$9:$J$56)","v":0},{"$f":"SUMIF('Concert 5'!$E$9:$E$56,Statistiques!A71,'Concert 5'!$I$9:$I$56)","v":0},{"$f":"SUMIF('Concert 5'!$E$9:$E$56,Statistiques!A71,'Concert 5'!$J$9:$J$56)","v":0}]
[{"$f":"Ecoles!A68","v":0},{"$f":"Ecoles!B68","v":0},{"$f":"Ecoles!C68","v":0},null,{"$f":"SUMIF('Concert 1'!$E$9:$E$56,Statistiques!A72,'Concert 1'!$I$9:$I$56)+SUMIF('Concert 2'!$E$9:$E$56,Statistiques!A72,'Concert 2'!$I$9:$I$56)+SUMIF('Concert 3'!$E$9:$E$56,Statistiques!A72,'Concert 3'!$I$9:$I$56)+SUMIF('Concert 4'!$E$9:$E$56,Statistiques!A72,'Concert 4'!$I$9:$I$56)+SUMIF('Concert 5'!$E$9:$E$56,Statistiques!A72,'Concert 5'!$I$9:$I$56)","v":0},{"$f":"SUMIF('Concert 1'!$E$9:$E$56,Statistiques!A72,'Concert 1'!$J$9:$J$56)+SUMIF('Concert 2'!$E$9:$E$56,Statistiques!A72,'Concert 2'!$J$9:$J$56)+SUMIF('Concert 3'!$E$9:$E$56,Statistiques!A72,'Concert 3'!$J$9:$J$56)+SUMIF('Concert 4'!$E$9:$E$56,Statistiques!A72,'Concert 4'!$J$9:$J$56)+SUMIF('Concert 5'!$E$9:$E$56,Statistiques!A72,'Concert 5'!$J$9:$J$56)","v":0},null,null,{"$f":"SUMIF('Concert 1'!$E$9:$E$56,Statistiques!A72,'Concert 1'!$I$9:$I$56)","v":0},{"$f":"SUMIF('Concert 1'!$E$9:$E$56,Statistiques!A72,'Concert 1'!$J$9:$J$56)","v":0},{"$f":"SUMIF('Concert 2'!$E$9:$E$56,Statistiques!A72,'Concert 2'!$I$9:$I$56)","v":0},{"$f":"SUMIF('Concert 2'!$E$9:$E$56,Statistiques!A72,'Concert 2'!$J$9:$J$56)","v":0},{"$f":"SUMIF('Concert 3'!$E$9:$E$56,Statistiques!A72,'Concert 3'!$I$9:$I$56)","v":0},{"$f":"SUMIF('Concert 3'!$E$9:$E$56,Statistiques!A72,'Concert 3'!$J$9:$J$56)","v":0},{"$f":"SUMIF('Concert 4'!$E$9:$E$56,Statistiques!A72,'Concert 4'!$I$9:$I$56)","v":0},{"$f":"SUMIF('Concert 4'!$E$9:$E$56,Statistiques!A72,'Concert 4'!$J$9:$J$56)","v":0},{"$f":"SUMIF('Concert 5'!$E$9:$E$56,Statistiques!A72,'Concert 5'!$I$9:$I$56)","v":0},{"$f":"SUMIF('Concert 5'!$E$9:$E$56,Statistiques!A72,'Concert 5'!$J$9:$J$56)","v":0}]
[{"$f":"Ecoles!A69","v":0},{"$f":"Ecoles!B69","v":0},{"$f":"Ecoles!C69","v":0},null,{"$f":"SUMIF('Concert 1'!$E$9:$E$56,Statistiques!A73,'Concert 1'!$I$9:$I$56)+SUMIF('Concert 2'!$E$9:$E$56,Statistiques!A73,'Concert 2'!$I$9:$I$56)+SUMIF('Concert 3'!$E$9:$E$56,Statistiques!A73,'Concert 3'!$I$9:$I$56)+SUMIF('Concert 4'!$E$9:$E$56,Statistiques!A73,'Concert 4'!$I$9:$I$56)+SUMIF('Concert 5'!$E$9:$E$56,Statistiques!A73,'Concert 5'!$I$9:$I$56)","v":0},{"$f":"SUMIF('Concert 1'!$E$9:$E$56,Statistiques!A73,'Concert 1'!$J$9:$J$56)+SUMIF('Concert 2'!$E$9:$E$56,Statistiques!A73,'Concert 2'!$J$9:$J$56)+SUMIF('Concert 3'!$E$9:$E$56,Statistiques!A73,'Concert 3'!$J$9:$J$56)+SUMIF('Concert 4'!$E$9:$E$56,Statistiques!A73,'Concert 4'!$J$9:$J$56)+SUMIF('Concert 5'!$E$9:$E$56,Statistiques!A73,'Concert 5'!$J$9:$J$56)","v":0},null,null,{"$f":"SUMIF('Concert 1'!$E$9:$E$56,Statistiques!A73,'Concert 1'!$I$9:$I$56)","v":0},{"$f":"SUMIF('Concert 1'!$E$9:$E$56,Statistiques!A73,'Concert 1'!$J$9:$J$56)","v":0},{"$f":"SUMIF('Concert 2'!$E$9:$E$56,Statistiques!A73,'Concert 2'!$I$9:$I$56)","v":0},{"$f":"SUMIF('Concert 2'!$E$9:$E$56,Statistiques!A73,'Concert 2'!$J$9:$J$56)","v":0},{"$f":"SUMIF('Concert 3'!$E$9:$E$56,Statistiques!A73,'Concert 3'!$I$9:$I$56)","v":0},{"$f":"SUMIF('Concert 3'!$E$9:$E$56,Statistiques!A73,'Concert 3'!$J$9:$J$56)","v":0},{"$f":"SUMIF('Concert 4'!$E$9:$E$56,Statistiques!A73,'Concert 4'!$I$9:$I$56)","v":0},{"$f":"SUMIF('Concert 4'!$E$9:$E$56,Statistiques!A73,'Concert 4'!$J$9:$J$56)","v":0},{"$f":"SUMIF('Concert 5'!$E$9:$E$56,Statistiques!A73,'Concert 5'!$I$9:$I$56)","v":0},{"$f":"SUMIF('Concert 5'!$E$9:$E$56,Statistiques!A73,'Concert 5'!$J$9:$J$56)","v":0}]
[{"$f":"Ecoles!A70","v":0},{"$f":"Ecoles!B70","v":0},{"$f":"Ecoles!C70","v":0},null,{"$f":"SUMIF('Concert 1'!$E$9:$E$56,Statistiques!A74,'Concert 1'!$I$9:$I$56)+SUMIF('Concert 2'!$E$9:$E$56,Statistiques!A74,'Concert 2'!$I$9:$I$56)+SUMIF('Concert 3'!$E$9:$E$56,Statistiques!A74,'Concert 3'!$I$9:$I$56)+SUMIF('Concert 4'!$E$9:$E$56,Statistiques!A74,'Concert 4'!$I$9:$I$56)+SUMIF('Concert 5'!$E$9:$E$56,Statistiques!A74,'Concert 5'!$I$9:$I$56)","v":0},{"$f":"SUMIF('Concert 1'!$E$9:$E$56,Statistiques!A74,'Concert 1'!$J$9:$J$56)+SUMIF('Concert 2'!$E$9:$E$56,Statistiques!A74,'Concert 2'!$J$9:$J$56)+SUMIF('Concert 3'!$E$9:$E$56,Statistiques!A74,'Concert 3'!$J$9:$J$56)+SUMIF('Concert 4'!$E$9:$E$56,Statistiques!A74,'Concert 4'!$J$9:$J$56)+SUMIF('Concert 5'!$E$9:$E$56,Statistiques!A74,'Concert 5'!$J$9:$J$56)","v":0},null,null,{"$f":"SUMIF('Concert 1'!$E$9:$E$56,Statistiques!A74,'Concert 1'!$I$9:$I$56)","v":0},{"$f":"SUMIF('Concert 1'!$E$9:$E$56,Statistiques!A74,'Concert 1'!$J$9:$J$56)","v":0},{"$f":"SUMIF('Concert 2'!$E$9:$E$56,Statistiques!A74,'Concert 2'!$I$9:$I$56)","v":0},{"$f":"SUMIF('Concert 2'!$E$9:$E$56,Statistiques!A74,'Concert 2'!$J$9:$J$56)","v":0},{"$f":"SUMIF('Concert 3'!$E$9:$E$56,Statistiques!A74,'Concert 3'!$I$9:$I$56)","v":0},{"$f":"SUMIF('Concert 3'!$E$9:$E$56,Statistiques!A74,'Concert 3'!$J$9:$J$56)","v":0},{"$f":"SUMIF('Concert 4'!$E$9:$E$56,Statistiques!A74,'Concert 4'!$I$9:$I$56)","v":0},{"$f":"SUMIF('Concert 4'!$E$9:$E$56,Statistiques!A74,'Concert 4'!$J$9:$J$56)","v":0},{"$f":"SUMIF('Concert 5'!$E$9:$E$56,Statistiques!A74,'Concert 5'!$I$9:$I$56)","v":0},{"$f":"SUMIF('Concert 5'!$E$9:$E$56,Statistiques!A74,'Concert 5'!$J$9:$J$56)","v":0}]
[{"$f":"Ecoles!A71","v":0},{"$f":"Ecoles!B71","v":0},{"$f":"Ecoles!C71","v":0},null,{"$f":"SUMIF('Concert 1'!$E$9:$E$56,Statistiques!A75,'Concert 1'!$I$9:$I$56)+SUMIF('Concert 2'!$E$9:$E$56,Statistiques!A75,'Concert 2'!$I$9:$I$56)+SUMIF('Concert 3'!$E$9:$E$56,Statistiques!A75,'Concert 3'!$I$9:$I$56)+SUMIF('Concert 4'!$E$9:$E$56,Statistiques!A75,'Concert 4'!$I$9:$I$56)+SUMIF('Concert 5'!$E$9:$E$56,Statistiques!A75,'Concert 5'!$I$9:$I$56)","v":0},{"$f":"SUMIF('Concert 1'!$E$9:$E$56,Statistiques!A75,'Concert 1'!$J$9:$J$56)+SUMIF('Concert 2'!$E$9:$E$56,Statistiques!A75,'Concert 2'!$J$9:$J$56)+SUMIF('Concert 3'!$E$9:$E$56,Statistiques!A75,'Concert 3'!$J$9:$J$56)+SUMIF('Concert 4'!$E$9:$E$56,Statistiques!A75,'Concert 4'!$J$9:$J$56)+SUMIF('Concert 5'!$E$9:$E$56,Statistiques!A75,'Concert 5'!$J$9:$J$56)","v":0},null,null,{"$f":"SUMIF('Concert 1'!$E$9:$E$56,Statistiques!A75,'Concert 1'!$I$9:$I$56)","v":0},{"$f":"SUMIF('Concert 1'!$E$9:$E$56,Statistiques!A75,'Concert 1'!$J$9:$J$56)","v":0},{"$f":"SUMIF('Concert 2'!$E$9:$E$56,Statistiques!A75,'Concert 2'!$I$9:$I$56)","v":0},{"$f":"SUMIF('Concert 2'!$E$9:$E$56,Statistiques!A75,'Concert 2'!$J$9:$J$56)","v":0},{"$f":"SUMIF('Concert 3'!$E$9:$E$56,Statistiques!A75,'Concert 3'!$I$9:$I$56)","v":0},{"$f":"SUMIF('Concert 3'!$E$9:$E$56,Statistiques!A75,'Concert 3'!$J$9:$J$56)","v":0},{"$f":"SUMIF('Concert 4'!$E$9:$E$56,Statistiques!A75,'Concert 4'!$I$9:$I$56)","v":0},{"$f":"SUMIF('Concert 4'!$E$9:$E$56,Statistiques!A75,'Concert 4'!$J$9:$J$56)","v":0},{"$f":"SUMIF('Concert 5'!$E$9:$E$56,Statistiques!A75,'Concert 5'!$I$9:$I$56)","v":0},{"$f":"SUMIF('Concert 5'!$E$9:$E$56,Statistiques!A75,'Concert 5'!$J$9:$J$56)","v":0}]
[{"$f":"Ecoles!A72","v":0},{"$f":"Ecoles!B72","v":0},{"$f":"Ecoles!C72","v":0},null,{"$f":"SUMIF('Concert 1'!$E$9:$E$56,Statistiques!A76,'Concert 1'!$I$9:$I$56)+SUMIF('Concert 2'!$E$9:$E$56,Statistiques!A76,'Concert 2'!$I$9:$I$56)+SUMIF('Concert 3'!$E$9:$E$56,Statistiques!A76,'Concert 3'!$I$9:$I$56)+SUMIF('Concert 4'!$E$9:$E$56,Statistiques!A76,'Concert 4'!$I$9:$I$56)+SUMIF('Concert 5'!$E$9:$E$56,Statistiques!A76,'Concert 5'!$I$9:$I$56)","v":0},{"$f":"SUMIF('Concert 1'!$E$9:$E$56,Statistiques!A76,'Concert 1'!$J$9:$J$56)+SUMIF('Concert 2'!$E$9:$E$56,Statistiques!A76,'Concert 2'!$J$9:$J$56)+SUMIF('Concert 3'!$E$9:$E$56,Statistiques!A76,'Concert 3'!$J$9:$J$56)+SUMIF('Concert 4'!$E$9:$E$56,Statistiques!A76,'Concert 4'!$J$9:$J$56)+SUMIF('Concert 5'!$E$9:$E$56,Statistiques!A76,'Concert 5'!$J$9:$J$56)","v":0},null,null,{"$f":"SUMIF('Concert 1'!$E$9:$E$56,Statistiques!A76,'Concert 1'!$I$9:$I$56)","v":0},{"$f":"SUMIF('Concert 1'!$E$9:$E$56,Statistiques!A76,'Concert 1'!$J$9:$J$56)","v":0},{"$f":"SUMIF('Concert 2'!$E$9:$E$56,Statistiques!A76,'Concert 2'!$I$9:$I$56)","v":0},{"$f":"SUMIF('Concert 2'!$E$9:$E$56,Statistiques!A76,'Concert 2'!$J$9:$J$56)","v":0},{"$f":"SUMIF('Concert 3'!$E$9:$E$56,Statistiques!A76,'Concert 3'!$I$9:$I$56)","v":0},{"$f":"SUMIF('Concert 3'!$E$9:$E$56,Statistiques!A76,'Concert 3'!$J$9:$J$56)","v":0},{"$f":"SUMIF('Concert 4'!$E$9:$E$56,Statistiques!A76,'Concert 4'!$I$9:$I$56)","v":0},{"$f":"SUMIF('Concert 4'!$E$9:$E$56,Statistiques!A76,'Concert 4'!$J$9:$J$56)","v":0},{"$f":"SUMIF('Concert 5'!$E$9:$E$56,Statistiques!A76,'Concert 5'!$I$9:$I$56)","v":0},{"$f":"SUMIF('Concert 5'!$E$9:$E$56,Statistiques!A76,'Concert 5'!$J$9:$J$56)","v":0}]
[{"$f":"Ecoles!A73","v":0},{"$f":"Ecoles!B73","v":0},{"$f":"Ecoles!C73","v":0},null,{"$f":"SUMIF('Concert 1'!$E$9:$E$56,Statistiques!A77,'Concert 1'!$I$9:$I$56)+SUMIF('Concert 2'!$E$9:$E$56,Statistiques!A77,'Concert 2'!$I$9:$I$56)+SUMIF('Concert 3'!$E$9:$E$56,Statistiques!A77,'Concert 3'!$I$9:$I$56)+SUMIF('Concert 4'!$E$9:$E$56,Statistiques!A77,'Concert 4'!$I$9:$I$56)+SUMIF('Concert 5'!$E$9:$E$56,Statistiques!A77,'Concert 5'!$I$9:$I$56)","v":0},{"$f":"SUMIF('Concert 1'!$E$9:$E$56,Statistiques!A77,'Concert 1'!$J$9:$J$56)+SUMIF('Concert 2'!$E$9:$E$56,Statistiques!A77,'Concert 2'!$J$9:$J$56)+SUMIF('Concert 3'!$E$9:$E$56,Statistiques!A77,'Concert 3'!$J$9:$J$56)+SUMIF('Concert 4'!$E$9:$E$56,Statistiques!A77,'Concert 4'!$J$9:$J$56)+SUMIF('Concert 5'!$E$9:$E$56,Statistiques!A77,'Concert 5'!$J$9:$J$56)","v":0},null,null,{"$f":"SUMIF('Concert 1'!$E$9:$E$56,Statistiques!A77,'Concert 1'!$I$9:$I$56)","v":0},{"$f":"SUMIF('Concert 1'!$E$9:$E$56,Statistiques!A77,'Concert 1'!$J$9:$J$56)","v":0},{"$f":"SUMIF('Concert 2'!$E$9:$E$56,Statistiques!A77,'Concert 2'!$I$9:$I$56)","v":0},{"$f":"SUMIF('Concert 2'!$E$9:$E$56,Statistiques!A77,'Concert 2'!$J$9:$J$56)","v":0},{"$f":"SUMIF('Concert 3'!$E$9:$E$56,Statistiques!A77,'Concert 3'!$I$9:$I$56)","v":0},{"$f":"SUMIF('Concert 3'!$E$9:$E$56,Statistiques!A77,'Concert 3'!$J$9:$J$56)","v":0},{"$f":"SUMIF('Concert 4'!$E$9:$E$56,Statistiques!A77,'Concert 4'!$I$9:$I$56)","v":0},{"$f":"SUMIF('Concert 4'!$E$9:$E$56,Statistiques!A77,'Concert 4'!$J$9:$J$56)","v":0},{"$f":"SUMIF('Concert 5'!$E$9:$E$56,Statistiques!A77,'Concert 5'!$I$9:$I$56)","v":0},{"$f":"SUMIF('Concert 5'!$E$9:$E$56,Statistiques!A77,'Concert 5'!$J$9:$J$56)","v":0}]
[{"$f":"Ecoles!A74","v":0},{"$f":"Ecoles!B74","v":0},{"$f":"Ecoles!C74","v":0},null,{"$f":"SUMIF('Concert 1'!$E$9:$E$56,Statistiques!A78,'Concert 1'!$I$9:$I$56)+SUMIF('Concert 2'!$E$9:$E$56,Statistiques!A78,'Concert 2'!$I$9:$I$56)+SUMIF('Concert 3'!$E$9:$E$56,Statistiques!A78,'Concert 3'!$I$9:$I$56)+SUMIF('Concert 4'!$E$9:$E$56,Statistiques!A78,'Concert 4'!$I$9:$I$56)+SUMIF('Concert 5'!$E$9:$E$56,Statistiques!A78,'Concert 5'!$I$9:$I$56)","v":0},{"$f":"SUMIF('Concert 1'!$E$9:$E$56,Statistiques!A78,'Concert 1'!$J$9:$J$56)+SUMIF('Concert 2'!$E$9:$E$56,Statistiques!A78,'Concert 2'!$J$9:$J$56)+SUMIF('Concert 3'!$E$9:$E$56,Statistiques!A78,'Concert 3'!$J$9:$J$56)+SUMIF('Concert 4'!$E$9:$E$56,Statistiques!A78,'Concert 4'!$J$9:$J$56)+SUMIF('Concert 5'!$E$9:$E$56,Statistiques!A78,'Concert 5'!$J$9:$J$56)","v":0},null,null,{"$f":"SUMIF('Concert 1'!$E$9:$E$56,Statistiques!A78,'Concert 1'!$I$9:$I$56)","v":0},{"$f":"SUMIF('Concert 1'!$E$9:$E$56,Statistiques!A78,'Concert 1'!$J$9:$J$56)","v":0},{"$f":"SUMIF('Concert 2'!$E$9:$E$56,Statistiques!A78,'Concert 2'!$I$9:$I$56)","v":0},{"$f":"SUMIF('Concert 2'!$E$9:$E$56,Statistiques!A78,'Concert 2'!$J$9:$J$56)","v":0},{"$f":"SUMIF('Concert 3'!$E$9:$E$56,Statistiques!A78,'Concert 3'!$I$9:$I$56)","v":0},{"$f":"SUMIF('Concert 3'!$E$9:$E$56,Statistiques!A78,'Concert 3'!$J$9:$J$56)","v":0},{"$f":"SUMIF('Concert 4'!$E$9:$E$56,Statistiques!A78,'Concert 4'!$I$9:$I$56)","v":0},{"$f":"SUMIF('Concert 4'!$E$9:$E$56,Statistiques!A78,'Concert 4'!$J$9:$J$56)","v":0},{"$f":"SUMIF('Concert 5'!$E$9:$E$56,Statistiques!A78,'Concert 5'!$I$9:$I$56)","v":0},{"$f":"SUMIF('Concert 5'!$E$9:$E$56,Statistiques!A78,'Concert 5'!$J$9:$J$56)","v":0}]
[{"$f":"Ecoles!A75","v":0},{"$f":"Ecoles!B75","v":0},{"$f":"Ecoles!C75","v":0},null,{"$f":"SUMIF('Concert 1'!$E$9:$E$56,Statistiques!A79,'Concert 1'!$I$9:$I$56)+SUMIF('Concert 2'!$E$9:$E$56,Statistiques!A79,'Concert 2'!$I$9:$I$56)+SUMIF('Concert 3'!$E$9:$E$56,Statistiques!A79,'Concert 3'!$I$9:$I$56)+SUMIF('Concert 4'!$E$9:$E$56,Statistiques!A79,'Concert 4'!$I$9:$I$56)+SUMIF('Concert 5'!$E$9:$E$56,Statistiques!A79,'Concert 5'!$I$9:$I$56)","v":0},{"$f":"SUMIF('Concert 1'!$E$9:$E$56,Statistiques!A79,'Concert 1'!$J$9:$J$56)+SUMIF('Concert 2'!$E$9:$E$56,Statistiques!A79,'Concert 2'!$J$9:$J$56)+SUMIF('Concert 3'!$E$9:$E$56,Statistiques!A79,'Concert 3'!$J$9:$J$56)+SUMIF('Concert 4'!$E$9:$E$56,Statistiques!A79,'Concert 4'!$J$9:$J$56)+SUMIF('Concert 5'!$E$9:$E$56,Statistiques!A79,'Concert 5'!$J$9:$J$56)","v":0},null,null,{"$f":"SUMIF('Concert 1'!$E$9:$E$56,Statistiques!A79,'Concert 1'!$I$9:$I$56)","v":0},{"$f":"SUMIF('Concert 1'!$E$9:$E$56,Statistiques!A79,'Concert 1'!$J$9:$J$56)","v":0},{"$f":"SUMIF('Concert 2'!$E$9:$E$56,Statistiques!A79,'Concert 2'!$I$9:$I$56)","v":0},{"$f":"SUMIF('Concert 2'!$E$9:$E$56,Statistiques!A79,'Concert 2'!$J$9:$J$56)","v":0},{"$f":"SUMIF('Concert 3'!$E$9:$E$56,Statistiques!A79,'Concert 3'!$I$9:$I$56)","v":0},{"$f":"SUMIF('Concert 3'!$E$9:$E$56,Statistiques!A79,'Concert 3'!$J$9:$J$56)","v":0},{"$f":"SUMIF('Concert 4'!$E$9:$E$56,Statistiques!A79,'Concert 4'!$I$9:$I$56)","v":0},{"$f":"SUMIF('Concert 4'!$E$9:$E$56,Statistiques!A79,'Concert 4'!$J$9:$J$56)","v":0},{"$f":"SUMIF('Concert 5'!$E$9:$E$56,Statistiques!A79,'Concert 5'!$I$9:$I$56)","v":0},{"$f":"SUMIF('Concert 5'!$E$9:$E$56,Statistiques!A79,'Concert 5'!$J$9:$J$56)","v":0}]
[{"$f":"Ecoles!A76","v":0},{"$f":"Ecoles!B76","v":0},{"$f":"Ecoles!C76","v":0},null,{"$f":"SUMIF('Concert 1'!$E$9:$E$56,Statistiques!A80,'Concert 1'!$I$9:$I$56)+SUMIF('Concert 2'!$E$9:$E$56,Statistiques!A80,'Concert 2'!$I$9:$I$56)+SUMIF('Concert 3'!$E$9:$E$56,Statistiques!A80,'Concert 3'!$I$9:$I$56)+SUMIF('Concert 4'!$E$9:$E$56,Statistiques!A80,'Concert 4'!$I$9:$I$56)+SUMIF('Concert 5'!$E$9:$E$56,Statistiques!A80,'Concert 5'!$I$9:$I$56)","v":0},{"$f":"SUMIF('Concert 1'!$E$9:$E$56,Statistiques!A80,'Concert 1'!$J$9:$J$56)+SUMIF('Concert 2'!$E$9:$E$56,Statistiques!A80,'Concert 2'!$J$9:$J$56)+SUMIF('Concert 3'!$E$9:$E$56,Statistiques!A80,'Concert 3'!$J$9:$J$56)+SUMIF('Concert 4'!$E$9:$E$56,Statistiques!A80,'Concert 4'!$J$9:$J$56)+SUMIF('Concert 5'!$E$9:$E$56,Statistiques!A80,'Concert 5'!$J$9:$J$56)","v":0},null,null,{"$f":"SUMIF('Concert 1'!$E$9:$E$56,Statistiques!A80,'Concert 1'!$I$9:$I$56)","v":0},{"$f":"SUMIF('Concert 1'!$E$9:$E$56,Statistiques!A80,'Concert 1'!$J$9:$J$56)","v":0},{"$f":"SUMIF('Concert 2'!$E$9:$E$56,Statistiques!A80,'Concert 2'!$I$9:$I$56)","v":0},{"$f":"SUMIF('Concert 2'!$E$9:$E$56,Statistiques!A80,'Concert 2'!$J$9:$J$56)","v":0},{"$f":"SUMIF('Concert 3'!$E$9:$E$56,Statistiques!A80,'Concert 3'!$I$9:$I$56)","v":0},{"$f":"SUMIF('Concert 3'!$E$9:$E$56,Statistiques!A80,'Concert 3'!$J$9:$J$56)","v":0},{"$f":"SUMIF('Concert 4'!$E$9:$E$56,Statistiques!A80,'Concert 4'!$I$9:$I$56)","v":0},{"$f":"SUMIF('Concert 4'!$E$9:$E$56,Statistiques!A80,'Concert 4'!$J$9:$J$56)","v":0},{"$f":"SUMIF('Concert 5'!$E$9:$E$56,Statistiques!A80,'Concert 5'!$I$9:$I$56)","v":0},{"$f":"SUMIF('Concert 5'!$E$9:$E$56,Statistiques!A80,'Concert 5'!$J$9:$J$56)","v":0}]
[{"$f":"Ecoles!A77","v":0},{"$f":"Ecoles!B77","v":0},{"$f":"Ecoles!C77","v":0},null,{"$f":"SUMIF('Concert 1'!$E$9:$E$56,Statistiques!A81,'Concert 1'!$I$9:$I$56)+SUMIF('Concert 2'!$E$9:$E$56,Statistiques!A81,'Concert 2'!$I$9:$I$56)+SUMIF('Concert 3'!$E$9:$E$56,Statistiques!A81,'Concert 3'!$I$9:$I$56)+SUMIF('Concert 4'!$E$9:$E$56,Statistiques!A81,'Concert 4'!$I$9:$I$56)+SUMIF('Concert 5'!$E$9:$E$56,Statistiques!A81,'Concert 5'!$I$9:$I$56)","v":0},{"$f":"SUMIF('Concert 1'!$E$9:$E$56,Statistiques!A81,'Concert 1'!$J$9:$J$56)+SUMIF('Concert 2'!$E$9:$E$56,Statistiques!A81,'Concert 2'!$J$9:$J$56)+SUMIF('Concert 3'!$E$9:$E$56,Statistiques!A81,'Concert 3'!$J$9:$J$56)+SUMIF('Concert 4'!$E$9:$E$56,Statistiques!A81,'Concert 4'!$J$9:$J$56)+SUMIF('Concert 5'!$E$9:$E$56,Statistiques!A81,'Concert 5'!$J$9:$J$56)","v":0},null,null,{"$f":"SUMIF('Concert 1'!$E$9:$E$56,Statistiques!A81,'Concert 1'!$I$9:$I$56)","v":0},{"$f":"SUMIF('Concert 1'!$E$9:$E$56,Statistiques!A81,'Concert 1'!$J$9:$J$56)","v":0},{"$f":"SUMIF('Concert 2'!$E$9:$E$56,Statistiques!A81,'Concert 2'!$I$9:$I$56)","v":0},{"$f":"SUMIF('Concert 2'!$E$9:$E$56,Statistiques!A81,'Concert 2'!$J$9:$J$56)","v":0},{"$f":"SUMIF('Concert 3'!$E$9:$E$56,Statistiques!A81,'Concert 3'!$I$9:$I$56)","v":0},{"$f":"SUMIF('Concert 3'!$E$9:$E$56,Statistiques!A81,'Concert 3'!$J$9:$J$56)","v":0},{"$f":"SUMIF('Concert 4'!$E$9:$E$56,Statistiques!A81,'Concert 4'!$I$9:$I$56)","v":0},{"$f":"SUMIF('Concert 4'!$E$9:$E$56,Statistiques!A81,'Concert 4'!$J$9:$J$56)","v":0},{"$f":"SUMIF('Concert 5'!$E$9:$E$56,Statistiques!A81,'Concert 5'!$I$9:$I$56)","v":0},{"$f":"SUMIF('Concert 5'!$E$9:$E$56,Statistiques!A81,'Concert 5'!$J$9:$J$56)","v":0}]
[{"$f":"Ecoles!A78","v":0},{"$f":"Ecoles!B78","v":0},{"$f":"Ecoles!C78","v":0},null,{"$f":"SUMIF('Concert 1'!$E$9:$E$56,Statistiques!A82,'Concert 1'!$I$9:$I$56)+SUMIF('Concert 2'!$E$9:$E$56,Statistiques!A82,'Concert 2'!$I$9:$I$56)+SUMIF('Concert 3'!$E$9:$E$56,Statistiques!A82,'Concert 3'!$I$9:$I$56)+SUMIF('Concert 4'!$E$9:$E$56,Statistiques!A82,'Concert 4'!$I$9:$I$56)+SUMIF('Concert 5'!$E$9:$E$56,Statistiques!A82,'Concert 5'!$I$9:$I$56)","v":0},{"$f":"SUMIF('Concert 1'!$E$9:$E$56,Statistiques!A82,'Concert 1'!$J$9:$J$56)+SUMIF('Concert 2'!$E$9:$E$56,Statistiques!A82,'Concert 2'!$J$9:$J$56)+SUMIF('Concert 3'!$E$9:$E$56,Statistiques!A82,'Concert 3'!$J$9:$J$56)+SUMIF('Concert 4'!$E$9:$E$56,Statistiques!A82,'Concert 4'!$J$9:$J$56)+SUMIF('Concert 5'!$E$9:$E$56,Statistiques!A82,'Concert 5'!$J$9:$J$56)","v":0},null,null,{"$f":"SUMIF('Concert 1'!$E$9:$E$56,Statistiques!A82,'Concert 1'!$I$9:$I$56)","v":0},{"$f":"SUMIF('Concert 1'!$E$9:$E$56,Statistiques!A82,'Concert 1'!$J$9:$J$56)","v":0},{"$f":"SUMIF('Concert 2'!$E$9:$E$56,Statistiques!A82,'Concert 2'!$I$9:$I$56)","v":0},{"$f":"SUMIF('Concert 2'!$E$9:$E$56,Statistiques!A82,'Concert 2'!$J$9:$J$56)","v":0},{"$f":"SUMIF('Concert 3'!$E$9:$E$56,Statistiques!A82,'Concert 3'!$I$9:$I$56)","v":0},{"$f":"SUMIF('Concert 3'!$E$9:$E$56,Statistiques!A82,'Concert 3'!$J$9:$J$56)","v":0},{"$f":"SUMIF('Concert 4'!$E$9:$E$56,Statistiques!A82,'Concert 4'!$I$9:$I$56)","v":0},{"$f":"SUMIF('Concert 4'!$E$9:$E$56,Statistiques!A82,'Concert 4'!$J$9:$J$56)","v":0},{"$f":"SUMIF('Concert 5'!$E$9:$E$56,Statistiques!A82,'Concert 5'!$I$9:$I$56)","v":0},{"$f":"SUMIF('Concert 5'!$E$9:$E$56,Statistiques!A82,'Concert 5'!$J$9:$J$56)","v":0}]
[{"$f":"Ecoles!A79","v":0},{"$f":"Ecoles!B79","v":0},{"$f":"Ecoles!C79","v":0},null,{"$f":"SUMIF('Concert 1'!$E$9:$E$56,Statistiques!A83,'Concert 1'!$I$9:$I$56)+SUMIF('Concert 2'!$E$9:$E$56,Statistiques!A83,'Concert 2'!$I$9:$I$56)+SUMIF('Concert 3'!$E$9:$E$56,Statistiques!A83,'Concert 3'!$I$9:$I$56)+SUMIF('Concert 4'!$E$9:$E$56,Statistiques!A83,'Concert 4'!$I$9:$I$56)+SUMIF('Concert 5'!$E$9:$E$56,Statistiques!A83,'Concert 5'!$I$9:$I$56)","v":0},{"$f":"SUMIF('Concert 1'!$E$9:$E$56,Statistiques!A83,'Concert 1'!$J$9:$J$56)+SUMIF('Concert 2'!$E$9:$E$56,Statistiques!A83,'Concert 2'!$J$9:$J$56)+SUMIF('Concert 3'!$E$9:$E$56,Statistiques!A83,'Concert 3'!$J$9:$J$56)+SUMIF('Concert 4'!$E$9:$E$56,Statistiques!A83,'Concert 4'!$J$9:$J$56)+SUMIF('Concert 5'!$E$9:$E$56,Statistiques!A83,'Concert 5'!$J$9:$J$56)","v":0},null,null,{"$f":"SUMIF('Concert 1'!$E$9:$E$56,Statistiques!A83,'Concert 1'!$I$9:$I$56)","v":0},{"$f":"SUMIF('Concert 1'!$E$9:$E$56,Statistiques!A83,'Concert 1'!$J$9:$J$56)","v":0},{"$f":"SUMIF('Concert 2'!$E$9:$E$56,Statistiques!A83,'Concert 2'!$I$9:$I$56)","v":0},{"$f":"SUMIF('Concert 2'!$E$9:$E$56,Statistiques!A83,'Concert 2'!$J$9:$J$56)","v":0},{"$f":"SUMIF('Concert 3'!$E$9:$E$56,Statistiques!A83,'Concert 3'!$I$9:$I$56)","v":0},{"$f":"SUMIF('Concert 3'!$E$9:$E$56,Statistiques!A83,'Concert 3'!$J$9:$J$56)","v":0},{"$f":"SUMIF('Concert 4'!$E$9:$E$56,Statistiques!A83,'Concert 4'!$I$9:$I$56)","v":0},{"$f":"SUMIF('Concert 4'!$E$9:$E$56,Statistiques!A83,'Concert 4'!$J$9:$J$56)","v":0},{"$f":"SUMIF('Concert 5'!$E$9:$E$56,Statistiques!A83,'Concert 5'!$I$9:$I$56)","v":0},{"$f":"SUMIF('Concert 5'!$E$9:$E$56,Statistiques!A83,'Concert 5'!$J$9:$J$56)","v":0}]
[{"$f":"Ecoles!A80","v":0},{"$f":"Ecoles!B80","v":0},{"$f":"Ecoles!C80","v":0},null,{"$f":"SUMIF('Concert 1'!$E$9:$E$56,Statistiques!A84,'Concert 1'!$I$9:$I$56)+SUMIF('Concert 2'!$E$9:$E$56,Statistiques!A84,'Concert 2'!$I$9:$I$56)+SUMIF('Concert 3'!$E$9:$E$56,Statistiques!A84,'Concert 3'!$I$9:$I$56)+SUMIF('Concert 4'!$E$9:$E$56,Statistiques!A84,'Concert 4'!$I$9:$I$56)+SUMIF('Concert 5'!$E$9:$E$56,Statistiques!A84,'Concert 5'!$I$9:$I$56)","v":0},{"$f":"SUMIF('Concert 1'!$E$9:$E$56,Statistiques!A84,'Concert 1'!$J$9:$J$56)+SUMIF('Concert 2'!$E$9:$E$56,Statistiques!A84,'Concert 2'!$J$9:$J$56)+SUMIF('Concert 3'!$E$9:$E$56,Statistiques!A84,'Concert 3'!$J$9:$J$56)+SUMIF('Concert 4'!$E$9:$E$56,Statistiques!A84,'Concert 4'!$J$9:$J$56)+SUMIF('Concert 5'!$E$9:$E$56,Statistiques!A84,'Concert 5'!$J$9:$J$56)","v":0},null,null,{"$f":"SUMIF('Concert 1'!$E$9:$E$56,Statistiques!A84,'Concert 1'!$I$9:$I$56)","v":0},{"$f":"SUMIF('Concert 1'!$E$9:$E$56,Statistiques!A84,'Concert 1'!$J$9:$J$56)","v":0},{"$f":"SUMIF('Concert 2'!$E$9:$E$56,Statistiques!A84,'Concert 2'!$I$9:$I$56)","v":0},{"$f":"SUMIF('Concert 2'!$E$9:$E$56,Statistiques!A84,'Concert 2'!$J$9:$J$56)","v":0},{"$f":"SUMIF('Concert 3'!$E$9:$E$56,Statistiques!A84,'Concert 3'!$I$9:$I$56)","v":0},{"$f":"SUMIF('Concert 3'!$E$9:$E$56,Statistiques!A84,'Concert 3'!$J$9:$J$56)","v":0},{"$f":"SUMIF('Concert 4'!$E$9:$E$56,Statistiques!A84,'Concert 4'!$I$9:$I$56)","v":0},{"$f":"SUMIF('Concert 4'!$E$9:$E$56,Statistiques!A84,'Concert 4'!$J$9:$J$56)","v":0},{"$f":"SUMIF('Concert 5'!$E$9:$E$56,Statistiques!A84,'Concert 5'!$I$9:$I$56)","v":0},{"$f":"SUMIF('Concert 5'!$E$9:$E$56,Statistiques!A84,'Concert 5'!$J$9:$J$56)","v":0}]
[{"$f":"Ecoles!A81","v":0},{"$f":"Ecoles!B81","v":0},{"$f":"Ecoles!C81","v":0},null,{"$f":"SUMIF('Concert 1'!$E$9:$E$56,Statistiques!A85,'Concert 1'!$I$9:$I$56)+SUMIF('Concert 2'!$E$9:$E$56,Statistiques!A85,'Concert 2'!$I$9:$I$56)+SUMIF('Concert 3'!$E$9:$E$56,Statistiques!A85,'Concert 3'!$I$9:$I$56)+SUMIF('Concert 4'!$E$9:$E$56,Statistiques!A85,'Concert 4'!$I$9:$I$56)+SUMIF('Concert 5'!$E$9:$E$56,Statistiques!A85,'Concert 5'!$I$9:$I$56)","v":0},{"$f":"SUMIF('Concert 1'!$E$9:$E$56,Statistiques!A85,'Concert 1'!$J$9:$J$56)+SUMIF('Concert 2'!$E$9:$E$56,Statistiques!A85,'Concert 2'!$J$9:$J$56)+SUMIF('Concert 3'!$E$9:$E$56,Statistiques!A85,'Concert 3'!$J$9:$J$56)+SUMIF('Concert 4'!$E$9:$E$56,Statistiques!A85,'Concert 4'!$J$9:$J$56)+SUMIF('Concert 5'!$E$9:$E$56,Statistiques!A85,'Concert 5'!$J$9:$J$56)","v":0},null,null,{"$f":"SUMIF('Concert 1'!$E$9:$E$56,Statistiques!A85,'Concert 1'!$I$9:$I$56)","v":0},{"$f":"SUMIF('Concert 1'!$E$9:$E$56,Statistiques!A85,'Concert 1'!$J$9:$J$56)","v":0},{"$f":"SUMIF('Concert 2'!$E$9:$E$56,Statistiques!A85,'Concert 2'!$I$9:$I$56)","v":0},{"$f":"SUMIF('Concert 2'!$E$9:$E$56,Statistiques!A85,'Concert 2'!$J$9:$J$56)","v":0},{"$f":"SUMIF('Concert 3'!$E$9:$E$56,Statistiques!A85,'Concert 3'!$I$9:$I$56)","v":0},{"$f":"SUMIF('Concert 3'!$E$9:$E$56,Statistiques!A85,'Concert 3'!$J$9:$J$56)","v":0},{"$f":"SUMIF('Concert 4'!$E$9:$E$56,Statistiques!A85,'Concert 4'!$I$9:$I$56)","v":0},{"$f":"SUMIF('Concert 4'!$E$9:$E$56,Statistiques!A85,'Concert 4'!$J$9:$J$56)","v":0},{"$f":"SUMIF('Concert 5'!$E$9:$E$56,Statistiques!A85,'Concert 5'!$I$9:$I$56)","v":0},{"$f":"SUMIF('Concert 5'!$E$9:$E$56,Statistiques!A85,'Concert 5'!$J$9:$J$56)","v":0}]
[{"$f":"Ecoles!A82","v":0},{"$f":"Ecoles!B82","v":0},{"$f":"Ecoles!C82","v":0},null,{"$f":"SUMIF('Concert 1'!$E$9:$E$56,Statistiques!A86,'Concert 1'!$I$9:$I$56)+SUMIF('Concert 2'!$E$9:$E$56,Statistiques!A86,'Concert 2'!$I$9:$I$56)+SUMIF('Concert 3'!$E$9:$E$56,Statistiques!A86,'Concert 3'!$I$9:$I$56)+SUMIF('Concert 4'!$E$9:$E$56,Statistiques!A86,'Concert 4'!$I$9:$I$56)+SUMIF('Concert 5'!$E$9:$E$56,Statistiques!A86,'Concert 5'!$I$9:$I$56)","v":0},{"$f":"SUMIF('Concert 1'!$E$9:$E$56,Statistiques!A86,'Concert 1'!$J$9:$J$56)+SUMIF('Concert 2'!$E$9:$E$56,Statistiques!A86,'Concert 2'!$J$9:$J$56)+SUMIF('Concert 3'!$E$9:$E$56,Statistiques!A86,'Concert 3'!$J$9:$J$56)+SUMIF('Concert 4'!$E$9:$E$56,Statistiques!A86,'Concert 4'!$J$9:$J$56)+SUMIF('Concert 5'!$E$9:$E$56,Statistiques!A86,'Concert 5'!$J$9:$J$56)","v":0},null,null,{"$f":"SUMIF('Concert 1'!$E$9:$E$56,Statistiques!A86,'Concert 1'!$I$9:$I$56)","v":0},{"$f":"SUMIF('Concert 1'!$E$9:$E$56,Statistiques!A86,'Concert 1'!$J$9:$J$56)","v":0},{"$f":"SUMIF('Concert 2'!$E$9:$E$56,Statistiques!A86,'Concert 2'!$I$9:$I$56)","v":0},{"$f":"SUMIF('Concert 2'!$E$9:$E$56,Statistiques!A86,'Concert 2'!$J$9:$J$56)","v":0},{"$f":"SUMIF('Concert 3'!$E$9:$E$56,Statistiques!A86,'Concert 3'!$I$9:$I$56)","v":0},{"$f":"SUMIF('Concert 3'!$E$9:$E$56,Statistiques!A86,'Concert 3'!$J$9:$J$56)","v":0},{"$f":"SUMIF('Concert 4'!$E$9:$E$56,Statistiques!A86,'Concert 4'!$I$9:$I$56)","v":0},{"$f":"SUMIF('Concert 4'!$E$9:$E$56,Statistiques!A86,'Concert 4'!$J$9:$J$56)","v":0},{"$f":"SUMIF('Concert 5'!$E$9:$E$56,Statistiques!A86,'Concert 5'!$I$9:$I$56)","v":0},{"$f":"SUMIF('Concert 5'!$E$9:$E$56,Statistiques!A86,'Concert 5'!$J$9:$J$56)","v":0}]
[{"$f":"Ecoles!A83","v":0},{"$f":"Ecoles!B83","v":0},{"$f":"Ecoles!C83","v":0},null,{"$f":"SUMIF('Concert 1'!$E$9:$E$56,Statistiques!A87,'Concert 1'!$I$9:$I$56)+SUMIF('Concert 2'!$E$9:$E$56,Statistiques!A87,'Concert 2'!$I$9:$I$56)+SUMIF('Concert 3'!$E$9:$E$56,Statistiques!A87,'Concert 3'!$I$9:$I$56)+SUMIF('Concert 4'!$E$9:$E$56,Statistiques!A87,'Concert 4'!$I$9:$I$56)+SUMIF('Concert 5'!$E$9:$E$56,Statistiques!A87,'Concert 5'!$I$9:$I$56)","v":0},{"$f":"SUMIF('Concert 1'!$E$9:$E$56,Statistiques!A87,'Concert 1'!$J$9:$J$56)+SUMIF('Concert 2'!$E$9:$E$56,Statistiques!A87,'Concert 2'!$J$9:$J$56)+SUMIF('Concert 3'!$E$9:$E$56,Statistiques!A87,'Concert 3'!$J$9:$J$56)+SUMIF('Concert 4'!$E$9:$E$56,Statistiques!A87,'Concert 4'!$J$9:$J$56)+SUMIF('Concert 5'!$E$9:$E$56,Statistiques!A87,'Concert 5'!$J$9:$J$56)","v":0},null,null,{"$f":"SUMIF('Concert 1'!$E$9:$E$56,Statistiques!A87,'Concert 1'!$I$9:$I$56)","v":0},{"$f":"SUMIF('Concert 1'!$E$9:$E$56,Statistiques!A87,'Concert 1'!$J$9:$J$56)","v":0},{"$f":"SUMIF('Concert 2'!$E$9:$E$56,Statistiques!A87,'Concert 2'!$I$9:$I$56)","v":0},{"$f":"SUMIF('Concert 2'!$E$9:$E$56,Statistiques!A87,'Concert 2'!$J$9:$J$56)","v":0},{"$f":"SUMIF('Concert 3'!$E$9:$E$56,Statistiques!A87,'Concert 3'!$I$9:$I$56)","v":0},{"$f":"SUMIF('Concert 3'!$E$9:$E$56,Statistiques!A87,'Concert 3'!$J$9:$J$56)","v":0},{"$f":"SUMIF('Concert 4'!$E$9:$E$56,Statistiques!A87,'Concert 4'!$I$9:$I$56)","v":0},{"$f":"SUMIF('Concert 4'!$E$9:$E$56,Statistiques!A87,'Concert 4'!$J$9:$J$56)","v":0},{"$f":"SUMIF('Concert 5'!$E$9:$E$56,Statistiques!A87,'Concert 5'!$I$9:$I$56)","v":0},{"$f":"SUMIF('Concert 5'!$E$9:$E$56,Statistiques!A87,'Concert 5'!$J$9:$J$56)","v":0}]
[{"$f":"Ecoles!A84","v":0},{"$f":"Ecoles!B84","v":0},{"$f":"Ecoles!C84","v":0},null,{"$f":"SUMIF('Concert 1'!$E$9:$E$56,Statistiques!A88,'Concert 1'!$I$9:$I$56)+SUMIF('Concert 2'!$E$9:$E$56,Statistiques!A88,'Concert 2'!$I$9:$I$56)+SUMIF('Concert 3'!$E$9:$E$56,Statistiques!A88,'Concert 3'!$I$9:$I$56)+SUMIF('Concert 4'!$E$9:$E$56,Statistiques!A88,'Concert 4'!$I$9:$I$56)+SUMIF('Concert 5'!$E$9:$E$56,Statistiques!A88,'Concert 5'!$I$9:$I$56)","v":0},{"$f":"SUMIF('Concert 1'!$E$9:$E$56,Statistiques!A88,'Concert 1'!$J$9:$J$56)+SUMIF('Concert 2'!$E$9:$E$56,Statistiques!A88,'Concert 2'!$J$9:$J$56)+SUMIF('Concert 3'!$E$9:$E$56,Statistiques!A88,'Concert 3'!$J$9:$J$56)+SUMIF('Concert 4'!$E$9:$E$56,Statistiques!A88,'Concert 4'!$J$9:$J$56)+SUMIF('Concert 5'!$E$9:$E$56,Statistiques!A88,'Concert 5'!$J$9:$J$56)","v":0},null,null,{"$f":"SUMIF('Concert 1'!$E$9:$E$56,Statistiques!A88,'Concert 1'!$I$9:$I$56)","v":0},{"$f":"SUMIF('Concert 1'!$E$9:$E$56,Statistiques!A88,'Concert 1'!$J$9:$J$56)","v":0},{"$f":"SUMIF('Concert 2'!$E$9:$E$56,Statistiques!A88,'Concert 2'!$I$9:$I$56)","v":0},{"$f":"SUMIF('Concert 2'!$E$9:$E$56,Statistiques!A88,'Concert 2'!$J$9:$J$56)","v":0},{"$f":"SUMIF('Concert 3'!$E$9:$E$56,Statistiques!A88,'Concert 3'!$I$9:$I$56)","v":0},{"$f":"SUMIF('Concert 3'!$E$9:$E$56,Statistiques!A88,'Concert 3'!$J$9:$J$56)","v":0},{"$f":"SUMIF('Concert 4'!$E$9:$E$56,Statistiques!A88,'Concert 4'!$I$9:$I$56)","v":0},{"$f":"SUMIF('Concert 4'!$E$9:$E$56,Statistiques!A88,'Concert 4'!$J$9:$J$56)","v":0},{"$f":"SUMIF('Concert 5'!$E$9:$E$56,Statistiques!A88,'Concert 5'!$I$9:$I$56)","v":0},{"$f":"SUMIF('Concert 5'!$E$9:$E$56,Statistiques!A88,'Concert 5'!$J$9:$J$56)","v":0}]
[{"$f":"Ecoles!A85","v":0},{"$f":"Ecoles!B85","v":0},{"$f":"Ecoles!C85","v":0},null,{"$f":"SUMIF('Concert 1'!$E$9:$E$56,Statistiques!A89,'Concert 1'!$I$9:$I$56)+SUMIF('Concert 2'!$E$9:$E$56,Statistiques!A89,'Concert 2'!$I$9:$I$56)+SUMIF('Concert 3'!$E$9:$E$56,Statistiques!A89,'Concert 3'!$I$9:$I$56)+SUMIF('Concert 4'!$E$9:$E$56,Statistiques!A89,'Concert 4'!$I$9:$I$56)+SUMIF('Concert 5'!$E$9:$E$56,Statistiques!A89,'Concert 5'!$I$9:$I$56)","v":0},{"$f":"SUMIF('Concert 1'!$E$9:$E$56,Statistiques!A89,'Concert 1'!$J$9:$J$56)+SUMIF('Concert 2'!$E$9:$E$56,Statistiques!A89,'Concert 2'!$J$9:$J$56)+SUMIF('Concert 3'!$E$9:$E$56,Statistiques!A89,'Concert 3'!$J$9:$J$56)+SUMIF('Concert 4'!$E$9:$E$56,Statistiques!A89,'Concert 4'!$J$9:$J$56)+SUMIF('Concert 5'!$E$9:$E$56,Statistiques!A89,'Concert 5'!$J$9:$J$56)","v":0},null,null,{"$f":"SUMIF('Concert 1'!$E$9:$E$56,Statistiques!A89,'Concert 1'!$I$9:$I$56)","v":0},{"$f":"SUMIF('Concert 1'!$E$9:$E$56,Statistiques!A89,'Concert 1'!$J$9:$J$56)","v":0},{"$f":"SUMIF('Concert 2'!$E$9:$E$56,Statistiques!A89,'Concert 2'!$I$9:$I$56)","v":0},{"$f":"SUMIF('Concert 2'!$E$9:$E$56,Statistiques!A89,'Concert 2'!$J$9:$J$56)","v":0},{"$f":"SUMIF('Concert 3'!$E$9:$E$56,Statistiques!A89,'Concert 3'!$I$9:$I$56)","v":0},{"$f":"SUMIF('Concert 3'!$E$9:$E$56,Statistiques!A89,'Concert 3'!$J$9:$J$56)","v":0},{"$f":"SUMIF('Concert 4'!$E$9:$E$56,Statistiques!A89,'Concert 4'!$I$9:$I$56)","v":0},{"$f":"SUMIF('Concert 4'!$E$9:$E$56,Statistiques!A89,'Concert 4'!$J$9:$J$56)","v":0},{"$f":"SUMIF('Concert 5'!$E$9:$E$56,Statistiques!A89,'Concert 5'!$I$9:$I$56)","v":0},{"$f":"SUMIF('Concert 5'!$E$9:$E$56,Statistiques!A89,'Concert 5'!$J$9:$J$56)","v":0}]
[{"$f":"Ecoles!A86","v":0},{"$f":"Ecoles!B86","v":0},{"$f":"Ecoles!C86","v":0},null,{"$f":"SUMIF('Concert 1'!$E$9:$E$56,Statistiques!A90,'Concert 1'!$I$9:$I$56)+SUMIF('Concert 2'!$E$9:$E$56,Statistiques!A90,'Concert 2'!$I$9:$I$56)+SUMIF('Concert 3'!$E$9:$E$56,Statistiques!A90,'Concert 3'!$I$9:$I$56)+SUMIF('Concert 4'!$E$9:$E$56,Statistiques!A90,'Concert 4'!$I$9:$I$56)+SUMIF('Concert 5'!$E$9:$E$56,Statistiques!A90,'Concert 5'!$I$9:$I$56)","v":0},{"$f":"SUMIF('Concert 1'!$E$9:$E$56,Statistiques!A90,'Concert 1'!$J$9:$J$56)+SUMIF('Concert 2'!$E$9:$E$56,Statistiques!A90,'Concert 2'!$J$9:$J$56)+SUMIF('Concert 3'!$E$9:$E$56,Statistiques!A90,'Concert 3'!$J$9:$J$56)+SUMIF('Concert 4'!$E$9:$E$56,Statistiques!A90,'Concert 4'!$J$9:$J$56)+SUMIF('Concert 5'!$E$9:$E$56,Statistiques!A90,'Concert 5'!$J$9:$J$56)","v":0},null,null,{"$f":"SUMIF('Concert 1'!$E$9:$E$56,Statistiques!A90,'Concert 1'!$I$9:$I$56)","v":0},{"$f":"SUMIF('Concert 1'!$E$9:$E$56,Statistiques!A90,'Concert 1'!$J$9:$J$56)","v":0},{"$f":"SUMIF('Concert 2'!$E$9:$E$56,Statistiques!A90,'Concert 2'!$I$9:$I$56)","v":0},{"$f":"SUMIF('Concert 2'!$E$9:$E$56,Statistiques!A90,'Concert 2'!$J$9:$J$56)","v":0},{"$f":"SUMIF('Concert 3'!$E$9:$E$56,Statistiques!A90,'Concert 3'!$I$9:$I$56)","v":0},{"$f":"SUMIF('Concert 3'!$E$9:$E$56,Statistiques!A90,'Concert 3'!$J$9:$J$56)","v":0},{"$f":"SUMIF('Concert 4'!$E$9:$E$56,Statistiques!A90,'Concert 4'!$I$9:$I$56)","v":0},{"$f":"SUMIF('Concert 4'!$E$9:$E$56,Statistiques!A90,'Concert 4'!$J$9:$J$56)","v":0},{"$f":"SUMIF('Concert 5'!$E$9:$E$56,Statistiques!A90,'Concert 5'!$I$9:$I$56)","v":0},{"$f":"SUMIF('Concert 5'!$E$9:$E$56,Statistiques!A90,'Concert 5'!$J$9:$J$56)","v":0}]
[{"$f":"Ecoles!A87","v":0},{"$f":"Ecoles!B87","v":0},{"$f":"Ecoles!C87","v":0},null,{"$f":"SUMIF('Concert 1'!$E$9:$E$56,Statistiques!A91,'Concert 1'!$I$9:$I$56)+SUMIF('Concert 2'!$E$9:$E$56,Statistiques!A91,'Concert 2'!$I$9:$I$56)+SUMIF('Concert 3'!$E$9:$E$56,Statistiques!A91,'Concert 3'!$I$9:$I$56)+SUMIF('Concert 4'!$E$9:$E$56,Statistiques!A91,'Concert 4'!$I$9:$I$56)+SUMIF('Concert 5'!$E$9:$E$56,Statistiques!A91,'Concert 5'!$I$9:$I$56)","v":0},{"$f":"SUMIF('Concert 1'!$E$9:$E$56,Statistiques!A91,'Concert 1'!$J$9:$J$56)+SUMIF('Concert 2'!$E$9:$E$56,Statistiques!A91,'Concert 2'!$J$9:$J$56)+SUMIF('Concert 3'!$E$9:$E$56,Statistiques!A91,'Concert 3'!$J$9:$J$56)+SUMIF('Concert 4'!$E$9:$E$56,Statistiques!A91,'Concert 4'!$J$9:$J$56)+SUMIF('Concert 5'!$E$9:$E$56,Statistiques!A91,'Concert 5'!$J$9:$J$56)","v":0},null,null,{"$f":"SUMIF('Concert 1'!$E$9:$E$56,Statistiques!A91,'Concert 1'!$I$9:$I$56)","v":0},{"$f":"SUMIF('Concert 1'!$E$9:$E$56,Statistiques!A91,'Concert 1'!$J$9:$J$56)","v":0},{"$f":"SUMIF('Concert 2'!$E$9:$E$56,Statistiques!A91,'Concert 2'!$I$9:$I$56)","v":0},{"$f":"SUMIF('Concert 2'!$E$9:$E$56,Statistiques!A91,'Concert 2'!$J$9:$J$56)","v":0},{"$f":"SUMIF('Concert 3'!$E$9:$E$56,Statistiques!A91,'Concert 3'!$I$9:$I$56)","v":0},{"$f":"SUMIF('Concert 3'!$E$9:$E$56,Statistiques!A91,'Concert 3'!$J$9:$J$56)","v":0},{"$f":"SUMIF('Concert 4'!$E$9:$E$56,Statistiques!A91,'Concert 4'!$I$9:$I$56)","v":0},{"$f":"SUMIF('Concert 4'!$E$9:$E$56,Statistiques!A91,'Concert 4'!$J$9:$J$56)","v":0},{"$f":"SUMIF('Concert 5'!$E$9:$E$56,Statistiques!A91,'Concert 5'!$I$9:$I$56)","v":0},{"$f":"SUMIF('Concert 5'!$E$9:$E$56,Statistiques!A91,'Concert 5'!$J$9:$J$56)","v":0}]
[{"$f":"Ecoles!A88","v":0},{"$f":"Ecoles!B88","v":0},{"$f":"Ecoles!C88","v":0},null,{"$f":"SUMIF('Concert 1'!$E$9:$E$56,Statistiques!A92,'Concert 1'!$I$9:$I$56)+SUMIF('Concert 2'!$E$9:$E$56,Statistiques!A92,'Concert 2'!$I$9:$I$56)+SUMIF('Concert 3'!$E$9:$E$56,Statistiques!A92,'Concert 3'!$I$9:$I$56)+SUMIF('Concert 4'!$E$9:$E$56,Statistiques!A92,'Concert 4'!$I$9:$I$56)+SUMIF('Concert 5'!$E$9:$E$56,Statistiques!A92,'Concert 5'!$I$9:$I$56)","v":0},{"$f":"SUMIF('Concert 1'!$E$9:$E$56,Statistiques!A92,'Concert 1'!$J$9:$J$56)+SUMIF('Concert 2'!$E$9:$E$56,Statistiques!A92,'Concert 2'!$J$9:$J$56)+SUMIF('Concert 3'!$E$9:$E$56,Statistiques!A92,'Concert 3'!$J$9:$J$56)+SUMIF('Concert 4'!$E$9:$E$56,Statistiques!A92,'Concert 4'!$J$9:$J$56)+SUMIF('Concert 5'!$E$9:$E$56,Statistiques!A92,'Concert 5'!$J$9:$J$56)","v":0},null,null,{"$f":"SUMIF('Concert 1'!$E$9:$E$56,Statistiques!A92,'Concert 1'!$I$9:$I$56)","v":0},{"$f":"SUMIF('Concert 1'!$E$9:$E$56,Statistiques!A92,'Concert 1'!$J$9:$J$56)","v":0},{"$f":"SUMIF('Concert 2'!$E$9:$E$56,Statistiques!A92,'Concert 2'!$I$9:$I$56)","v":0},{"$f":"SUMIF('Concert 2'!$E$9:$E$56,Statistiques!A92,'Concert 2'!$J$9:$J$56)","v":0},{"$f":"SUMIF('Concert 3'!$E$9:$E$56,Statistiques!A92,'Concert 3'!$I$9:$I$56)","v":0},{"$f":"SUMIF('Concert 3'!$E$9:$E$56,Statistiques!A92,'Concert 3'!$J$9:$J$56)","v":0},{"$f":"SUMIF('Concert 4'!$E$9:$E$56,Statistiques!A92,'Concert 4'!$I$9:$I$56)","v":0},{"$f":"SUMIF('Concert 4'!$E$9:$E$56,Statistiques!A92,'Concert 4'!$J$9:$J$56)","v":0},{"$f":"SUMIF('Concert 5'!$E$9:$E$56,Statistiques!A92,'Concert 5'!$I$9:$I$56)","v":0},{"$f":"SUMIF('Concert 5'!$E$9:$E$56,Statistiques!A92,'Concert 5'!$J$9:$J$56)","v":0}]
[{"$f":"Ecoles!A89","v":0},{"$f":"Ecoles!B89","v":0},{"$f":"Ecoles!C89","v":0},null,{"$f":"SUMIF('Concert 1'!$E$9:$E$56,Statistiques!A93,'Concert 1'!$I$9:$I$56)+SUMIF('Concert 2'!$E$9:$E$56,Statistiques!A93,'Concert 2'!$I$9:$I$56)+SUMIF('Concert 3'!$E$9:$E$56,Statistiques!A93,'Concert 3'!$I$9:$I$56)+SUMIF('Concert 4'!$E$9:$E$56,Statistiques!A93,'Concert 4'!$I$9:$I$56)+SUMIF('Concert 5'!$E$9:$E$56,Statistiques!A93,'Concert 5'!$I$9:$I$56)","v":0},{"$f":"SUMIF('Concert 1'!$E$9:$E$56,Statistiques!A93,'Concert 1'!$J$9:$J$56)+SUMIF('Concert 2'!$E$9:$E$56,Statistiques!A93,'Concert 2'!$J$9:$J$56)+SUMIF('Concert 3'!$E$9:$E$56,Statistiques!A93,'Concert 3'!$J$9:$J$56)+SUMIF('Concert 4'!$E$9:$E$56,Statistiques!A93,'Concert 4'!$J$9:$J$56)+SUMIF('Concert 5'!$E$9:$E$56,Statistiques!A93,'Concert 5'!$J$9:$J$56)","v":0},null,null,{"$f":"SUMIF('Concert 1'!$E$9:$E$56,Statistiques!A93,'Concert 1'!$I$9:$I$56)","v":0},{"$f":"SUMIF('Concert 1'!$E$9:$E$56,Statistiques!A93,'Concert 1'!$J$9:$J$56)","v":0},{"$f":"SUMIF('Concert 2'!$E$9:$E$56,Statistiques!A93,'Concert 2'!$I$9:$I$56)","v":0},{"$f":"SUMIF('Concert 2'!$E$9:$E$56,Statistiques!A93,'Concert 2'!$J$9:$J$56)","v":0},{"$f":"SUMIF('Concert 3'!$E$9:$E$56,Statistiques!A93,'Concert 3'!$I$9:$I$56)","v":0},{"$f":"SUMIF('Concert 3'!$E$9:$E$56,Statistiques!A93,'Concert 3'!$J$9:$J$56)","v":0},{"$f":"SUMIF('Concert 4'!$E$9:$E$56,Statistiques!A93,'Concert 4'!$I$9:$I$56)","v":0},{"$f":"SUMIF('Concert 4'!$E$9:$E$56,Statistiques!A93,'Concert 4'!$J$9:$J$56)","v":0},{"$f":"SUMIF('Concert 5'!$E$9:$E$56,Statistiques!A93,'Concert 5'!$I$9:$I$56)","v":0},{"$f":"SUMIF('Concert 5'!$E$9:$E$56,Statistiques!A93,'Concert 5'!$J$9:$J$56)","v":0}]
[{"$f":"Ecoles!A90","v":0},{"$f":"Ecoles!B90","v":0},{"$f":"Ecoles!C90","v":0},null,{"$f":"SUMIF('Concert 1'!$E$9:$E$56,Statistiques!A94,'Concert 1'!$I$9:$I$56)+SUMIF('Concert 2'!$E$9:$E$56,Statistiques!A94,'Concert 2'!$I$9:$I$56)+SUMIF('Concert 3'!$E$9:$E$56,Statistiques!A94,'Concert 3'!$I$9:$I$56)+SUMIF('Concert 4'!$E$9:$E$56,Statistiques!A94,'Concert 4'!$I$9:$I$56)+SUMIF('Concert 5'!$E$9:$E$56,Statistiques!A94,'Concert 5'!$I$9:$I$56)","v":0},{"$f":"SUMIF('Concert 1'!$E$9:$E$56,Statistiques!A94,'Concert 1'!$J$9:$J$56)+SUMIF('Concert 2'!$E$9:$E$56,Statistiques!A94,'Concert 2'!$J$9:$J$56)+SUMIF('Concert 3'!$E$9:$E$56,Statistiques!A94,'Concert 3'!$J$9:$J$56)+SUMIF('Concert 4'!$E$9:$E$56,Statistiques!A94,'Concert 4'!$J$9:$J$56)+SUMIF('Concert 5'!$E$9:$E$56,Statistiques!A94,'Concert 5'!$J$9:$J$56)","v":0},null,null,{"$f":"SUMIF('Concert 1'!$E$9:$E$56,Statistiques!A94,'Concert 1'!$I$9:$I$56)","v":0},{"$f":"SUMIF('Concert 1'!$E$9:$E$56,Statistiques!A94,'Concert 1'!$J$9:$J$56)","v":0},{"$f":"SUMIF('Concert 2'!$E$9:$E$56,Statistiques!A94,'Concert 2'!$I$9:$I$56)","v":0},{"$f":"SUMIF('Concert 2'!$E$9:$E$56,Statistiques!A94,'Concert 2'!$J$9:$J$56)","v":0},{"$f":"SUMIF('Concert 3'!$E$9:$E$56,Statistiques!A94,'Concert 3'!$I$9:$I$56)","v":0},{"$f":"SUMIF('Concert 3'!$E$9:$E$56,Statistiques!A94,'Concert 3'!$J$9:$J$56)","v":0},{"$f":"SUMIF('Concert 4'!$E$9:$E$56,Statistiques!A94,'Concert 4'!$I$9:$I$56)","v":0},{"$f":"SUMIF('Concert 4'!$E$9:$E$56,Statistiques!A94,'Concert 4'!$J$9:$J$56)","v":0},{"$f":"SUMIF('Concert 5'!$E$9:$E$56,Statistiques!A94,'Concert 5'!$I$9:$I$56)","v":0},{"$f":"SUMIF('Concert 5'!$E$9:$E$56,Statistiques!A94,'Concert 5'!$J$9:$J$56)","v":0}]
[{"$f":"Ecoles!A91","v":0},{"$f":"Ecoles!B91","v":0},{"$f":"Ecoles!C91","v":0},null,{"$f":"SUMIF('Concert 1'!$E$9:$E$56,Statistiques!A95,'Concert 1'!$I$9:$I$56)+SUMIF('Concert 2'!$E$9:$E$56,Statistiques!A95,'Concert 2'!$I$9:$I$56)+SUMIF('Concert 3'!$E$9:$E$56,Statistiques!A95,'Concert 3'!$I$9:$I$56)+SUMIF('Concert 4'!$E$9:$E$56,Statistiques!A95,'Concert 4'!$I$9:$I$56)+SUMIF('Concert 5'!$E$9:$E$56,Statistiques!A95,'Concert 5'!$I$9:$I$56)","v":0},{"$f":"SUMIF('Concert 1'!$E$9:$E$56,Statistiques!A95,'Concert 1'!$J$9:$J$56)+SUMIF('Concert 2'!$E$9:$E$56,Statistiques!A95,'Concert 2'!$J$9:$J$56)+SUMIF('Concert 3'!$E$9:$E$56,Statistiques!A95,'Concert 3'!$J$9:$J$56)+SUMIF('Concert 4'!$E$9:$E$56,Statistiques!A95,'Concert 4'!$J$9:$J$56)+SUMIF('Concert 5'!$E$9:$E$56,Statistiques!A95,'Concert 5'!$J$9:$J$56)","v":0},null,null,{"$f":"SUMIF('Concert 1'!$E$9:$E$56,Statistiques!A95,'Concert 1'!$I$9:$I$56)","v":0},{"$f":"SUMIF('Concert 1'!$E$9:$E$56,Statistiques!A95,'Concert 1'!$J$9:$J$56)","v":0},{"$f":"SUMIF('Concert 2'!$E$9:$E$56,Statistiques!A95,'Concert 2'!$I$9:$I$56)","v":0},{"$f":"SUMIF('Concert 2'!$E$9:$E$56,Statistiques!A95,'Concert 2'!$J$9:$J$56)","v":0},{"$f":"SUMIF('Concert 3'!$E$9:$E$56,Statistiques!A95,'Concert 3'!$I$9:$I$56)","v":0},{"$f":"SUMIF('Concert 3'!$E$9:$E$56,Statistiques!A95,'Concert 3'!$J$9:$J$56)","v":0},{"$f":"SUMIF('Concert 4'!$E$9:$E$56,Statistiques!A95,'Concert 4'!$I$9:$I$56)","v":0},{"$f":"SUMIF('Concert 4'!$E$9:$E$56,Statistiques!A95,'Concert 4'!$J$9:$J$56)","v":0},{"$f":"SUMIF('Concert 5'!$E$9:$E$56,Statistiques!A95,'Concert 5'!$I$9:$I$56)","v":0},{"$f":"SUMIF('Concert 5'!$E$9:$E$56,Statistiques!A95,'Concert 5'!$J$9:$J$56)","v":0}]
[{"$f":"Ecoles!A92","v":0},{"$f":"Ecoles!B92","v":0},{"$f":"Ecoles!C92","v":0},null,{"$f":"SUMIF('Concert 1'!$E$9:$E$56,Statistiques!A96,'Concert 1'!$I$9:$I$56)+SUMIF('Concert 2'!$E$9:$E$56,Statistiques!A96,'Concert 2'!$I$9:$I$56)+SUMIF('Concert 3'!$E$9:$E$56,Statistiques!A96,'Concert 3'!$I$9:$I$56)+SUMIF('Concert 4'!$E$9:$E$56,Statistiques!A96,'Concert 4'!$I$9:$I$56)+SUMIF('Concert 5'!$E$9:$E$56,Statistiques!A96,'Concert 5'!$I$9:$I$56)","v":0},{"$f":"SUMIF('Concert 1'!$E$9:$E$56,Statistiques!A96,'Concert 1'!$J$9:$J$56)+SUMIF('Concert 2'!$E$9:$E$56,Statistiques!A96,'Concert 2'!$J$9:$J$56)+SUMIF('Concert 3'!$E$9:$E$56,Statistiques!A96,'Concert 3'!$J$9:$J$56)+SUMIF('Concert 4'!$E$9:$E$56,Statistiques!A96,'Concert 4'!$J$9:$J$56)+SUMIF('Concert 5'!$E$9:$E$56,Statistiques!A96,'Concert 5'!$J$9:$J$56)","v":0},null,null,{"$f":"SUMIF('Concert 1'!$E$9:$E$56,Statistiques!A96,'Concert 1'!$I$9:$I$56)","v":0},{"$f":"SUMIF('Concert 1'!$E$9:$E$56,Statistiques!A96,'Concert 1'!$J$9:$J$56)","v":0},{"$f":"SUMIF('Concert 2'!$E$9:$E$56,Statistiques!A96,'Concert 2'!$I$9:$I$56)","v":0},{"$f":"SUMIF('Concert 2'!$E$9:$E$56,Statistiques!A96,'Concert 2'!$J$9:$J$56)","v":0},{"$f":"SUMIF('Concert 3'!$E$9:$E$56,Statistiques!A96,'Concert 3'!$I$9:$I$56)","v":0},{"$f":"SUMIF('Concert 3'!$E$9:$E$56,Statistiques!A96,'Concert 3'!$J$9:$J$56)","v":0},{"$f":"SUMIF('Concert 4'!$E$9:$E$56,Statistiques!A96,'Concert 4'!$I$9:$I$56)","v":0},{"$f":"SUMIF('Concert 4'!$E$9:$E$56,Statistiques!A96,'Concert 4'!$J$9:$J$56)","v":0},{"$f":"SUMIF('Concert 5'!$E$9:$E$56,Statistiques!A96,'Concert 5'!$I$9:$I$56)","v":0},{"$f":"SUMIF('Concert 5'!$E$9:$E$56,Statistiques!A96,'Concert 5'!$J$9:$J$56)","v":0}]
[{"$f":"Ecoles!A93","v":0},{"$f":"Ecoles!B93","v":0},{"$f":"Ecoles!C93","v":0},null,{"$f":"SUMIF('Concert 1'!$E$9:$E$56,Statistiques!A97,'Concert 1'!$I$9:$I$56)+SUMIF('Concert 2'!$E$9:$E$56,Statistiques!A97,'Concert 2'!$I$9:$I$56)+SUMIF('Concert 3'!$E$9:$E$56,Statistiques!A97,'Concert 3'!$I$9:$I$56)+SUMIF('Concert 4'!$E$9:$E$56,Statistiques!A97,'Concert 4'!$I$9:$I$56)+SUMIF('Concert 5'!$E$9:$E$56,Statistiques!A97,'Concert 5'!$I$9:$I$56)","v":0},{"$f":"SUMIF('Concert 1'!$E$9:$E$56,Statistiques!A97,'Concert 1'!$J$9:$J$56)+SUMIF('Concert 2'!$E$9:$E$56,Statistiques!A97,'Concert 2'!$J$9:$J$56)+SUMIF('Concert 3'!$E$9:$E$56,Statistiques!A97,'Concert 3'!$J$9:$J$56)+SUMIF('Concert 4'!$E$9:$E$56,Statistiques!A97,'Concert 4'!$J$9:$J$56)+SUMIF('Concert 5'!$E$9:$E$56,Statistiques!A97,'Concert 5'!$J$9:$J$56)","v":0},null,null,{"$f":"SUMIF('Concert 1'!$E$9:$E$56,Statistiques!A97,'Concert 1'!$I$9:$I$56)","v":0},{"$f":"SUMIF('Concert 1'!$E$9:$E$56,Statistiques!A97,'Concert 1'!$J$9:$J$56)","v":0},{"$f":"SUMIF('Concert 2'!$E$9:$E$56,Statistiques!A97,'Concert 2'!$I$9:$I$56)","v":0},{"$f":"SUMIF('Concert 2'!$E$9:$E$56,Statistiques!A97,'Concert 2'!$J$9:$J$56)","v":0},{"$f":"SUMIF('Concert 3'!$E$9:$E$56,Statistiques!A97,'Concert 3'!$I$9:$I$56)","v":0},{"$f":"SUMIF('Concert 3'!$E$9:$E$56,Statistiques!A97,'Concert 3'!$J$9:$J$56)","v":0},{"$f":"SUMIF('Concert 4'!$E$9:$E$56,Statistiques!A97,'Concert 4'!$I$9:$I$56)","v":0},{"$f":"SUMIF('Concert 4'!$E$9:$E$56,Statistiques!A97,'Concert 4'!$J$9:$J$56)","v":0},{"$f":"SUMIF('Concert 5'!$E$9:$E$56,Statistiques!A97,'Concert 5'!$I$9:$I$56)","v":0},{"$f":"SUMIF('Concert 5'!$E$9:$E$56,Statistiques!A97,'Concert 5'!$J$9:$J$56)","v":0}]
[{"$f":"Ecoles!A94","v":0},{"$f":"Ecoles!B94","v":0},{"$f":"Ecoles!C94","v":0},null,{"$f":"SUMIF('Concert 1'!$E$9:$E$56,Statistiques!A98,'Concert 1'!$I$9:$I$56)+SUMIF('Concert 2'!$E$9:$E$56,Statistiques!A98,'Concert 2'!$I$9:$I$56)+SUMIF('Concert 3'!$E$9:$E$56,Statistiques!A98,'Concert 3'!$I$9:$I$56)+SUMIF('Concert 4'!$E$9:$E$56,Statistiques!A98,'Concert 4'!$I$9:$I$56)+SUMIF('Concert 5'!$E$9:$E$56,Statistiques!A98,'Concert 5'!$I$9:$I$56)","v":0},{"$f":"SUMIF('Concert 1'!$E$9:$E$56,Statistiques!A98,'Concert 1'!$J$9:$J$56)+SUMIF('Concert 2'!$E$9:$E$56,Statistiques!A98,'Concert 2'!$J$9:$J$56)+SUMIF('Concert 3'!$E$9:$E$56,Statistiques!A98,'Concert 3'!$J$9:$J$56)+SUMIF('Concert 4'!$E$9:$E$56,Statistiques!A98,'Concert 4'!$J$9:$J$56)+SUMIF('Concert 5'!$E$9:$E$56,Statistiques!A98,'Concert 5'!$J$9:$J$56)","v":0},null,null,{"$f":"SUMIF('Concert 1'!$E$9:$E$56,Statistiques!A98,'Concert 1'!$I$9:$I$56)","v":0},{"$f":"SUMIF('Concert 1'!$E$9:$E$56,Statistiques!A98,'Concert 1'!$J$9:$J$56)","v":0},{"$f":"SUMIF('Concert 2'!$E$9:$E$56,Statistiques!A98,'Concert 2'!$I$9:$I$56)","v":0},{"$f":"SUMIF('Concert 2'!$E$9:$E$56,Statistiques!A98,'Concert 2'!$J$9:$J$56)","v":0},{"$f":"SUMIF('Concert 3'!$E$9:$E$56,Statistiques!A98,'Concert 3'!$I$9:$I$56)","v":0},{"$f":"SUMIF('Concert 3'!$E$9:$E$56,Statistiques!A98,'Concert 3'!$J$9:$J$56)","v":0},{"$f":"SUMIF('Concert 4'!$E$9:$E$56,Statistiques!A98,'Concert 4'!$I$9:$I$56)","v":0},{"$f":"SUMIF('Concert 4'!$E$9:$E$56,Statistiques!A98,'Concert 4'!$J$9:$J$56)","v":0},{"$f":"SUMIF('Concert 5'!$E$9:$E$56,Statistiques!A98,'Concert 5'!$I$9:$I$56)","v":0},{"$f":"SUMIF('Concert 5'!$E$9:$E$56,Statistiques!A98,'Concert 5'!$J$9:$J$56)","v":0}]
[{"$f":"Ecoles!A95","v":0},{"$f":"Ecoles!B95","v":0},{"$f":"Ecoles!C95","v":0},null,{"$f":"SUMIF('Concert 1'!$E$9:$E$56,Statistiques!A99,'Concert 1'!$I$9:$I$56)+SUMIF('Concert 2'!$E$9:$E$56,Statistiques!A99,'Concert 2'!$I$9:$I$56)+SUMIF('Concert 3'!$E$9:$E$56,Statistiques!A99,'Concert 3'!$I$9:$I$56)+SUMIF('Concert 4'!$E$9:$E$56,Statistiques!A99,'Concert 4'!$I$9:$I$56)+SUMIF('Concert 5'!$E$9:$E$56,Statistiques!A99,'Concert 5'!$I$9:$I$56)","v":0},{"$f":"SUMIF('Concert 1'!$E$9:$E$56,Statistiques!A99,'Concert 1'!$J$9:$J$56)+SUMIF('Concert 2'!$E$9:$E$56,Statistiques!A99,'Concert 2'!$J$9:$J$56)+SUMIF('Concert 3'!$E$9:$E$56,Statistiques!A99,'Concert 3'!$J$9:$J$56)+SUMIF('Concert 4'!$E$9:$E$56,Statistiques!A99,'Concert 4'!$J$9:$J$56)+SUMIF('Concert 5'!$E$9:$E$56,Statistiques!A99,'Concert 5'!$J$9:$J$56)","v":0},null,null,{"$f":"SUMIF('Concert 1'!$E$9:$E$56,Statistiques!A99,'Concert 1'!$I$9:$I$56)","v":0},{"$f":"SUMIF('Concert 1'!$E$9:$E$56,Statistiques!A99,'Concert 1'!$J$9:$J$56)","v":0},{"$f":"SUMIF('Concert 2'!$E$9:$E$56,Statistiques!A99,'Concert 2'!$I$9:$I$56)","v":0},{"$f":"SUMIF('Concert 2'!$E$9:$E$56,Statistiques!A99,'Concert 2'!$J$9:$J$56)","v":0},{"$f":"SUMIF('Concert 3'!$E$9:$E$56,Statistiques!A99,'Concert 3'!$I$9:$I$56)","v":0},{"$f":"SUMIF('Concert 3'!$E$9:$E$56,Statistiques!A99,'Concert 3'!$J$9:$J$56)","v":0},{"$f":"SUMIF('Concert 4'!$E$9:$E$56,Statistiques!A99,'Concert 4'!$I$9:$I$56)","v":0},{"$f":"SUMIF('Concert 4'!$E$9:$E$56,Statistiques!A99,'Concert 4'!$J$9:$J$56)","v":0},{"$f":"SUMIF('Concert 5'!$E$9:$E$56,Statistiques!A99,'Concert 5'!$I$9:$I$56)","v":0},{"$f":"SUMIF('Concert 5'!$E$9:$E$56,Statistiques!A99,'Concert 5'!$J$9:$J$56)","v":0}]
[{"$f":"Ecoles!A96","v":0},{"$f":"Ecoles!B96","v":0},{"$f":"Ecoles!C96","v":0},null,{"$f":"SUMIF('Concert 1'!$E$9:$E$56,Statistiques!A100,'Concert 1'!$I$9:$I$56)+SUMIF('Concert 2'!$E$9:$E$56,Statistiques!A100,'Concert 2'!$I$9:$I$56)+SUMIF('Concert 3'!$E$9:$E$56,Statistiques!A100,'Concert 3'!$I$9:$I$56)+SUMIF('Concert 4'!$E$9:$E$56,Statistiques!A100,'Concert 4'!$I$9:$I$56)+SUMIF('Concert 5'!$E$9:$E$56,Statistiques!A100,'Concert 5'!$I$9:$I$56)","v":0},{"$f":"SUMIF('Concert 1'!$E$9:$E$56,Statistiques!A100,'Concert 1'!$J$9:$J$56)+SUMIF('Concert 2'!$E$9:$E$56,Statistiques!A100,'Concert 2'!$J$9:$J$56)+SUMIF('Concert 3'!$E$9:$E$56,Statistiques!A100,'Concert 3'!$J$9:$J$56)+SUMIF('Concert 4'!$E$9:$E$56,Statistiques!A100,'Concert 4'!$J$9:$J$56)+SUMIF('Concert 5'!$E$9:$E$56,Statistiques!A100,'Concert 5'!$J$9:$J$56)","v":0},null,null,{"$f":"SUMIF('Concert 1'!$E$9:$E$56,Statistiques!A100,'Concert 1'!$I$9:$I$56)","v":0},{"$f":"SUMIF('Concert 1'!$E$9:$E$56,Statistiques!A100,'Concert 1'!$J$9:$J$56)","v":0},{"$f":"SUMIF('Concert 2'!$E$9:$E$56,Statistiques!A100,'Concert 2'!$I$9:$I$56)","v":0},{"$f":"SUMIF('Concert 2'!$E$9:$E$56,Statistiques!A100,'Concert 2'!$J$9:$J$56)","v":0},{"$f":"SUMIF('Concert 3'!$E$9:$E$56,Statistiques!A100,'Concert 3'!$I$9:$I$56)","v":0},{"$f":"SUMIF('Concert 3'!$E$9:$E$56,Statistiques!A100,'Concert 3'!$J$9:$J$56)","v":0},{"$f":"SUMIF('Concert 4'!$E$9:$E$56,Statistiques!A100,'Concert 4'!$I$9:$I$56)","v":0},{"$f":"SUMIF('Concert 4'!$E$9:$E$56,Statistiques!A100,'Concert 4'!$J$9:$J$56)","v":0},{"$f":"SUMIF('Concert 5'!$E$9:$E$56,Statistiques!A100,'Concert 5'!$I$9:$I$56)","v":0},{"$f":"SUMIF('Concert 5'!$E$9:$E$56,Statistiques!A100,'Concert 5'!$J$9:$J$56)","v":0}]
[{"$f":"Ecoles!A97","v":0},{"$f":"Ecoles!B97","v":0},{"$f":"Ecoles!C97","v":0},null,{"$f":"SUMIF('Concert 1'!$E$9:$E$56,Statistiques!A101,'Concert 1'!$I$9:$I$56)+SUMIF('Concert 2'!$E$9:$E$56,Statistiques!A101,'Concert 2'!$I$9:$I$56)+SUMIF('Concert 3'!$E$9:$E$56,Statistiques!A101,'Concert 3'!$I$9:$I$56)+SUMIF('Concert 4'!$E$9:$E$56,Statistiques!A101,'Concert 4'!$I$9:$I$56)+SUMIF('Concert 5'!$E$9:$E$56,Statistiques!A101,'Concert 5'!$I$9:$I$56)","v":0},{"$f":"SUMIF('Concert 1'!$E$9:$E$56,Statistiques!A101,'Concert 1'!$J$9:$J$56)+SUMIF('Concert 2'!$E$9:$E$56,Statistiques!A101,'Concert 2'!$J$9:$J$56)+SUMIF('Concert 3'!$E$9:$E$56,Statistiques!A101,'Concert 3'!$J$9:$J$56)+SUMIF('Concert 4'!$E$9:$E$56,Statistiques!A101,'Concert 4'!$J$9:$J$56)+SUMIF('Concert 5'!$E$9:$E$56,Statistiques!A101,'Concert 5'!$J$9:$J$56)","v":0},null,null,{"$f":"SUMIF('Concert 1'!$E$9:$E$56,Statistiques!A101,'Concert 1'!$I$9:$I$56)","v":0},{"$f":"SUMIF('Concert 1'!$E$9:$E$56,Statistiques!A101,'Concert 1'!$J$9:$J$56)","v":0},{"$f":"SUMIF('Concert 2'!$E$9:$E$56,Statistiques!A101,'Concert 2'!$I$9:$I$56)","v":0},{"$f":"SUMIF('Concert 2'!$E$9:$E$56,Statistiques!A101,'Concert 2'!$J$9:$J$56)","v":0},{"$f":"SUMIF('Concert 3'!$E$9:$E$56,Statistiques!A101,'Concert 3'!$I$9:$I$56)","v":0},{"$f":"SUMIF('Concert 3'!$E$9:$E$56,Statistiques!A101,'Concert 3'!$J$9:$J$56)","v":0},{"$f":"SUMIF('Concert 4'!$E$9:$E$56,Statistiques!A101,'Concert 4'!$I$9:$I$56)","v":0},{"$f":"SUMIF('Concert 4'!$E$9:$E$56,Statistiques!A101,'Concert 4'!$J$9:$J$56)","v":0},{"$f":"SUMIF('Concert 5'!$E$9:$E$56,Statistiques!A101,'Concert 5'!$I$9:$I$56)","v":0},{"$f":"SUMIF('Concert 5'!$E$9:$E$56,Statistiques!A101,'Concert 5'!$J$9:$J$56)","v":0}]
[{"$f":"Ecoles!A98","v":0},{"$f":"Ecoles!B98","v":0},{"$f":"Ecoles!C98","v":0},null,{"$f":"SUMIF('Concert 1'!$E$9:$E$56,Statistiques!A102,'Concert 1'!$I$9:$I$56)+SUMIF('Concert 2'!$E$9:$E$56,Statistiques!A102,'Concert 2'!$I$9:$I$56)+SUMIF('Concert 3'!$E$9:$E$56,Statistiques!A102,'Concert 3'!$I$9:$I$56)+SUMIF('Concert 4'!$E$9:$E$56,Statistiques!A102,'Concert 4'!$I$9:$I$56)+SUMIF('Concert 5'!$E$9:$E$56,Statistiques!A102,'Concert 5'!$I$9:$I$56)","v":0},{"$f":"SUMIF('Concert 1'!$E$9:$E$56,Statistiques!A102,'Concert 1'!$J$9:$J$56)+SUMIF('Concert 2'!$E$9:$E$56,Statistiques!A102,'Concert 2'!$J$9:$J$56)+SUMIF('Concert 3'!$E$9:$E$56,Statistiques!A102,'Concert 3'!$J$9:$J$56)+SUMIF('Concert 4'!$E$9:$E$56,Statistiques!A102,'Concert 4'!$J$9:$J$56)+SUMIF('Concert 5'!$E$9:$E$56,Statistiques!A102,'Concert 5'!$J$9:$J$56)","v":0},null,null,{"$f":"SUMIF('Concert 1'!$E$9:$E$56,Statistiques!A102,'Concert 1'!$I$9:$I$56)","v":0},{"$f":"SUMIF('Concert 1'!$E$9:$E$56,Statistiques!A102,'Concert 1'!$J$9:$J$56)","v":0},{"$f":"SUMIF('Concert 2'!$E$9:$E$56,Statistiques!A102,'Concert 2'!$I$9:$I$56)","v":0},{"$f":"SUMIF('Concert 2'!$E$9:$E$56,Statistiques!A102,'Concert 2'!$J$9:$J$56)","v":0},{"$f":"SUMIF('Concert 3'!$E$9:$E$56,Statistiques!A102,'Concert 3'!$I$9:$I$56)","v":0},{"$f":"SUMIF('Concert 3'!$E$9:$E$56,Statistiques!A102,'Concert 3'!$J$9:$J$56)","v":0},{"$f":"SUMIF('Concert 4'!$E$9:$E$56,Statistiques!A102,'Concert 4'!$I$9:$I$56)","v":0},{"$f":"SUMIF('Concert 4'!$E$9:$E$56,Statistiques!A102,'Concert 4'!$J$9:$J$56)","v":0},{"$f":"SUMIF('Concert 5'!$E$9:$E$56,Statistiques!A102,'Concert 5'!$I$9:$I$56)","v":0},{"$f":"SUMIF('Concert 5'!$E$9:$E$56,Statistiques!A102,'Concert 5'!$J$9:$J$56)","v":0}]
[{"$f":"Ecoles!A99","v":0},{"$f":"Ecoles!B99","v":0},{"$f":"Ecoles!C99","v":0},null,{"$f":"SUMIF('Concert 1'!$E$9:$E$56,Statistiques!A103,'Concert 1'!$I$9:$I$56)+SUMIF('Concert 2'!$E$9:$E$56,Statistiques!A103,'Concert 2'!$I$9:$I$56)+SUMIF('Concert 3'!$E$9:$E$56,Statistiques!A103,'Concert 3'!$I$9:$I$56)+SUMIF('Concert 4'!$E$9:$E$56,Statistiques!A103,'Concert 4'!$I$9:$I$56)+SUMIF('Concert 5'!$E$9:$E$56,Statistiques!A103,'Concert 5'!$I$9:$I$56)","v":0},{"$f":"SUMIF('Concert 1'!$E$9:$E$56,Statistiques!A103,'Concert 1'!$J$9:$J$56)+SUMIF('Concert 2'!$E$9:$E$56,Statistiques!A103,'Concert 2'!$J$9:$J$56)+SUMIF('Concert 3'!$E$9:$E$56,Statistiques!A103,'Concert 3'!$J$9:$J$56)+SUMIF('Concert 4'!$E$9:$E$56,Statistiques!A103,'Concert 4'!$J$9:$J$56)+SUMIF('Concert 5'!$E$9:$E$56,Statistiques!A103,'Concert 5'!$J$9:$J$56)","v":0},null,null,{"$f":"SUMIF('Concert 1'!$E$9:$E$56,Statistiques!A103,'Concert 1'!$I$9:$I$56)","v":0},{"$f":"SUMIF('Concert 1'!$E$9:$E$56,Statistiques!A103,'Concert 1'!$J$9:$J$56)","v":0},{"$f":"SUMIF('Concert 2'!$E$9:$E$56,Statistiques!A103,'Concert 2'!$I$9:$I$56)","v":0},{"$f":"SUMIF('Concert 2'!$E$9:$E$56,Statistiques!A103,'Concert 2'!$J$9:$J$56)","v":0},{"$f":"SUMIF('Concert 3'!$E$9:$E$56,Statistiques!A103,'Concert 3'!$I$9:$I$56)","v":0},{"$f":"SUMIF('Concert 3'!$E$9:$E$56,Statistiques!A103,'Concert 3'!$J$9:$J$56)","v":0},{"$f":"SUMIF('Concert 4'!$E$9:$E$56,Statistiques!A103,'Concert 4'!$I$9:$I$56)","v":0},{"$f":"SUMIF('Concert 4'!$E$9:$E$56,Statistiques!A103,'Concert 4'!$J$9:$J$56)","v":0},{"$f":"SUMIF('Concert 5'!$E$9:$E$56,Statistiques!A103,'Concert 5'!$I$9:$I$56)","v":0},{"$f":"SUMIF('Concert 5'!$E$9:$E$56,Statistiques!A103,'Concert 5'!$J$9:$J$56)","v":0}]
[{"$f":"Ecoles!A100","v":0},{"$f":"Ecoles!B100","v":0},{"$f":"Ecoles!C100","v":0},null,{"$f":"SUMIF('Concert 1'!$E$9:$E$56,Statistiques!A104,'Concert 1'!$I$9:$I$56)+SUMIF('Concert 2'!$E$9:$E$56,Statistiques!A104,'Concert 2'!$I$9:$I$56)+SUMIF('Concert 3'!$E$9:$E$56,Statistiques!A104,'Concert 3'!$I$9:$I$56)+SUMIF('Concert 4'!$E$9:$E$56,Statistiques!A104,'Concert 4'!$I$9:$I$56)+SUMIF('Concert 5'!$E$9:$E$56,Statistiques!A104,'Concert 5'!$I$9:$I$56)","v":0},{"$f":"SUMIF('Concert 1'!$E$9:$E$56,Statistiques!A104,'Concert 1'!$J$9:$J$56)+SUMIF('Concert 2'!$E$9:$E$56,Statistiques!A104,'Concert 2'!$J$9:$J$56)+SUMIF('Concert 3'!$E$9:$E$56,Statistiques!A104,'Concert 3'!$J$9:$J$56)+SUMIF('Concert 4'!$E$9:$E$56,Statistiques!A104,'Concert 4'!$J$9:$J$56)+SUMIF('Concert 5'!$E$9:$E$56,Statistiques!A104,'Concert 5'!$J$9:$J$56)","v":0},null,null,{"$f":"SUMIF('Concert 1'!$E$9:$E$56,Statistiques!A104,'Concert 1'!$I$9:$I$56)","v":0},{"$f":"SUMIF('Concert 1'!$E$9:$E$56,Statistiques!A104,'Concert 1'!$J$9:$J$56)","v":0},{"$f":"SUMIF('Concert 2'!$E$9:$E$56,Statistiques!A104,'Concert 2'!$I$9:$I$56)","v":0},{"$f":"SUMIF('Concert 2'!$E$9:$E$56,Statistiques!A104,'Concert 2'!$J$9:$J$56)","v":0},{"$f":"SUMIF('Concert 3'!$E$9:$E$56,Statistiques!A104,'Concert 3'!$I$9:$I$56)","v":0},{"$f":"SUMIF('Concert 3'!$E$9:$E$56,Statistiques!A104,'Concert 3'!$J$9:$J$56)","v":0},{"$f":"SUMIF('Concert 4'!$E$9:$E$56,Statistiques!A104,'Concert 4'!$I$9:$I$56)","v":0},{"$f":"SUMIF('Concert 4'!$E$9:$E$56,Statistiques!A104,'Concert 4'!$J$9:$J$56)","v":0},{"$f":"SUMIF('Concert 5'!$E$9:$E$56,Statistiques!A104,'Concert 5'!$I$9:$I$56)","v":0},{"$f":"SUMIF('Concert 5'!$E$9:$E$56,Statistiques!A104,'Concert 5'!$J$9:$J$56)","v":0}]
[{"$f":"Ecoles!A101","v":0},{"$f":"Ecoles!B101","v":0},{"$f":"Ecoles!C101","v":0},null,{"$f":"SUMIF('Concert 1'!$E$9:$E$56,Statistiques!A105,'Concert 1'!$I$9:$I$56)+SUMIF('Concert 2'!$E$9:$E$56,Statistiques!A105,'Concert 2'!$I$9:$I$56)+SUMIF('Concert 3'!$E$9:$E$56,Statistiques!A105,'Concert 3'!$I$9:$I$56)+SUMIF('Concert 4'!$E$9:$E$56,Statistiques!A105,'Concert 4'!$I$9:$I$56)+SUMIF('Concert 5'!$E$9:$E$56,Statistiques!A105,'Concert 5'!$I$9:$I$56)","v":0},{"$f":"SUMIF('Concert 1'!$E$9:$E$56,Statistiques!A105,'Concert 1'!$J$9:$J$56)+SUMIF('Concert 2'!$E$9:$E$56,Statistiques!A105,'Concert 2'!$J$9:$J$56)+SUMIF('Concert 3'!$E$9:$E$56,Statistiques!A105,'Concert 3'!$J$9:$J$56)+SUMIF('Concert 4'!$E$9:$E$56,Statistiques!A105,'Concert 4'!$J$9:$J$56)+SUMIF('Concert 5'!$E$9:$E$56,Statistiques!A105,'Concert 5'!$J$9:$J$56)","v":0},null,null,{"$f":"SUMIF('Concert 1'!$E$9:$E$56,Statistiques!A105,'Concert 1'!$I$9:$I$56)","v":0},{"$f":"SUMIF('Concert 1'!$E$9:$E$56,Statistiques!A105,'Concert 1'!$J$9:$J$56)","v":0},{"$f":"SUMIF('Concert 2'!$E$9:$E$56,Statistiques!A105,'Concert 2'!$I$9:$I$56)","v":0},{"$f":"SUMIF('Concert 2'!$E$9:$E$56,Statistiques!A105,'Concert 2'!$J$9:$J$56)","v":0},{"$f":"SUMIF('Concert 3'!$E$9:$E$56,Statistiques!A105,'Concert 3'!$I$9:$I$56)","v":0},{"$f":"SUMIF('Concert 3'!$E$9:$E$56,Statistiques!A105,'Concert 3'!$J$9:$J$56)","v":0},{"$f":"SUMIF('Concert 4'!$E$9:$E$56,Statistiques!A105,'Concert 4'!$I$9:$I$56)","v":0},{"$f":"SUMIF('Concert 4'!$E$9:$E$56,Statistiques!A105,'Concert 4'!$J$9:$J$56)","v":0},{"$f":"SUMIF('Concert 5'!$E$9:$E$56,Statistiques!A105,'Concert 5'!$I$9:$I$56)","v":0},{"$f":"SUMIF('Concert 5'!$E$9:$E$56,Statistiques!A105,'Concert 5'!$J$9:$J$56)","v":0}]
[{"$f":"Ecoles!A102","v":0},{"$f":"Ecoles!B102","v":0},{"$f":"Ecoles!C102","v":0},null,{"$f":"SUMIF('Concert 1'!$E$9:$E$56,Statistiques!A106,'Concert 1'!$I$9:$I$56)+SUMIF('Concert 2'!$E$9:$E$56,Statistiques!A106,'Concert 2'!$I$9:$I$56)+SUMIF('Concert 3'!$E$9:$E$56,Statistiques!A106,'Concert 3'!$I$9:$I$56)+SUMIF('Concert 4'!$E$9:$E$56,Statistiques!A106,'Concert 4'!$I$9:$I$56)+SUMIF('Concert 5'!$E$9:$E$56,Statistiques!A106,'Concert 5'!$I$9:$I$56)","v":0},{"$f":"SUMIF('Concert 1'!$E$9:$E$56,Statistiques!A106,'Concert 1'!$J$9:$J$56)+SUMIF('Concert 2'!$E$9:$E$56,Statistiques!A106,'Concert 2'!$J$9:$J$56)+SUMIF('Concert 3'!$E$9:$E$56,Statistiques!A106,'Concert 3'!$J$9:$J$56)+SUMIF('Concert 4'!$E$9:$E$56,Statistiques!A106,'Concert 4'!$J$9:$J$56)+SUMIF('Concert 5'!$E$9:$E$56,Statistiques!A106,'Concert 5'!$J$9:$J$56)","v":0},null,null,{"$f":"SUMIF('Concert 1'!$E$9:$E$56,Statistiques!A106,'Concert 1'!$I$9:$I$56)","v":0},{"$f":"SUMIF('Concert 1'!$E$9:$E$56,Statistiques!A106,'Concert 1'!$J$9:$J$56)","v":0},{"$f":"SUMIF('Concert 2'!$E$9:$E$56,Statistiques!A106,'Concert 2'!$I$9:$I$56)","v":0},{"$f":"SUMIF('Concert 2'!$E$9:$E$56,Statistiques!A106,'Concert 2'!$J$9:$J$56)","v":0},{"$f":"SUMIF('Concert 3'!$E$9:$E$56,Statistiques!A106,'Concert 3'!$I$9:$I$56)","v":0},{"$f":"SUMIF('Concert 3'!$E$9:$E$56,Statistiques!A106,'Concert 3'!$J$9:$J$56)","v":0},{"$f":"SUMIF('Concert 4'!$E$9:$E$56,Statistiques!A106,'Concert 4'!$I$9:$I$56)","v":0},{"$f":"SUMIF('Concert 4'!$E$9:$E$56,Statistiques!A106,'Concert 4'!$J$9:$J$56)","v":0},{"$f":"SUMIF('Concert 5'!$E$9:$E$56,Statistiques!A106,'Concert 5'!$I$9:$I$56)","v":0},{"$f":"SUMIF('Concert 5'!$E$9:$E$56,Statistiques!A106,'Concert 5'!$J$9:$J$56)","v":0}]
[{"$f":"Ecoles!A103","v":0},{"$f":"Ecoles!B103","v":0},{"$f":"Ecoles!C103","v":0},null,{"$f":"SUMIF('Concert 1'!$E$9:$E$56,Statistiques!A107,'Concert 1'!$I$9:$I$56)+SUMIF('Concert 2'!$E$9:$E$56,Statistiques!A107,'Concert 2'!$I$9:$I$56)+SUMIF('Concert 3'!$E$9:$E$56,Statistiques!A107,'Concert 3'!$I$9:$I$56)+SUMIF('Concert 4'!$E$9:$E$56,Statistiques!A107,'Concert 4'!$I$9:$I$56)+SUMIF('Concert 5'!$E$9:$E$56,Statistiques!A107,'Concert 5'!$I$9:$I$56)","v":0},{"$f":"SUMIF('Concert 1'!$E$9:$E$56,Statistiques!A107,'Concert 1'!$J$9:$J$56)+SUMIF('Concert 2'!$E$9:$E$56,Statistiques!A107,'Concert 2'!$J$9:$J$56)+SUMIF('Concert 3'!$E$9:$E$56,Statistiques!A107,'Concert 3'!$J$9:$J$56)+SUMIF('Concert 4'!$E$9:$E$56,Statistiques!A107,'Concert 4'!$J$9:$J$56)+SUMIF('Concert 5'!$E$9:$E$56,Statistiques!A107,'Concert 5'!$J$9:$J$56)","v":0},null,null,{"$f":"SUMIF('Concert 1'!$E$9:$E$56,Statistiques!A107,'Concert 1'!$I$9:$I$56)","v":0},{"$f":"SUMIF('Concert 1'!$E$9:$E$56,Statistiques!A107,'Concert 1'!$J$9:$J$56)","v":0},{"$f":"SUMIF('Concert 2'!$E$9:$E$56,Statistiques!A107,'Concert 2'!$I$9:$I$56)","v":0},{"$f":"SUMIF('Concert 2'!$E$9:$E$56,Statistiques!A107,'Concert 2'!$J$9:$J$56)","v":0},{"$f":"SUMIF('Concert 3'!$E$9:$E$56,Statistiques!A107,'Concert 3'!$I$9:$I$56)","v":0},{"$f":"SUMIF('Concert 3'!$E$9:$E$56,Statistiques!A107,'Concert 3'!$J$9:$J$56)","v":0},{"$f":"SUMIF('Concert 4'!$E$9:$E$56,Statistiques!A107,'Concert 4'!$I$9:$I$56)","v":0},{"$f":"SUMIF('Concert 4'!$E$9:$E$56,Statistiques!A107,'Concert 4'!$J$9:$J$56)","v":0},{"$f":"SUMIF('Concert 5'!$E$9:$E$56,Statistiques!A107,'Concert 5'!$I$9:$I$56)","v":0},{"$f":"SUMIF('Concert 5'!$E$9:$E$56,Statistiques!A107,'Concert 5'!$J$9:$J$56)","v":0}]
[{"$f":"Ecoles!A104","v":0},{"$f":"Ecoles!B104","v":0},{"$f":"Ecoles!C104","v":0},null,{"$f":"SUMIF('Concert 1'!$E$9:$E$56,Statistiques!A108,'Concert 1'!$I$9:$I$56)+SUMIF('Concert 2'!$E$9:$E$56,Statistiques!A108,'Concert 2'!$I$9:$I$56)+SUMIF('Concert 3'!$E$9:$E$56,Statistiques!A108,'Concert 3'!$I$9:$I$56)+SUMIF('Concert 4'!$E$9:$E$56,Statistiques!A108,'Concert 4'!$I$9:$I$56)+SUMIF('Concert 5'!$E$9:$E$56,Statistiques!A108,'Concert 5'!$I$9:$I$56)","v":0},{"$f":"SUMIF('Concert 1'!$E$9:$E$56,Statistiques!A108,'Concert 1'!$J$9:$J$56)+SUMIF('Concert 2'!$E$9:$E$56,Statistiques!A108,'Concert 2'!$J$9:$J$56)+SUMIF('Concert 3'!$E$9:$E$56,Statistiques!A108,'Concert 3'!$J$9:$J$56)+SUMIF('Concert 4'!$E$9:$E$56,Statistiques!A108,'Concert 4'!$J$9:$J$56)+SUMIF('Concert 5'!$E$9:$E$56,Statistiques!A108,'Concert 5'!$J$9:$J$56)","v":0},null,null,{"$f":"SUMIF('Concert 1'!$E$9:$E$56,Statistiques!A108,'Concert 1'!$I$9:$I$56)","v":0},{"$f":"SUMIF('Concert 1'!$E$9:$E$56,Statistiques!A108,'Concert 1'!$J$9:$J$56)","v":0},{"$f":"SUMIF('Concert 2'!$E$9:$E$56,Statistiques!A108,'Concert 2'!$I$9:$I$56)","v":0},{"$f":"SUMIF('Concert 2'!$E$9:$E$56,Statistiques!A108,'Concert 2'!$J$9:$J$56)","v":0},{"$f":"SUMIF('Concert 3'!$E$9:$E$56,Statistiques!A108,'Concert 3'!$I$9:$I$56)","v":0},{"$f":"SUMIF('Concert 3'!$E$9:$E$56,Statistiques!A108,'Concert 3'!$J$9:$J$56)","v":0},{"$f":"SUMIF('Concert 4'!$E$9:$E$56,Statistiques!A108,'Concert 4'!$I$9:$I$56)","v":0},{"$f":"SUMIF('Concert 4'!$E$9:$E$56,Statistiques!A108,'Concert 4'!$J$9:$J$56)","v":0},{"$f":"SUMIF('Concert 5'!$E$9:$E$56,Statistiques!A108,'Concert 5'!$I$9:$I$56)","v":0},{"$f":"SUMIF('Concert 5'!$E$9:$E$56,Statistiques!A108,'Concert 5'!$J$9:$J$56)","v":0}]
[{"$f":"Ecoles!A105","v":0},{"$f":"Ecoles!B105","v":0},{"$f":"Ecoles!C105","v":0},null,{"$f":"SUMIF('Concert 1'!$E$9:$E$56,Statistiques!A109,'Concert 1'!$I$9:$I$56)+SUMIF('Concert 2'!$E$9:$E$56,Statistiques!A109,'Concert 2'!$I$9:$I$56)+SUMIF('Concert 3'!$E$9:$E$56,Statistiques!A109,'Concert 3'!$I$9:$I$56)+SUMIF('Concert 4'!$E$9:$E$56,Statistiques!A109,'Concert 4'!$I$9:$I$56)+SUMIF('Concert 5'!$E$9:$E$56,Statistiques!A109,'Concert 5'!$I$9:$I$56)","v":0},{"$f":"SUMIF('Concert 1'!$E$9:$E$56,Statistiques!A109,'Concert 1'!$J$9:$J$56)+SUMIF('Concert 2'!$E$9:$E$56,Statistiques!A109,'Concert 2'!$J$9:$J$56)+SUMIF('Concert 3'!$E$9:$E$56,Statistiques!A109,'Concert 3'!$J$9:$J$56)+SUMIF('Concert 4'!$E$9:$E$56,Statistiques!A109,'Concert 4'!$J$9:$J$56)+SUMIF('Concert 5'!$E$9:$E$56,Statistiques!A109,'Concert 5'!$J$9:$J$56)","v":0},null,null,{"$f":"SUMIF('Concert 1'!$E$9:$E$56,Statistiques!A109,'Concert 1'!$I$9:$I$56)","v":0},{"$f":"SUMIF('Concert 1'!$E$9:$E$56,Statistiques!A109,'Concert 1'!$J$9:$J$56)","v":0},{"$f":"SUMIF('Concert 2'!$E$9:$E$56,Statistiques!A109,'Concert 2'!$I$9:$I$56)","v":0},{"$f":"SUMIF('Concert 2'!$E$9:$E$56,Statistiques!A109,'Concert 2'!$J$9:$J$56)","v":0},{"$f":"SUMIF('Concert 3'!$E$9:$E$56,Statistiques!A109,'Concert 3'!$I$9:$I$56)","v":0},{"$f":"SUMIF('Concert 3'!$E$9:$E$56,Statistiques!A109,'Concert 3'!$J$9:$J$56)","v":0},{"$f":"SUMIF('Concert 4'!$E$9:$E$56,Statistiques!A109,'Concert 4'!$I$9:$I$56)","v":0},{"$f":"SUMIF('Concert 4'!$E$9:$E$56,Statistiques!A109,'Concert 4'!$J$9:$J$56)","v":0},{"$f":"SUMIF('Concert 5'!$E$9:$E$56,Statistiques!A109,'Concert 5'!$I$9:$I$56)","v":0},{"$f":"SUMIF('Concert 5'!$E$9:$E$56,Statistiques!A109,'Concert 5'!$J$9:$J$56)","v":0}]
[{"$f":"Ecoles!A106","v":0},{"$f":"Ecoles!B106","v":0},{"$f":"Ecoles!C106","v":0},null,{"$f":"SUMIF('Concert 1'!$E$9:$E$56,Statistiques!A110,'Concert 1'!$I$9:$I$56)+SUMIF('Concert 2'!$E$9:$E$56,Statistiques!A110,'Concert 2'!$I$9:$I$56)+SUMIF('Concert 3'!$E$9:$E$56,Statistiques!A110,'Concert 3'!$I$9:$I$56)+SUMIF('Concert 4'!$E$9:$E$56,Statistiques!A110,'Concert 4'!$I$9:$I$56)+SUMIF('Concert 5'!$E$9:$E$56,Statistiques!A110,'Concert 5'!$I$9:$I$56)","v":0},{"$f":"SUMIF('Concert 1'!$E$9:$E$56,Statistiques!A110,'Concert 1'!$J$9:$J$56)+SUMIF('Concert 2'!$E$9:$E$56,Statistiques!A110,'Concert 2'!$J$9:$J$56)+SUMIF('Concert 3'!$E$9:$E$56,Statistiques!A110,'Concert 3'!$J$9:$J$56)+SUMIF('Concert 4'!$E$9:$E$56,Statistiques!A110,'Concert 4'!$J$9:$J$56)+SUMIF('Concert 5'!$E$9:$E$56,Statistiques!A110,'Concert 5'!$J$9:$J$56)","v":0},null,null,{"$f":"SUMIF('Concert 1'!$E$9:$E$56,Statistiques!A110,'Concert 1'!$I$9:$I$56)","v":0},{"$f":"SUMIF('Concert 1'!$E$9:$E$56,Statistiques!A110,'Concert 1'!$J$9:$J$56)","v":0},{"$f":"SUMIF('Concert 2'!$E$9:$E$56,Statistiques!A110,'Concert 2'!$I$9:$I$56)","v":0},{"$f":"SUMIF('Concert 2'!$E$9:$E$56,Statistiques!A110,'Concert 2'!$J$9:$J$56)","v":0},{"$f":"SUMIF('Concert 3'!$E$9:$E$56,Statistiques!A110,'Concert 3'!$I$9:$I$56)","v":0},{"$f":"SUMIF('Concert 3'!$E$9:$E$56,Statistiques!A110,'Concert 3'!$J$9:$J$56)","v":0},{"$f":"SUMIF('Concert 4'!$E$9:$E$56,Statistiques!A110,'Concert 4'!$I$9:$I$56)","v":0},{"$f":"SUMIF('Concert 4'!$E$9:$E$56,Statistiques!A110,'Concert 4'!$J$9:$J$56)","v":0},{"$f":"SUMIF('Concert 5'!$E$9:$E$56,Statistiques!A110,'Concert 5'!$I$9:$I$56)","v":0},{"$f":"SUMIF('Concert 5'!$E$9:$E$56,Statistiques!A110,'Concert 5'!$J$9:$J$56)","v":0}]
[{"$f":"Ecoles!A107","v":0},{"$f":"Ecoles!B107","v":0},{"$f":"Ecoles!C107","v":0},null,{"$f":"SUMIF('Concert 1'!$E$9:$E$56,Statistiques!A111,'Concert 1'!$I$9:$I$56)+SUMIF('Concert 2'!$E$9:$E$56,Statistiques!A111,'Concert 2'!$I$9:$I$56)+SUMIF('Concert 3'!$E$9:$E$56,Statistiques!A111,'Concert 3'!$I$9:$I$56)+SUMIF('Concert 4'!$E$9:$E$56,Statistiques!A111,'Concert 4'!$I$9:$I$56)+SUMIF('Concert 5'!$E$9:$E$56,Statistiques!A111,'Concert 5'!$I$9:$I$56)","v":0},{"$f":"SUMIF('Concert 1'!$E$9:$E$56,Statistiques!A111,'Concert 1'!$J$9:$J$56)+SUMIF('Concert 2'!$E$9:$E$56,Statistiques!A111,'Concert 2'!$J$9:$J$56)+SUMIF('Concert 3'!$E$9:$E$56,Statistiques!A111,'Concert 3'!$J$9:$J$56)+SUMIF('Concert 4'!$E$9:$E$56,Statistiques!A111,'Concert 4'!$J$9:$J$56)+SUMIF('Concert 5'!$E$9:$E$56,Statistiques!A111,'Concert 5'!$J$9:$J$56)","v":0},null,null,{"$f":"SUMIF('Concert 1'!$E$9:$E$56,Statistiques!A111,'Concert 1'!$I$9:$I$56)","v":0},{"$f":"SUMIF('Concert 1'!$E$9:$E$56,Statistiques!A111,'Concert 1'!$J$9:$J$56)","v":0},{"$f":"SUMIF('Concert 2'!$E$9:$E$56,Statistiques!A111,'Concert 2'!$I$9:$I$56)","v":0},{"$f":"SUMIF('Concert 2'!$E$9:$E$56,Statistiques!A111,'Concert 2'!$J$9:$J$56)","v":0},{"$f":"SUMIF('Concert 3'!$E$9:$E$56,Statistiques!A111,'Concert 3'!$I$9:$I$56)","v":0},{"$f":"SUMIF('Concert 3'!$E$9:$E$56,Statistiques!A111,'Concert 3'!$J$9:$J$56)","v":0},{"$f":"SUMIF('Concert 4'!$E$9:$E$56,Statistiques!A111,'Concert 4'!$I$9:$I$56)","v":0},{"$f":"SUMIF('Concert 4'!$E$9:$E$56,Statistiques!A111,'Concert 4'!$J$9:$J$56)","v":0},{"$f":"SUMIF('Concert 5'!$E$9:$E$56,Statistiques!A111,'Concert 5'!$I$9:$I$56)","v":0},{"$f":"SUMIF('Concert 5'!$E$9:$E$56,Statistiques!A111,'Concert 5'!$J$9:$J$56)","v":0}]
[{"$f":"Ecoles!A108","v":0},{"$f":"Ecoles!B108","v":0},{"$f":"Ecoles!C108","v":0},null,{"$f":"SUMIF('Concert 1'!$E$9:$E$56,Statistiques!A112,'Concert 1'!$I$9:$I$56)+SUMIF('Concert 2'!$E$9:$E$56,Statistiques!A112,'Concert 2'!$I$9:$I$56)+SUMIF('Concert 3'!$E$9:$E$56,Statistiques!A112,'Concert 3'!$I$9:$I$56)+SUMIF('Concert 4'!$E$9:$E$56,Statistiques!A112,'Concert 4'!$I$9:$I$56)+SUMIF('Concert 5'!$E$9:$E$56,Statistiques!A112,'Concert 5'!$I$9:$I$56)","v":0},{"$f":"SUMIF('Concert 1'!$E$9:$E$56,Statistiques!A112,'Concert 1'!$J$9:$J$56)+SUMIF('Concert 2'!$E$9:$E$56,Statistiques!A112,'Concert 2'!$J$9:$J$56)+SUMIF('Concert 3'!$E$9:$E$56,Statistiques!A112,'Concert 3'!$J$9:$J$56)+SUMIF('Concert 4'!$E$9:$E$56,Statistiques!A112,'Concert 4'!$J$9:$J$56)+SUMIF('Concert 5'!$E$9:$E$56,Statistiques!A112,'Concert 5'!$J$9:$J$56)","v":0},null,null,{"$f":"SUMIF('Concert 1'!$E$9:$E$56,Statistiques!A112,'Concert 1'!$I$9:$I$56)","v":0},{"$f":"SUMIF('Concert 1'!$E$9:$E$56,Statistiques!A112,'Concert 1'!$J$9:$J$56)","v":0},{"$f":"SUMIF('Concert 2'!$E$9:$E$56,Statistiques!A112,'Concert 2'!$I$9:$I$56)","v":0},{"$f":"SUMIF('Concert 2'!$E$9:$E$56,Statistiques!A112,'Concert 2'!$J$9:$J$56)","v":0},{"$f":"SUMIF('Concert 3'!$E$9:$E$56,Statistiques!A112,'Concert 3'!$I$9:$I$56)","v":0},{"$f":"SUMIF('Concert 3'!$E$9:$E$56,Statistiques!A112,'Concert 3'!$J$9:$J$56)","v":0},{"$f":"SUMIF('Concert 4'!$E$9:$E$56,Statistiques!A112,'Concert 4'!$I$9:$I$56)","v":0},{"$f":"SUMIF('Concert 4'!$E$9:$E$56,Statistiques!A112,'Concert 4'!$J$9:$J$56)","v":0},{"$f":"SUMIF('Concert 5'!$E$9:$E$56,Statistiques!A112,'Concert 5'!$I$9:$I$56)","v":0},{"$f":"SUMIF('Concert 5'!$E$9:$E$56,Statistiques!A112,'Concert 5'!$J$9:$J$56)","v":0}]
[{"$f":"Ecoles!A109","v":0},{"$f":"Ecoles!B109","v":0},{"$f":"Ecoles!C109","v":0},null,{"$f":"SUMIF('Concert 1'!$E$9:$E$56,Statistiques!A113,'Concert 1'!$I$9:$I$56)+SUMIF('Concert 2'!$E$9:$E$56,Statistiques!A113,'Concert 2'!$I$9:$I$56)+SUMIF('Concert 3'!$E$9:$E$56,Statistiques!A113,'Concert 3'!$I$9:$I$56)+SUMIF('Concert 4'!$E$9:$E$56,Statistiques!A113,'Concert 4'!$I$9:$I$56)+SUMIF('Concert 5'!$E$9:$E$56,Statistiques!A113,'Concert 5'!$I$9:$I$56)","v":0},{"$f":"SUMIF('Concert 1'!$E$9:$E$56,Statistiques!A113,'Concert 1'!$J$9:$J$56)+SUMIF('Concert 2'!$E$9:$E$56,Statistiques!A113,'Concert 2'!$J$9:$J$56)+SUMIF('Concert 3'!$E$9:$E$56,Statistiques!A113,'Concert 3'!$J$9:$J$56)+SUMIF('Concert 4'!$E$9:$E$56,Statistiques!A113,'Concert 4'!$J$9:$J$56)+SUMIF('Concert 5'!$E$9:$E$56,Statistiques!A113,'Concert 5'!$J$9:$J$56)","v":0},null,null,{"$f":"SUMIF('Concert 1'!$E$9:$E$56,Statistiques!A113,'Concert 1'!$I$9:$I$56)","v":0},{"$f":"SUMIF('Concert 1'!$E$9:$E$56,Statistiques!A113,'Concert 1'!$J$9:$J$56)","v":0},{"$f":"SUMIF('Concert 2'!$E$9:$E$56,Statistiques!A113,'Concert 2'!$I$9:$I$56)","v":0},{"$f":"SUMIF('Concert 2'!$E$9:$E$56,Statistiques!A113,'Concert 2'!$J$9:$J$56)","v":0},{"$f":"SUMIF('Concert 3'!$E$9:$E$56,Statistiques!A113,'Concert 3'!$I$9:$I$56)","v":0},{"$f":"SUMIF('Concert 3'!$E$9:$E$56,Statistiques!A113,'Concert 3'!$J$9:$J$56)","v":0},{"$f":"SUMIF('Concert 4'!$E$9:$E$56,Statistiques!A113,'Concert 4'!$I$9:$I$56)","v":0},{"$f":"SUMIF('Concert 4'!$E$9:$E$56,Statistiques!A113,'Concert 4'!$J$9:$J$56)","v":0},{"$f":"SUMIF('Concert 5'!$E$9:$E$56,Statistiques!A113,'Concert 5'!$I$9:$I$56)","v":0},{"$f":"SUMIF('Concert 5'!$E$9:$E$56,Statistiques!A113,'Concert 5'!$J$9:$J$56)","v":0}]
[{"$f":"Ecoles!A110","v":0},{"$f":"Ecoles!B110","v":0},{"$f":"Ecoles!C110","v":0},null,{"$f":"SUMIF('Concert 1'!$E$9:$E$56,Statistiques!A114,'Concert 1'!$I$9:$I$56)+SUMIF('Concert 2'!$E$9:$E$56,Statistiques!A114,'Concert 2'!$I$9:$I$56)+SUMIF('Concert 3'!$E$9:$E$56,Statistiques!A114,'Concert 3'!$I$9:$I$56)+SUMIF('Concert 4'!$E$9:$E$56,Statistiques!A114,'Concert 4'!$I$9:$I$56)+SUMIF('Concert 5'!$E$9:$E$56,Statistiques!A114,'Concert 5'!$I$9:$I$56)","v":0},{"$f":"SUMIF('Concert 1'!$E$9:$E$56,Statistiques!A114,'Concert 1'!$J$9:$J$56)+SUMIF('Concert 2'!$E$9:$E$56,Statistiques!A114,'Concert 2'!$J$9:$J$56)+SUMIF('Concert 3'!$E$9:$E$56,Statistiques!A114,'Concert 3'!$J$9:$J$56)+SUMIF('Concert 4'!$E$9:$E$56,Statistiques!A114,'Concert 4'!$J$9:$J$56)+SUMIF('Concert 5'!$E$9:$E$56,Statistiques!A114,'Concert 5'!$J$9:$J$56)","v":0},null,null,{"$f":"SUMIF('Concert 1'!$E$9:$E$56,Statistiques!A114,'Concert 1'!$I$9:$I$56)","v":0},{"$f":"SUMIF('Concert 1'!$E$9:$E$56,Statistiques!A114,'Concert 1'!$J$9:$J$56)","v":0},{"$f":"SUMIF('Concert 2'!$E$9:$E$56,Statistiques!A114,'Concert 2'!$I$9:$I$56)","v":0},{"$f":"SUMIF('Concert 2'!$E$9:$E$56,Statistiques!A114,'Concert 2'!$J$9:$J$56)","v":0},{"$f":"SUMIF('Concert 3'!$E$9:$E$56,Statistiques!A114,'Concert 3'!$I$9:$I$56)","v":0},{"$f":"SUMIF('Concert 3'!$E$9:$E$56,Statistiques!A114,'Concert 3'!$J$9:$J$56)","v":0},{"$f":"SUMIF('Concert 4'!$E$9:$E$56,Statistiques!A114,'Concert 4'!$I$9:$I$56)","v":0},{"$f":"SUMIF('Concert 4'!$E$9:$E$56,Statistiques!A114,'Concert 4'!$J$9:$J$56)","v":0},{"$f":"SUMIF('Concert 5'!$E$9:$E$56,Statistiques!A114,'Concert 5'!$I$9:$I$56)","v":0},{"$f":"SUMIF('Concert 5'!$E$9:$E$56,Statistiques!A114,'Concert 5'!$J$9:$J$56)","v":0}]
[{"$f":"Ecoles!A111","v":0},{"$f":"Ecoles!B111","v":0},{"$f":"Ecoles!C111","v":0},null,{"$f":"SUMIF('Concert 1'!$E$9:$E$56,Statistiques!A115,'Concert 1'!$I$9:$I$56)+SUMIF('Concert 2'!$E$9:$E$56,Statistiques!A115,'Concert 2'!$I$9:$I$56)+SUMIF('Concert 3'!$E$9:$E$56,Statistiques!A115,'Concert 3'!$I$9:$I$56)+SUMIF('Concert 4'!$E$9:$E$56,Statistiques!A115,'Concert 4'!$I$9:$I$56)+SUMIF('Concert 5'!$E$9:$E$56,Statistiques!A115,'Concert 5'!$I$9:$I$56)","v":0},{"$f":"SUMIF('Concert 1'!$E$9:$E$56,Statistiques!A115,'Concert 1'!$J$9:$J$56)+SUMIF('Concert 2'!$E$9:$E$56,Statistiques!A115,'Concert 2'!$J$9:$J$56)+SUMIF('Concert 3'!$E$9:$E$56,Statistiques!A115,'Concert 3'!$J$9:$J$56)+SUMIF('Concert 4'!$E$9:$E$56,Statistiques!A115,'Concert 4'!$J$9:$J$56)+SUMIF('Concert 5'!$E$9:$E$56,Statistiques!A115,'Concert 5'!$J$9:$J$56)","v":0},null,null,{"$f":"SUMIF('Concert 1'!$E$9:$E$56,Statistiques!A115,'Concert 1'!$I$9:$I$56)","v":0},{"$f":"SUMIF('Concert 1'!$E$9:$E$56,Statistiques!A115,'Concert 1'!$J$9:$J$56)","v":0},{"$f":"SUMIF('Concert 2'!$E$9:$E$56,Statistiques!A115,'Concert 2'!$I$9:$I$56)","v":0},{"$f":"SUMIF('Concert 2'!$E$9:$E$56,Statistiques!A115,'Concert 2'!$J$9:$J$56)","v":0},{"$f":"SUMIF('Concert 3'!$E$9:$E$56,Statistiques!A115,'Concert 3'!$I$9:$I$56)","v":0},{"$f":"SUMIF('Concert 3'!$E$9:$E$56,Statistiques!A115,'Concert 3'!$J$9:$J$56)","v":0},{"$f":"SUMIF('Concert 4'!$E$9:$E$56,Statistiques!A115,'Concert 4'!$I$9:$I$56)","v":0},{"$f":"SUMIF('Concert 4'!$E$9:$E$56,Statistiques!A115,'Concert 4'!$J$9:$J$56)","v":0},{"$f":"SUMIF('Concert 5'!$E$9:$E$56,Statistiques!A115,'Concert 5'!$I$9:$I$56)","v":0},{"$f":"SUMIF('Concert 5'!$E$9:$E$56,Statistiques!A115,'Concert 5'!$J$9:$J$56)","v":0}]
[{"$f":"Ecoles!A112","v":0},{"$f":"Ecoles!B112","v":0},{"$f":"Ecoles!C112","v":0},null,{"$f":"SUMIF('Concert 1'!$E$9:$E$56,Statistiques!A116,'Concert 1'!$I$9:$I$56)+SUMIF('Concert 2'!$E$9:$E$56,Statistiques!A116,'Concert 2'!$I$9:$I$56)+SUMIF('Concert 3'!$E$9:$E$56,Statistiques!A116,'Concert 3'!$I$9:$I$56)+SUMIF('Concert 4'!$E$9:$E$56,Statistiques!A116,'Concert 4'!$I$9:$I$56)+SUMIF('Concert 5'!$E$9:$E$56,Statistiques!A116,'Concert 5'!$I$9:$I$56)","v":0},{"$f":"SUMIF('Concert 1'!$E$9:$E$56,Statistiques!A116,'Concert 1'!$J$9:$J$56)+SUMIF('Concert 2'!$E$9:$E$56,Statistiques!A116,'Concert 2'!$J$9:$J$56)+SUMIF('Concert 3'!$E$9:$E$56,Statistiques!A116,'Concert 3'!$J$9:$J$56)+SUMIF('Concert 4'!$E$9:$E$56,Statistiques!A116,'Concert 4'!$J$9:$J$56)+SUMIF('Concert 5'!$E$9:$E$56,Statistiques!A116,'Concert 5'!$J$9:$J$56)","v":0},null,null,{"$f":"SUMIF('Concert 1'!$E$9:$E$56,Statistiques!A116,'Concert 1'!$I$9:$I$56)","v":0},{"$f":"SUMIF('Concert 1'!$E$9:$E$56,Statistiques!A116,'Concert 1'!$J$9:$J$56)","v":0},{"$f":"SUMIF('Concert 2'!$E$9:$E$56,Statistiques!A116,'Concert 2'!$I$9:$I$56)","v":0},{"$f":"SUMIF('Concert 2'!$E$9:$E$56,Statistiques!A116,'Concert 2'!$J$9:$J$56)","v":0},{"$f":"SUMIF('Concert 3'!$E$9:$E$56,Statistiques!A116,'Concert 3'!$I$9:$I$56)","v":0},{"$f":"SUMIF('Concert 3'!$E$9:$E$56,Statistiques!A116,'Concert 3'!$J$9:$J$56)","v":0},{"$f":"SUMIF('Concert 4'!$E$9:$E$56,Statistiques!A116,'Concert 4'!$I$9:$I$56)","v":0},{"$f":"SUMIF('Concert 4'!$E$9:$E$56,Statistiques!A116,'Concert 4'!$J$9:$J$56)","v":0},{"$f":"SUMIF('Concert 5'!$E$9:$E$56,Statistiques!A116,'Concert 5'!$I$9:$I$56)","v":0},{"$f":"SUMIF('Concert 5'!$E$9:$E$56,Statistiques!A116,'Concert 5'!$J$9:$J$56)","v":0}]
[{"$f":"Ecoles!A113","v":0},{"$f":"Ecoles!B113","v":0},{"$f":"Ecoles!C113","v":0},null,{"$f":"SUMIF('Concert 1'!$E$9:$E$56,Statistiques!A117,'Concert 1'!$I$9:$I$56)+SUMIF('Concert 2'!$E$9:$E$56,Statistiques!A117,'Concert 2'!$I$9:$I$56)+SUMIF('Concert 3'!$E$9:$E$56,Statistiques!A117,'Concert 3'!$I$9:$I$56)+SUMIF('Concert 4'!$E$9:$E$56,Statistiques!A117,'Concert 4'!$I$9:$I$56)+SUMIF('Concert 5'!$E$9:$E$56,Statistiques!A117,'Concert 5'!$I$9:$I$56)","v":0},{"$f":"SUMIF('Concert 1'!$E$9:$E$56,Statistiques!A117,'Concert 1'!$J$9:$J$56)+SUMIF('Concert 2'!$E$9:$E$56,Statistiques!A117,'Concert 2'!$J$9:$J$56)+SUMIF('Concert 3'!$E$9:$E$56,Statistiques!A117,'Concert 3'!$J$9:$J$56)+SUMIF('Concert 4'!$E$9:$E$56,Statistiques!A117,'Concert 4'!$J$9:$J$56)+SUMIF('Concert 5'!$E$9:$E$56,Statistiques!A117,'Concert 5'!$J$9:$J$56)","v":0},null,null,{"$f":"SUMIF('Concert 1'!$E$9:$E$56,Statistiques!A117,'Concert 1'!$I$9:$I$56)","v":0},{"$f":"SUMIF('Concert 1'!$E$9:$E$56,Statistiques!A117,'Concert 1'!$J$9:$J$56)","v":0},{"$f":"SUMIF('Concert 2'!$E$9:$E$56,Statistiques!A117,'Concert 2'!$I$9:$I$56)","v":0},{"$f":"SUMIF('Concert 2'!$E$9:$E$56,Statistiques!A117,'Concert 2'!$J$9:$J$56)","v":0},{"$f":"SUMIF('Concert 3'!$E$9:$E$56,Statistiques!A117,'Concert 3'!$I$9:$I$56)","v":0},{"$f":"SUMIF('Concert 3'!$E$9:$E$56,Statistiques!A117,'Concert 3'!$J$9:$J$56)","v":0},{"$f":"SUMIF('Concert 4'!$E$9:$E$56,Statistiques!A117,'Concert 4'!$I$9:$I$56)","v":0},{"$f":"SUMIF('Concert 4'!$E$9:$E$56,Statistiques!A117,'Concert 4'!$J$9:$J$56)","v":0},{"$f":"SUMIF('Concert 5'!$E$9:$E$56,Statistiques!A117,'Concert 5'!$I$9:$I$56)","v":0},{"$f":"SUMIF('Concert 5'!$E$9:$E$56,Statistiques!A117,'Concert 5'!$J$9:$J$56)","v":0}]
[{"$f":"Ecoles!A114","v":0},{"$f":"Ecoles!B114","v":0},{"$f":"Ecoles!C114","v":0},null,{"$f":"SUMIF('Concert 1'!$E$9:$E$56,Statistiques!A118,'Concert 1'!$I$9:$I$56)+SUMIF('Concert 2'!$E$9:$E$56,Statistiques!A118,'Concert 2'!$I$9:$I$56)+SUMIF('Concert 3'!$E$9:$E$56,Statistiques!A118,'Concert 3'!$I$9:$I$56)+SUMIF('Concert 4'!$E$9:$E$56,Statistiques!A118,'Concert 4'!$I$9:$I$56)+SUMIF('Concert 5'!$E$9:$E$56,Statistiques!A118,'Concert 5'!$I$9:$I$56)","v":0},{"$f":"SUMIF('Concert 1'!$E$9:$E$56,Statistiques!A118,'Concert 1'!$J$9:$J$56)+SUMIF('Concert 2'!$E$9:$E$56,Statistiques!A118,'Concert 2'!$J$9:$J$56)+SUMIF('Concert 3'!$E$9:$E$56,Statistiques!A118,'Concert 3'!$J$9:$J$56)+SUMIF('Concert 4'!$E$9:$E$56,Statistiques!A118,'Concert 4'!$J$9:$J$56)+SUMIF('Concert 5'!$E$9:$E$56,Statistiques!A118,'Concert 5'!$J$9:$J$56)","v":0},null,null,{"$f":"SUMIF('Concert 1'!$E$9:$E$56,Statistiques!A118,'Concert 1'!$I$9:$I$56)","v":0},{"$f":"SUMIF('Concert 1'!$E$9:$E$56,Statistiques!A118,'Concert 1'!$J$9:$J$56)","v":0},{"$f":"SUMIF('Concert 2'!$E$9:$E$56,Statistiques!A118,'Concert 2'!$I$9:$I$56)","v":0},{"$f":"SUMIF('Concert 2'!$E$9:$E$56,Statistiques!A118,'Concert 2'!$J$9:$J$56)","v":0},{"$f":"SUMIF('Concert 3'!$E$9:$E$56,Statistiques!A118,'Concert 3'!$I$9:$I$56)","v":0},{"$f":"SUMIF('Concert 3'!$E$9:$E$56,Statistiques!A118,'Concert 3'!$J$9:$J$56)","v":0},{"$f":"SUMIF('Concert 4'!$E$9:$E$56,Statistiques!A118,'Concert 4'!$I$9:$I$56)","v":0},{"$f":"SUMIF('Concert 4'!$E$9:$E$56,Statistiques!A118,'Concert 4'!$J$9:$J$56)","v":0},{"$f":"SUMIF('Concert 5'!$E$9:$E$56,Statistiques!A118,'Concert 5'!$I$9:$I$56)","v":0},{"$f":"SUMIF('Concert 5'!$E$9:$E$56,Statistiques!A118,'Concert 5'!$J$9:$J$56)","v":0}]
[{"$f":"Ecoles!A115","v":0},{"$f":"Ecoles!B115","v":0},{"$f":"Ecoles!C115","v":0},null,{"$f":"SUMIF('Concert 1'!$E$9:$E$56,Statistiques!A119,'Concert 1'!$I$9:$I$56)+SUMIF('Concert 2'!$E$9:$E$56,Statistiques!A119,'Concert 2'!$I$9:$I$56)+SUMIF('Concert 3'!$E$9:$E$56,Statistiques!A119,'Concert 3'!$I$9:$I$56)+SUMIF('Concert 4'!$E$9:$E$56,Statistiques!A119,'Concert 4'!$I$9:$I$56)+SUMIF('Concert 5'!$E$9:$E$56,Statistiques!A119,'Concert 5'!$I$9:$I$56)","v":0},{"$f":"SUMIF('Concert 1'!$E$9:$E$56,Statistiques!A119,'Concert 1'!$J$9:$J$56)+SUMIF('Concert 2'!$E$9:$E$56,Statistiques!A119,'Concert 2'!$J$9:$J$56)+SUMIF('Concert 3'!$E$9:$E$56,Statistiques!A119,'Concert 3'!$J$9:$J$56)+SUMIF('Concert 4'!$E$9:$E$56,Statistiques!A119,'Concert 4'!$J$9:$J$56)+SUMIF('Concert 5'!$E$9:$E$56,Statistiques!A119,'Concert 5'!$J$9:$J$56)","v":0},null,null,{"$f":"SUMIF('Concert 1'!$E$9:$E$56,Statistiques!A119,'Concert 1'!$I$9:$I$56)","v":0},{"$f":"SUMIF('Concert 1'!$E$9:$E$56,Statistiques!A119,'Concert 1'!$J$9:$J$56)","v":0},{"$f":"SUMIF('Concert 2'!$E$9:$E$56,Statistiques!A119,'Concert 2'!$I$9:$I$56)","v":0},{"$f":"SUMIF('Concert 2'!$E$9:$E$56,Statistiques!A119,'Concert 2'!$J$9:$J$56)","v":0},{"$f":"SUMIF('Concert 3'!$E$9:$E$56,Statistiques!A119,'Concert 3'!$I$9:$I$56)","v":0},{"$f":"SUMIF('Concert 3'!$E$9:$E$56,Statistiques!A119,'Concert 3'!$J$9:$J$56)","v":0},{"$f":"SUMIF('Concert 4'!$E$9:$E$56,Statistiques!A119,'Concert 4'!$I$9:$I$56)","v":0},{"$f":"SUMIF('Concert 4'!$E$9:$E$56,Statistiques!A119,'Concert 4'!$J$9:$J$56)","v":0},{"$f":"SUMIF('Concert 5'!$E$9:$E$56,Statistiques!A119,'Concert 5'!$I$9:$I$56)","v":0},{"$f":"SUMIF('Concert 5'!$E$9:$E$56,Statistiques!A119,'Concert 5'!$J$9:$J$56)","v":0}]
[{"$f":"Ecoles!A116","v":0},{"$f":"Ecoles!B116","v":0},{"$f":"Ecoles!C116","v":0},null,{"$f":"SUMIF('Concert 1'!$E$9:$E$56,Statistiques!A120,'Concert 1'!$I$9:$I$56)+SUMIF('Concert 2'!$E$9:$E$56,Statistiques!A120,'Concert 2'!$I$9:$I$56)+SUMIF('Concert 3'!$E$9:$E$56,Statistiques!A120,'Concert 3'!$I$9:$I$56)+SUMIF('Concert 4'!$E$9:$E$56,Statistiques!A120,'Concert 4'!$I$9:$I$56)+SUMIF('Concert 5'!$E$9:$E$56,Statistiques!A120,'Concert 5'!$I$9:$I$56)","v":0},{"$f":"SUMIF('Concert 1'!$E$9:$E$56,Statistiques!A120,'Concert 1'!$J$9:$J$56)+SUMIF('Concert 2'!$E$9:$E$56,Statistiques!A120,'Concert 2'!$J$9:$J$56)+SUMIF('Concert 3'!$E$9:$E$56,Statistiques!A120,'Concert 3'!$J$9:$J$56)+SUMIF('Concert 4'!$E$9:$E$56,Statistiques!A120,'Concert 4'!$J$9:$J$56)+SUMIF('Concert 5'!$E$9:$E$56,Statistiques!A120,'Concert 5'!$J$9:$J$56)","v":0},null,null,{"$f":"SUMIF('Concert 1'!$E$9:$E$56,Statistiques!A120,'Concert 1'!$I$9:$I$56)","v":0},{"$f":"SUMIF('Concert 1'!$E$9:$E$56,Statistiques!A120,'Concert 1'!$J$9:$J$56)","v":0},{"$f":"SUMIF('Concert 2'!$E$9:$E$56,Statistiques!A120,'Concert 2'!$I$9:$I$56)","v":0},{"$f":"SUMIF('Concert 2'!$E$9:$E$56,Statistiques!A120,'Concert 2'!$J$9:$J$56)","v":0},{"$f":"SUMIF('Concert 3'!$E$9:$E$56,Statistiques!A120,'Concert 3'!$I$9:$I$56)","v":0},{"$f":"SUMIF('Concert 3'!$E$9:$E$56,Statistiques!A120,'Concert 3'!$J$9:$J$56)","v":0},{"$f":"SUMIF('Concert 4'!$E$9:$E$56,Statistiques!A120,'Concert 4'!$I$9:$I$56)","v":0},{"$f":"SUMIF('Concert 4'!$E$9:$E$56,Statistiques!A120,'Concert 4'!$J$9:$J$56)","v":0},{"$f":"SUMIF('Concert 5'!$E$9:$E$56,Statistiques!A120,'Concert 5'!$I$9:$I$56)","v":0},{"$f":"SUMIF('Concert 5'!$E$9:$E$56,Statistiques!A120,'Concert 5'!$J$9:$J$56)","v":0}]
[{"$f":"Ecoles!A117","v":0},{"$f":"Ecoles!B117","v":0},{"$f":"Ecoles!C117","v":0},null,{"$f":"SUMIF('Concert 1'!$E$9:$E$56,Statistiques!A121,'Concert 1'!$I$9:$I$56)+SUMIF('Concert 2'!$E$9:$E$56,Statistiques!A121,'Concert 2'!$I$9:$I$56)+SUMIF('Concert 3'!$E$9:$E$56,Statistiques!A121,'Concert 3'!$I$9:$I$56)+SUMIF('Concert 4'!$E$9:$E$56,Statistiques!A121,'Concert 4'!$I$9:$I$56)+SUMIF('Concert 5'!$E$9:$E$56,Statistiques!A121,'Concert 5'!$I$9:$I$56)","v":0},{"$f":"SUMIF('Concert 1'!$E$9:$E$56,Statistiques!A121,'Concert 1'!$J$9:$J$56)+SUMIF('Concert 2'!$E$9:$E$56,Statistiques!A121,'Concert 2'!$J$9:$J$56)+SUMIF('Concert 3'!$E$9:$E$56,Statistiques!A121,'Concert 3'!$J$9:$J$56)+SUMIF('Concert 4'!$E$9:$E$56,Statistiques!A121,'Concert 4'!$J$9:$J$56)+SUMIF('Concert 5'!$E$9:$E$56,Statistiques!A121,'Concert 5'!$J$9:$J$56)","v":0},null,null,{"$f":"SUMIF('Concert 1'!$E$9:$E$56,Statistiques!A121,'Concert 1'!$I$9:$I$56)","v":0},{"$f":"SUMIF('Concert 1'!$E$9:$E$56,Statistiques!A121,'Concert 1'!$J$9:$J$56)","v":0},{"$f":"SUMIF('Concert 2'!$E$9:$E$56,Statistiques!A121,'Concert 2'!$I$9:$I$56)","v":0},{"$f":"SUMIF('Concert 2'!$E$9:$E$56,Statistiques!A121,'Concert 2'!$J$9:$J$56)","v":0},{"$f":"SUMIF('Concert 3'!$E$9:$E$56,Statistiques!A121,'Concert 3'!$I$9:$I$56)","v":0},{"$f":"SUMIF('Concert 3'!$E$9:$E$56,Statistiques!A121,'Concert 3'!$J$9:$J$56)","v":0},{"$f":"SUMIF('Concert 4'!$E$9:$E$56,Statistiques!A121,'Concert 4'!$I$9:$I$56)","v":0},{"$f":"SUMIF('Concert 4'!$E$9:$E$56,Statistiques!A121,'Concert 4'!$J$9:$J$56)","v":0},{"$f":"SUMIF('Concert 5'!$E$9:$E$56,Statistiques!A121,'Concert 5'!$I$9:$I$56)","v":0},{"$f":"SUMIF('Concert 5'!$E$9:$E$56,Statistiques!A121,'Concert 5'!$J$9:$J$56)","v":0}]
[{"$f":"Ecoles!A118","v":0},{"$f":"Ecoles!B118","v":0},{"$f":"Ecoles!C118","v":0},null,{"$f":"SUMIF('Concert 1'!$E$9:$E$56,Statistiques!A122,'Concert 1'!$I$9:$I$56)+SUMIF('Concert 2'!$E$9:$E$56,Statistiques!A122,'Concert 2'!$I$9:$I$56)+SUMIF('Concert 3'!$E$9:$E$56,Statistiques!A122,'Concert 3'!$I$9:$I$56)+SUMIF('Concert 4'!$E$9:$E$56,Statistiques!A122,'Concert 4'!$I$9:$I$56)+SUMIF('Concert 5'!$E$9:$E$56,Statistiques!A122,'Concert 5'!$I$9:$I$56)","v":0},{"$f":"SUMIF('Concert 1'!$E$9:$E$56,Statistiques!A122,'Concert 1'!$J$9:$J$56)+SUMIF('Concert 2'!$E$9:$E$56,Statistiques!A122,'Concert 2'!$J$9:$J$56)+SUMIF('Concert 3'!$E$9:$E$56,Statistiques!A122,'Concert 3'!$J$9:$J$56)+SUMIF('Concert 4'!$E$9:$E$56,Statistiques!A122,'Concert 4'!$J$9:$J$56)+SUMIF('Concert 5'!$E$9:$E$56,Statistiques!A122,'Concert 5'!$J$9:$J$56)","v":0},null,null,{"$f":"SUMIF('Concert 1'!$E$9:$E$56,Statistiques!A122,'Concert 1'!$I$9:$I$56)","v":0},{"$f":"SUMIF('Concert 1'!$E$9:$E$56,Statistiques!A122,'Concert 1'!$J$9:$J$56)","v":0},{"$f":"SUMIF('Concert 2'!$E$9:$E$56,Statistiques!A122,'Concert 2'!$I$9:$I$56)","v":0},{"$f":"SUMIF('Concert 2'!$E$9:$E$56,Statistiques!A122,'Concert 2'!$J$9:$J$56)","v":0},{"$f":"SUMIF('Concert 3'!$E$9:$E$56,Statistiques!A122,'Concert 3'!$I$9:$I$56)","v":0},{"$f":"SUMIF('Concert 3'!$E$9:$E$56,Statistiques!A122,'Concert 3'!$J$9:$J$56)","v":0},{"$f":"SUMIF('Concert 4'!$E$9:$E$56,Statistiques!A122,'Concert 4'!$I$9:$I$56)","v":0},{"$f":"SUMIF('Concert 4'!$E$9:$E$56,Statistiques!A122,'Concert 4'!$J$9:$J$56)","v":0},{"$f":"SUMIF('Concert 5'!$E$9:$E$56,Statistiques!A122,'Concert 5'!$I$9:$I$56)","v":0},{"$f":"SUMIF('Concert 5'!$E$9:$E$56,Statistiques!A122,'Concert 5'!$J$9:$J$56)","v":0}]
[{"$f":"Ecoles!A119","v":0},{"$f":"Ecoles!B119","v":0},{"$f":"Ecoles!C119","v":0},null,{"$f":"SUMIF('Concert 1'!$E$9:$E$56,Statistiques!A123,'Concert 1'!$I$9:$I$56)+SUMIF('Concert 2'!$E$9:$E$56,Statistiques!A123,'Concert 2'!$I$9:$I$56)+SUMIF('Concert 3'!$E$9:$E$56,Statistiques!A123,'Concert 3'!$I$9:$I$56)+SUMIF('Concert 4'!$E$9:$E$56,Statistiques!A123,'Concert 4'!$I$9:$I$56)+SUMIF('Concert 5'!$E$9:$E$56,Statistiques!A123,'Concert 5'!$I$9:$I$56)","v":0},{"$f":"SUMIF('Concert 1'!$E$9:$E$56,Statistiques!A123,'Concert 1'!$J$9:$J$56)+SUMIF('Concert 2'!$E$9:$E$56,Statistiques!A123,'Concert 2'!$J$9:$J$56)+SUMIF('Concert 3'!$E$9:$E$56,Statistiques!A123,'Concert 3'!$J$9:$J$56)+SUMIF('Concert 4'!$E$9:$E$56,Statistiques!A123,'Concert 4'!$J$9:$J$56)+SUMIF('Concert 5'!$E$9:$E$56,Statistiques!A123,'Concert 5'!$J$9:$J$56)","v":0},null,null,{"$f":"SUMIF('Concert 1'!$E$9:$E$56,Statistiques!A123,'Concert 1'!$I$9:$I$56)","v":0},{"$f":"SUMIF('Concert 1'!$E$9:$E$56,Statistiques!A123,'Concert 1'!$J$9:$J$56)","v":0},{"$f":"SUMIF('Concert 2'!$E$9:$E$56,Statistiques!A123,'Concert 2'!$I$9:$I$56)","v":0},{"$f":"SUMIF('Concert 2'!$E$9:$E$56,Statistiques!A123,'Concert 2'!$J$9:$J$56)","v":0},{"$f":"SUMIF('Concert 3'!$E$9:$E$56,Statistiques!A123,'Concert 3'!$I$9:$I$56)","v":0},{"$f":"SUMIF('Concert 3'!$E$9:$E$56,Statistiques!A123,'Concert 3'!$J$9:$J$56)","v":0},{"$f":"SUMIF('Concert 4'!$E$9:$E$56,Statistiques!A123,'Concert 4'!$I$9:$I$56)","v":0},{"$f":"SUMIF('Concert 4'!$E$9:$E$56,Statistiques!A123,'Concert 4'!$J$9:$J$56)","v":0},{"$f":"SUMIF('Concert 5'!$E$9:$E$56,Statistiques!A123,'Concert 5'!$I$9:$I$56)","v":0},{"$f":"SUMIF('Concert 5'!$E$9:$E$56,Statistiques!A123,'Concert 5'!$J$9:$J$56)","v":0}]
[{"$f":"Ecoles!A120","v":0},{"$f":"Ecoles!B120","v":0},{"$f":"Ecoles!C120","v":0},null,{"$f":"SUMIF('Concert 1'!$E$9:$E$56,Statistiques!A124,'Concert 1'!$I$9:$I$56)+SUMIF('Concert 2'!$E$9:$E$56,Statistiques!A124,'Concert 2'!$I$9:$I$56)+SUMIF('Concert 3'!$E$9:$E$56,Statistiques!A124,'Concert 3'!$I$9:$I$56)+SUMIF('Concert 4'!$E$9:$E$56,Statistiques!A124,'Concert 4'!$I$9:$I$56)+SUMIF('Concert 5'!$E$9:$E$56,Statistiques!A124,'Concert 5'!$I$9:$I$56)","v":0},{"$f":"SUMIF('Concert 1'!$E$9:$E$56,Statistiques!A124,'Concert 1'!$J$9:$J$56)+SUMIF('Concert 2'!$E$9:$E$56,Statistiques!A124,'Concert 2'!$J$9:$J$56)+SUMIF('Concert 3'!$E$9:$E$56,Statistiques!A124,'Concert 3'!$J$9:$J$56)+SUMIF('Concert 4'!$E$9:$E$56,Statistiques!A124,'Concert 4'!$J$9:$J$56)+SUMIF('Concert 5'!$E$9:$E$56,Statistiques!A124,'Concert 5'!$J$9:$J$56)","v":0},null,null,{"$f":"SUMIF('Concert 1'!$E$9:$E$56,Statistiques!A124,'Concert 1'!$I$9:$I$56)","v":0},{"$f":"SUMIF('Concert 1'!$E$9:$E$56,Statistiques!A124,'Concert 1'!$J$9:$J$56)","v":0},{"$f":"SUMIF('Concert 2'!$E$9:$E$56,Statistiques!A124,'Concert 2'!$I$9:$I$56)","v":0},{"$f":"SUMIF('Concert 2'!$E$9:$E$56,Statistiques!A124,'Concert 2'!$J$9:$J$56)","v":0},{"$f":"SUMIF('Concert 3'!$E$9:$E$56,Statistiques!A124,'Concert 3'!$I$9:$I$56)","v":0},{"$f":"SUMIF('Concert 3'!$E$9:$E$56,Statistiques!A124,'Concert 3'!$J$9:$J$56)","v":0},{"$f":"SUMIF('Concert 4'!$E$9:$E$56,Statistiques!A124,'Concert 4'!$I$9:$I$56)","v":0},{"$f":"SUMIF('Concert 4'!$E$9:$E$56,Statistiques!A124,'Concert 4'!$J$9:$J$56)","v":0},{"$f":"SUMIF('Concert 5'!$E$9:$E$56,Statistiques!A124,'Concert 5'!$I$9:$I$56)","v":0},{"$f":"SUMIF('Concert 5'!$E$9:$E$56,Statistiques!A124,'Concert 5'!$J$9:$J$56)","v":0}]
[{"$f":"Ecoles!A121","v":0},{"$f":"Ecoles!B121","v":0},{"$f":"Ecoles!C121","v":0},null,{"$f":"SUMIF('Concert 1'!$E$9:$E$56,Statistiques!A125,'Concert 1'!$I$9:$I$56)+SUMIF('Concert 2'!$E$9:$E$56,Statistiques!A125,'Concert 2'!$I$9:$I$56)+SUMIF('Concert 3'!$E$9:$E$56,Statistiques!A125,'Concert 3'!$I$9:$I$56)+SUMIF('Concert 4'!$E$9:$E$56,Statistiques!A125,'Concert 4'!$I$9:$I$56)+SUMIF('Concert 5'!$E$9:$E$56,Statistiques!A125,'Concert 5'!$I$9:$I$56)","v":0},{"$f":"SUMIF('Concert 1'!$E$9:$E$56,Statistiques!A125,'Concert 1'!$J$9:$J$56)+SUMIF('Concert 2'!$E$9:$E$56,Statistiques!A125,'Concert 2'!$J$9:$J$56)+SUMIF('Concert 3'!$E$9:$E$56,Statistiques!A125,'Concert 3'!$J$9:$J$56)+SUMIF('Concert 4'!$E$9:$E$56,Statistiques!A125,'Concert 4'!$J$9:$J$56)+SUMIF('Concert 5'!$E$9:$E$56,Statistiques!A125,'Concert 5'!$J$9:$J$56)","v":0},null,null,{"$f":"SUMIF('Concert 1'!$E$9:$E$56,Statistiques!A125,'Concert 1'!$I$9:$I$56)","v":0},{"$f":"SUMIF('Concert 1'!$E$9:$E$56,Statistiques!A125,'Concert 1'!$J$9:$J$56)","v":0},{"$f":"SUMIF('Concert 2'!$E$9:$E$56,Statistiques!A125,'Concert 2'!$I$9:$I$56)","v":0},{"$f":"SUMIF('Concert 2'!$E$9:$E$56,Statistiques!A125,'Concert 2'!$J$9:$J$56)","v":0},{"$f":"SUMIF('Concert 3'!$E$9:$E$56,Statistiques!A125,'Concert 3'!$I$9:$I$56)","v":0},{"$f":"SUMIF('Concert 3'!$E$9:$E$56,Statistiques!A125,'Concert 3'!$J$9:$J$56)","v":0},{"$f":"SUMIF('Concert 4'!$E$9:$E$56,Statistiques!A125,'Concert 4'!$I$9:$I$56)","v":0},{"$f":"SUMIF('Concert 4'!$E$9:$E$56,Statistiques!A125,'Concert 4'!$J$9:$J$56)","v":0},{"$f":"SUMIF('Concert 5'!$E$9:$E$56,Statistiques!A125,'Concert 5'!$I$9:$I$56)","v":0},{"$f":"SUMIF('Concert 5'!$E$9:$E$56,Statistiques!A125,'Concert 5'!$J$9:$J$56)","v":0}]
[{"$f":"Ecoles!A122","v":0},{"$f":"Ecoles!B122","v":0},{"$f":"Ecoles!C122","v":0},null,{"$f":"SUMIF('Concert 1'!$E$9:$E$56,Statistiques!A126,'Concert 1'!$I$9:$I$56)+SUMIF('Concert 2'!$E$9:$E$56,Statistiques!A126,'Concert 2'!$I$9:$I$56)+SUMIF('Concert 3'!$E$9:$E$56,Statistiques!A126,'Concert 3'!$I$9:$I$56)+SUMIF('Concert 4'!$E$9:$E$56,Statistiques!A126,'Concert 4'!$I$9:$I$56)+SUMIF('Concert 5'!$E$9:$E$56,Statistiques!A126,'Concert 5'!$I$9:$I$56)","v":0},{"$f":"SUMIF('Concert 1'!$E$9:$E$56,Statistiques!A126,'Concert 1'!$J$9:$J$56)+SUMIF('Concert 2'!$E$9:$E$56,Statistiques!A126,'Concert 2'!$J$9:$J$56)+SUMIF('Concert 3'!$E$9:$E$56,Statistiques!A126,'Concert 3'!$J$9:$J$56)+SUMIF('Concert 4'!$E$9:$E$56,Statistiques!A126,'Concert 4'!$J$9:$J$56)+SUMIF('Concert 5'!$E$9:$E$56,Statistiques!A126,'Concert 5'!$J$9:$J$56)","v":0},null,null,{"$f":"SUMIF('Concert 1'!$E$9:$E$56,Statistiques!A126,'Concert 1'!$I$9:$I$56)","v":0},{"$f":"SUMIF('Concert 1'!$E$9:$E$56,Statistiques!A126,'Concert 1'!$J$9:$J$56)","v":0},{"$f":"SUMIF('Concert 2'!$E$9:$E$56,Statistiques!A126,'Concert 2'!$I$9:$I$56)","v":0},{"$f":"SUMIF('Concert 2'!$E$9:$E$56,Statistiques!A126,'Concert 2'!$J$9:$J$56)","v":0},{"$f":"SUMIF('Concert 3'!$E$9:$E$56,Statistiques!A126,'Concert 3'!$I$9:$I$56)","v":0},{"$f":"SUMIF('Concert 3'!$E$9:$E$56,Statistiques!A126,'Concert 3'!$J$9:$J$56)","v":0},{"$f":"SUMIF('Concert 4'!$E$9:$E$56,Statistiques!A126,'Concert 4'!$I$9:$I$56)","v":0},{"$f":"SUMIF('Concert 4'!$E$9:$E$56,Statistiques!A126,'Concert 4'!$J$9:$J$56)","v":0},{"$f":"SUMIF('Concert 5'!$E$9:$E$56,Statistiques!A126,'Concert 5'!$I$9:$I$56)","v":0},{"$f":"SUMIF('Concert 5'!$E$9:$E$56,Statistiques!A126,'Concert 5'!$J$9:$J$56)","v":0}]
[{"$f":"Ecoles!A123","v":0},{"$f":"Ecoles!B123","v":0},{"$f":"Ecoles!C123","v":0},null,{"$f":"SUMIF('Concert 1'!$E$9:$E$56,Statistiques!A127,'Concert 1'!$I$9:$I$56)+SUMIF('Concert 2'!$E$9:$E$56,Statistiques!A127,'Concert 2'!$I$9:$I$56)+SUMIF('Concert 3'!$E$9:$E$56,Statistiques!A127,'Concert 3'!$I$9:$I$56)+SUMIF('Concert 4'!$E$9:$E$56,Statistiques!A127,'Concert 4'!$I$9:$I$56)+SUMIF('Concert 5'!$E$9:$E$56,Statistiques!A127,'Concert 5'!$I$9:$I$56)","v":0},{"$f":"SUMIF('Concert 1'!$E$9:$E$56,Statistiques!A127,'Concert 1'!$J$9:$J$56)+SUMIF('Concert 2'!$E$9:$E$56,Statistiques!A127,'Concert 2'!$J$9:$J$56)+SUMIF('Concert 3'!$E$9:$E$56,Statistiques!A127,'Concert 3'!$J$9:$J$56)+SUMIF('Concert 4'!$E$9:$E$56,Statistiques!A127,'Concert 4'!$J$9:$J$56)+SUMIF('Concert 5'!$E$9:$E$56,Statistiques!A127,'Concert 5'!$J$9:$J$56)","v":0},null,null,{"$f":"SUMIF('Concert 1'!$E$9:$E$56,Statistiques!A127,'Concert 1'!$I$9:$I$56)","v":0},{"$f":"SUMIF('Concert 1'!$E$9:$E$56,Statistiques!A127,'Concert 1'!$J$9:$J$56)","v":0},{"$f":"SUMIF('Concert 2'!$E$9:$E$56,Statistiques!A127,'Concert 2'!$I$9:$I$56)","v":0},{"$f":"SUMIF('Concert 2'!$E$9:$E$56,Statistiques!A127,'Concert 2'!$J$9:$J$56)","v":0},{"$f":"SUMIF('Concert 3'!$E$9:$E$56,Statistiques!A127,'Concert 3'!$I$9:$I$56)","v":0},{"$f":"SUMIF('Concert 3'!$E$9:$E$56,Statistiques!A127,'Concert 3'!$J$9:$J$56)","v":0},{"$f":"SUMIF('Concert 4'!$E$9:$E$56,Statistiques!A127,'Concert 4'!$I$9:$I$56)","v":0},{"$f":"SUMIF('Concert 4'!$E$9:$E$56,Statistiques!A127,'Concert 4'!$J$9:$J$56)","v":0},{"$f":"SUMIF('Concert 5'!$E$9:$E$56,Statistiques!A127,'Concert 5'!$I$9:$I$56)","v":0},{"$f":"SUMIF('Concert 5'!$E$9:$E$56,Statistiques!A127,'Concert 5'!$J$9:$J$56)","v":0}]
[{"$f":"Ecoles!A124","v":0},{"$f":"Ecoles!B124","v":0},{"$f":"Ecoles!C124","v":0},null,{"$f":"SUMIF('Concert 1'!$E$9:$E$56,Statistiques!A128,'Concert 1'!$I$9:$I$56)+SUMIF('Concert 2'!$E$9:$E$56,Statistiques!A128,'Concert 2'!$I$9:$I$56)+SUMIF('Concert 3'!$E$9:$E$56,Statistiques!A128,'Concert 3'!$I$9:$I$56)+SUMIF('Concert 4'!$E$9:$E$56,Statistiques!A128,'Concert 4'!$I$9:$I$56)+SUMIF('Concert 5'!$E$9:$E$56,Statistiques!A128,'Concert 5'!$I$9:$I$56)","v":0},{"$f":"SUMIF('Concert 1'!$E$9:$E$56,Statistiques!A128,'Concert 1'!$J$9:$J$56)+SUMIF('Concert 2'!$E$9:$E$56,Statistiques!A128,'Concert 2'!$J$9:$J$56)+SUMIF('Concert 3'!$E$9:$E$56,Statistiques!A128,'Concert 3'!$J$9:$J$56)+SUMIF('Concert 4'!$E$9:$E$56,Statistiques!A128,'Concert 4'!$J$9:$J$56)+SUMIF('Concert 5'!$E$9:$E$56,Statistiques!A128,'Concert 5'!$J$9:$J$56)","v":0},null,null,{"$f":"SUMIF('Concert 1'!$E$9:$E$56,Statistiques!A128,'Concert 1'!$I$9:$I$56)","v":0},{"$f":"SUMIF('Concert 1'!$E$9:$E$56,Statistiques!A128,'Concert 1'!$J$9:$J$56)","v":0},{"$f":"SUMIF('Concert 2'!$E$9:$E$56,Statistiques!A128,'Concert 2'!$I$9:$I$56)","v":0},{"$f":"SUMIF('Concert 2'!$E$9:$E$56,Statistiques!A128,'Concert 2'!$J$9:$J$56)","v":0},{"$f":"SUMIF('Concert 3'!$E$9:$E$56,Statistiques!A128,'Concert 3'!$I$9:$I$56)","v":0},{"$f":"SUMIF('Concert 3'!$E$9:$E$56,Statistiques!A128,'Concert 3'!$J$9:$J$56)","v":0},{"$f":"SUMIF('Concert 4'!$E$9:$E$56,Statistiques!A128,'Concert 4'!$I$9:$I$56)","v":0},{"$f":"SUMIF('Concert 4'!$E$9:$E$56,Statistiques!A128,'Concert 4'!$J$9:$J$56)","v":0},{"$f":"SUMIF('Concert 5'!$E$9:$E$56,Statistiques!A128,'Concert 5'!$I$9:$I$56)","v":0},{"$f":"SUMIF('Concert 5'!$E$9:$E$56,Statistiques!A128,'Concert 5'!$J$9:$J$56)","v":0}]
[{"$f":"Ecoles!A125","v":0},{"$f":"Ecoles!B125","v":0},{"$f":"Ecoles!C125","v":0},null,{"$f":"SUMIF('Concert 1'!$E$9:$E$56,Statistiques!A129,'Concert 1'!$I$9:$I$56)+SUMIF('Concert 2'!$E$9:$E$56,Statistiques!A129,'Concert 2'!$I$9:$I$56)+SUMIF('Concert 3'!$E$9:$E$56,Statistiques!A129,'Concert 3'!$I$9:$I$56)+SUMIF('Concert 4'!$E$9:$E$56,Statistiques!A129,'Concert 4'!$I$9:$I$56)+SUMIF('Concert 5'!$E$9:$E$56,Statistiques!A129,'Concert 5'!$I$9:$I$56)","v":0},{"$f":"SUMIF('Concert 1'!$E$9:$E$56,Statistiques!A129,'Concert 1'!$J$9:$J$56)+SUMIF('Concert 2'!$E$9:$E$56,Statistiques!A129,'Concert 2'!$J$9:$J$56)+SUMIF('Concert 3'!$E$9:$E$56,Statistiques!A129,'Concert 3'!$J$9:$J$56)+SUMIF('Concert 4'!$E$9:$E$56,Statistiques!A129,'Concert 4'!$J$9:$J$56)+SUMIF('Concert 5'!$E$9:$E$56,Statistiques!A129,'Concert 5'!$J$9:$J$56)","v":0},null,null,{"$f":"SUMIF('Concert 1'!$E$9:$E$56,Statistiques!A129,'Concert 1'!$I$9:$I$56)","v":0},{"$f":"SUMIF('Concert 1'!$E$9:$E$56,Statistiques!A129,'Concert 1'!$J$9:$J$56)","v":0},{"$f":"SUMIF('Concert 2'!$E$9:$E$56,Statistiques!A129,'Concert 2'!$I$9:$I$56)","v":0},{"$f":"SUMIF('Concert 2'!$E$9:$E$56,Statistiques!A129,'Concert 2'!$J$9:$J$56)","v":0},{"$f":"SUMIF('Concert 3'!$E$9:$E$56,Statistiques!A129,'Concert 3'!$I$9:$I$56)","v":0},{"$f":"SUMIF('Concert 3'!$E$9:$E$56,Statistiques!A129,'Concert 3'!$J$9:$J$56)","v":0},{"$f":"SUMIF('Concert 4'!$E$9:$E$56,Statistiques!A129,'Concert 4'!$I$9:$I$56)","v":0},{"$f":"SUMIF('Concert 4'!$E$9:$E$56,Statistiques!A129,'Concert 4'!$J$9:$J$56)","v":0},{"$f":"SUMIF('Concert 5'!$E$9:$E$56,Statistiques!A129,'Concert 5'!$I$9:$I$56)","v":0},{"$f":"SUMIF('Concert 5'!$E$9:$E$56,Statistiques!A129,'Concert 5'!$J$9:$J$56)","v":0}]
[{"$f":"Ecoles!A126","v":0},{"$f":"Ecoles!B126","v":0},{"$f":"Ecoles!C126","v":0},null,{"$f":"SUMIF('Concert 1'!$E$9:$E$56,Statistiques!A130,'Concert 1'!$I$9:$I$56)+SUMIF('Concert 2'!$E$9:$E$56,Statistiques!A130,'Concert 2'!$I$9:$I$56)+SUMIF('Concert 3'!$E$9:$E$56,Statistiques!A130,'Concert 3'!$I$9:$I$56)+SUMIF('Concert 4'!$E$9:$E$56,Statistiques!A130,'Concert 4'!$I$9:$I$56)+SUMIF('Concert 5'!$E$9:$E$56,Statistiques!A130,'Concert 5'!$I$9:$I$56)","v":0},{"$f":"SUMIF('Concert 1'!$E$9:$E$56,Statistiques!A130,'Concert 1'!$J$9:$J$56)+SUMIF('Concert 2'!$E$9:$E$56,Statistiques!A130,'Concert 2'!$J$9:$J$56)+SUMIF('Concert 3'!$E$9:$E$56,Statistiques!A130,'Concert 3'!$J$9:$J$56)+SUMIF('Concert 4'!$E$9:$E$56,Statistiques!A130,'Concert 4'!$J$9:$J$56)+SUMIF('Concert 5'!$E$9:$E$56,Statistiques!A130,'Concert 5'!$J$9:$J$56)","v":0},null,null,{"$f":"SUMIF('Concert 1'!$E$9:$E$56,Statistiques!A130,'Concert 1'!$I$9:$I$56)","v":0},{"$f":"SUMIF('Concert 1'!$E$9:$E$56,Statistiques!A130,'Concert 1'!$J$9:$J$56)","v":0},{"$f":"SUMIF('Concert 2'!$E$9:$E$56,Statistiques!A130,'Concert 2'!$I$9:$I$56)","v":0},{"$f":"SUMIF('Concert 2'!$E$9:$E$56,Statistiques!A130,'Concert 2'!$J$9:$J$56)","v":0},{"$f":"SUMIF('Concert 3'!$E$9:$E$56,Statistiques!A130,'Concert 3'!$I$9:$I$56)","v":0},{"$f":"SUMIF('Concert 3'!$E$9:$E$56,Statistiques!A130,'Concert 3'!$J$9:$J$56)","v":0},{"$f":"SUMIF('Concert 4'!$E$9:$E$56,Statistiques!A130,'Concert 4'!$I$9:$I$56)","v":0},{"$f":"SUMIF('Concert 4'!$E$9:$E$56,Statistiques!A130,'Concert 4'!$J$9:$J$56)","v":0},{"$f":"SUMIF('Concert 5'!$E$9:$E$56,Statistiques!A130,'Concert 5'!$I$9:$I$56)","v":0},{"$f":"SUMIF('Concert 5'!$E$9:$E$56,Statistiques!A130,'Concert 5'!$J$9:$J$56)","v":0}]
[{"$f":"Ecoles!A127","v":0},{"$f":"Ecoles!B127","v":0},{"$f":"Ecoles!C127","v":0},null,{"$f":"SUMIF('Concert 1'!$E$9:$E$56,Statistiques!A131,'Concert 1'!$I$9:$I$56)+SUMIF('Concert 2'!$E$9:$E$56,Statistiques!A131,'Concert 2'!$I$9:$I$56)+SUMIF('Concert 3'!$E$9:$E$56,Statistiques!A131,'Concert 3'!$I$9:$I$56)+SUMIF('Concert 4'!$E$9:$E$56,Statistiques!A131,'Concert 4'!$I$9:$I$56)+SUMIF('Concert 5'!$E$9:$E$56,Statistiques!A131,'Concert 5'!$I$9:$I$56)","v":0},{"$f":"SUMIF('Concert 1'!$E$9:$E$56,Statistiques!A131,'Concert 1'!$J$9:$J$56)+SUMIF('Concert 2'!$E$9:$E$56,Statistiques!A131,'Concert 2'!$J$9:$J$56)+SUMIF('Concert 3'!$E$9:$E$56,Statistiques!A131,'Concert 3'!$J$9:$J$56)+SUMIF('Concert 4'!$E$9:$E$56,Statistiques!A131,'Concert 4'!$J$9:$J$56)+SUMIF('Concert 5'!$E$9:$E$56,Statistiques!A131,'Concert 5'!$J$9:$J$56)","v":0},null,null,{"$f":"SUMIF('Concert 1'!$E$9:$E$56,Statistiques!A131,'Concert 1'!$I$9:$I$56)","v":0},{"$f":"SUMIF('Concert 1'!$E$9:$E$56,Statistiques!A131,'Concert 1'!$J$9:$J$56)","v":0},{"$f":"SUMIF('Concert 2'!$E$9:$E$56,Statistiques!A131,'Concert 2'!$I$9:$I$56)","v":0},{"$f":"SUMIF('Concert 2'!$E$9:$E$56,Statistiques!A131,'Concert 2'!$J$9:$J$56)","v":0},{"$f":"SUMIF('Concert 3'!$E$9:$E$56,Statistiques!A131,'Concert 3'!$I$9:$I$56)","v":0},{"$f":"SUMIF('Concert 3'!$E$9:$E$56,Statistiques!A131,'Concert 3'!$J$9:$J$56)","v":0},{"$f":"SUMIF('Concert 4'!$E$9:$E$56,Statistiques!A131,'Concert 4'!$I$9:$I$56)","v":0},{"$f":"SUMIF('Concert 4'!$E$9:$E$56,Statistiques!A131,'Concert 4'!$J$9:$J$56)","v":0},{"$f":"SUMIF('Concert 5'!$E$9:$E$56,Statistiques!A131,'Concert 5'!$I$9:$I$56)","v":0},{"$f":"SUMIF('Concert 5'!$E$9:$E$56,Statistiques!A131,'Concert 5'!$J$9:$J$56)","v":0}]
[{"$f":"Ecoles!A128","v":0},{"$f":"Ecoles!B128","v":0},{"$f":"Ecoles!C128","v":0},null,{"$f":"SUMIF('Concert 1'!$E$9:$E$56,Statistiques!A132,'Concert 1'!$I$9:$I$56)+SUMIF('Concert 2'!$E$9:$E$56,Statistiques!A132,'Concert 2'!$I$9:$I$56)+SUMIF('Concert 3'!$E$9:$E$56,Statistiques!A132,'Concert 3'!$I$9:$I$56)+SUMIF('Concert 4'!$E$9:$E$56,Statistiques!A132,'Concert 4'!$I$9:$I$56)+SUMIF('Concert 5'!$E$9:$E$56,Statistiques!A132,'Concert 5'!$I$9:$I$56)","v":0},{"$f":"SUMIF('Concert 1'!$E$9:$E$56,Statistiques!A132,'Concert 1'!$J$9:$J$56)+SUMIF('Concert 2'!$E$9:$E$56,Statistiques!A132,'Concert 2'!$J$9:$J$56)+SUMIF('Concert 3'!$E$9:$E$56,Statistiques!A132,'Concert 3'!$J$9:$J$56)+SUMIF('Concert 4'!$E$9:$E$56,Statistiques!A132,'Concert 4'!$J$9:$J$56)+SUMIF('Concert 5'!$E$9:$E$56,Statistiques!A132,'Concert 5'!$J$9:$J$56)","v":0},null,null,{"$f":"SUMIF('Concert 1'!$E$9:$E$56,Statistiques!A132,'Concert 1'!$I$9:$I$56)","v":0},{"$f":"SUMIF('Concert 1'!$E$9:$E$56,Statistiques!A132,'Concert 1'!$J$9:$J$56)","v":0},{"$f":"SUMIF('Concert 2'!$E$9:$E$56,Statistiques!A132,'Concert 2'!$I$9:$I$56)","v":0},{"$f":"SUMIF('Concert 2'!$E$9:$E$56,Statistiques!A132,'Concert 2'!$J$9:$J$56)","v":0},{"$f":"SUMIF('Concert 3'!$E$9:$E$56,Statistiques!A132,'Concert 3'!$I$9:$I$56)","v":0},{"$f":"SUMIF('Concert 3'!$E$9:$E$56,Statistiques!A132,'Concert 3'!$J$9:$J$56)","v":0},{"$f":"SUMIF('Concert 4'!$E$9:$E$56,Statistiques!A132,'Concert 4'!$I$9:$I$56)","v":0},{"$f":"SUMIF('Concert 4'!$E$9:$E$56,Statistiques!A132,'Concert 4'!$J$9:$J$56)","v":0},{"$f":"SUMIF('Concert 5'!$E$9:$E$56,Statistiques!A132,'Concert 5'!$I$9:$I$56)","v":0},{"$f":"SUMIF('Concert 5'!$E$9:$E$56,Statistiques!A132,'Concert 5'!$J$9:$J$56)","v":0}]
[{"$f":"Ecoles!A129","v":0},{"$f":"Ecoles!B129","v":0},{"$f":"Ecoles!C129","v":0},null,{"$f":"SUMIF('Concert 1'!$E$9:$E$56,Statistiques!A133,'Concert 1'!$I$9:$I$56)+SUMIF('Concert 2'!$E$9:$E$56,Statistiques!A133,'Concert 2'!$I$9:$I$56)+SUMIF('Concert 3'!$E$9:$E$56,Statistiques!A133,'Concert 3'!$I$9:$I$56)+SUMIF('Concert 4'!$E$9:$E$56,Statistiques!A133,'Concert 4'!$I$9:$I$56)+SUMIF('Concert 5'!$E$9:$E$56,Statistiques!A133,'Concert 5'!$I$9:$I$56)","v":0},{"$f":"SUMIF('Concert 1'!$E$9:$E$56,Statistiques!A133,'Concert 1'!$J$9:$J$56)+SUMIF('Concert 2'!$E$9:$E$56,Statistiques!A133,'Concert 2'!$J$9:$J$56)+SUMIF('Concert 3'!$E$9:$E$56,Statistiques!A133,'Concert 3'!$J$9:$J$56)+SUMIF('Concert 4'!$E$9:$E$56,Statistiques!A133,'Concert 4'!$J$9:$J$56)+SUMIF('Concert 5'!$E$9:$E$56,Statistiques!A133,'Concert 5'!$J$9:$J$56)","v":0},null,null,{"$f":"SUMIF('Concert 1'!$E$9:$E$56,Statistiques!A133,'Concert 1'!$I$9:$I$56)","v":0},{"$f":"SUMIF('Concert 1'!$E$9:$E$56,Statistiques!A133,'Concert 1'!$J$9:$J$56)","v":0},{"$f":"SUMIF('Concert 2'!$E$9:$E$56,Statistiques!A133,'Concert 2'!$I$9:$I$56)","v":0},{"$f":"SUMIF('Concert 2'!$E$9:$E$56,Statistiques!A133,'Concert 2'!$J$9:$J$56)","v":0},{"$f":"SUMIF('Concert 3'!$E$9:$E$56,Statistiques!A133,'Concert 3'!$I$9:$I$56)","v":0},{"$f":"SUMIF('Concert 3'!$E$9:$E$56,Statistiques!A133,'Concert 3'!$J$9:$J$56)","v":0},{"$f":"SUMIF('Concert 4'!$E$9:$E$56,Statistiques!A133,'Concert 4'!$I$9:$I$56)","v":0},{"$f":"SUMIF('Concert 4'!$E$9:$E$56,Statistiques!A133,'Concert 4'!$J$9:$J$56)","v":0},{"$f":"SUMIF('Concert 5'!$E$9:$E$56,Statistiques!A133,'Concert 5'!$I$9:$I$56)","v":0},{"$f":"SUMIF('Concert 5'!$E$9:$E$56,Statistiques!A133,'Concert 5'!$J$9:$J$56)","v":0}]
[{"$f":"Ecoles!A130","v":0},{"$f":"Ecoles!B130","v":0},{"$f":"Ecoles!C130","v":0},null,{"$f":"SUMIF('Concert 1'!$E$9:$E$56,Statistiques!A134,'Concert 1'!$I$9:$I$56)+SUMIF('Concert 2'!$E$9:$E$56,Statistiques!A134,'Concert 2'!$I$9:$I$56)+SUMIF('Concert 3'!$E$9:$E$56,Statistiques!A134,'Concert 3'!$I$9:$I$56)+SUMIF('Concert 4'!$E$9:$E$56,Statistiques!A134,'Concert 4'!$I$9:$I$56)+SUMIF('Concert 5'!$E$9:$E$56,Statistiques!A134,'Concert 5'!$I$9:$I$56)","v":0},{"$f":"SUMIF('Concert 1'!$E$9:$E$56,Statistiques!A134,'Concert 1'!$J$9:$J$56)+SUMIF('Concert 2'!$E$9:$E$56,Statistiques!A134,'Concert 2'!$J$9:$J$56)+SUMIF('Concert 3'!$E$9:$E$56,Statistiques!A134,'Concert 3'!$J$9:$J$56)+SUMIF('Concert 4'!$E$9:$E$56,Statistiques!A134,'Concert 4'!$J$9:$J$56)+SUMIF('Concert 5'!$E$9:$E$56,Statistiques!A134,'Concert 5'!$J$9:$J$56)","v":0},null,null,{"$f":"SUMIF('Concert 1'!$E$9:$E$56,Statistiques!A134,'Concert 1'!$I$9:$I$56)","v":0},{"$f":"SUMIF('Concert 1'!$E$9:$E$56,Statistiques!A134,'Concert 1'!$J$9:$J$56)","v":0},{"$f":"SUMIF('Concert 2'!$E$9:$E$56,Statistiques!A134,'Concert 2'!$I$9:$I$56)","v":0},{"$f":"SUMIF('Concert 2'!$E$9:$E$56,Statistiques!A134,'Concert 2'!$J$9:$J$56)","v":0},{"$f":"SUMIF('Concert 3'!$E$9:$E$56,Statistiques!A134,'Concert 3'!$I$9:$I$56)","v":0},{"$f":"SUMIF('Concert 3'!$E$9:$E$56,Statistiques!A134,'Concert 3'!$J$9:$J$56)","v":0},{"$f":"SUMIF('Concert 4'!$E$9:$E$56,Statistiques!A134,'Concert 4'!$I$9:$I$56)","v":0},{"$f":"SUMIF('Concert 4'!$E$9:$E$56,Statistiques!A134,'Concert 4'!$J$9:$J$56)","v":0},{"$f":"SUMIF('Concert 5'!$E$9:$E$56,Statistiques!A134,'Concert 5'!$I$9:$I$56)","v":0},{"$f":"SUMIF('Concert 5'!$E$9:$E$56,Statistiques!A134,'Concert 5'!$J$9:$J$56)","v":0}]
[{"$f":"Ecoles!A131","v":0},{"$f":"Ecoles!B131","v":0},{"$f":"Ecoles!C131","v":0},null,{"$f":"SUMIF('Concert 1'!$E$9:$E$56,Statistiques!A135,'Concert 1'!$I$9:$I$56)+SUMIF('Concert 2'!$E$9:$E$56,Statistiques!A135,'Concert 2'!$I$9:$I$56)+SUMIF('Concert 3'!$E$9:$E$56,Statistiques!A135,'Concert 3'!$I$9:$I$56)+SUMIF('Concert 4'!$E$9:$E$56,Statistiques!A135,'Concert 4'!$I$9:$I$56)+SUMIF('Concert 5'!$E$9:$E$56,Statistiques!A135,'Concert 5'!$I$9:$I$56)","v":0},{"$f":"SUMIF('Concert 1'!$E$9:$E$56,Statistiques!A135,'Concert 1'!$J$9:$J$56)+SUMIF('Concert 2'!$E$9:$E$56,Statistiques!A135,'Concert 2'!$J$9:$J$56)+SUMIF('Concert 3'!$E$9:$E$56,Statistiques!A135,'Concert 3'!$J$9:$J$56)+SUMIF('Concert 4'!$E$9:$E$56,Statistiques!A135,'Concert 4'!$J$9:$J$56)+SUMIF('Concert 5'!$E$9:$E$56,Statistiques!A135,'Concert 5'!$J$9:$J$56)","v":0},null,null,{"$f":"SUMIF('Concert 1'!$E$9:$E$56,Statistiques!A135,'Concert 1'!$I$9:$I$56)","v":0},{"$f":"SUMIF('Concert 1'!$E$9:$E$56,Statistiques!A135,'Concert 1'!$J$9:$J$56)","v":0},{"$f":"SUMIF('Concert 2'!$E$9:$E$56,Statistiques!A135,'Concert 2'!$I$9:$I$56)","v":0},{"$f":"SUMIF('Concert 2'!$E$9:$E$56,Statistiques!A135,'Concert 2'!$J$9:$J$56)","v":0},{"$f":"SUMIF('Concert 3'!$E$9:$E$56,Statistiques!A135,'Concert 3'!$I$9:$I$56)","v":0},{"$f":"SUMIF('Concert 3'!$E$9:$E$56,Statistiques!A135,'Concert 3'!$J$9:$J$56)","v":0},{"$f":"SUMIF('Concert 4'!$E$9:$E$56,Statistiques!A135,'Concert 4'!$I$9:$I$56)","v":0},{"$f":"SUMIF('Concert 4'!$E$9:$E$56,Statistiques!A135,'Concert 4'!$J$9:$J$56)","v":0},{"$f":"SUMIF('Concert 5'!$E$9:$E$56,Statistiques!A135,'Concert 5'!$I$9:$I$56)","v":0},{"$f":"SUMIF('Concert 5'!$E$9:$E$56,Statistiques!A135,'Concert 5'!$J$9:$J$56)","v":0}]
[{"$f":"Ecoles!A132","v":0},{"$f":"Ecoles!B132","v":0},{"$f":"Ecoles!C132","v":0},null,{"$f":"SUMIF('Concert 1'!$E$9:$E$56,Statistiques!A136,'Concert 1'!$I$9:$I$56)+SUMIF('Concert 2'!$E$9:$E$56,Statistiques!A136,'Concert 2'!$I$9:$I$56)+SUMIF('Concert 3'!$E$9:$E$56,Statistiques!A136,'Concert 3'!$I$9:$I$56)+SUMIF('Concert 4'!$E$9:$E$56,Statistiques!A136,'Concert 4'!$I$9:$I$56)+SUMIF('Concert 5'!$E$9:$E$56,Statistiques!A136,'Concert 5'!$I$9:$I$56)","v":0},{"$f":"SUMIF('Concert 1'!$E$9:$E$56,Statistiques!A136,'Concert 1'!$J$9:$J$56)+SUMIF('Concert 2'!$E$9:$E$56,Statistiques!A136,'Concert 2'!$J$9:$J$56)+SUMIF('Concert 3'!$E$9:$E$56,Statistiques!A136,'Concert 3'!$J$9:$J$56)+SUMIF('Concert 4'!$E$9:$E$56,Statistiques!A136,'Concert 4'!$J$9:$J$56)+SUMIF('Concert 5'!$E$9:$E$56,Statistiques!A136,'Concert 5'!$J$9:$J$56)","v":0},null,null,{"$f":"SUMIF('Concert 1'!$E$9:$E$56,Statistiques!A136,'Concert 1'!$I$9:$I$56)","v":0},{"$f":"SUMIF('Concert 1'!$E$9:$E$56,Statistiques!A136,'Concert 1'!$J$9:$J$56)","v":0},{"$f":"SUMIF('Concert 2'!$E$9:$E$56,Statistiques!A136,'Concert 2'!$I$9:$I$56)","v":0},{"$f":"SUMIF('Concert 2'!$E$9:$E$56,Statistiques!A136,'Concert 2'!$J$9:$J$56)","v":0},{"$f":"SUMIF('Concert 3'!$E$9:$E$56,Statistiques!A136,'Concert 3'!$I$9:$I$56)","v":0},{"$f":"SUMIF('Concert 3'!$E$9:$E$56,Statistiques!A136,'Concert 3'!$J$9:$J$56)","v":0},{"$f":"SUMIF('Concert 4'!$E$9:$E$56,Statistiques!A136,'Concert 4'!$I$9:$I$56)","v":0},{"$f":"SUMIF('Concert 4'!$E$9:$E$56,Statistiques!A136,'Concert 4'!$J$9:$J$56)","v":0},{"$f":"SUMIF('Concert 5'!$E$9:$E$56,Statistiques!A136,'Concert 5'!$I$9:$I$56)","v":0},{"$f":"SUMIF('Concert 5'!$E$9:$E$56,Statistiques!A136,'Concert 5'!$J$9:$J$56)","v":0}]
[{"$f":"Ecoles!A133","v":0},{"$f":"Ecoles!B133","v":0},{"$f":"Ecoles!C133","v":0},null,{"$f":"SUMIF('Concert 1'!$E$9:$E$56,Statistiques!A137,'Concert 1'!$I$9:$I$56)+SUMIF('Concert 2'!$E$9:$E$56,Statistiques!A137,'Concert 2'!$I$9:$I$56)+SUMIF('Concert 3'!$E$9:$E$56,Statistiques!A137,'Concert 3'!$I$9:$I$56)+SUMIF('Concert 4'!$E$9:$E$56,Statistiques!A137,'Concert 4'!$I$9:$I$56)+SUMIF('Concert 5'!$E$9:$E$56,Statistiques!A137,'Concert 5'!$I$9:$I$56)","v":0},{"$f":"SUMIF('Concert 1'!$E$9:$E$56,Statistiques!A137,'Concert 1'!$J$9:$J$56)+SUMIF('Concert 2'!$E$9:$E$56,Statistiques!A137,'Concert 2'!$J$9:$J$56)+SUMIF('Concert 3'!$E$9:$E$56,Statistiques!A137,'Concert 3'!$J$9:$J$56)+SUMIF('Concert 4'!$E$9:$E$56,Statistiques!A137,'Concert 4'!$J$9:$J$56)+SUMIF('Concert 5'!$E$9:$E$56,Statistiques!A137,'Concert 5'!$J$9:$J$56)","v":0},null,null,{"$f":"SUMIF('Concert 1'!$E$9:$E$56,Statistiques!A137,'Concert 1'!$I$9:$I$56)","v":0},{"$f":"SUMIF('Concert 1'!$E$9:$E$56,Statistiques!A137,'Concert 1'!$J$9:$J$56)","v":0},{"$f":"SUMIF('Concert 2'!$E$9:$E$56,Statistiques!A137,'Concert 2'!$I$9:$I$56)","v":0},{"$f":"SUMIF('Concert 2'!$E$9:$E$56,Statistiques!A137,'Concert 2'!$J$9:$J$56)","v":0},{"$f":"SUMIF('Concert 3'!$E$9:$E$56,Statistiques!A137,'Concert 3'!$I$9:$I$56)","v":0},{"$f":"SUMIF('Concert 3'!$E$9:$E$56,Statistiques!A137,'Concert 3'!$J$9:$J$56)","v":0},{"$f":"SUMIF('Concert 4'!$E$9:$E$56,Statistiques!A137,'Concert 4'!$I$9:$I$56)","v":0},{"$f":"SUMIF('Concert 4'!$E$9:$E$56,Statistiques!A137,'Concert 4'!$J$9:$J$56)","v":0},{"$f":"SUMIF('Concert 5'!$E$9:$E$56,Statistiques!A137,'Concert 5'!$I$9:$I$56)","v":0},{"$f":"SUMIF('Concert 5'!$E$9:$E$56,Statistiques!A137,'Concert 5'!$J$9:$J$56)","v":0}]
[{"$f":"Ecoles!A134","v":0},{"$f":"Ecoles!B134","v":0},{"$f":"Ecoles!C134","v":0},null,{"$f":"SUMIF('Concert 1'!$E$9:$E$56,Statistiques!A138,'Concert 1'!$I$9:$I$56)+SUMIF('Concert 2'!$E$9:$E$56,Statistiques!A138,'Concert 2'!$I$9:$I$56)+SUMIF('Concert 3'!$E$9:$E$56,Statistiques!A138,'Concert 3'!$I$9:$I$56)+SUMIF('Concert 4'!$E$9:$E$56,Statistiques!A138,'Concert 4'!$I$9:$I$56)+SUMIF('Concert 5'!$E$9:$E$56,Statistiques!A138,'Concert 5'!$I$9:$I$56)","v":0},{"$f":"SUMIF('Concert 1'!$E$9:$E$56,Statistiques!A138,'Concert 1'!$J$9:$J$56)+SUMIF('Concert 2'!$E$9:$E$56,Statistiques!A138,'Concert 2'!$J$9:$J$56)+SUMIF('Concert 3'!$E$9:$E$56,Statistiques!A138,'Concert 3'!$J$9:$J$56)+SUMIF('Concert 4'!$E$9:$E$56,Statistiques!A138,'Concert 4'!$J$9:$J$56)+SUMIF('Concert 5'!$E$9:$E$56,Statistiques!A138,'Concert 5'!$J$9:$J$56)","v":0},null,null,{"$f":"SUMIF('Concert 1'!$E$9:$E$56,Statistiques!A138,'Concert 1'!$I$9:$I$56)","v":0},{"$f":"SUMIF('Concert 1'!$E$9:$E$56,Statistiques!A138,'Concert 1'!$J$9:$J$56)","v":0},{"$f":"SUMIF('Concert 2'!$E$9:$E$56,Statistiques!A138,'Concert 2'!$I$9:$I$56)","v":0},{"$f":"SUMIF('Concert 2'!$E$9:$E$56,Statistiques!A138,'Concert 2'!$J$9:$J$56)","v":0},{"$f":"SUMIF('Concert 3'!$E$9:$E$56,Statistiques!A138,'Concert 3'!$I$9:$I$56)","v":0},{"$f":"SUMIF('Concert 3'!$E$9:$E$56,Statistiques!A138,'Concert 3'!$J$9:$J$56)","v":0},{"$f":"SUMIF('Concert 4'!$E$9:$E$56,Statistiques!A138,'Concert 4'!$I$9:$I$56)","v":0},{"$f":"SUMIF('Concert 4'!$E$9:$E$56,Statistiques!A138,'Concert 4'!$J$9:$J$56)","v":0},{"$f":"SUMIF('Concert 5'!$E$9:$E$56,Statistiques!A138,'Concert 5'!$I$9:$I$56)","v":0},{"$f":"SUMIF('Concert 5'!$E$9:$E$56,Statistiques!A138,'Concert 5'!$J$9:$J$56)","v":0}]
[{"$f":"Ecoles!A135","v":0},{"$f":"Ecoles!B135","v":0},{"$f":"Ecoles!C135","v":0},null,{"$f":"SUMIF('Concert 1'!$E$9:$E$56,Statistiques!A139,'Concert 1'!$I$9:$I$56)+SUMIF('Concert 2'!$E$9:$E$56,Statistiques!A139,'Concert 2'!$I$9:$I$56)+SUMIF('Concert 3'!$E$9:$E$56,Statistiques!A139,'Concert 3'!$I$9:$I$56)+SUMIF('Concert 4'!$E$9:$E$56,Statistiques!A139,'Concert 4'!$I$9:$I$56)+SUMIF('Concert 5'!$E$9:$E$56,Statistiques!A139,'Concert 5'!$I$9:$I$56)","v":0},{"$f":"SUMIF('Concert 1'!$E$9:$E$56,Statistiques!A139,'Concert 1'!$J$9:$J$56)+SUMIF('Concert 2'!$E$9:$E$56,Statistiques!A139,'Concert 2'!$J$9:$J$56)+SUMIF('Concert 3'!$E$9:$E$56,Statistiques!A139,'Concert 3'!$J$9:$J$56)+SUMIF('Concert 4'!$E$9:$E$56,Statistiques!A139,'Concert 4'!$J$9:$J$56)+SUMIF('Concert 5'!$E$9:$E$56,Statistiques!A139,'Concert 5'!$J$9:$J$56)","v":0},null,null,{"$f":"SUMIF('Concert 1'!$E$9:$E$56,Statistiques!A139,'Concert 1'!$I$9:$I$56)","v":0},{"$f":"SUMIF('Concert 1'!$E$9:$E$56,Statistiques!A139,'Concert 1'!$J$9:$J$56)","v":0},{"$f":"SUMIF('Concert 2'!$E$9:$E$56,Statistiques!A139,'Concert 2'!$I$9:$I$56)","v":0},{"$f":"SUMIF('Concert 2'!$E$9:$E$56,Statistiques!A139,'Concert 2'!$J$9:$J$56)","v":0},{"$f":"SUMIF('Concert 3'!$E$9:$E$56,Statistiques!A139,'Concert 3'!$I$9:$I$56)","v":0},{"$f":"SUMIF('Concert 3'!$E$9:$E$56,Statistiques!A139,'Concert 3'!$J$9:$J$56)","v":0},{"$f":"SUMIF('Concert 4'!$E$9:$E$56,Statistiques!A139,'Concert 4'!$I$9:$I$56)","v":0},{"$f":"SUMIF('Concert 4'!$E$9:$E$56,Statistiques!A139,'Concert 4'!$J$9:$J$56)","v":0},{"$f":"SUMIF('Concert 5'!$E$9:$E$56,Statistiques!A139,'Concert 5'!$I$9:$I$56)","v":0},{"$f":"SUMIF('Concert 5'!$E$9:$E$56,Statistiques!A139,'Concert 5'!$J$9:$J$56)","v":0}]
[{"$f":"Ecoles!A136","v":0},{"$f":"Ecoles!B136","v":0},{"$f":"Ecoles!C136","v":0},null,{"$f":"SUMIF('Concert 1'!$E$9:$E$56,Statistiques!A140,'Concert 1'!$I$9:$I$56)+SUMIF('Concert 2'!$E$9:$E$56,Statistiques!A140,'Concert 2'!$I$9:$I$56)+SUMIF('Concert 3'!$E$9:$E$56,Statistiques!A140,'Concert 3'!$I$9:$I$56)+SUMIF('Concert 4'!$E$9:$E$56,Statistiques!A140,'Concert 4'!$I$9:$I$56)+SUMIF('Concert 5'!$E$9:$E$56,Statistiques!A140,'Concert 5'!$I$9:$I$56)","v":0},{"$f":"SUMIF('Concert 1'!$E$9:$E$56,Statistiques!A140,'Concert 1'!$J$9:$J$56)+SUMIF('Concert 2'!$E$9:$E$56,Statistiques!A140,'Concert 2'!$J$9:$J$56)+SUMIF('Concert 3'!$E$9:$E$56,Statistiques!A140,'Concert 3'!$J$9:$J$56)+SUMIF('Concert 4'!$E$9:$E$56,Statistiques!A140,'Concert 4'!$J$9:$J$56)+SUMIF('Concert 5'!$E$9:$E$56,Statistiques!A140,'Concert 5'!$J$9:$J$56)","v":0},null,null,{"$f":"SUMIF('Concert 1'!$E$9:$E$56,Statistiques!A140,'Concert 1'!$I$9:$I$56)","v":0},{"$f":"SUMIF('Concert 1'!$E$9:$E$56,Statistiques!A140,'Concert 1'!$J$9:$J$56)","v":0},{"$f":"SUMIF('Concert 2'!$E$9:$E$56,Statistiques!A140,'Concert 2'!$I$9:$I$56)","v":0},{"$f":"SUMIF('Concert 2'!$E$9:$E$56,Statistiques!A140,'Concert 2'!$J$9:$J$56)","v":0},{"$f":"SUMIF('Concert 3'!$E$9:$E$56,Statistiques!A140,'Concert 3'!$I$9:$I$56)","v":0},{"$f":"SUMIF('Concert 3'!$E$9:$E$56,Statistiques!A140,'Concert 3'!$J$9:$J$56)","v":0},{"$f":"SUMIF('Concert 4'!$E$9:$E$56,Statistiques!A140,'Concert 4'!$I$9:$I$56)","v":0},{"$f":"SUMIF('Concert 4'!$E$9:$E$56,Statistiques!A140,'Concert 4'!$J$9:$J$56)","v":0},{"$f":"SUMIF('Concert 5'!$E$9:$E$56,Statistiques!A140,'Concert 5'!$I$9:$I$56)","v":0},{"$f":"SUMIF('Concert 5'!$E$9:$E$56,Statistiques!A140,'Concert 5'!$J$9:$J$56)","v":0}]
[{"$f":"Ecoles!A137","v":0},{"$f":"Ecoles!B137","v":0},{"$f":"Ecoles!C137","v":0},null,{"$f":"SUMIF('Concert 1'!$E$9:$E$56,Statistiques!A141,'Concert 1'!$I$9:$I$56)+SUMIF('Concert 2'!$E$9:$E$56,Statistiques!A141,'Concert 2'!$I$9:$I$56)+SUMIF('Concert 3'!$E$9:$E$56,Statistiques!A141,'Concert 3'!$I$9:$I$56)+SUMIF('Concert 4'!$E$9:$E$56,Statistiques!A141,'Concert 4'!$I$9:$I$56)+SUMIF('Concert 5'!$E$9:$E$56,Statistiques!A141,'Concert 5'!$I$9:$I$56)","v":0},{"$f":"SUMIF('Concert 1'!$E$9:$E$56,Statistiques!A141,'Concert 1'!$J$9:$J$56)+SUMIF('Concert 2'!$E$9:$E$56,Statistiques!A141,'Concert 2'!$J$9:$J$56)+SUMIF('Concert 3'!$E$9:$E$56,Statistiques!A141,'Concert 3'!$J$9:$J$56)+SUMIF('Concert 4'!$E$9:$E$56,Statistiques!A141,'Concert 4'!$J$9:$J$56)+SUMIF('Concert 5'!$E$9:$E$56,Statistiques!A141,'Concert 5'!$J$9:$J$56)","v":0},null,null,{"$f":"SUMIF('Concert 1'!$E$9:$E$56,Statistiques!A141,'Concert 1'!$I$9:$I$56)","v":0},{"$f":"SUMIF('Concert 1'!$E$9:$E$56,Statistiques!A141,'Concert 1'!$J$9:$J$56)","v":0},{"$f":"SUMIF('Concert 2'!$E$9:$E$56,Statistiques!A141,'Concert 2'!$I$9:$I$56)","v":0},{"$f":"SUMIF('Concert 2'!$E$9:$E$56,Statistiques!A141,'Concert 2'!$J$9:$J$56)","v":0},{"$f":"SUMIF('Concert 3'!$E$9:$E$56,Statistiques!A141,'Concert 3'!$I$9:$I$56)","v":0},{"$f":"SUMIF('Concert 3'!$E$9:$E$56,Statistiques!A141,'Concert 3'!$J$9:$J$56)","v":0},{"$f":"SUMIF('Concert 4'!$E$9:$E$56,Statistiques!A141,'Concert 4'!$I$9:$I$56)","v":0},{"$f":"SUMIF('Concert 4'!$E$9:$E$56,Statistiques!A141,'Concert 4'!$J$9:$J$56)","v":0},{"$f":"SUMIF('Concert 5'!$E$9:$E$56,Statistiques!A141,'Concert 5'!$I$9:$I$56)","v":0},{"$f":"SUMIF('Concert 5'!$E$9:$E$56,Statistiques!A141,'Concert 5'!$J$9:$J$56)","v":0}]
[{"$f":"Ecoles!A138","v":0},{"$f":"Ecoles!B138","v":0},{"$f":"Ecoles!C138","v":0},null,{"$f":"SUMIF('Concert 1'!$E$9:$E$56,Statistiques!A142,'Concert 1'!$I$9:$I$56)+SUMIF('Concert 2'!$E$9:$E$56,Statistiques!A142,'Concert 2'!$I$9:$I$56)+SUMIF('Concert 3'!$E$9:$E$56,Statistiques!A142,'Concert 3'!$I$9:$I$56)+SUMIF('Concert 4'!$E$9:$E$56,Statistiques!A142,'Concert 4'!$I$9:$I$56)+SUMIF('Concert 5'!$E$9:$E$56,Statistiques!A142,'Concert 5'!$I$9:$I$56)","v":0},{"$f":"SUMIF('Concert 1'!$E$9:$E$56,Statistiques!A142,'Concert 1'!$J$9:$J$56)+SUMIF('Concert 2'!$E$9:$E$56,Statistiques!A142,'Concert 2'!$J$9:$J$56)+SUMIF('Concert 3'!$E$9:$E$56,Statistiques!A142,'Concert 3'!$J$9:$J$56)+SUMIF('Concert 4'!$E$9:$E$56,Statistiques!A142,'Concert 4'!$J$9:$J$56)+SUMIF('Concert 5'!$E$9:$E$56,Statistiques!A142,'Concert 5'!$J$9:$J$56)","v":0},null,null,{"$f":"SUMIF('Concert 1'!$E$9:$E$56,Statistiques!A142,'Concert 1'!$I$9:$I$56)","v":0},{"$f":"SUMIF('Concert 1'!$E$9:$E$56,Statistiques!A142,'Concert 1'!$J$9:$J$56)","v":0},{"$f":"SUMIF('Concert 2'!$E$9:$E$56,Statistiques!A142,'Concert 2'!$I$9:$I$56)","v":0},{"$f":"SUMIF('Concert 2'!$E$9:$E$56,Statistiques!A142,'Concert 2'!$J$9:$J$56)","v":0},{"$f":"SUMIF('Concert 3'!$E$9:$E$56,Statistiques!A142,'Concert 3'!$I$9:$I$56)","v":0},{"$f":"SUMIF('Concert 3'!$E$9:$E$56,Statistiques!A142,'Concert 3'!$J$9:$J$56)","v":0},{"$f":"SUMIF('Concert 4'!$E$9:$E$56,Statistiques!A142,'Concert 4'!$I$9:$I$56)","v":0},{"$f":"SUMIF('Concert 4'!$E$9:$E$56,Statistiques!A142,'Concert 4'!$J$9:$J$56)","v":0},{"$f":"SUMIF('Concert 5'!$E$9:$E$56,Statistiques!A142,'Concert 5'!$I$9:$I$56)","v":0},{"$f":"SUMIF('Concert 5'!$E$9:$E$56,Statistiques!A142,'Concert 5'!$J$9:$J$56)","v":0}]
[{"$f":"Ecoles!A139","v":0},{"$f":"Ecoles!B139","v":0},{"$f":"Ecoles!C139","v":0},null,{"$f":"SUMIF('Concert 1'!$E$9:$E$56,Statistiques!A143,'Concert 1'!$I$9:$I$56)+SUMIF('Concert 2'!$E$9:$E$56,Statistiques!A143,'Concert 2'!$I$9:$I$56)+SUMIF('Concert 3'!$E$9:$E$56,Statistiques!A143,'Concert 3'!$I$9:$I$56)+SUMIF('Concert 4'!$E$9:$E$56,Statistiques!A143,'Concert 4'!$I$9:$I$56)+SUMIF('Concert 5'!$E$9:$E$56,Statistiques!A143,'Concert 5'!$I$9:$I$56)","v":0},{"$f":"SUMIF('Concert 1'!$E$9:$E$56,Statistiques!A143,'Concert 1'!$J$9:$J$56)+SUMIF('Concert 2'!$E$9:$E$56,Statistiques!A143,'Concert 2'!$J$9:$J$56)+SUMIF('Concert 3'!$E$9:$E$56,Statistiques!A143,'Concert 3'!$J$9:$J$56)+SUMIF('Concert 4'!$E$9:$E$56,Statistiques!A143,'Concert 4'!$J$9:$J$56)+SUMIF('Concert 5'!$E$9:$E$56,Statistiques!A143,'Concert 5'!$J$9:$J$56)","v":0},null,null,{"$f":"SUMIF('Concert 1'!$E$9:$E$56,Statistiques!A143,'Concert 1'!$I$9:$I$56)","v":0},{"$f":"SUMIF('Concert 1'!$E$9:$E$56,Statistiques!A143,'Concert 1'!$J$9:$J$56)","v":0},{"$f":"SUMIF('Concert 2'!$E$9:$E$56,Statistiques!A143,'Concert 2'!$I$9:$I$56)","v":0},{"$f":"SUMIF('Concert 2'!$E$9:$E$56,Statistiques!A143,'Concert 2'!$J$9:$J$56)","v":0},{"$f":"SUMIF('Concert 3'!$E$9:$E$56,Statistiques!A143,'Concert 3'!$I$9:$I$56)","v":0},{"$f":"SUMIF('Concert 3'!$E$9:$E$56,Statistiques!A143,'Concert 3'!$J$9:$J$56)","v":0},{"$f":"SUMIF('Concert 4'!$E$9:$E$56,Statistiques!A143,'Concert 4'!$I$9:$I$56)","v":0},{"$f":"SUMIF('Concert 4'!$E$9:$E$56,Statistiques!A143,'Concert 4'!$J$9:$J$56)","v":0},{"$f":"SUMIF('Concert 5'!$E$9:$E$56,Statistiques!A143,'Concert 5'!$I$9:$I$56)","v":0},{"$f":"SUMIF('Concert 5'!$E$9:$E$56,Statistiques!A143,'Concert 5'!$J$9:$J$56)","v":0}]
[{"$f":"Ecoles!A140","v":0},{"$f":"Ecoles!B140","v":0},{"$f":"Ecoles!C140","v":0},null,{"$f":"SUMIF('Concert 1'!$E$9:$E$56,Statistiques!A144,'Concert 1'!$I$9:$I$56)+SUMIF('Concert 2'!$E$9:$E$56,Statistiques!A144,'Concert 2'!$I$9:$I$56)+SUMIF('Concert 3'!$E$9:$E$56,Statistiques!A144,'Concert 3'!$I$9:$I$56)+SUMIF('Concert 4'!$E$9:$E$56,Statistiques!A144,'Concert 4'!$I$9:$I$56)+SUMIF('Concert 5'!$E$9:$E$56,Statistiques!A144,'Concert 5'!$I$9:$I$56)","v":0},{"$f":"SUMIF('Concert 1'!$E$9:$E$56,Statistiques!A144,'Concert 1'!$J$9:$J$56)+SUMIF('Concert 2'!$E$9:$E$56,Statistiques!A144,'Concert 2'!$J$9:$J$56)+SUMIF('Concert 3'!$E$9:$E$56,Statistiques!A144,'Concert 3'!$J$9:$J$56)+SUMIF('Concert 4'!$E$9:$E$56,Statistiques!A144,'Concert 4'!$J$9:$J$56)+SUMIF('Concert 5'!$E$9:$E$56,Statistiques!A144,'Concert 5'!$J$9:$J$56)","v":0},null,null,{"$f":"SUMIF('Concert 1'!$E$9:$E$56,Statistiques!A144,'Concert 1'!$I$9:$I$56)","v":0},{"$f":"SUMIF('Concert 1'!$E$9:$E$56,Statistiques!A144,'Concert 1'!$J$9:$J$56)","v":0},{"$f":"SUMIF('Concert 2'!$E$9:$E$56,Statistiques!A144,'Concert 2'!$I$9:$I$56)","v":0},{"$f":"SUMIF('Concert 2'!$E$9:$E$56,Statistiques!A144,'Concert 2'!$J$9:$J$56)","v":0},{"$f":"SUMIF('Concert 3'!$E$9:$E$56,Statistiques!A144,'Concert 3'!$I$9:$I$56)","v":0},{"$f":"SUMIF('Concert 3'!$E$9:$E$56,Statistiques!A144,'Concert 3'!$J$9:$J$56)","v":0},{"$f":"SUMIF('Concert 4'!$E$9:$E$56,Statistiques!A144,'Concert 4'!$I$9:$I$56)","v":0},{"$f":"SUMIF('Concert 4'!$E$9:$E$56,Statistiques!A144,'Concert 4'!$J$9:$J$56)","v":0},{"$f":"SUMIF('Concert 5'!$E$9:$E$56,Statistiques!A144,'Concert 5'!$I$9:$I$56)","v":0},{"$f":"SUMIF('Concert 5'!$E$9:$E$56,Statistiques!A144,'Concert 5'!$J$9:$J$56)","v":0}]
[{"$f":"Ecoles!A141","v":0},{"$f":"Ecoles!B141","v":0},{"$f":"Ecoles!C141","v":0},null,{"$f":"SUMIF('Concert 1'!$E$9:$E$56,Statistiques!A145,'Concert 1'!$I$9:$I$56)+SUMIF('Concert 2'!$E$9:$E$56,Statistiques!A145,'Concert 2'!$I$9:$I$56)+SUMIF('Concert 3'!$E$9:$E$56,Statistiques!A145,'Concert 3'!$I$9:$I$56)+SUMIF('Concert 4'!$E$9:$E$56,Statistiques!A145,'Concert 4'!$I$9:$I$56)+SUMIF('Concert 5'!$E$9:$E$56,Statistiques!A145,'Concert 5'!$I$9:$I$56)","v":0},{"$f":"SUMIF('Concert 1'!$E$9:$E$56,Statistiques!A145,'Concert 1'!$J$9:$J$56)+SUMIF('Concert 2'!$E$9:$E$56,Statistiques!A145,'Concert 2'!$J$9:$J$56)+SUMIF('Concert 3'!$E$9:$E$56,Statistiques!A145,'Concert 3'!$J$9:$J$56)+SUMIF('Concert 4'!$E$9:$E$56,Statistiques!A145,'Concert 4'!$J$9:$J$56)+SUMIF('Concert 5'!$E$9:$E$56,Statistiques!A145,'Concert 5'!$J$9:$J$56)","v":0},null,null,{"$f":"SUMIF('Concert 1'!$E$9:$E$56,Statistiques!A145,'Concert 1'!$I$9:$I$56)","v":0},{"$f":"SUMIF('Concert 1'!$E$9:$E$56,Statistiques!A145,'Concert 1'!$J$9:$J$56)","v":0},{"$f":"SUMIF('Concert 2'!$E$9:$E$56,Statistiques!A145,'Concert 2'!$I$9:$I$56)","v":0},{"$f":"SUMIF('Concert 2'!$E$9:$E$56,Statistiques!A145,'Concert 2'!$J$9:$J$56)","v":0},{"$f":"SUMIF('Concert 3'!$E$9:$E$56,Statistiques!A145,'Concert 3'!$I$9:$I$56)","v":0},{"$f":"SUMIF('Concert 3'!$E$9:$E$56,Statistiques!A145,'Concert 3'!$J$9:$J$56)","v":0},{"$f":"SUMIF('Concert 4'!$E$9:$E$56,Statistiques!A145,'Concert 4'!$I$9:$I$56)","v":0},{"$f":"SUMIF('Concert 4'!$E$9:$E$56,Statistiques!A145,'Concert 4'!$J$9:$J$56)","v":0},{"$f":"SUMIF('Concert 5'!$E$9:$E$56,Statistiques!A145,'Concert 5'!$I$9:$I$56)","v":0},{"$f":"SUMIF('Concert 5'!$E$9:$E$56,Statistiques!A145,'Concert 5'!$J$9:$J$56)","v":0}]
[{"$f":"Ecoles!A142","v":0},{"$f":"Ecoles!B142","v":0},{"$f":"Ecoles!C142","v":0},null,{"$f":"SUMIF('Concert 1'!$E$9:$E$56,Statistiques!A146,'Concert 1'!$I$9:$I$56)+SUMIF('Concert 2'!$E$9:$E$56,Statistiques!A146,'Concert 2'!$I$9:$I$56)+SUMIF('Concert 3'!$E$9:$E$56,Statistiques!A146,'Concert 3'!$I$9:$I$56)+SUMIF('Concert 4'!$E$9:$E$56,Statistiques!A146,'Concert 4'!$I$9:$I$56)+SUMIF('Concert 5'!$E$9:$E$56,Statistiques!A146,'Concert 5'!$I$9:$I$56)","v":0},{"$f":"SUMIF('Concert 1'!$E$9:$E$56,Statistiques!A146,'Concert 1'!$J$9:$J$56)+SUMIF('Concert 2'!$E$9:$E$56,Statistiques!A146,'Concert 2'!$J$9:$J$56)+SUMIF('Concert 3'!$E$9:$E$56,Statistiques!A146,'Concert 3'!$J$9:$J$56)+SUMIF('Concert 4'!$E$9:$E$56,Statistiques!A146,'Concert 4'!$J$9:$J$56)+SUMIF('Concert 5'!$E$9:$E$56,Statistiques!A146,'Concert 5'!$J$9:$J$56)","v":0},null,null,{"$f":"SUMIF('Concert 1'!$E$9:$E$56,Statistiques!A146,'Concert 1'!$I$9:$I$56)","v":0},{"$f":"SUMIF('Concert 1'!$E$9:$E$56,Statistiques!A146,'Concert 1'!$J$9:$J$56)","v":0},{"$f":"SUMIF('Concert 2'!$E$9:$E$56,Statistiques!A146,'Concert 2'!$I$9:$I$56)","v":0},{"$f":"SUMIF('Concert 2'!$E$9:$E$56,Statistiques!A146,'Concert 2'!$J$9:$J$56)","v":0},{"$f":"SUMIF('Concert 3'!$E$9:$E$56,Statistiques!A146,'Concert 3'!$I$9:$I$56)","v":0},{"$f":"SUMIF('Concert 3'!$E$9:$E$56,Statistiques!A146,'Concert 3'!$J$9:$J$56)","v":0},{"$f":"SUMIF('Concert 4'!$E$9:$E$56,Statistiques!A146,'Concert 4'!$I$9:$I$56)","v":0},{"$f":"SUMIF('Concert 4'!$E$9:$E$56,Statistiques!A146,'Concert 4'!$J$9:$J$56)","v":0},{"$f":"SUMIF('Concert 5'!$E$9:$E$56,Statistiques!A146,'Concert 5'!$I$9:$I$56)","v":0},{"$f":"SUMIF('Concert 5'!$E$9:$E$56,Statistiques!A146,'Concert 5'!$J$9:$J$56)","v":0}]
[{"$f":"Ecoles!A143","v":0},{"$f":"Ecoles!B143","v":0},{"$f":"Ecoles!C143","v":0},null,{"$f":"SUMIF('Concert 1'!$E$9:$E$56,Statistiques!A147,'Concert 1'!$I$9:$I$56)+SUMIF('Concert 2'!$E$9:$E$56,Statistiques!A147,'Concert 2'!$I$9:$I$56)+SUMIF('Concert 3'!$E$9:$E$56,Statistiques!A147,'Concert 3'!$I$9:$I$56)+SUMIF('Concert 4'!$E$9:$E$56,Statistiques!A147,'Concert 4'!$I$9:$I$56)+SUMIF('Concert 5'!$E$9:$E$56,Statistiques!A147,'Concert 5'!$I$9:$I$56)","v":0},{"$f":"SUMIF('Concert 1'!$E$9:$E$56,Statistiques!A147,'Concert 1'!$J$9:$J$56)+SUMIF('Concert 2'!$E$9:$E$56,Statistiques!A147,'Concert 2'!$J$9:$J$56)+SUMIF('Concert 3'!$E$9:$E$56,Statistiques!A147,'Concert 3'!$J$9:$J$56)+SUMIF('Concert 4'!$E$9:$E$56,Statistiques!A147,'Concert 4'!$J$9:$J$56)+SUMIF('Concert 5'!$E$9:$E$56,Statistiques!A147,'Concert 5'!$J$9:$J$56)","v":0},null,null,{"$f":"SUMIF('Concert 1'!$E$9:$E$56,Statistiques!A147,'Concert 1'!$I$9:$I$56)","v":0},{"$f":"SUMIF('Concert 1'!$E$9:$E$56,Statistiques!A147,'Concert 1'!$J$9:$J$56)","v":0},{"$f":"SUMIF('Concert 2'!$E$9:$E$56,Statistiques!A147,'Concert 2'!$I$9:$I$56)","v":0},{"$f":"SUMIF('Concert 2'!$E$9:$E$56,Statistiques!A147,'Concert 2'!$J$9:$J$56)","v":0},{"$f":"SUMIF('Concert 3'!$E$9:$E$56,Statistiques!A147,'Concert 3'!$I$9:$I$56)","v":0},{"$f":"SUMIF('Concert 3'!$E$9:$E$56,Statistiques!A147,'Concert 3'!$J$9:$J$56)","v":0},{"$f":"SUMIF('Concert 4'!$E$9:$E$56,Statistiques!A147,'Concert 4'!$I$9:$I$56)","v":0},{"$f":"SUMIF('Concert 4'!$E$9:$E$56,Statistiques!A147,'Concert 4'!$J$9:$J$56)","v":0},{"$f":"SUMIF('Concert 5'!$E$9:$E$56,Statistiques!A147,'Concert 5'!$I$9:$I$56)","v":0},{"$f":"SUMIF('Concert 5'!$E$9:$E$56,Statistiques!A147,'Concert 5'!$J$9:$J$56)","v":0}]
[{"$f":"Ecoles!A144","v":0},{"$f":"Ecoles!B144","v":0},{"$f":"Ecoles!C144","v":0},null,{"$f":"SUMIF('Concert 1'!$E$9:$E$56,Statistiques!A148,'Concert 1'!$I$9:$I$56)+SUMIF('Concert 2'!$E$9:$E$56,Statistiques!A148,'Concert 2'!$I$9:$I$56)+SUMIF('Concert 3'!$E$9:$E$56,Statistiques!A148,'Concert 3'!$I$9:$I$56)+SUMIF('Concert 4'!$E$9:$E$56,Statistiques!A148,'Concert 4'!$I$9:$I$56)+SUMIF('Concert 5'!$E$9:$E$56,Statistiques!A148,'Concert 5'!$I$9:$I$56)","v":0},{"$f":"SUMIF('Concert 1'!$E$9:$E$56,Statistiques!A148,'Concert 1'!$J$9:$J$56)+SUMIF('Concert 2'!$E$9:$E$56,Statistiques!A148,'Concert 2'!$J$9:$J$56)+SUMIF('Concert 3'!$E$9:$E$56,Statistiques!A148,'Concert 3'!$J$9:$J$56)+SUMIF('Concert 4'!$E$9:$E$56,Statistiques!A148,'Concert 4'!$J$9:$J$56)+SUMIF('Concert 5'!$E$9:$E$56,Statistiques!A148,'Concert 5'!$J$9:$J$56)","v":0},null,null,{"$f":"SUMIF('Concert 1'!$E$9:$E$56,Statistiques!A148,'Concert 1'!$I$9:$I$56)","v":0},{"$f":"SUMIF('Concert 1'!$E$9:$E$56,Statistiques!A148,'Concert 1'!$J$9:$J$56)","v":0},{"$f":"SUMIF('Concert 2'!$E$9:$E$56,Statistiques!A148,'Concert 2'!$I$9:$I$56)","v":0},{"$f":"SUMIF('Concert 2'!$E$9:$E$56,Statistiques!A148,'Concert 2'!$J$9:$J$56)","v":0},{"$f":"SUMIF('Concert 3'!$E$9:$E$56,Statistiques!A148,'Concert 3'!$I$9:$I$56)","v":0},{"$f":"SUMIF('Concert 3'!$E$9:$E$56,Statistiques!A148,'Concert 3'!$J$9:$J$56)","v":0},{"$f":"SUMIF('Concert 4'!$E$9:$E$56,Statistiques!A148,'Concert 4'!$I$9:$I$56)","v":0},{"$f":"SUMIF('Concert 4'!$E$9:$E$56,Statistiques!A148,'Concert 4'!$J$9:$J$56)","v":0},{"$f":"SUMIF('Concert 5'!$E$9:$E$56,Statistiques!A148,'Concert 5'!$I$9:$I$56)","v":0},{"$f":"SUMIF('Concert 5'!$E$9:$E$56,Statistiques!A148,'Concert 5'!$J$9:$J$56)","v":0}]
[{"$f":"Ecoles!A145","v":0},{"$f":"Ecoles!B145","v":0},{"$f":"Ecoles!C145","v":0},null,{"$f":"SUMIF('Concert 1'!$E$9:$E$56,Statistiques!A149,'Concert 1'!$I$9:$I$56)+SUMIF('Concert 2'!$E$9:$E$56,Statistiques!A149,'Concert 2'!$I$9:$I$56)+SUMIF('Concert 3'!$E$9:$E$56,Statistiques!A149,'Concert 3'!$I$9:$I$56)+SUMIF('Concert 4'!$E$9:$E$56,Statistiques!A149,'Concert 4'!$I$9:$I$56)+SUMIF('Concert 5'!$E$9:$E$56,Statistiques!A149,'Concert 5'!$I$9:$I$56)","v":0},{"$f":"SUMIF('Concert 1'!$E$9:$E$56,Statistiques!A149,'Concert 1'!$J$9:$J$56)+SUMIF('Concert 2'!$E$9:$E$56,Statistiques!A149,'Concert 2'!$J$9:$J$56)+SUMIF('Concert 3'!$E$9:$E$56,Statistiques!A149,'Concert 3'!$J$9:$J$56)+SUMIF('Concert 4'!$E$9:$E$56,Statistiques!A149,'Concert 4'!$J$9:$J$56)+SUMIF('Concert 5'!$E$9:$E$56,Statistiques!A149,'Concert 5'!$J$9:$J$56)","v":0},null,null,{"$f":"SUMIF('Concert 1'!$E$9:$E$56,Statistiques!A149,'Concert 1'!$I$9:$I$56)","v":0},{"$f":"SUMIF('Concert 1'!$E$9:$E$56,Statistiques!A149,'Concert 1'!$J$9:$J$56)","v":0},{"$f":"SUMIF('Concert 2'!$E$9:$E$56,Statistiques!A149,'Concert 2'!$I$9:$I$56)","v":0},{"$f":"SUMIF('Concert 2'!$E$9:$E$56,Statistiques!A149,'Concert 2'!$J$9:$J$56)","v":0},{"$f":"SUMIF('Concert 3'!$E$9:$E$56,Statistiques!A149,'Concert 3'!$I$9:$I$56)","v":0},{"$f":"SUMIF('Concert 3'!$E$9:$E$56,Statistiques!A149,'Concert 3'!$J$9:$J$56)","v":0},{"$f":"SUMIF('Concert 4'!$E$9:$E$56,Statistiques!A149,'Concert 4'!$I$9:$I$56)","v":0},{"$f":"SUMIF('Concert 4'!$E$9:$E$56,Statistiques!A149,'Concert 4'!$J$9:$J$56)","v":0},{"$f":"SUMIF('Concert 5'!$E$9:$E$56,Statistiques!A149,'Concert 5'!$I$9:$I$56)","v":0},{"$f":"SUMIF('Concert 5'!$E$9:$E$56,Statistiques!A149,'Concert 5'!$J$9:$J$56)","v":0}]
[{"$f":"Ecoles!A146","v":0},{"$f":"Ecoles!B146","v":0},{"$f":"Ecoles!C146","v":0},null,{"$f":"SUMIF('Concert 1'!$E$9:$E$56,Statistiques!A150,'Concert 1'!$I$9:$I$56)+SUMIF('Concert 2'!$E$9:$E$56,Statistiques!A150,'Concert 2'!$I$9:$I$56)+SUMIF('Concert 3'!$E$9:$E$56,Statistiques!A150,'Concert 3'!$I$9:$I$56)+SUMIF('Concert 4'!$E$9:$E$56,Statistiques!A150,'Concert 4'!$I$9:$I$56)+SUMIF('Concert 5'!$E$9:$E$56,Statistiques!A150,'Concert 5'!$I$9:$I$56)","v":0},{"$f":"SUMIF('Concert 1'!$E$9:$E$56,Statistiques!A150,'Concert 1'!$J$9:$J$56)+SUMIF('Concert 2'!$E$9:$E$56,Statistiques!A150,'Concert 2'!$J$9:$J$56)+SUMIF('Concert 3'!$E$9:$E$56,Statistiques!A150,'Concert 3'!$J$9:$J$56)+SUMIF('Concert 4'!$E$9:$E$56,Statistiques!A150,'Concert 4'!$J$9:$J$56)+SUMIF('Concert 5'!$E$9:$E$56,Statistiques!A150,'Concert 5'!$J$9:$J$56)","v":0},null,null,{"$f":"SUMIF('Concert 1'!$E$9:$E$56,Statistiques!A150,'Concert 1'!$I$9:$I$56)","v":0},{"$f":"SUMIF('Concert 1'!$E$9:$E$56,Statistiques!A150,'Concert 1'!$J$9:$J$56)","v":0},{"$f":"SUMIF('Concert 2'!$E$9:$E$56,Statistiques!A150,'Concert 2'!$I$9:$I$56)","v":0},{"$f":"SUMIF('Concert 2'!$E$9:$E$56,Statistiques!A150,'Concert 2'!$J$9:$J$56)","v":0},{"$f":"SUMIF('Concert 3'!$E$9:$E$56,Statistiques!A150,'Concert 3'!$I$9:$I$56)","v":0},{"$f":"SUMIF('Concert 3'!$E$9:$E$56,Statistiques!A150,'Concert 3'!$J$9:$J$56)","v":0},{"$f":"SUMIF('Concert 4'!$E$9:$E$56,Statistiques!A150,'Concert 4'!$I$9:$I$56)","v":0},{"$f":"SUMIF('Concert 4'!$E$9:$E$56,Statistiques!A150,'Concert 4'!$J$9:$J$56)","v":0},{"$f":"SUMIF('Concert 5'!$E$9:$E$56,Statistiques!A150,'Concert 5'!$I$9:$I$56)","v":0},{"$f":"SUMIF('Concert 5'!$E$9:$E$56,Statistiques!A150,'Concert 5'!$J$9:$J$56)","v":0}]
[{"$f":"Ecoles!A147","v":0},{"$f":"Ecoles!B147","v":0},{"$f":"Ecoles!C147","v":0},null,{"$f":"SUMIF('Concert 1'!$E$9:$E$56,Statistiques!A151,'Concert 1'!$I$9:$I$56)+SUMIF('Concert 2'!$E$9:$E$56,Statistiques!A151,'Concert 2'!$I$9:$I$56)+SUMIF('Concert 3'!$E$9:$E$56,Statistiques!A151,'Concert 3'!$I$9:$I$56)+SUMIF('Concert 4'!$E$9:$E$56,Statistiques!A151,'Concert 4'!$I$9:$I$56)+SUMIF('Concert 5'!$E$9:$E$56,Statistiques!A151,'Concert 5'!$I$9:$I$56)","v":0},{"$f":"SUMIF('Concert 1'!$E$9:$E$56,Statistiques!A151,'Concert 1'!$J$9:$J$56)+SUMIF('Concert 2'!$E$9:$E$56,Statistiques!A151,'Concert 2'!$J$9:$J$56)+SUMIF('Concert 3'!$E$9:$E$56,Statistiques!A151,'Concert 3'!$J$9:$J$56)+SUMIF('Concert 4'!$E$9:$E$56,Statistiques!A151,'Concert 4'!$J$9:$J$56)+SUMIF('Concert 5'!$E$9:$E$56,Statistiques!A151,'Concert 5'!$J$9:$J$56)","v":0},null,null,{"$f":"SUMIF('Concert 1'!$E$9:$E$56,Statistiques!A151,'Concert 1'!$I$9:$I$56)","v":0},{"$f":"SUMIF('Concert 1'!$E$9:$E$56,Statistiques!A151,'Concert 1'!$J$9:$J$56)","v":0},{"$f":"SUMIF('Concert 2'!$E$9:$E$56,Statistiques!A151,'Concert 2'!$I$9:$I$56)","v":0},{"$f":"SUMIF('Concert 2'!$E$9:$E$56,Statistiques!A151,'Concert 2'!$J$9:$J$56)","v":0},{"$f":"SUMIF('Concert 3'!$E$9:$E$56,Statistiques!A151,'Concert 3'!$I$9:$I$56)","v":0},{"$f":"SUMIF('Concert 3'!$E$9:$E$56,Statistiques!A151,'Concert 3'!$J$9:$J$56)","v":0},{"$f":"SUMIF('Concert 4'!$E$9:$E$56,Statistiques!A151,'Concert 4'!$I$9:$I$56)","v":0},{"$f":"SUMIF('Concert 4'!$E$9:$E$56,Statistiques!A151,'Concert 4'!$J$9:$J$56)","v":0},{"$f":"SUMIF('Concert 5'!$E$9:$E$56,Statistiques!A151,'Concert 5'!$I$9:$I$56)","v":0},{"$f":"SUMIF('Concert 5'!$E$9:$E$56,Statistiques!A151,'Concert 5'!$J$9:$J$56)","v":0}]
[{"$f":"Ecoles!A148","v":0},{"$f":"Ecoles!B148","v":0},{"$f":"Ecoles!C148","v":0},null,{"$f":"SUMIF('Concert 1'!$E$9:$E$56,Statistiques!A152,'Concert 1'!$I$9:$I$56)+SUMIF('Concert 2'!$E$9:$E$56,Statistiques!A152,'Concert 2'!$I$9:$I$56)+SUMIF('Concert 3'!$E$9:$E$56,Statistiques!A152,'Concert 3'!$I$9:$I$56)+SUMIF('Concert 4'!$E$9:$E$56,Statistiques!A152,'Concert 4'!$I$9:$I$56)+SUMIF('Concert 5'!$E$9:$E$56,Statistiques!A152,'Concert 5'!$I$9:$I$56)","v":0},{"$f":"SUMIF('Concert 1'!$E$9:$E$56,Statistiques!A152,'Concert 1'!$J$9:$J$56)+SUMIF('Concert 2'!$E$9:$E$56,Statistiques!A152,'Concert 2'!$J$9:$J$56)+SUMIF('Concert 3'!$E$9:$E$56,Statistiques!A152,'Concert 3'!$J$9:$J$56)+SUMIF('Concert 4'!$E$9:$E$56,Statistiques!A152,'Concert 4'!$J$9:$J$56)+SUMIF('Concert 5'!$E$9:$E$56,Statistiques!A152,'Concert 5'!$J$9:$J$56)","v":0},null,null,{"$f":"SUMIF('Concert 1'!$E$9:$E$56,Statistiques!A152,'Concert 1'!$I$9:$I$56)","v":0},{"$f":"SUMIF('Concert 1'!$E$9:$E$56,Statistiques!A152,'Concert 1'!$J$9:$J$56)","v":0},{"$f":"SUMIF('Concert 2'!$E$9:$E$56,Statistiques!A152,'Concert 2'!$I$9:$I$56)","v":0},{"$f":"SUMIF('Concert 2'!$E$9:$E$56,Statistiques!A152,'Concert 2'!$J$9:$J$56)","v":0},{"$f":"SUMIF('Concert 3'!$E$9:$E$56,Statistiques!A152,'Concert 3'!$I$9:$I$56)","v":0},{"$f":"SUMIF('Concert 3'!$E$9:$E$56,Statistiques!A152,'Concert 3'!$J$9:$J$56)","v":0},{"$f":"SUMIF('Concert 4'!$E$9:$E$56,Statistiques!A152,'Concert 4'!$I$9:$I$56)","v":0},{"$f":"SUMIF('Concert 4'!$E$9:$E$56,Statistiques!A152,'Concert 4'!$J$9:$J$56)","v":0},{"$f":"SUMIF('Concert 5'!$E$9:$E$56,Statistiques!A152,'Concert 5'!$I$9:$I$56)","v":0},{"$f":"SUMIF('Concert 5'!$E$9:$E$56,Statistiques!A152,'Concert 5'!$J$9:$J$56)","v":0}]
[{"$f":"Ecoles!A149","v":0},{"$f":"Ecoles!B149","v":0},{"$f":"Ecoles!C149","v":0},null,{"$f":"SUMIF('Concert 1'!$E$9:$E$56,Statistiques!A153,'Concert 1'!$I$9:$I$56)+SUMIF('Concert 2'!$E$9:$E$56,Statistiques!A153,'Concert 2'!$I$9:$I$56)+SUMIF('Concert 3'!$E$9:$E$56,Statistiques!A153,'Concert 3'!$I$9:$I$56)+SUMIF('Concert 4'!$E$9:$E$56,Statistiques!A153,'Concert 4'!$I$9:$I$56)+SUMIF('Concert 5'!$E$9:$E$56,Statistiques!A153,'Concert 5'!$I$9:$I$56)","v":0},{"$f":"SUMIF('Concert 1'!$E$9:$E$56,Statistiques!A153,'Concert 1'!$J$9:$J$56)+SUMIF('Concert 2'!$E$9:$E$56,Statistiques!A153,'Concert 2'!$J$9:$J$56)+SUMIF('Concert 3'!$E$9:$E$56,Statistiques!A153,'Concert 3'!$J$9:$J$56)+SUMIF('Concert 4'!$E$9:$E$56,Statistiques!A153,'Concert 4'!$J$9:$J$56)+SUMIF('Concert 5'!$E$9:$E$56,Statistiques!A153,'Concert 5'!$J$9:$J$56)","v":0},null,null,{"$f":"SUMIF('Concert 1'!$E$9:$E$56,Statistiques!A153,'Concert 1'!$I$9:$I$56)","v":0},{"$f":"SUMIF('Concert 1'!$E$9:$E$56,Statistiques!A153,'Concert 1'!$J$9:$J$56)","v":0},{"$f":"SUMIF('Concert 2'!$E$9:$E$56,Statistiques!A153,'Concert 2'!$I$9:$I$56)","v":0},{"$f":"SUMIF('Concert 2'!$E$9:$E$56,Statistiques!A153,'Concert 2'!$J$9:$J$56)","v":0},{"$f":"SUMIF('Concert 3'!$E$9:$E$56,Statistiques!A153,'Concert 3'!$I$9:$I$56)","v":0},{"$f":"SUMIF('Concert 3'!$E$9:$E$56,Statistiques!A153,'Concert 3'!$J$9:$J$56)","v":0},{"$f":"SUMIF('Concert 4'!$E$9:$E$56,Statistiques!A153,'Concert 4'!$I$9:$I$56)","v":0},{"$f":"SUMIF('Concert 4'!$E$9:$E$56,Statistiques!A153,'Concert 4'!$J$9:$J$56)","v":0},{"$f":"SUMIF('Concert 5'!$E$9:$E$56,Statistiques!A153,'Concert 5'!$I$9:$I$56)","v":0},{"$f":"SUMIF('Concert 5'!$E$9:$E$56,Statistiques!A153,'Concert 5'!$J$9:$J$56)","v":0}]
[{"$f":"Ecoles!A150","v":0},{"$f":"Ecoles!B150","v":0},{"$f":"Ecoles!C150","v":0},null,{"$f":"SUMIF('Concert 1'!$E$9:$E$56,Statistiques!A154,'Concert 1'!$I$9:$I$56)+SUMIF('Concert 2'!$E$9:$E$56,Statistiques!A154,'Concert 2'!$I$9:$I$56)+SUMIF('Concert 3'!$E$9:$E$56,Statistiques!A154,'Concert 3'!$I$9:$I$56)+SUMIF('Concert 4'!$E$9:$E$56,Statistiques!A154,'Concert 4'!$I$9:$I$56)+SUMIF('Concert 5'!$E$9:$E$56,Statistiques!A154,'Concert 5'!$I$9:$I$56)","v":0},{"$f":"SUMIF('Concert 1'!$E$9:$E$56,Statistiques!A154,'Concert 1'!$J$9:$J$56)+SUMIF('Concert 2'!$E$9:$E$56,Statistiques!A154,'Concert 2'!$J$9:$J$56)+SUMIF('Concert 3'!$E$9:$E$56,Statistiques!A154,'Concert 3'!$J$9:$J$56)+SUMIF('Concert 4'!$E$9:$E$56,Statistiques!A154,'Concert 4'!$J$9:$J$56)+SUMIF('Concert 5'!$E$9:$E$56,Statistiques!A154,'Concert 5'!$J$9:$J$56)","v":0},null,null,{"$f":"SUMIF('Concert 1'!$E$9:$E$56,Statistiques!A154,'Concert 1'!$I$9:$I$56)","v":0},{"$f":"SUMIF('Concert 1'!$E$9:$E$56,Statistiques!A154,'Concert 1'!$J$9:$J$56)","v":0},{"$f":"SUMIF('Concert 2'!$E$9:$E$56,Statistiques!A154,'Concert 2'!$I$9:$I$56)","v":0},{"$f":"SUMIF('Concert 2'!$E$9:$E$56,Statistiques!A154,'Concert 2'!$J$9:$J$56)","v":0},{"$f":"SUMIF('Concert 3'!$E$9:$E$56,Statistiques!A154,'Concert 3'!$I$9:$I$56)","v":0},{"$f":"SUMIF('Concert 3'!$E$9:$E$56,Statistiques!A154,'Concert 3'!$J$9:$J$56)","v":0},{"$f":"SUMIF('Concert 4'!$E$9:$E$56,Statistiques!A154,'Concert 4'!$I$9:$I$56)","v":0},{"$f":"SUMIF('Concert 4'!$E$9:$E$56,Statistiques!A154,'Concert 4'!$J$9:$J$56)","v":0},{"$f":"SUMIF('Concert 5'!$E$9:$E$56,Statistiques!A154,'Concert 5'!$I$9:$I$56)","v":0},{"$f":"SUMIF('Concert 5'!$E$9:$E$56,Statistiques!A154,'Concert 5'!$J$9:$J$56)","v":0}]
[{"$f":"Ecoles!A151","v":0},{"$f":"Ecoles!B151","v":0},{"$f":"Ecoles!C151","v":0},null,{"$f":"SUMIF('Concert 1'!$E$9:$E$56,Statistiques!A155,'Concert 1'!$I$9:$I$56)+SUMIF('Concert 2'!$E$9:$E$56,Statistiques!A155,'Concert 2'!$I$9:$I$56)+SUMIF('Concert 3'!$E$9:$E$56,Statistiques!A155,'Concert 3'!$I$9:$I$56)+SUMIF('Concert 4'!$E$9:$E$56,Statistiques!A155,'Concert 4'!$I$9:$I$56)+SUMIF('Concert 5'!$E$9:$E$56,Statistiques!A155,'Concert 5'!$I$9:$I$56)","v":0},{"$f":"SUMIF('Concert 1'!$E$9:$E$56,Statistiques!A155,'Concert 1'!$J$9:$J$56)+SUMIF('Concert 2'!$E$9:$E$56,Statistiques!A155,'Concert 2'!$J$9:$J$56)+SUMIF('Concert 3'!$E$9:$E$56,Statistiques!A155,'Concert 3'!$J$9:$J$56)+SUMIF('Concert 4'!$E$9:$E$56,Statistiques!A155,'Concert 4'!$J$9:$J$56)+SUMIF('Concert 5'!$E$9:$E$56,Statistiques!A155,'Concert 5'!$J$9:$J$56)","v":0},null,null,{"$f":"SUMIF('Concert 1'!$E$9:$E$56,Statistiques!A155,'Concert 1'!$I$9:$I$56)","v":0},{"$f":"SUMIF('Concert 1'!$E$9:$E$56,Statistiques!A155,'Concert 1'!$J$9:$J$56)","v":0},{"$f":"SUMIF('Concert 2'!$E$9:$E$56,Statistiques!A155,'Concert 2'!$I$9:$I$56)","v":0},{"$f":"SUMIF('Concert 2'!$E$9:$E$56,Statistiques!A155,'Concert 2'!$J$9:$J$56)","v":0},{"$f":"SUMIF('Concert 3'!$E$9:$E$56,Statistiques!A155,'Concert 3'!$I$9:$I$56)","v":0},{"$f":"SUMIF('Concert 3'!$E$9:$E$56,Statistiques!A155,'Concert 3'!$J$9:$J$56)","v":0},{"$f":"SUMIF('Concert 4'!$E$9:$E$56,Statistiques!A155,'Concert 4'!$I$9:$I$56)","v":0},{"$f":"SUMIF('Concert 4'!$E$9:$E$56,Statistiques!A155,'Concert 4'!$J$9:$J$56)","v":0},{"$f":"SUMIF('Concert 5'!$E$9:$E$56,Statistiques!A155,'Concert 5'!$I$9:$I$56)","v":0},{"$f":"SUMIF('Concert 5'!$E$9:$E$56,Statistiques!A155,'Concert 5'!$J$9:$J$56)","v":0}]
[{"$f":"Ecoles!A152","v":0},{"$f":"Ecoles!B152","v":0},{"$f":"Ecoles!C152","v":0},null,{"$f":"SUMIF('Concert 1'!$E$9:$E$56,Statistiques!A156,'Concert 1'!$I$9:$I$56)+SUMIF('Concert 2'!$E$9:$E$56,Statistiques!A156,'Concert 2'!$I$9:$I$56)+SUMIF('Concert 3'!$E$9:$E$56,Statistiques!A156,'Concert 3'!$I$9:$I$56)+SUMIF('Concert 4'!$E$9:$E$56,Statistiques!A156,'Concert 4'!$I$9:$I$56)+SUMIF('Concert 5'!$E$9:$E$56,Statistiques!A156,'Concert 5'!$I$9:$I$56)","v":0},{"$f":"SUMIF('Concert 1'!$E$9:$E$56,Statistiques!A156,'Concert 1'!$J$9:$J$56)+SUMIF('Concert 2'!$E$9:$E$56,Statistiques!A156,'Concert 2'!$J$9:$J$56)+SUMIF('Concert 3'!$E$9:$E$56,Statistiques!A156,'Concert 3'!$J$9:$J$56)+SUMIF('Concert 4'!$E$9:$E$56,Statistiques!A156,'Concert 4'!$J$9:$J$56)+SUMIF('Concert 5'!$E$9:$E$56,Statistiques!A156,'Concert 5'!$J$9:$J$56)","v":0},null,null,{"$f":"SUMIF('Concert 1'!$E$9:$E$56,Statistiques!A156,'Concert 1'!$I$9:$I$56)","v":0},{"$f":"SUMIF('Concert 1'!$E$9:$E$56,Statistiques!A156,'Concert 1'!$J$9:$J$56)","v":0},{"$f":"SUMIF('Concert 2'!$E$9:$E$56,Statistiques!A156,'Concert 2'!$I$9:$I$56)","v":0},{"$f":"SUMIF('Concert 2'!$E$9:$E$56,Statistiques!A156,'Concert 2'!$J$9:$J$56)","v":0},{"$f":"SUMIF('Concert 3'!$E$9:$E$56,Statistiques!A156,'Concert 3'!$I$9:$I$56)","v":0},{"$f":"SUMIF('Concert 3'!$E$9:$E$56,Statistiques!A156,'Concert 3'!$J$9:$J$56)","v":0},{"$f":"SUMIF('Concert 4'!$E$9:$E$56,Statistiques!A156,'Concert 4'!$I$9:$I$56)","v":0},{"$f":"SUMIF('Concert 4'!$E$9:$E$56,Statistiques!A156,'Concert 4'!$J$9:$J$56)","v":0},{"$f":"SUMIF('Concert 5'!$E$9:$E$56,Statistiques!A156,'Concert 5'!$I$9:$I$56)","v":0},{"$f":"SUMIF('Concert 5'!$E$9:$E$56,Statistiques!A156,'Concert 5'!$J$9:$J$56)","v":0}]
[{"$f":"Ecoles!A153","v":0},{"$f":"Ecoles!B153","v":0},{"$f":"Ecoles!C153","v":0},null,{"$f":"SUMIF('Concert 1'!$E$9:$E$56,Statistiques!A157,'Concert 1'!$I$9:$I$56)+SUMIF('Concert 2'!$E$9:$E$56,Statistiques!A157,'Concert 2'!$I$9:$I$56)+SUMIF('Concert 3'!$E$9:$E$56,Statistiques!A157,'Concert 3'!$I$9:$I$56)+SUMIF('Concert 4'!$E$9:$E$56,Statistiques!A157,'Concert 4'!$I$9:$I$56)+SUMIF('Concert 5'!$E$9:$E$56,Statistiques!A157,'Concert 5'!$I$9:$I$56)","v":0},{"$f":"SUMIF('Concert 1'!$E$9:$E$56,Statistiques!A157,'Concert 1'!$J$9:$J$56)+SUMIF('Concert 2'!$E$9:$E$56,Statistiques!A157,'Concert 2'!$J$9:$J$56)+SUMIF('Concert 3'!$E$9:$E$56,Statistiques!A157,'Concert 3'!$J$9:$J$56)+SUMIF('Concert 4'!$E$9:$E$56,Statistiques!A157,'Concert 4'!$J$9:$J$56)+SUMIF('Concert 5'!$E$9:$E$56,Statistiques!A157,'Concert 5'!$J$9:$J$56)","v":0},null,null,{"$f":"SUMIF('Concert 1'!$E$9:$E$56,Statistiques!A157,'Concert 1'!$I$9:$I$56)","v":0},{"$f":"SUMIF('Concert 1'!$E$9:$E$56,Statistiques!A157,'Concert 1'!$J$9:$J$56)","v":0},{"$f":"SUMIF('Concert 2'!$E$9:$E$56,Statistiques!A157,'Concert 2'!$I$9:$I$56)","v":0},{"$f":"SUMIF('Concert 2'!$E$9:$E$56,Statistiques!A157,'Concert 2'!$J$9:$J$56)","v":0},{"$f":"SUMIF('Concert 3'!$E$9:$E$56,Statistiques!A157,'Concert 3'!$I$9:$I$56)","v":0},{"$f":"SUMIF('Concert 3'!$E$9:$E$56,Statistiques!A157,'Concert 3'!$J$9:$J$56)","v":0},{"$f":"SUMIF('Concert 4'!$E$9:$E$56,Statistiques!A157,'Concert 4'!$I$9:$I$56)","v":0},{"$f":"SUMIF('Concert 4'!$E$9:$E$56,Statistiques!A157,'Concert 4'!$J$9:$J$56)","v":0},{"$f":"SUMIF('Concert 5'!$E$9:$E$56,Statistiques!A157,'Concert 5'!$I$9:$I$56)","v":0},{"$f":"SUMIF('Concert 5'!$E$9:$E$56,Statistiques!A157,'Concert 5'!$J$9:$J$56)","v":0}]
[{"$f":"Ecoles!A154","v":0},{"$f":"Ecoles!B154","v":0},{"$f":"Ecoles!C154","v":0},null,{"$f":"SUMIF('Concert 1'!$E$9:$E$56,Statistiques!A158,'Concert 1'!$I$9:$I$56)+SUMIF('Concert 2'!$E$9:$E$56,Statistiques!A158,'Concert 2'!$I$9:$I$56)+SUMIF('Concert 3'!$E$9:$E$56,Statistiques!A158,'Concert 3'!$I$9:$I$56)+SUMIF('Concert 4'!$E$9:$E$56,Statistiques!A158,'Concert 4'!$I$9:$I$56)+SUMIF('Concert 5'!$E$9:$E$56,Statistiques!A158,'Concert 5'!$I$9:$I$56)","v":0},{"$f":"SUMIF('Concert 1'!$E$9:$E$56,Statistiques!A158,'Concert 1'!$J$9:$J$56)+SUMIF('Concert 2'!$E$9:$E$56,Statistiques!A158,'Concert 2'!$J$9:$J$56)+SUMIF('Concert 3'!$E$9:$E$56,Statistiques!A158,'Concert 3'!$J$9:$J$56)+SUMIF('Concert 4'!$E$9:$E$56,Statistiques!A158,'Concert 4'!$J$9:$J$56)+SUMIF('Concert 5'!$E$9:$E$56,Statistiques!A158,'Concert 5'!$J$9:$J$56)","v":0},null,null,{"$f":"SUMIF('Concert 1'!$E$9:$E$56,Statistiques!A158,'Concert 1'!$I$9:$I$56)","v":0},{"$f":"SUMIF('Concert 1'!$E$9:$E$56,Statistiques!A158,'Concert 1'!$J$9:$J$56)","v":0},{"$f":"SUMIF('Concert 2'!$E$9:$E$56,Statistiques!A158,'Concert 2'!$I$9:$I$56)","v":0},{"$f":"SUMIF('Concert 2'!$E$9:$E$56,Statistiques!A158,'Concert 2'!$J$9:$J$56)","v":0},{"$f":"SUMIF('Concert 3'!$E$9:$E$56,Statistiques!A158,'Concert 3'!$I$9:$I$56)","v":0},{"$f":"SUMIF('Concert 3'!$E$9:$E$56,Statistiques!A158,'Concert 3'!$J$9:$J$56)","v":0},{"$f":"SUMIF('Concert 4'!$E$9:$E$56,Statistiques!A158,'Concert 4'!$I$9:$I$56)","v":0},{"$f":"SUMIF('Concert 4'!$E$9:$E$56,Statistiques!A158,'Concert 4'!$J$9:$J$56)","v":0},{"$f":"SUMIF('Concert 5'!$E$9:$E$56,Statistiques!A158,'Concert 5'!$I$9:$I$56)","v":0},{"$f":"SUMIF('Concert 5'!$E$9:$E$56,Statistiques!A158,'Concert 5'!$J$9:$J$56)","v":0}]
[{"$f":"Ecoles!A155","v":0},{"$f":"Ecoles!B155","v":0},{"$f":"Ecoles!C155","v":0},null,{"$f":"SUMIF('Concert 1'!$E$9:$E$56,Statistiques!A159,'Concert 1'!$I$9:$I$56)+SUMIF('Concert 2'!$E$9:$E$56,Statistiques!A159,'Concert 2'!$I$9:$I$56)+SUMIF('Concert 3'!$E$9:$E$56,Statistiques!A159,'Concert 3'!$I$9:$I$56)+SUMIF('Concert 4'!$E$9:$E$56,Statistiques!A159,'Concert 4'!$I$9:$I$56)+SUMIF('Concert 5'!$E$9:$E$56,Statistiques!A159,'Concert 5'!$I$9:$I$56)","v":0},{"$f":"SUMIF('Concert 1'!$E$9:$E$56,Statistiques!A159,'Concert 1'!$J$9:$J$56)+SUMIF('Concert 2'!$E$9:$E$56,Statistiques!A159,'Concert 2'!$J$9:$J$56)+SUMIF('Concert 3'!$E$9:$E$56,Statistiques!A159,'Concert 3'!$J$9:$J$56)+SUMIF('Concert 4'!$E$9:$E$56,Statistiques!A159,'Concert 4'!$J$9:$J$56)+SUMIF('Concert 5'!$E$9:$E$56,Statistiques!A159,'Concert 5'!$J$9:$J$56)","v":0},null,null,{"$f":"SUMIF('Concert 1'!$E$9:$E$56,Statistiques!A159,'Concert 1'!$I$9:$I$56)","v":0},{"$f":"SUMIF('Concert 1'!$E$9:$E$56,Statistiques!A159,'Concert 1'!$J$9:$J$56)","v":0},{"$f":"SUMIF('Concert 2'!$E$9:$E$56,Statistiques!A159,'Concert 2'!$I$9:$I$56)","v":0},{"$f":"SUMIF('Concert 2'!$E$9:$E$56,Statistiques!A159,'Concert 2'!$J$9:$J$56)","v":0},{"$f":"SUMIF('Concert 3'!$E$9:$E$56,Statistiques!A159,'Concert 3'!$I$9:$I$56)","v":0},{"$f":"SUMIF('Concert 3'!$E$9:$E$56,Statistiques!A159,'Concert 3'!$J$9:$J$56)","v":0},{"$f":"SUMIF('Concert 4'!$E$9:$E$56,Statistiques!A159,'Concert 4'!$I$9:$I$56)","v":0},{"$f":"SUMIF('Concert 4'!$E$9:$E$56,Statistiques!A159,'Concert 4'!$J$9:$J$56)","v":0},{"$f":"SUMIF('Concert 5'!$E$9:$E$56,Statistiques!A159,'Concert 5'!$I$9:$I$56)","v":0},{"$f":"SUMIF('Concert 5'!$E$9:$E$56,Statistiques!A159,'Concert 5'!$J$9:$J$56)","v":0}]
[{"$f":"Ecoles!A156","v":0},{"$f":"Ecoles!B156","v":0},{"$f":"Ecoles!C156","v":0},null,{"$f":"SUMIF('Concert 1'!$E$9:$E$56,Statistiques!A160,'Concert 1'!$I$9:$I$56)+SUMIF('Concert 2'!$E$9:$E$56,Statistiques!A160,'Concert 2'!$I$9:$I$56)+SUMIF('Concert 3'!$E$9:$E$56,Statistiques!A160,'Concert 3'!$I$9:$I$56)+SUMIF('Concert 4'!$E$9:$E$56,Statistiques!A160,'Concert 4'!$I$9:$I$56)+SUMIF('Concert 5'!$E$9:$E$56,Statistiques!A160,'Concert 5'!$I$9:$I$56)","v":0},{"$f":"SUMIF('Concert 1'!$E$9:$E$56,Statistiques!A160,'Concert 1'!$J$9:$J$56)+SUMIF('Concert 2'!$E$9:$E$56,Statistiques!A160,'Concert 2'!$J$9:$J$56)+SUMIF('Concert 3'!$E$9:$E$56,Statistiques!A160,'Concert 3'!$J$9:$J$56)+SUMIF('Concert 4'!$E$9:$E$56,Statistiques!A160,'Concert 4'!$J$9:$J$56)+SUMIF('Concert 5'!$E$9:$E$56,Statistiques!A160,'Concert 5'!$J$9:$J$56)","v":0},null,null,{"$f":"SUMIF('Concert 1'!$E$9:$E$56,Statistiques!A160,'Concert 1'!$I$9:$I$56)","v":0},{"$f":"SUMIF('Concert 1'!$E$9:$E$56,Statistiques!A160,'Concert 1'!$J$9:$J$56)","v":0},{"$f":"SUMIF('Concert 2'!$E$9:$E$56,Statistiques!A160,'Concert 2'!$I$9:$I$56)","v":0},{"$f":"SUMIF('Concert 2'!$E$9:$E$56,Statistiques!A160,'Concert 2'!$J$9:$J$56)","v":0},{"$f":"SUMIF('Concert 3'!$E$9:$E$56,Statistiques!A160,'Concert 3'!$I$9:$I$56)","v":0},{"$f":"SUMIF('Concert 3'!$E$9:$E$56,Statistiques!A160,'Concert 3'!$J$9:$J$56)","v":0},{"$f":"SUMIF('Concert 4'!$E$9:$E$56,Statistiques!A160,'Concert 4'!$I$9:$I$56)","v":0},{"$f":"SUMIF('Concert 4'!$E$9:$E$56,Statistiques!A160,'Concert 4'!$J$9:$J$56)","v":0},{"$f":"SUMIF('Concert 5'!$E$9:$E$56,Statistiques!A160,'Concert 5'!$I$9:$I$56)","v":0},{"$f":"SUMIF('Concert 5'!$E$9:$E$56,Statistiques!A160,'Concert 5'!$J$9:$J$56)","v":0}]
[{"$f":"Ecoles!A157","v":0},{"$f":"Ecoles!B157","v":0},{"$f":"Ecoles!C157","v":0},null,{"$f":"SUMIF('Concert 1'!$E$9:$E$56,Statistiques!A161,'Concert 1'!$I$9:$I$56)+SUMIF('Concert 2'!$E$9:$E$56,Statistiques!A161,'Concert 2'!$I$9:$I$56)+SUMIF('Concert 3'!$E$9:$E$56,Statistiques!A161,'Concert 3'!$I$9:$I$56)+SUMIF('Concert 4'!$E$9:$E$56,Statistiques!A161,'Concert 4'!$I$9:$I$56)+SUMIF('Concert 5'!$E$9:$E$56,Statistiques!A161,'Concert 5'!$I$9:$I$56)","v":0},{"$f":"SUMIF('Concert 1'!$E$9:$E$56,Statistiques!A161,'Concert 1'!$J$9:$J$56)+SUMIF('Concert 2'!$E$9:$E$56,Statistiques!A161,'Concert 2'!$J$9:$J$56)+SUMIF('Concert 3'!$E$9:$E$56,Statistiques!A161,'Concert 3'!$J$9:$J$56)+SUMIF('Concert 4'!$E$9:$E$56,Statistiques!A161,'Concert 4'!$J$9:$J$56)+SUMIF('Concert 5'!$E$9:$E$56,Statistiques!A161,'Concert 5'!$J$9:$J$56)","v":0},null,null,{"$f":"SUMIF('Concert 1'!$E$9:$E$56,Statistiques!A161,'Concert 1'!$I$9:$I$56)","v":0},{"$f":"SUMIF('Concert 1'!$E$9:$E$56,Statistiques!A161,'Concert 1'!$J$9:$J$56)","v":0},{"$f":"SUMIF('Concert 2'!$E$9:$E$56,Statistiques!A161,'Concert 2'!$I$9:$I$56)","v":0},{"$f":"SUMIF('Concert 2'!$E$9:$E$56,Statistiques!A161,'Concert 2'!$J$9:$J$56)","v":0},{"$f":"SUMIF('Concert 3'!$E$9:$E$56,Statistiques!A161,'Concert 3'!$I$9:$I$56)","v":0},{"$f":"SUMIF('Concert 3'!$E$9:$E$56,Statistiques!A161,'Concert 3'!$J$9:$J$56)","v":0},{"$f":"SUMIF('Concert 4'!$E$9:$E$56,Statistiques!A161,'Concert 4'!$I$9:$I$56)","v":0},{"$f":"SUMIF('Concert 4'!$E$9:$E$56,Statistiques!A161,'Concert 4'!$J$9:$J$56)","v":0},{"$f":"SUMIF('Concert 5'!$E$9:$E$56,Statistiques!A161,'Concert 5'!$I$9:$I$56)","v":0},{"$f":"SUMIF('Concert 5'!$E$9:$E$56,Statistiques!A161,'Concert 5'!$J$9:$J$56)","v":0}]
[{"$f":"Ecoles!A158","v":0},{"$f":"Ecoles!B158","v":0},{"$f":"Ecoles!C158","v":0},null,{"$f":"SUMIF('Concert 1'!$E$9:$E$56,Statistiques!A162,'Concert 1'!$I$9:$I$56)+SUMIF('Concert 2'!$E$9:$E$56,Statistiques!A162,'Concert 2'!$I$9:$I$56)+SUMIF('Concert 3'!$E$9:$E$56,Statistiques!A162,'Concert 3'!$I$9:$I$56)+SUMIF('Concert 4'!$E$9:$E$56,Statistiques!A162,'Concert 4'!$I$9:$I$56)+SUMIF('Concert 5'!$E$9:$E$56,Statistiques!A162,'Concert 5'!$I$9:$I$56)","v":0},{"$f":"SUMIF('Concert 1'!$E$9:$E$56,Statistiques!A162,'Concert 1'!$J$9:$J$56)+SUMIF('Concert 2'!$E$9:$E$56,Statistiques!A162,'Concert 2'!$J$9:$J$56)+SUMIF('Concert 3'!$E$9:$E$56,Statistiques!A162,'Concert 3'!$J$9:$J$56)+SUMIF('Concert 4'!$E$9:$E$56,Statistiques!A162,'Concert 4'!$J$9:$J$56)+SUMIF('Concert 5'!$E$9:$E$56,Statistiques!A162,'Concert 5'!$J$9:$J$56)","v":0},null,null,{"$f":"SUMIF('Concert 1'!$E$9:$E$56,Statistiques!A162,'Concert 1'!$I$9:$I$56)","v":0},{"$f":"SUMIF('Concert 1'!$E$9:$E$56,Statistiques!A162,'Concert 1'!$J$9:$J$56)","v":0},{"$f":"SUMIF('Concert 2'!$E$9:$E$56,Statistiques!A162,'Concert 2'!$I$9:$I$56)","v":0},{"$f":"SUMIF('Concert 2'!$E$9:$E$56,Statistiques!A162,'Concert 2'!$J$9:$J$56)","v":0},{"$f":"SUMIF('Concert 3'!$E$9:$E$56,Statistiques!A162,'Concert 3'!$I$9:$I$56)","v":0},{"$f":"SUMIF('Concert 3'!$E$9:$E$56,Statistiques!A162,'Concert 3'!$J$9:$J$56)","v":0},{"$f":"SUMIF('Concert 4'!$E$9:$E$56,Statistiques!A162,'Concert 4'!$I$9:$I$56)","v":0},{"$f":"SUMIF('Concert 4'!$E$9:$E$56,Statistiques!A162,'Concert 4'!$J$9:$J$56)","v":0},{"$f":"SUMIF('Concert 5'!$E$9:$E$56,Statistiques!A162,'Concert 5'!$I$9:$I$56)","v":0},{"$f":"SUMIF('Concert 5'!$E$9:$E$56,Statistiques!A162,'Concert 5'!$J$9:$J$56)","v":0}]
[{"$f":"Ecoles!A159","v":0},{"$f":"Ecoles!B159","v":0},{"$f":"Ecoles!C159","v":0},null,{"$f":"SUMIF('Concert 1'!$E$9:$E$56,Statistiques!A163,'Concert 1'!$I$9:$I$56)+SUMIF('Concert 2'!$E$9:$E$56,Statistiques!A163,'Concert 2'!$I$9:$I$56)+SUMIF('Concert 3'!$E$9:$E$56,Statistiques!A163,'Concert 3'!$I$9:$I$56)+SUMIF('Concert 4'!$E$9:$E$56,Statistiques!A163,'Concert 4'!$I$9:$I$56)+SUMIF('Concert 5'!$E$9:$E$56,Statistiques!A163,'Concert 5'!$I$9:$I$56)","v":0},{"$f":"SUMIF('Concert 1'!$E$9:$E$56,Statistiques!A163,'Concert 1'!$J$9:$J$56)+SUMIF('Concert 2'!$E$9:$E$56,Statistiques!A163,'Concert 2'!$J$9:$J$56)+SUMIF('Concert 3'!$E$9:$E$56,Statistiques!A163,'Concert 3'!$J$9:$J$56)+SUMIF('Concert 4'!$E$9:$E$56,Statistiques!A163,'Concert 4'!$J$9:$J$56)+SUMIF('Concert 5'!$E$9:$E$56,Statistiques!A163,'Concert 5'!$J$9:$J$56)","v":0},null,null,{"$f":"SUMIF('Concert 1'!$E$9:$E$56,Statistiques!A163,'Concert 1'!$I$9:$I$56)","v":0},{"$f":"SUMIF('Concert 1'!$E$9:$E$56,Statistiques!A163,'Concert 1'!$J$9:$J$56)","v":0},{"$f":"SUMIF('Concert 2'!$E$9:$E$56,Statistiques!A163,'Concert 2'!$I$9:$I$56)","v":0},{"$f":"SUMIF('Concert 2'!$E$9:$E$56,Statistiques!A163,'Concert 2'!$J$9:$J$56)","v":0},{"$f":"SUMIF('Concert 3'!$E$9:$E$56,Statistiques!A163,'Concert 3'!$I$9:$I$56)","v":0},{"$f":"SUMIF('Concert 3'!$E$9:$E$56,Statistiques!A163,'Concert 3'!$J$9:$J$56)","v":0},{"$f":"SUMIF('Concert 4'!$E$9:$E$56,Statistiques!A163,'Concert 4'!$I$9:$I$56)","v":0},{"$f":"SUMIF('Concert 4'!$E$9:$E$56,Statistiques!A163,'Concert 4'!$J$9:$J$56)","v":0},{"$f":"SUMIF('Concert 5'!$E$9:$E$56,Statistiques!A163,'Concert 5'!$I$9:$I$56)","v":0},{"$f":"SUMIF('Concert 5'!$E$9:$E$56,Statistiques!A163,'Concert 5'!$J$9:$J$56)","v":0}]
[{"$f":"Ecoles!A160","v":0},{"$f":"Ecoles!B160","v":0},{"$f":"Ecoles!C160","v":0},null,{"$f":"SUMIF('Concert 1'!$E$9:$E$56,Statistiques!A164,'Concert 1'!$I$9:$I$56)+SUMIF('Concert 2'!$E$9:$E$56,Statistiques!A164,'Concert 2'!$I$9:$I$56)+SUMIF('Concert 3'!$E$9:$E$56,Statistiques!A164,'Concert 3'!$I$9:$I$56)+SUMIF('Concert 4'!$E$9:$E$56,Statistiques!A164,'Concert 4'!$I$9:$I$56)+SUMIF('Concert 5'!$E$9:$E$56,Statistiques!A164,'Concert 5'!$I$9:$I$56)","v":0},{"$f":"SUMIF('Concert 1'!$E$9:$E$56,Statistiques!A164,'Concert 1'!$J$9:$J$56)+SUMIF('Concert 2'!$E$9:$E$56,Statistiques!A164,'Concert 2'!$J$9:$J$56)+SUMIF('Concert 3'!$E$9:$E$56,Statistiques!A164,'Concert 3'!$J$9:$J$56)+SUMIF('Concert 4'!$E$9:$E$56,Statistiques!A164,'Concert 4'!$J$9:$J$56)+SUMIF('Concert 5'!$E$9:$E$56,Statistiques!A164,'Concert 5'!$J$9:$J$56)","v":0},null,null,{"$f":"SUMIF('Concert 1'!$E$9:$E$56,Statistiques!A164,'Concert 1'!$I$9:$I$56)","v":0},{"$f":"SUMIF('Concert 1'!$E$9:$E$56,Statistiques!A164,'Concert 1'!$J$9:$J$56)","v":0},{"$f":"SUMIF('Concert 2'!$E$9:$E$56,Statistiques!A164,'Concert 2'!$I$9:$I$56)","v":0},{"$f":"SUMIF('Concert 2'!$E$9:$E$56,Statistiques!A164,'Concert 2'!$J$9:$J$56)","v":0},{"$f":"SUMIF('Concert 3'!$E$9:$E$56,Statistiques!A164,'Concert 3'!$I$9:$I$56)","v":0},{"$f":"SUMIF('Concert 3'!$E$9:$E$56,Statistiques!A164,'Concert 3'!$J$9:$J$56)","v":0},{"$f":"SUMIF('Concert 4'!$E$9:$E$56,Statistiques!A164,'Concert 4'!$I$9:$I$56)","v":0},{"$f":"SUMIF('Concert 4'!$E$9:$E$56,Statistiques!A164,'Concert 4'!$J$9:$J$56)","v":0},{"$f":"SUMIF('Concert 5'!$E$9:$E$56,Statistiques!A164,'Concert 5'!$I$9:$I$56)","v":0},{"$f":"SUMIF('Concert 5'!$E$9:$E$56,Statistiques!A164,'Concert 5'!$J$9:$J$56)","v":0}]
[{"$f":"Ecoles!A161","v":0},{"$f":"Ecoles!B161","v":0},{"$f":"Ecoles!C161","v":0},null,{"$f":"SUMIF('Concert 1'!$E$9:$E$56,Statistiques!A165,'Concert 1'!$I$9:$I$56)+SUMIF('Concert 2'!$E$9:$E$56,Statistiques!A165,'Concert 2'!$I$9:$I$56)+SUMIF('Concert 3'!$E$9:$E$56,Statistiques!A165,'Concert 3'!$I$9:$I$56)+SUMIF('Concert 4'!$E$9:$E$56,Statistiques!A165,'Concert 4'!$I$9:$I$56)+SUMIF('Concert 5'!$E$9:$E$56,Statistiques!A165,'Concert 5'!$I$9:$I$56)","v":0},{"$f":"SUMIF('Concert 1'!$E$9:$E$56,Statistiques!A165,'Concert 1'!$J$9:$J$56)+SUMIF('Concert 2'!$E$9:$E$56,Statistiques!A165,'Concert 2'!$J$9:$J$56)+SUMIF('Concert 3'!$E$9:$E$56,Statistiques!A165,'Concert 3'!$J$9:$J$56)+SUMIF('Concert 4'!$E$9:$E$56,Statistiques!A165,'Concert 4'!$J$9:$J$56)+SUMIF('Concert 5'!$E$9:$E$56,Statistiques!A165,'Concert 5'!$J$9:$J$56)","v":0},null,null,{"$f":"SUMIF('Concert 1'!$E$9:$E$56,Statistiques!A165,'Concert 1'!$I$9:$I$56)","v":0},{"$f":"SUMIF('Concert 1'!$E$9:$E$56,Statistiques!A165,'Concert 1'!$J$9:$J$56)","v":0},{"$f":"SUMIF('Concert 2'!$E$9:$E$56,Statistiques!A165,'Concert 2'!$I$9:$I$56)","v":0},{"$f":"SUMIF('Concert 2'!$E$9:$E$56,Statistiques!A165,'Concert 2'!$J$9:$J$56)","v":0},{"$f":"SUMIF('Concert 3'!$E$9:$E$56,Statistiques!A165,'Concert 3'!$I$9:$I$56)","v":0},{"$f":"SUMIF('Concert 3'!$E$9:$E$56,Statistiques!A165,'Concert 3'!$J$9:$J$56)","v":0},{"$f":"SUMIF('Concert 4'!$E$9:$E$56,Statistiques!A165,'Concert 4'!$I$9:$I$56)","v":0},{"$f":"SUMIF('Concert 4'!$E$9:$E$56,Statistiques!A165,'Concert 4'!$J$9:$J$56)","v":0},{"$f":"SUMIF('Concert 5'!$E$9:$E$56,Statistiques!A165,'Concert 5'!$I$9:$I$56)","v":0},{"$f":"SUMIF('Concert 5'!$E$9:$E$56,Statistiques!A165,'Concert 5'!$J$9:$J$56)","v":0}]
[{"$f":"Ecoles!A162","v":0},{"$f":"Ecoles!B162","v":0},{"$f":"Ecoles!C162","v":0},null,{"$f":"SUMIF('Concert 1'!$E$9:$E$56,Statistiques!A166,'Concert 1'!$I$9:$I$56)+SUMIF('Concert 2'!$E$9:$E$56,Statistiques!A166,'Concert 2'!$I$9:$I$56)+SUMIF('Concert 3'!$E$9:$E$56,Statistiques!A166,'Concert 3'!$I$9:$I$56)+SUMIF('Concert 4'!$E$9:$E$56,Statistiques!A166,'Concert 4'!$I$9:$I$56)+SUMIF('Concert 5'!$E$9:$E$56,Statistiques!A166,'Concert 5'!$I$9:$I$56)","v":0},{"$f":"SUMIF('Concert 1'!$E$9:$E$56,Statistiques!A166,'Concert 1'!$J$9:$J$56)+SUMIF('Concert 2'!$E$9:$E$56,Statistiques!A166,'Concert 2'!$J$9:$J$56)+SUMIF('Concert 3'!$E$9:$E$56,Statistiques!A166,'Concert 3'!$J$9:$J$56)+SUMIF('Concert 4'!$E$9:$E$56,Statistiques!A166,'Concert 4'!$J$9:$J$56)+SUMIF('Concert 5'!$E$9:$E$56,Statistiques!A166,'Concert 5'!$J$9:$J$56)","v":0},null,null,{"$f":"SUMIF('Concert 1'!$E$9:$E$56,Statistiques!A166,'Concert 1'!$I$9:$I$56)","v":0},{"$f":"SUMIF('Concert 1'!$E$9:$E$56,Statistiques!A166,'Concert 1'!$J$9:$J$56)","v":0},{"$f":"SUMIF('Concert 2'!$E$9:$E$56,Statistiques!A166,'Concert 2'!$I$9:$I$56)","v":0},{"$f":"SUMIF('Concert 2'!$E$9:$E$56,Statistiques!A166,'Concert 2'!$J$9:$J$56)","v":0},{"$f":"SUMIF('Concert 3'!$E$9:$E$56,Statistiques!A166,'Concert 3'!$I$9:$I$56)","v":0},{"$f":"SUMIF('Concert 3'!$E$9:$E$56,Statistiques!A166,'Concert 3'!$J$9:$J$56)","v":0},{"$f":"SUMIF('Concert 4'!$E$9:$E$56,Statistiques!A166,'Concert 4'!$I$9:$I$56)","v":0},{"$f":"SUMIF('Concert 4'!$E$9:$E$56,Statistiques!A166,'Concert 4'!$J$9:$J$56)","v":0},{"$f":"SUMIF('Concert 5'!$E$9:$E$56,Statistiques!A166,'Concert 5'!$I$9:$I$56)","v":0},{"$f":"SUMIF('Concert 5'!$E$9:$E$56,Statistiques!A166,'Concert 5'!$J$9:$J$56)","v":0}]
[{"$f":"Ecoles!A163","v":0},{"$f":"Ecoles!B163","v":0},{"$f":"Ecoles!C163","v":0},null,{"$f":"SUMIF('Concert 1'!$E$9:$E$56,Statistiques!A167,'Concert 1'!$I$9:$I$56)+SUMIF('Concert 2'!$E$9:$E$56,Statistiques!A167,'Concert 2'!$I$9:$I$56)+SUMIF('Concert 3'!$E$9:$E$56,Statistiques!A167,'Concert 3'!$I$9:$I$56)+SUMIF('Concert 4'!$E$9:$E$56,Statistiques!A167,'Concert 4'!$I$9:$I$56)+SUMIF('Concert 5'!$E$9:$E$56,Statistiques!A167,'Concert 5'!$I$9:$I$56)","v":0},{"$f":"SUMIF('Concert 1'!$E$9:$E$56,Statistiques!A167,'Concert 1'!$J$9:$J$56)+SUMIF('Concert 2'!$E$9:$E$56,Statistiques!A167,'Concert 2'!$J$9:$J$56)+SUMIF('Concert 3'!$E$9:$E$56,Statistiques!A167,'Concert 3'!$J$9:$J$56)+SUMIF('Concert 4'!$E$9:$E$56,Statistiques!A167,'Concert 4'!$J$9:$J$56)+SUMIF('Concert 5'!$E$9:$E$56,Statistiques!A167,'Concert 5'!$J$9:$J$56)","v":0},null,null,{"$f":"SUMIF('Concert 1'!$E$9:$E$56,Statistiques!A167,'Concert 1'!$I$9:$I$56)","v":0},{"$f":"SUMIF('Concert 1'!$E$9:$E$56,Statistiques!A167,'Concert 1'!$J$9:$J$56)","v":0},{"$f":"SUMIF('Concert 2'!$E$9:$E$56,Statistiques!A167,'Concert 2'!$I$9:$I$56)","v":0},{"$f":"SUMIF('Concert 2'!$E$9:$E$56,Statistiques!A167,'Concert 2'!$J$9:$J$56)","v":0},{"$f":"SUMIF('Concert 3'!$E$9:$E$56,Statistiques!A167,'Concert 3'!$I$9:$I$56)","v":0},{"$f":"SUMIF('Concert 3'!$E$9:$E$56,Statistiques!A167,'Concert 3'!$J$9:$J$56)","v":0},{"$f":"SUMIF('Concert 4'!$E$9:$E$56,Statistiques!A167,'Concert 4'!$I$9:$I$56)","v":0},{"$f":"SUMIF('Concert 4'!$E$9:$E$56,Statistiques!A167,'Concert 4'!$J$9:$J$56)","v":0},{"$f":"SUMIF('Concert 5'!$E$9:$E$56,Statistiques!A167,'Concert 5'!$I$9:$I$56)","v":0},{"$f":"SUMIF('Concert 5'!$E$9:$E$56,Statistiques!A167,'Concert 5'!$J$9:$J$56)","v":0}]
[{"$f":"Ecoles!A164","v":0},{"$f":"Ecoles!B164","v":0},{"$f":"Ecoles!C164","v":0},null,{"$f":"SUMIF('Concert 1'!$E$9:$E$56,Statistiques!A168,'Concert 1'!$I$9:$I$56)+SUMIF('Concert 2'!$E$9:$E$56,Statistiques!A168,'Concert 2'!$I$9:$I$56)+SUMIF('Concert 3'!$E$9:$E$56,Statistiques!A168,'Concert 3'!$I$9:$I$56)+SUMIF('Concert 4'!$E$9:$E$56,Statistiques!A168,'Concert 4'!$I$9:$I$56)+SUMIF('Concert 5'!$E$9:$E$56,Statistiques!A168,'Concert 5'!$I$9:$I$56)","v":0},{"$f":"SUMIF('Concert 1'!$E$9:$E$56,Statistiques!A168,'Concert 1'!$J$9:$J$56)+SUMIF('Concert 2'!$E$9:$E$56,Statistiques!A168,'Concert 2'!$J$9:$J$56)+SUMIF('Concert 3'!$E$9:$E$56,Statistiques!A168,'Concert 3'!$J$9:$J$56)+SUMIF('Concert 4'!$E$9:$E$56,Statistiques!A168,'Concert 4'!$J$9:$J$56)+SUMIF('Concert 5'!$E$9:$E$56,Statistiques!A168,'Concert 5'!$J$9:$J$56)","v":0},null,null,{"$f":"SUMIF('Concert 1'!$E$9:$E$56,Statistiques!A168,'Concert 1'!$I$9:$I$56)","v":0},{"$f":"SUMIF('Concert 1'!$E$9:$E$56,Statistiques!A168,'Concert 1'!$J$9:$J$56)","v":0},{"$f":"SUMIF('Concert 2'!$E$9:$E$56,Statistiques!A168,'Concert 2'!$I$9:$I$56)","v":0},{"$f":"SUMIF('Concert 2'!$E$9:$E$56,Statistiques!A168,'Concert 2'!$J$9:$J$56)","v":0},{"$f":"SUMIF('Concert 3'!$E$9:$E$56,Statistiques!A168,'Concert 3'!$I$9:$I$56)","v":0},{"$f":"SUMIF('Concert 3'!$E$9:$E$56,Statistiques!A168,'Concert 3'!$J$9:$J$56)","v":0},{"$f":"SUMIF('Concert 4'!$E$9:$E$56,Statistiques!A168,'Concert 4'!$I$9:$I$56)","v":0},{"$f":"SUMIF('Concert 4'!$E$9:$E$56,Statistiques!A168,'Concert 4'!$J$9:$J$56)","v":0},{"$f":"SUMIF('Concert 5'!$E$9:$E$56,Statistiques!A168,'Concert 5'!$I$9:$I$56)","v":0},{"$f":"SUMIF('Concert 5'!$E$9:$E$56,Statistiques!A168,'Concert 5'!$J$9:$J$56)","v":0}]
[{"$f":"Ecoles!A165","v":0},{"$f":"Ecoles!B165","v":0},{"$f":"Ecoles!C165","v":0},null,{"$f":"SUMIF('Concert 1'!$E$9:$E$56,Statistiques!A169,'Concert 1'!$I$9:$I$56)+SUMIF('Concert 2'!$E$9:$E$56,Statistiques!A169,'Concert 2'!$I$9:$I$56)+SUMIF('Concert 3'!$E$9:$E$56,Statistiques!A169,'Concert 3'!$I$9:$I$56)+SUMIF('Concert 4'!$E$9:$E$56,Statistiques!A169,'Concert 4'!$I$9:$I$56)+SUMIF('Concert 5'!$E$9:$E$56,Statistiques!A169,'Concert 5'!$I$9:$I$56)","v":0},{"$f":"SUMIF('Concert 1'!$E$9:$E$56,Statistiques!A169,'Concert 1'!$J$9:$J$56)+SUMIF('Concert 2'!$E$9:$E$56,Statistiques!A169,'Concert 2'!$J$9:$J$56)+SUMIF('Concert 3'!$E$9:$E$56,Statistiques!A169,'Concert 3'!$J$9:$J$56)+SUMIF('Concert 4'!$E$9:$E$56,Statistiques!A169,'Concert 4'!$J$9:$J$56)+SUMIF('Concert 5'!$E$9:$E$56,Statistiques!A169,'Concert 5'!$J$9:$J$56)","v":0},null,null,{"$f":"SUMIF('Concert 1'!$E$9:$E$56,Statistiques!A169,'Concert 1'!$I$9:$I$56)","v":0},{"$f":"SUMIF('Concert 1'!$E$9:$E$56,Statistiques!A169,'Concert 1'!$J$9:$J$56)","v":0},{"$f":"SUMIF('Concert 2'!$E$9:$E$56,Statistiques!A169,'Concert 2'!$I$9:$I$56)","v":0},{"$f":"SUMIF('Concert 2'!$E$9:$E$56,Statistiques!A169,'Concert 2'!$J$9:$J$56)","v":0},{"$f":"SUMIF('Concert 3'!$E$9:$E$56,Statistiques!A169,'Concert 3'!$I$9:$I$56)","v":0},{"$f":"SUMIF('Concert 3'!$E$9:$E$56,Statistiques!A169,'Concert 3'!$J$9:$J$56)","v":0},{"$f":"SUMIF('Concert 4'!$E$9:$E$56,Statistiques!A169,'Concert 4'!$I$9:$I$56)","v":0},{"$f":"SUMIF('Concert 4'!$E$9:$E$56,Statistiques!A169,'Concert 4'!$J$9:$J$56)","v":0},{"$f":"SUMIF('Concert 5'!$E$9:$E$56,Statistiques!A169,'Concert 5'!$I$9:$I$56)","v":0},{"$f":"SUMIF('Concert 5'!$E$9:$E$56,Statistiques!A169,'Concert 5'!$J$9:$J$56)","v":0}]
[{"$f":"Ecoles!A166","v":0},{"$f":"Ecoles!B166","v":0},{"$f":"Ecoles!C166","v":0},null,{"$f":"SUMIF('Concert 1'!$E$9:$E$56,Statistiques!A170,'Concert 1'!$I$9:$I$56)+SUMIF('Concert 2'!$E$9:$E$56,Statistiques!A170,'Concert 2'!$I$9:$I$56)+SUMIF('Concert 3'!$E$9:$E$56,Statistiques!A170,'Concert 3'!$I$9:$I$56)+SUMIF('Concert 4'!$E$9:$E$56,Statistiques!A170,'Concert 4'!$I$9:$I$56)+SUMIF('Concert 5'!$E$9:$E$56,Statistiques!A170,'Concert 5'!$I$9:$I$56)","v":0},{"$f":"SUMIF('Concert 1'!$E$9:$E$56,Statistiques!A170,'Concert 1'!$J$9:$J$56)+SUMIF('Concert 2'!$E$9:$E$56,Statistiques!A170,'Concert 2'!$J$9:$J$56)+SUMIF('Concert 3'!$E$9:$E$56,Statistiques!A170,'Concert 3'!$J$9:$J$56)+SUMIF('Concert 4'!$E$9:$E$56,Statistiques!A170,'Concert 4'!$J$9:$J$56)+SUMIF('Concert 5'!$E$9:$E$56,Statistiques!A170,'Concert 5'!$J$9:$J$56)","v":0},null,null,{"$f":"SUMIF('Concert 1'!$E$9:$E$56,Statistiques!A170,'Concert 1'!$I$9:$I$56)","v":0},{"$f":"SUMIF('Concert 1'!$E$9:$E$56,Statistiques!A170,'Concert 1'!$J$9:$J$56)","v":0},{"$f":"SUMIF('Concert 2'!$E$9:$E$56,Statistiques!A170,'Concert 2'!$I$9:$I$56)","v":0},{"$f":"SUMIF('Concert 2'!$E$9:$E$56,Statistiques!A170,'Concert 2'!$J$9:$J$56)","v":0},{"$f":"SUMIF('Concert 3'!$E$9:$E$56,Statistiques!A170,'Concert 3'!$I$9:$I$56)","v":0},{"$f":"SUMIF('Concert 3'!$E$9:$E$56,Statistiques!A170,'Concert 3'!$J$9:$J$56)","v":0},{"$f":"SUMIF('Concert 4'!$E$9:$E$56,Statistiques!A170,'Concert 4'!$I$9:$I$56)","v":0},{"$f":"SUMIF('Concert 4'!$E$9:$E$56,Statistiques!A170,'Concert 4'!$J$9:$J$56)","v":0},{"$f":"SUMIF('Concert 5'!$E$9:$E$56,Statistiques!A170,'Concert 5'!$I$9:$I$56)","v":0},{"$f":"SUMIF('Concert 5'!$E$9:$E$56,Statistiques!A170,'Concert 5'!$J$9:$J$56)","v":0}]
[{"$f":"Ecoles!A167","v":0},{"$f":"Ecoles!B167","v":0},{"$f":"Ecoles!C167","v":0},null,{"$f":"SUMIF('Concert 1'!$E$9:$E$56,Statistiques!A171,'Concert 1'!$I$9:$I$56)+SUMIF('Concert 2'!$E$9:$E$56,Statistiques!A171,'Concert 2'!$I$9:$I$56)+SUMIF('Concert 3'!$E$9:$E$56,Statistiques!A171,'Concert 3'!$I$9:$I$56)+SUMIF('Concert 4'!$E$9:$E$56,Statistiques!A171,'Concert 4'!$I$9:$I$56)+SUMIF('Concert 5'!$E$9:$E$56,Statistiques!A171,'Concert 5'!$I$9:$I$56)","v":0},{"$f":"SUMIF('Concert 1'!$E$9:$E$56,Statistiques!A171,'Concert 1'!$J$9:$J$56)+SUMIF('Concert 2'!$E$9:$E$56,Statistiques!A171,'Concert 2'!$J$9:$J$56)+SUMIF('Concert 3'!$E$9:$E$56,Statistiques!A171,'Concert 3'!$J$9:$J$56)+SUMIF('Concert 4'!$E$9:$E$56,Statistiques!A171,'Concert 4'!$J$9:$J$56)+SUMIF('Concert 5'!$E$9:$E$56,Statistiques!A171,'Concert 5'!$J$9:$J$56)","v":0},null,null,{"$f":"SUMIF('Concert 1'!$E$9:$E$56,Statistiques!A171,'Concert 1'!$I$9:$I$56)","v":0},{"$f":"SUMIF('Concert 1'!$E$9:$E$56,Statistiques!A171,'Concert 1'!$J$9:$J$56)","v":0},{"$f":"SUMIF('Concert 2'!$E$9:$E$56,Statistiques!A171,'Concert 2'!$I$9:$I$56)","v":0},{"$f":"SUMIF('Concert 2'!$E$9:$E$56,Statistiques!A171,'Concert 2'!$J$9:$J$56)","v":0},{"$f":"SUMIF('Concert 3'!$E$9:$E$56,Statistiques!A171,'Concert 3'!$I$9:$I$56)","v":0},{"$f":"SUMIF('Concert 3'!$E$9:$E$56,Statistiques!A171,'Concert 3'!$J$9:$J$56)","v":0},{"$f":"SUMIF('Concert 4'!$E$9:$E$56,Statistiques!A171,'Concert 4'!$I$9:$I$56)","v":0},{"$f":"SUMIF('Concert 4'!$E$9:$E$56,Statistiques!A171,'Concert 4'!$J$9:$J$56)","v":0},{"$f":"SUMIF('Concert 5'!$E$9:$E$56,Statistiques!A171,'Concert 5'!$I$9:$I$56)","v":0},{"$f":"SUMIF('Concert 5'!$E$9:$E$56,Statistiques!A171,'Concert 5'!$J$9:$J$56)","v":0}]
[{"$f":"Ecoles!A168","v":0},{"$f":"Ecoles!B168","v":0},{"$f":"Ecoles!C168","v":0},null,{"$f":"SUMIF('Concert 1'!$E$9:$E$56,Statistiques!A172,'Concert 1'!$I$9:$I$56)+SUMIF('Concert 2'!$E$9:$E$56,Statistiques!A172,'Concert 2'!$I$9:$I$56)+SUMIF('Concert 3'!$E$9:$E$56,Statistiques!A172,'Concert 3'!$I$9:$I$56)+SUMIF('Concert 4'!$E$9:$E$56,Statistiques!A172,'Concert 4'!$I$9:$I$56)+SUMIF('Concert 5'!$E$9:$E$56,Statistiques!A172,'Concert 5'!$I$9:$I$56)","v":0},{"$f":"SUMIF('Concert 1'!$E$9:$E$56,Statistiques!A172,'Concert 1'!$J$9:$J$56)+SUMIF('Concert 2'!$E$9:$E$56,Statistiques!A172,'Concert 2'!$J$9:$J$56)+SUMIF('Concert 3'!$E$9:$E$56,Statistiques!A172,'Concert 3'!$J$9:$J$56)+SUMIF('Concert 4'!$E$9:$E$56,Statistiques!A172,'Concert 4'!$J$9:$J$56)+SUMIF('Concert 5'!$E$9:$E$56,Statistiques!A172,'Concert 5'!$J$9:$J$56)","v":0},null,null,{"$f":"SUMIF('Concert 1'!$E$9:$E$56,Statistiques!A172,'Concert 1'!$I$9:$I$56)","v":0},{"$f":"SUMIF('Concert 1'!$E$9:$E$56,Statistiques!A172,'Concert 1'!$J$9:$J$56)","v":0},{"$f":"SUMIF('Concert 2'!$E$9:$E$56,Statistiques!A172,'Concert 2'!$I$9:$I$56)","v":0},{"$f":"SUMIF('Concert 2'!$E$9:$E$56,Statistiques!A172,'Concert 2'!$J$9:$J$56)","v":0},{"$f":"SUMIF('Concert 3'!$E$9:$E$56,Statistiques!A172,'Concert 3'!$I$9:$I$56)","v":0},{"$f":"SUMIF('Concert 3'!$E$9:$E$56,Statistiques!A172,'Concert 3'!$J$9:$J$56)","v":0},{"$f":"SUMIF('Concert 4'!$E$9:$E$56,Statistiques!A172,'Concert 4'!$I$9:$I$56)","v":0},{"$f":"SUMIF('Concert 4'!$E$9:$E$56,Statistiques!A172,'Concert 4'!$J$9:$J$56)","v":0},{"$f":"SUMIF('Concert 5'!$E$9:$E$56,Statistiques!A172,'Concert 5'!$I$9:$I$56)","v":0},{"$f":"SUMIF('Concert 5'!$E$9:$E$56,Statistiques!A172,'Concert 5'!$J$9:$J$56)","v":0}]
[{"$f":"Ecoles!A169","v":0},{"$f":"Ecoles!B169","v":0},{"$f":"Ecoles!C169","v":0},null,{"$f":"SUMIF('Concert 1'!$E$9:$E$56,Statistiques!A173,'Concert 1'!$I$9:$I$56)+SUMIF('Concert 2'!$E$9:$E$56,Statistiques!A173,'Concert 2'!$I$9:$I$56)+SUMIF('Concert 3'!$E$9:$E$56,Statistiques!A173,'Concert 3'!$I$9:$I$56)+SUMIF('Concert 4'!$E$9:$E$56,Statistiques!A173,'Concert 4'!$I$9:$I$56)+SUMIF('Concert 5'!$E$9:$E$56,Statistiques!A173,'Concert 5'!$I$9:$I$56)","v":0},{"$f":"SUMIF('Concert 1'!$E$9:$E$56,Statistiques!A173,'Concert 1'!$J$9:$J$56)+SUMIF('Concert 2'!$E$9:$E$56,Statistiques!A173,'Concert 2'!$J$9:$J$56)+SUMIF('Concert 3'!$E$9:$E$56,Statistiques!A173,'Concert 3'!$J$9:$J$56)+SUMIF('Concert 4'!$E$9:$E$56,Statistiques!A173,'Concert 4'!$J$9:$J$56)+SUMIF('Concert 5'!$E$9:$E$56,Statistiques!A173,'Concert 5'!$J$9:$J$56)","v":0},null,null,{"$f":"SUMIF('Concert 1'!$E$9:$E$56,Statistiques!A173,'Concert 1'!$I$9:$I$56)","v":0},{"$f":"SUMIF('Concert 1'!$E$9:$E$56,Statistiques!A173,'Concert 1'!$J$9:$J$56)","v":0},{"$f":"SUMIF('Concert 2'!$E$9:$E$56,Statistiques!A173,'Concert 2'!$I$9:$I$56)","v":0},{"$f":"SUMIF('Concert 2'!$E$9:$E$56,Statistiques!A173,'Concert 2'!$J$9:$J$56)","v":0},{"$f":"SUMIF('Concert 3'!$E$9:$E$56,Statistiques!A173,'Concert 3'!$I$9:$I$56)","v":0},{"$f":"SUMIF('Concert 3'!$E$9:$E$56,Statistiques!A173,'Concert 3'!$J$9:$J$56)","v":0},{"$f":"SUMIF('Concert 4'!$E$9:$E$56,Statistiques!A173,'Concert 4'!$I$9:$I$56)","v":0},{"$f":"SUMIF('Concert 4'!$E$9:$E$56,Statistiques!A173,'Concert 4'!$J$9:$J$56)","v":0},{"$f":"SUMIF('Concert 5'!$E$9:$E$56,Statistiques!A173,'Concert 5'!$I$9:$I$56)","v":0},{"$f":"SUMIF('Concert 5'!$E$9:$E$56,Statistiques!A173,'Concert 5'!$J$9:$J$56)","v":0}]
[{"$f":"Ecoles!A170","v":0},{"$f":"Ecoles!B170","v":0},{"$f":"Ecoles!C170","v":0},null,{"$f":"SUMIF('Concert 1'!$E$9:$E$56,Statistiques!A174,'Concert 1'!$I$9:$I$56)+SUMIF('Concert 2'!$E$9:$E$56,Statistiques!A174,'Concert 2'!$I$9:$I$56)+SUMIF('Concert 3'!$E$9:$E$56,Statistiques!A174,'Concert 3'!$I$9:$I$56)+SUMIF('Concert 4'!$E$9:$E$56,Statistiques!A174,'Concert 4'!$I$9:$I$56)+SUMIF('Concert 5'!$E$9:$E$56,Statistiques!A174,'Concert 5'!$I$9:$I$56)","v":0},{"$f":"SUMIF('Concert 1'!$E$9:$E$56,Statistiques!A174,'Concert 1'!$J$9:$J$56)+SUMIF('Concert 2'!$E$9:$E$56,Statistiques!A174,'Concert 2'!$J$9:$J$56)+SUMIF('Concert 3'!$E$9:$E$56,Statistiques!A174,'Concert 3'!$J$9:$J$56)+SUMIF('Concert 4'!$E$9:$E$56,Statistiques!A174,'Concert 4'!$J$9:$J$56)+SUMIF('Concert 5'!$E$9:$E$56,Statistiques!A174,'Concert 5'!$J$9:$J$56)","v":0},null,null,{"$f":"SUMIF('Concert 1'!$E$9:$E$56,Statistiques!A174,'Concert 1'!$I$9:$I$56)","v":0},{"$f":"SUMIF('Concert 1'!$E$9:$E$56,Statistiques!A174,'Concert 1'!$J$9:$J$56)","v":0},{"$f":"SUMIF('Concert 2'!$E$9:$E$56,Statistiques!A174,'Concert 2'!$I$9:$I$56)","v":0},{"$f":"SUMIF('Concert 2'!$E$9:$E$56,Statistiques!A174,'Concert 2'!$J$9:$J$56)","v":0},{"$f":"SUMIF('Concert 3'!$E$9:$E$56,Statistiques!A174,'Concert 3'!$I$9:$I$56)","v":0},{"$f":"SUMIF('Concert 3'!$E$9:$E$56,Statistiques!A174,'Concert 3'!$J$9:$J$56)","v":0},{"$f":"SUMIF('Concert 4'!$E$9:$E$56,Statistiques!A174,'Concert 4'!$I$9:$I$56)","v":0},{"$f":"SUMIF('Concert 4'!$E$9:$E$56,Statistiques!A174,'Concert 4'!$J$9:$J$56)","v":0},{"$f":"SUMIF('Concert 5'!$E$9:$E$56,Statistiques!A174,'Concert 5'!$I$9:$I$56)","v":0},{"$f":"SUMIF('Concert 5'!$E$9:$E$56,Statistiques!A174,'Concert 5'!$J$9:$J$56)","v":0}]
[{"$f":"Ecoles!A171","v":0},{"$f":"Ecoles!B171","v":0},{"$f":"Ecoles!C171","v":0},null,{"$f":"SUMIF('Concert 1'!$E$9:$E$56,Statistiques!A175,'Concert 1'!$I$9:$I$56)+SUMIF('Concert 2'!$E$9:$E$56,Statistiques!A175,'Concert 2'!$I$9:$I$56)+SUMIF('Concert 3'!$E$9:$E$56,Statistiques!A175,'Concert 3'!$I$9:$I$56)+SUMIF('Concert 4'!$E$9:$E$56,Statistiques!A175,'Concert 4'!$I$9:$I$56)+SUMIF('Concert 5'!$E$9:$E$56,Statistiques!A175,'Concert 5'!$I$9:$I$56)","v":0},{"$f":"SUMIF('Concert 1'!$E$9:$E$56,Statistiques!A175,'Concert 1'!$J$9:$J$56)+SUMIF('Concert 2'!$E$9:$E$56,Statistiques!A175,'Concert 2'!$J$9:$J$56)+SUMIF('Concert 3'!$E$9:$E$56,Statistiques!A175,'Concert 3'!$J$9:$J$56)+SUMIF('Concert 4'!$E$9:$E$56,Statistiques!A175,'Concert 4'!$J$9:$J$56)+SUMIF('Concert 5'!$E$9:$E$56,Statistiques!A175,'Concert 5'!$J$9:$J$56)","v":0},null,null,{"$f":"SUMIF('Concert 1'!$E$9:$E$56,Statistiques!A175,'Concert 1'!$I$9:$I$56)","v":0},{"$f":"SUMIF('Concert 1'!$E$9:$E$56,Statistiques!A175,'Concert 1'!$J$9:$J$56)","v":0},{"$f":"SUMIF('Concert 2'!$E$9:$E$56,Statistiques!A175,'Concert 2'!$I$9:$I$56)","v":0},{"$f":"SUMIF('Concert 2'!$E$9:$E$56,Statistiques!A175,'Concert 2'!$J$9:$J$56)","v":0},{"$f":"SUMIF('Concert 3'!$E$9:$E$56,Statistiques!A175,'Concert 3'!$I$9:$I$56)","v":0},{"$f":"SUMIF('Concert 3'!$E$9:$E$56,Statistiques!A175,'Concert 3'!$J$9:$J$56)","v":0},{"$f":"SUMIF('Concert 4'!$E$9:$E$56,Statistiques!A175,'Concert 4'!$I$9:$I$56)","v":0},{"$f":"SUMIF('Concert 4'!$E$9:$E$56,Statistiques!A175,'Concert 4'!$J$9:$J$56)","v":0},{"$f":"SUMIF('Concert 5'!$E$9:$E$56,Statistiques!A175,'Concert 5'!$I$9:$I$56)","v":0},{"$f":"SUMIF('Concert 5'!$E$9:$E$56,Statistiques!A175,'Concert 5'!$J$9:$J$56)","v":0}]
[{"$f":"Ecoles!A172","v":0},{"$f":"Ecoles!B172","v":0},{"$f":"Ecoles!C172","v":0},null,{"$f":"SUMIF('Concert 1'!$E$9:$E$56,Statistiques!A176,'Concert 1'!$I$9:$I$56)+SUMIF('Concert 2'!$E$9:$E$56,Statistiques!A176,'Concert 2'!$I$9:$I$56)+SUMIF('Concert 3'!$E$9:$E$56,Statistiques!A176,'Concert 3'!$I$9:$I$56)+SUMIF('Concert 4'!$E$9:$E$56,Statistiques!A176,'Concert 4'!$I$9:$I$56)+SUMIF('Concert 5'!$E$9:$E$56,Statistiques!A176,'Concert 5'!$I$9:$I$56)","v":0},{"$f":"SUMIF('Concert 1'!$E$9:$E$56,Statistiques!A176,'Concert 1'!$J$9:$J$56)+SUMIF('Concert 2'!$E$9:$E$56,Statistiques!A176,'Concert 2'!$J$9:$J$56)+SUMIF('Concert 3'!$E$9:$E$56,Statistiques!A176,'Concert 3'!$J$9:$J$56)+SUMIF('Concert 4'!$E$9:$E$56,Statistiques!A176,'Concert 4'!$J$9:$J$56)+SUMIF('Concert 5'!$E$9:$E$56,Statistiques!A176,'Concert 5'!$J$9:$J$56)","v":0},null,null,{"$f":"SUMIF('Concert 1'!$E$9:$E$56,Statistiques!A176,'Concert 1'!$I$9:$I$56)","v":0},{"$f":"SUMIF('Concert 1'!$E$9:$E$56,Statistiques!A176,'Concert 1'!$J$9:$J$56)","v":0},{"$f":"SUMIF('Concert 2'!$E$9:$E$56,Statistiques!A176,'Concert 2'!$I$9:$I$56)","v":0},{"$f":"SUMIF('Concert 2'!$E$9:$E$56,Statistiques!A176,'Concert 2'!$J$9:$J$56)","v":0},{"$f":"SUMIF('Concert 3'!$E$9:$E$56,Statistiques!A176,'Concert 3'!$I$9:$I$56)","v":0},{"$f":"SUMIF('Concert 3'!$E$9:$E$56,Statistiques!A176,'Concert 3'!$J$9:$J$56)","v":0},{"$f":"SUMIF('Concert 4'!$E$9:$E$56,Statistiques!A176,'Concert 4'!$I$9:$I$56)","v":0},{"$f":"SUMIF('Concert 4'!$E$9:$E$56,Statistiques!A176,'Concert 4'!$J$9:$J$56)","v":0},{"$f":"SUMIF('Concert 5'!$E$9:$E$56,Statistiques!A176,'Concert 5'!$I$9:$I$56)","v":0},{"$f":"SUMIF('Concert 5'!$E$9:$E$56,Statistiques!A176,'Concert 5'!$J$9:$J$56)","v":0}]
[{"$f":"Ecoles!A173","v":0},{"$f":"Ecoles!B173","v":0},{"$f":"Ecoles!C173","v":0},null,{"$f":"SUMIF('Concert 1'!$E$9:$E$56,Statistiques!A177,'Concert 1'!$I$9:$I$56)+SUMIF('Concert 2'!$E$9:$E$56,Statistiques!A177,'Concert 2'!$I$9:$I$56)+SUMIF('Concert 3'!$E$9:$E$56,Statistiques!A177,'Concert 3'!$I$9:$I$56)+SUMIF('Concert 4'!$E$9:$E$56,Statistiques!A177,'Concert 4'!$I$9:$I$56)+SUMIF('Concert 5'!$E$9:$E$56,Statistiques!A177,'Concert 5'!$I$9:$I$56)","v":0},{"$f":"SUMIF('Concert 1'!$E$9:$E$56,Statistiques!A177,'Concert 1'!$J$9:$J$56)+SUMIF('Concert 2'!$E$9:$E$56,Statistiques!A177,'Concert 2'!$J$9:$J$56)+SUMIF('Concert 3'!$E$9:$E$56,Statistiques!A177,'Concert 3'!$J$9:$J$56)+SUMIF('Concert 4'!$E$9:$E$56,Statistiques!A177,'Concert 4'!$J$9:$J$56)+SUMIF('Concert 5'!$E$9:$E$56,Statistiques!A177,'Concert 5'!$J$9:$J$56)","v":0},null,null,{"$f":"SUMIF('Concert 1'!$E$9:$E$56,Statistiques!A177,'Concert 1'!$I$9:$I$56)","v":0},{"$f":"SUMIF('Concert 1'!$E$9:$E$56,Statistiques!A177,'Concert 1'!$J$9:$J$56)","v":0},{"$f":"SUMIF('Concert 2'!$E$9:$E$56,Statistiques!A177,'Concert 2'!$I$9:$I$56)","v":0},{"$f":"SUMIF('Concert 2'!$E$9:$E$56,Statistiques!A177,'Concert 2'!$J$9:$J$56)","v":0},{"$f":"SUMIF('Concert 3'!$E$9:$E$56,Statistiques!A177,'Concert 3'!$I$9:$I$56)","v":0},{"$f":"SUMIF('Concert 3'!$E$9:$E$56,Statistiques!A177,'Concert 3'!$J$9:$J$56)","v":0},{"$f":"SUMIF('Concert 4'!$E$9:$E$56,Statistiques!A177,'Concert 4'!$I$9:$I$56)","v":0},{"$f":"SUMIF('Concert 4'!$E$9:$E$56,Statistiques!A177,'Concert 4'!$J$9:$J$56)","v":0},{"$f":"SUMIF('Concert 5'!$E$9:$E$56,Statistiques!A177,'Concert 5'!$I$9:$I$56)","v":0},{"$f":"SUMIF('Concert 5'!$E$9:$E$56,Statistiques!A177,'Concert 5'!$J$9:$J$56)","v":0}]
[{"$f":"Ecoles!A174","v":0},{"$f":"Ecoles!B174","v":0},{"$f":"Ecoles!C174","v":0},null,{"$f":"SUMIF('Concert 1'!$E$9:$E$56,Statistiques!A178,'Concert 1'!$I$9:$I$56)+SUMIF('Concert 2'!$E$9:$E$56,Statistiques!A178,'Concert 2'!$I$9:$I$56)+SUMIF('Concert 3'!$E$9:$E$56,Statistiques!A178,'Concert 3'!$I$9:$I$56)+SUMIF('Concert 4'!$E$9:$E$56,Statistiques!A178,'Concert 4'!$I$9:$I$56)+SUMIF('Concert 5'!$E$9:$E$56,Statistiques!A178,'Concert 5'!$I$9:$I$56)","v":0},{"$f":"SUMIF('Concert 1'!$E$9:$E$56,Statistiques!A178,'Concert 1'!$J$9:$J$56)+SUMIF('Concert 2'!$E$9:$E$56,Statistiques!A178,'Concert 2'!$J$9:$J$56)+SUMIF('Concert 3'!$E$9:$E$56,Statistiques!A178,'Concert 3'!$J$9:$J$56)+SUMIF('Concert 4'!$E$9:$E$56,Statistiques!A178,'Concert 4'!$J$9:$J$56)+SUMIF('Concert 5'!$E$9:$E$56,Statistiques!A178,'Concert 5'!$J$9:$J$56)","v":0},null,null,{"$f":"SUMIF('Concert 1'!$E$9:$E$56,Statistiques!A178,'Concert 1'!$I$9:$I$56)","v":0},{"$f":"SUMIF('Concert 1'!$E$9:$E$56,Statistiques!A178,'Concert 1'!$J$9:$J$56)","v":0},{"$f":"SUMIF('Concert 2'!$E$9:$E$56,Statistiques!A178,'Concert 2'!$I$9:$I$56)","v":0},{"$f":"SUMIF('Concert 2'!$E$9:$E$56,Statistiques!A178,'Concert 2'!$J$9:$J$56)","v":0},{"$f":"SUMIF('Concert 3'!$E$9:$E$56,Statistiques!A178,'Concert 3'!$I$9:$I$56)","v":0},{"$f":"SUMIF('Concert 3'!$E$9:$E$56,Statistiques!A178,'Concert 3'!$J$9:$J$56)","v":0},{"$f":"SUMIF('Concert 4'!$E$9:$E$56,Statistiques!A178,'Concert 4'!$I$9:$I$56)","v":0},{"$f":"SUMIF('Concert 4'!$E$9:$E$56,Statistiques!A178,'Concert 4'!$J$9:$J$56)","v":0},{"$f":"SUMIF('Concert 5'!$E$9:$E$56,Statistiques!A178,'Concert 5'!$I$9:$I$56)","v":0},{"$f":"SUMIF('Concert 5'!$E$9:$E$56,Statistiques!A178,'Concert 5'!$J$9:$J$56)","v":0}]
[{"$f":"Ecoles!A175","v":0},{"$f":"Ecoles!B175","v":0},{"$f":"Ecoles!C175","v":0},null,{"$f":"SUMIF('Concert 1'!$E$9:$E$56,Statistiques!A179,'Concert 1'!$I$9:$I$56)+SUMIF('Concert 2'!$E$9:$E$56,Statistiques!A179,'Concert 2'!$I$9:$I$56)+SUMIF('Concert 3'!$E$9:$E$56,Statistiques!A179,'Concert 3'!$I$9:$I$56)+SUMIF('Concert 4'!$E$9:$E$56,Statistiques!A179,'Concert 4'!$I$9:$I$56)+SUMIF('Concert 5'!$E$9:$E$56,Statistiques!A179,'Concert 5'!$I$9:$I$56)","v":0},{"$f":"SUMIF('Concert 1'!$E$9:$E$56,Statistiques!A179,'Concert 1'!$J$9:$J$56)+SUMIF('Concert 2'!$E$9:$E$56,Statistiques!A179,'Concert 2'!$J$9:$J$56)+SUMIF('Concert 3'!$E$9:$E$56,Statistiques!A179,'Concert 3'!$J$9:$J$56)+SUMIF('Concert 4'!$E$9:$E$56,Statistiques!A179,'Concert 4'!$J$9:$J$56)+SUMIF('Concert 5'!$E$9:$E$56,Statistiques!A179,'Concert 5'!$J$9:$J$56)","v":0},null,null,{"$f":"SUMIF('Concert 1'!$E$9:$E$56,Statistiques!A179,'Concert 1'!$I$9:$I$56)","v":0},{"$f":"SUMIF('Concert 1'!$E$9:$E$56,Statistiques!A179,'Concert 1'!$J$9:$J$56)","v":0},{"$f":"SUMIF('Concert 2'!$E$9:$E$56,Statistiques!A179,'Concert 2'!$I$9:$I$56)","v":0},{"$f":"SUMIF('Concert 2'!$E$9:$E$56,Statistiques!A179,'Concert 2'!$J$9:$J$56)","v":0},{"$f":"SUMIF('Concert 3'!$E$9:$E$56,Statistiques!A179,'Concert 3'!$I$9:$I$56)","v":0},{"$f":"SUMIF('Concert 3'!$E$9:$E$56,Statistiques!A179,'Concert 3'!$J$9:$J$56)","v":0},{"$f":"SUMIF('Concert 4'!$E$9:$E$56,Statistiques!A179,'Concert 4'!$I$9:$I$56)","v":0},{"$f":"SUMIF('Concert 4'!$E$9:$E$56,Statistiques!A179,'Concert 4'!$J$9:$J$56)","v":0},{"$f":"SUMIF('Concert 5'!$E$9:$E$56,Statistiques!A179,'Concert 5'!$I$9:$I$56)","v":0},{"$f":"SUMIF('Concert 5'!$E$9:$E$56,Statistiques!A179,'Concert 5'!$J$9:$J$56)","v":0}]
[{"$f":"Ecoles!A176","v":0},{"$f":"Ecoles!B176","v":0},{"$f":"Ecoles!C176","v":0},null,{"$f":"SUMIF('Concert 1'!$E$9:$E$56,Statistiques!A180,'Concert 1'!$I$9:$I$56)+SUMIF('Concert 2'!$E$9:$E$56,Statistiques!A180,'Concert 2'!$I$9:$I$56)+SUMIF('Concert 3'!$E$9:$E$56,Statistiques!A180,'Concert 3'!$I$9:$I$56)+SUMIF('Concert 4'!$E$9:$E$56,Statistiques!A180,'Concert 4'!$I$9:$I$56)+SUMIF('Concert 5'!$E$9:$E$56,Statistiques!A180,'Concert 5'!$I$9:$I$56)","v":0},{"$f":"SUMIF('Concert 1'!$E$9:$E$56,Statistiques!A180,'Concert 1'!$J$9:$J$56)+SUMIF('Concert 2'!$E$9:$E$56,Statistiques!A180,'Concert 2'!$J$9:$J$56)+SUMIF('Concert 3'!$E$9:$E$56,Statistiques!A180,'Concert 3'!$J$9:$J$56)+SUMIF('Concert 4'!$E$9:$E$56,Statistiques!A180,'Concert 4'!$J$9:$J$56)+SUMIF('Concert 5'!$E$9:$E$56,Statistiques!A180,'Concert 5'!$J$9:$J$56)","v":0},null,null,{"$f":"SUMIF('Concert 1'!$E$9:$E$56,Statistiques!A180,'Concert 1'!$I$9:$I$56)","v":0},{"$f":"SUMIF('Concert 1'!$E$9:$E$56,Statistiques!A180,'Concert 1'!$J$9:$J$56)","v":0},{"$f":"SUMIF('Concert 2'!$E$9:$E$56,Statistiques!A180,'Concert 2'!$I$9:$I$56)","v":0},{"$f":"SUMIF('Concert 2'!$E$9:$E$56,Statistiques!A180,'Concert 2'!$J$9:$J$56)","v":0},{"$f":"SUMIF('Concert 3'!$E$9:$E$56,Statistiques!A180,'Concert 3'!$I$9:$I$56)","v":0},{"$f":"SUMIF('Concert 3'!$E$9:$E$56,Statistiques!A180,'Concert 3'!$J$9:$J$56)","v":0},{"$f":"SUMIF('Concert 4'!$E$9:$E$56,Statistiques!A180,'Concert 4'!$I$9:$I$56)","v":0},{"$f":"SUMIF('Concert 4'!$E$9:$E$56,Statistiques!A180,'Concert 4'!$J$9:$J$56)","v":0},{"$f":"SUMIF('Concert 5'!$E$9:$E$56,Statistiques!A180,'Concert 5'!$I$9:$I$56)","v":0},{"$f":"SUMIF('Concert 5'!$E$9:$E$56,Statistiques!A180,'Concert 5'!$J$9:$J$56)","v":0}]
[{"$f":"Ecoles!A177","v":0},{"$f":"Ecoles!B177","v":0},{"$f":"Ecoles!C177","v":0},null,{"$f":"SUMIF('Concert 1'!$E$9:$E$56,Statistiques!A181,'Concert 1'!$I$9:$I$56)+SUMIF('Concert 2'!$E$9:$E$56,Statistiques!A181,'Concert 2'!$I$9:$I$56)+SUMIF('Concert 3'!$E$9:$E$56,Statistiques!A181,'Concert 3'!$I$9:$I$56)+SUMIF('Concert 4'!$E$9:$E$56,Statistiques!A181,'Concert 4'!$I$9:$I$56)+SUMIF('Concert 5'!$E$9:$E$56,Statistiques!A181,'Concert 5'!$I$9:$I$56)","v":0},{"$f":"SUMIF('Concert 1'!$E$9:$E$56,Statistiques!A181,'Concert 1'!$J$9:$J$56)+SUMIF('Concert 2'!$E$9:$E$56,Statistiques!A181,'Concert 2'!$J$9:$J$56)+SUMIF('Concert 3'!$E$9:$E$56,Statistiques!A181,'Concert 3'!$J$9:$J$56)+SUMIF('Concert 4'!$E$9:$E$56,Statistiques!A181,'Concert 4'!$J$9:$J$56)+SUMIF('Concert 5'!$E$9:$E$56,Statistiques!A181,'Concert 5'!$J$9:$J$56)","v":0},null,null,{"$f":"SUMIF('Concert 1'!$E$9:$E$56,Statistiques!A181,'Concert 1'!$I$9:$I$56)","v":0},{"$f":"SUMIF('Concert 1'!$E$9:$E$56,Statistiques!A181,'Concert 1'!$J$9:$J$56)","v":0},{"$f":"SUMIF('Concert 2'!$E$9:$E$56,Statistiques!A181,'Concert 2'!$I$9:$I$56)","v":0},{"$f":"SUMIF('Concert 2'!$E$9:$E$56,Statistiques!A181,'Concert 2'!$J$9:$J$56)","v":0},{"$f":"SUMIF('Concert 3'!$E$9:$E$56,Statistiques!A181,'Concert 3'!$I$9:$I$56)","v":0},{"$f":"SUMIF('Concert 3'!$E$9:$E$56,Statistiques!A181,'Concert 3'!$J$9:$J$56)","v":0},{"$f":"SUMIF('Concert 4'!$E$9:$E$56,Statistiques!A181,'Concert 4'!$I$9:$I$56)","v":0},{"$f":"SUMIF('Concert 4'!$E$9:$E$56,Statistiques!A181,'Concert 4'!$J$9:$J$56)","v":0},{"$f":"SUMIF('Concert 5'!$E$9:$E$56,Statistiques!A181,'Concert 5'!$I$9:$I$56)","v":0},{"$f":"SUMIF('Concert 5'!$E$9:$E$56,Statistiques!A181,'Concert 5'!$J$9:$J$56)","v":0}]
[{"$f":"Ecoles!A178","v":0},{"$f":"Ecoles!B178","v":0},{"$f":"Ecoles!C178","v":0},null,{"$f":"SUMIF('Concert 1'!$E$9:$E$56,Statistiques!A182,'Concert 1'!$I$9:$I$56)+SUMIF('Concert 2'!$E$9:$E$56,Statistiques!A182,'Concert 2'!$I$9:$I$56)+SUMIF('Concert 3'!$E$9:$E$56,Statistiques!A182,'Concert 3'!$I$9:$I$56)+SUMIF('Concert 4'!$E$9:$E$56,Statistiques!A182,'Concert 4'!$I$9:$I$56)+SUMIF('Concert 5'!$E$9:$E$56,Statistiques!A182,'Concert 5'!$I$9:$I$56)","v":0},{"$f":"SUMIF('Concert 1'!$E$9:$E$56,Statistiques!A182,'Concert 1'!$J$9:$J$56)+SUMIF('Concert 2'!$E$9:$E$56,Statistiques!A182,'Concert 2'!$J$9:$J$56)+SUMIF('Concert 3'!$E$9:$E$56,Statistiques!A182,'Concert 3'!$J$9:$J$56)+SUMIF('Concert 4'!$E$9:$E$56,Statistiques!A182,'Concert 4'!$J$9:$J$56)+SUMIF('Concert 5'!$E$9:$E$56,Statistiques!A182,'Concert 5'!$J$9:$J$56)","v":0},null,null,{"$f":"SUMIF('Concert 1'!$E$9:$E$56,Statistiques!A182,'Concert 1'!$I$9:$I$56)","v":0},{"$f":"SUMIF('Concert 1'!$E$9:$E$56,Statistiques!A182,'Concert 1'!$J$9:$J$56)","v":0},{"$f":"SUMIF('Concert 2'!$E$9:$E$56,Statistiques!A182,'Concert 2'!$I$9:$I$56)","v":0},{"$f":"SUMIF('Concert 2'!$E$9:$E$56,Statistiques!A182,'Concert 2'!$J$9:$J$56)","v":0},{"$f":"SUMIF('Concert 3'!$E$9:$E$56,Statistiques!A182,'Concert 3'!$I$9:$I$56)","v":0},{"$f":"SUMIF('Concert 3'!$E$9:$E$56,Statistiques!A182,'Concert 3'!$J$9:$J$56)","v":0},{"$f":"SUMIF('Concert 4'!$E$9:$E$56,Statistiques!A182,'Concert 4'!$I$9:$I$56)","v":0},{"$f":"SUMIF('Concert 4'!$E$9:$E$56,Statistiques!A182,'Concert 4'!$J$9:$J$56)","v":0},{"$f":"SUMIF('Concert 5'!$E$9:$E$56,Statistiques!A182,'Concert 5'!$I$9:$I$56)","v":0},{"$f":"SUMIF('Concert 5'!$E$9:$E$56,Statistiques!A182,'Concert 5'!$J$9:$J$56)","v":0}]
[{"$f":"Ecoles!A179","v":0},{"$f":"Ecoles!B179","v":0},{"$f":"Ecoles!C179","v":0},null,{"$f":"SUMIF('Concert 1'!$E$9:$E$56,Statistiques!A183,'Concert 1'!$I$9:$I$56)+SUMIF('Concert 2'!$E$9:$E$56,Statistiques!A183,'Concert 2'!$I$9:$I$56)+SUMIF('Concert 3'!$E$9:$E$56,Statistiques!A183,'Concert 3'!$I$9:$I$56)+SUMIF('Concert 4'!$E$9:$E$56,Statistiques!A183,'Concert 4'!$I$9:$I$56)+SUMIF('Concert 5'!$E$9:$E$56,Statistiques!A183,'Concert 5'!$I$9:$I$56)","v":0},{"$f":"SUMIF('Concert 1'!$E$9:$E$56,Statistiques!A183,'Concert 1'!$J$9:$J$56)+SUMIF('Concert 2'!$E$9:$E$56,Statistiques!A183,'Concert 2'!$J$9:$J$56)+SUMIF('Concert 3'!$E$9:$E$56,Statistiques!A183,'Concert 3'!$J$9:$J$56)+SUMIF('Concert 4'!$E$9:$E$56,Statistiques!A183,'Concert 4'!$J$9:$J$56)+SUMIF('Concert 5'!$E$9:$E$56,Statistiques!A183,'Concert 5'!$J$9:$J$56)","v":0},null,null,{"$f":"SUMIF('Concert 1'!$E$9:$E$56,Statistiques!A183,'Concert 1'!$I$9:$I$56)","v":0},{"$f":"SUMIF('Concert 1'!$E$9:$E$56,Statistiques!A183,'Concert 1'!$J$9:$J$56)","v":0},{"$f":"SUMIF('Concert 2'!$E$9:$E$56,Statistiques!A183,'Concert 2'!$I$9:$I$56)","v":0},{"$f":"SUMIF('Concert 2'!$E$9:$E$56,Statistiques!A183,'Concert 2'!$J$9:$J$56)","v":0},{"$f":"SUMIF('Concert 3'!$E$9:$E$56,Statistiques!A183,'Concert 3'!$I$9:$I$56)","v":0},{"$f":"SUMIF('Concert 3'!$E$9:$E$56,Statistiques!A183,'Concert 3'!$J$9:$J$56)","v":0},{"$f":"SUMIF('Concert 4'!$E$9:$E$56,Statistiques!A183,'Concert 4'!$I$9:$I$56)","v":0},{"$f":"SUMIF('Concert 4'!$E$9:$E$56,Statistiques!A183,'Concert 4'!$J$9:$J$56)","v":0},{"$f":"SUMIF('Concert 5'!$E$9:$E$56,Statistiques!A183,'Concert 5'!$I$9:$I$56)","v":0},{"$f":"SUMIF('Concert 5'!$E$9:$E$56,Statistiques!A183,'Concert 5'!$J$9:$J$56)","v":0}]
[{"$f":"Ecoles!A180","v":0},{"$f":"Ecoles!B180","v":0},{"$f":"Ecoles!C180","v":0},null,{"$f":"SUMIF('Concert 1'!$E$9:$E$56,Statistiques!A184,'Concert 1'!$I$9:$I$56)+SUMIF('Concert 2'!$E$9:$E$56,Statistiques!A184,'Concert 2'!$I$9:$I$56)+SUMIF('Concert 3'!$E$9:$E$56,Statistiques!A184,'Concert 3'!$I$9:$I$56)+SUMIF('Concert 4'!$E$9:$E$56,Statistiques!A184,'Concert 4'!$I$9:$I$56)+SUMIF('Concert 5'!$E$9:$E$56,Statistiques!A184,'Concert 5'!$I$9:$I$56)","v":0},{"$f":"SUMIF('Concert 1'!$E$9:$E$56,Statistiques!A184,'Concert 1'!$J$9:$J$56)+SUMIF('Concert 2'!$E$9:$E$56,Statistiques!A184,'Concert 2'!$J$9:$J$56)+SUMIF('Concert 3'!$E$9:$E$56,Statistiques!A184,'Concert 3'!$J$9:$J$56)+SUMIF('Concert 4'!$E$9:$E$56,Statistiques!A184,'Concert 4'!$J$9:$J$56)+SUMIF('Concert 5'!$E$9:$E$56,Statistiques!A184,'Concert 5'!$J$9:$J$56)","v":0},null,null,{"$f":"SUMIF('Concert 1'!$E$9:$E$56,Statistiques!A184,'Concert 1'!$I$9:$I$56)","v":0},{"$f":"SUMIF('Concert 1'!$E$9:$E$56,Statistiques!A184,'Concert 1'!$J$9:$J$56)","v":0},{"$f":"SUMIF('Concert 2'!$E$9:$E$56,Statistiques!A184,'Concert 2'!$I$9:$I$56)","v":0},{"$f":"SUMIF('Concert 2'!$E$9:$E$56,Statistiques!A184,'Concert 2'!$J$9:$J$56)","v":0},{"$f":"SUMIF('Concert 3'!$E$9:$E$56,Statistiques!A184,'Concert 3'!$I$9:$I$56)","v":0},{"$f":"SUMIF('Concert 3'!$E$9:$E$56,Statistiques!A184,'Concert 3'!$J$9:$J$56)","v":0},{"$f":"SUMIF('Concert 4'!$E$9:$E$56,Statistiques!A184,'Concert 4'!$I$9:$I$56)","v":0},{"$f":"SUMIF('Concert 4'!$E$9:$E$56,Statistiques!A184,'Concert 4'!$J$9:$J$56)","v":0},{"$f":"SUMIF('Concert 5'!$E$9:$E$56,Statistiques!A184,'Concert 5'!$I$9:$I$56)","v":0},{"$f":"SUMIF('Concert 5'!$E$9:$E$56,Statistiques!A184,'Concert 5'!$J$9:$J$56)","v":0}]
[{"$f":"Ecoles!A181","v":0},{"$f":"Ecoles!B181","v":0},{"$f":"Ecoles!C181","v":0},null,{"$f":"SUMIF('Concert 1'!$E$9:$E$56,Statistiques!A185,'Concert 1'!$I$9:$I$56)+SUMIF('Concert 2'!$E$9:$E$56,Statistiques!A185,'Concert 2'!$I$9:$I$56)+SUMIF('Concert 3'!$E$9:$E$56,Statistiques!A185,'Concert 3'!$I$9:$I$56)+SUMIF('Concert 4'!$E$9:$E$56,Statistiques!A185,'Concert 4'!$I$9:$I$56)+SUMIF('Concert 5'!$E$9:$E$56,Statistiques!A185,'Concert 5'!$I$9:$I$56)","v":0},{"$f":"SUMIF('Concert 1'!$E$9:$E$56,Statistiques!A185,'Concert 1'!$J$9:$J$56)+SUMIF('Concert 2'!$E$9:$E$56,Statistiques!A185,'Concert 2'!$J$9:$J$56)+SUMIF('Concert 3'!$E$9:$E$56,Statistiques!A185,'Concert 3'!$J$9:$J$56)+SUMIF('Concert 4'!$E$9:$E$56,Statistiques!A185,'Concert 4'!$J$9:$J$56)+SUMIF('Concert 5'!$E$9:$E$56,Statistiques!A185,'Concert 5'!$J$9:$J$56)","v":0},null,null,{"$f":"SUMIF('Concert 1'!$E$9:$E$56,Statistiques!A185,'Concert 1'!$I$9:$I$56)","v":0},{"$f":"SUMIF('Concert 1'!$E$9:$E$56,Statistiques!A185,'Concert 1'!$J$9:$J$56)","v":0},{"$f":"SUMIF('Concert 2'!$E$9:$E$56,Statistiques!A185,'Concert 2'!$I$9:$I$56)","v":0},{"$f":"SUMIF('Concert 2'!$E$9:$E$56,Statistiques!A185,'Concert 2'!$J$9:$J$56)","v":0},{"$f":"SUMIF('Concert 3'!$E$9:$E$56,Statistiques!A185,'Concert 3'!$I$9:$I$56)","v":0},{"$f":"SUMIF('Concert 3'!$E$9:$E$56,Statistiques!A185,'Concert 3'!$J$9:$J$56)","v":0},{"$f":"SUMIF('Concert 4'!$E$9:$E$56,Statistiques!A185,'Concert 4'!$I$9:$I$56)","v":0},{"$f":"SUMIF('Concert 4'!$E$9:$E$56,Statistiques!A185,'Concert 4'!$J$9:$J$56)","v":0},{"$f":"SUMIF('Concert 5'!$E$9:$E$56,Statistiques!A185,'Concert 5'!$I$9:$I$56)","v":0},{"$f":"SUMIF('Concert 5'!$E$9:$E$56,Statistiques!A185,'Concert 5'!$J$9:$J$56)","v":0}]
[{"$f":"Ecoles!A182","v":0},{"$f":"Ecoles!B182","v":0},{"$f":"Ecoles!C182","v":0},null,{"$f":"SUMIF('Concert 1'!$E$9:$E$56,Statistiques!A186,'Concert 1'!$I$9:$I$56)+SUMIF('Concert 2'!$E$9:$E$56,Statistiques!A186,'Concert 2'!$I$9:$I$56)+SUMIF('Concert 3'!$E$9:$E$56,Statistiques!A186,'Concert 3'!$I$9:$I$56)+SUMIF('Concert 4'!$E$9:$E$56,Statistiques!A186,'Concert 4'!$I$9:$I$56)+SUMIF('Concert 5'!$E$9:$E$56,Statistiques!A186,'Concert 5'!$I$9:$I$56)","v":0},{"$f":"SUMIF('Concert 1'!$E$9:$E$56,Statistiques!A186,'Concert 1'!$J$9:$J$56)+SUMIF('Concert 2'!$E$9:$E$56,Statistiques!A186,'Concert 2'!$J$9:$J$56)+SUMIF('Concert 3'!$E$9:$E$56,Statistiques!A186,'Concert 3'!$J$9:$J$56)+SUMIF('Concert 4'!$E$9:$E$56,Statistiques!A186,'Concert 4'!$J$9:$J$56)+SUMIF('Concert 5'!$E$9:$E$56,Statistiques!A186,'Concert 5'!$J$9:$J$56)","v":0},null,null,{"$f":"SUMIF('Concert 1'!$E$9:$E$56,Statistiques!A186,'Concert 1'!$I$9:$I$56)","v":0},{"$f":"SUMIF('Concert 1'!$E$9:$E$56,Statistiques!A186,'Concert 1'!$J$9:$J$56)","v":0},{"$f":"SUMIF('Concert 2'!$E$9:$E$56,Statistiques!A186,'Concert 2'!$I$9:$I$56)","v":0},{"$f":"SUMIF('Concert 2'!$E$9:$E$56,Statistiques!A186,'Concert 2'!$J$9:$J$56)","v":0},{"$f":"SUMIF('Concert 3'!$E$9:$E$56,Statistiques!A186,'Concert 3'!$I$9:$I$56)","v":0},{"$f":"SUMIF('Concert 3'!$E$9:$E$56,Statistiques!A186,'Concert 3'!$J$9:$J$56)","v":0},{"$f":"SUMIF('Concert 4'!$E$9:$E$56,Statistiques!A186,'Concert 4'!$I$9:$I$56)","v":0},{"$f":"SUMIF('Concert 4'!$E$9:$E$56,Statistiques!A186,'Concert 4'!$J$9:$J$56)","v":0},{"$f":"SUMIF('Concert 5'!$E$9:$E$56,Statistiques!A186,'Concert 5'!$I$9:$I$56)","v":0},{"$f":"SUMIF('Concert 5'!$E$9:$E$56,Statistiques!A186,'Concert 5'!$J$9:$J$56)","v":0}]
[{"$f":"Ecoles!A183","v":0},{"$f":"Ecoles!B183","v":0},{"$f":"Ecoles!C183","v":0},null,{"$f":"SUMIF('Concert 1'!$E$9:$E$56,Statistiques!A187,'Concert 1'!$I$9:$I$56)+SUMIF('Concert 2'!$E$9:$E$56,Statistiques!A187,'Concert 2'!$I$9:$I$56)+SUMIF('Concert 3'!$E$9:$E$56,Statistiques!A187,'Concert 3'!$I$9:$I$56)+SUMIF('Concert 4'!$E$9:$E$56,Statistiques!A187,'Concert 4'!$I$9:$I$56)+SUMIF('Concert 5'!$E$9:$E$56,Statistiques!A187,'Concert 5'!$I$9:$I$56)","v":0},{"$f":"SUMIF('Concert 1'!$E$9:$E$56,Statistiques!A187,'Concert 1'!$J$9:$J$56)+SUMIF('Concert 2'!$E$9:$E$56,Statistiques!A187,'Concert 2'!$J$9:$J$56)+SUMIF('Concert 3'!$E$9:$E$56,Statistiques!A187,'Concert 3'!$J$9:$J$56)+SUMIF('Concert 4'!$E$9:$E$56,Statistiques!A187,'Concert 4'!$J$9:$J$56)+SUMIF('Concert 5'!$E$9:$E$56,Statistiques!A187,'Concert 5'!$J$9:$J$56)","v":0},null,null,{"$f":"SUMIF('Concert 1'!$E$9:$E$56,Statistiques!A187,'Concert 1'!$I$9:$I$56)","v":0},{"$f":"SUMIF('Concert 1'!$E$9:$E$56,Statistiques!A187,'Concert 1'!$J$9:$J$56)","v":0},{"$f":"SUMIF('Concert 2'!$E$9:$E$56,Statistiques!A187,'Concert 2'!$I$9:$I$56)","v":0},{"$f":"SUMIF('Concert 2'!$E$9:$E$56,Statistiques!A187,'Concert 2'!$J$9:$J$56)","v":0},{"$f":"SUMIF('Concert 3'!$E$9:$E$56,Statistiques!A187,'Concert 3'!$I$9:$I$56)","v":0},{"$f":"SUMIF('Concert 3'!$E$9:$E$56,Statistiques!A187,'Concert 3'!$J$9:$J$56)","v":0},{"$f":"SUMIF('Concert 4'!$E$9:$E$56,Statistiques!A187,'Concert 4'!$I$9:$I$56)","v":0},{"$f":"SUMIF('Concert 4'!$E$9:$E$56,Statistiques!A187,'Concert 4'!$J$9:$J$56)","v":0},{"$f":"SUMIF('Concert 5'!$E$9:$E$56,Statistiques!A187,'Concert 5'!$I$9:$I$56)","v":0},{"$f":"SUMIF('Concert 5'!$E$9:$E$56,Statistiques!A187,'Concert 5'!$J$9:$J$56)","v":0}]
[{"$f":"Ecoles!A184","v":0},{"$f":"Ecoles!B184","v":0},{"$f":"Ecoles!C184","v":0},null,{"$f":"SUMIF('Concert 1'!$E$9:$E$56,Statistiques!A188,'Concert 1'!$I$9:$I$56)+SUMIF('Concert 2'!$E$9:$E$56,Statistiques!A188,'Concert 2'!$I$9:$I$56)+SUMIF('Concert 3'!$E$9:$E$56,Statistiques!A188,'Concert 3'!$I$9:$I$56)+SUMIF('Concert 4'!$E$9:$E$56,Statistiques!A188,'Concert 4'!$I$9:$I$56)+SUMIF('Concert 5'!$E$9:$E$56,Statistiques!A188,'Concert 5'!$I$9:$I$56)","v":0},{"$f":"SUMIF('Concert 1'!$E$9:$E$56,Statistiques!A188,'Concert 1'!$J$9:$J$56)+SUMIF('Concert 2'!$E$9:$E$56,Statistiques!A188,'Concert 2'!$J$9:$J$56)+SUMIF('Concert 3'!$E$9:$E$56,Statistiques!A188,'Concert 3'!$J$9:$J$56)+SUMIF('Concert 4'!$E$9:$E$56,Statistiques!A188,'Concert 4'!$J$9:$J$56)+SUMIF('Concert 5'!$E$9:$E$56,Statistiques!A188,'Concert 5'!$J$9:$J$56)","v":0},null,null,{"$f":"SUMIF('Concert 1'!$E$9:$E$56,Statistiques!A188,'Concert 1'!$I$9:$I$56)","v":0},{"$f":"SUMIF('Concert 1'!$E$9:$E$56,Statistiques!A188,'Concert 1'!$J$9:$J$56)","v":0},{"$f":"SUMIF('Concert 2'!$E$9:$E$56,Statistiques!A188,'Concert 2'!$I$9:$I$56)","v":0},{"$f":"SUMIF('Concert 2'!$E$9:$E$56,Statistiques!A188,'Concert 2'!$J$9:$J$56)","v":0},{"$f":"SUMIF('Concert 3'!$E$9:$E$56,Statistiques!A188,'Concert 3'!$I$9:$I$56)","v":0},{"$f":"SUMIF('Concert 3'!$E$9:$E$56,Statistiques!A188,'Concert 3'!$J$9:$J$56)","v":0},{"$f":"SUMIF('Concert 4'!$E$9:$E$56,Statistiques!A188,'Concert 4'!$I$9:$I$56)","v":0},{"$f":"SUMIF('Concert 4'!$E$9:$E$56,Statistiques!A188,'Concert 4'!$J$9:$J$56)","v":0},{"$f":"SUMIF('Concert 5'!$E$9:$E$56,Statistiques!A188,'Concert 5'!$I$9:$I$56)","v":0},{"$f":"SUMIF('Concert 5'!$E$9:$E$56,Statistiques!A188,'Concert 5'!$J$9:$J$56)","v":0}]
[{"$f":"Ecoles!A185","v":0},{"$f":"Ecoles!B185","v":0},{"$f":"Ecoles!C185","v":0},null,{"$f":"SUMIF('Concert 1'!$E$9:$E$56,Statistiques!A189,'Concert 1'!$I$9:$I$56)+SUMIF('Concert 2'!$E$9:$E$56,Statistiques!A189,'Concert 2'!$I$9:$I$56)+SUMIF('Concert 3'!$E$9:$E$56,Statistiques!A189,'Concert 3'!$I$9:$I$56)+SUMIF('Concert 4'!$E$9:$E$56,Statistiques!A189,'Concert 4'!$I$9:$I$56)+SUMIF('Concert 5'!$E$9:$E$56,Statistiques!A189,'Concert 5'!$I$9:$I$56)","v":0},{"$f":"SUMIF('Concert 1'!$E$9:$E$56,Statistiques!A189,'Concert 1'!$J$9:$J$56)+SUMIF('Concert 2'!$E$9:$E$56,Statistiques!A189,'Concert 2'!$J$9:$J$56)+SUMIF('Concert 3'!$E$9:$E$56,Statistiques!A189,'Concert 3'!$J$9:$J$56)+SUMIF('Concert 4'!$E$9:$E$56,Statistiques!A189,'Concert 4'!$J$9:$J$56)+SUMIF('Concert 5'!$E$9:$E$56,Statistiques!A189,'Concert 5'!$J$9:$J$56)","v":0},null,null,{"$f":"SUMIF('Concert 1'!$E$9:$E$56,Statistiques!A189,'Concert 1'!$I$9:$I$56)","v":0},{"$f":"SUMIF('Concert 1'!$E$9:$E$56,Statistiques!A189,'Concert 1'!$J$9:$J$56)","v":0},{"$f":"SUMIF('Concert 2'!$E$9:$E$56,Statistiques!A189,'Concert 2'!$I$9:$I$56)","v":0},{"$f":"SUMIF('Concert 2'!$E$9:$E$56,Statistiques!A189,'Concert 2'!$J$9:$J$56)","v":0},{"$f":"SUMIF('Concert 3'!$E$9:$E$56,Statistiques!A189,'Concert 3'!$I$9:$I$56)","v":0},{"$f":"SUMIF('Concert 3'!$E$9:$E$56,Statistiques!A189,'Concert 3'!$J$9:$J$56)","v":0},{"$f":"SUMIF('Concert 4'!$E$9:$E$56,Statistiques!A189,'Concert 4'!$I$9:$I$56)","v":0},{"$f":"SUMIF('Concert 4'!$E$9:$E$56,Statistiques!A189,'Concert 4'!$J$9:$J$56)","v":0},{"$f":"SUMIF('Concert 5'!$E$9:$E$56,Statistiques!A189,'Concert 5'!$I$9:$I$56)","v":0},{"$f":"SUMIF('Concert 5'!$E$9:$E$56,Statistiques!A189,'Concert 5'!$J$9:$J$56)","v":0}]
[{"$f":"Ecoles!A186","v":0},{"$f":"Ecoles!B186","v":0},{"$f":"Ecoles!C186","v":0},null,{"$f":"SUMIF('Concert 1'!$E$9:$E$56,Statistiques!A190,'Concert 1'!$I$9:$I$56)+SUMIF('Concert 2'!$E$9:$E$56,Statistiques!A190,'Concert 2'!$I$9:$I$56)+SUMIF('Concert 3'!$E$9:$E$56,Statistiques!A190,'Concert 3'!$I$9:$I$56)+SUMIF('Concert 4'!$E$9:$E$56,Statistiques!A190,'Concert 4'!$I$9:$I$56)+SUMIF('Concert 5'!$E$9:$E$56,Statistiques!A190,'Concert 5'!$I$9:$I$56)","v":0},{"$f":"SUMIF('Concert 1'!$E$9:$E$56,Statistiques!A190,'Concert 1'!$J$9:$J$56)+SUMIF('Concert 2'!$E$9:$E$56,Statistiques!A190,'Concert 2'!$J$9:$J$56)+SUMIF('Concert 3'!$E$9:$E$56,Statistiques!A190,'Concert 3'!$J$9:$J$56)+SUMIF('Concert 4'!$E$9:$E$56,Statistiques!A190,'Concert 4'!$J$9:$J$56)+SUMIF('Concert 5'!$E$9:$E$56,Statistiques!A190,'Concert 5'!$J$9:$J$56)","v":0},null,null,{"$f":"SUMIF('Concert 1'!$E$9:$E$56,Statistiques!A190,'Concert 1'!$I$9:$I$56)","v":0},{"$f":"SUMIF('Concert 1'!$E$9:$E$56,Statistiques!A190,'Concert 1'!$J$9:$J$56)","v":0},{"$f":"SUMIF('Concert 2'!$E$9:$E$56,Statistiques!A190,'Concert 2'!$I$9:$I$56)","v":0},{"$f":"SUMIF('Concert 2'!$E$9:$E$56,Statistiques!A190,'Concert 2'!$J$9:$J$56)","v":0},{"$f":"SUMIF('Concert 3'!$E$9:$E$56,Statistiques!A190,'Concert 3'!$I$9:$I$56)","v":0},{"$f":"SUMIF('Concert 3'!$E$9:$E$56,Statistiques!A190,'Concert 3'!$J$9:$J$56)","v":0},{"$f":"SUMIF('Concert 4'!$E$9:$E$56,Statistiques!A190,'Concert 4'!$I$9:$I$56)","v":0},{"$f":"SUMIF('Concert 4'!$E$9:$E$56,Statistiques!A190,'Concert 4'!$J$9:$J$56)","v":0},{"$f":"SUMIF('Concert 5'!$E$9:$E$56,Statistiques!A190,'Concert 5'!$I$9:$I$56)","v":0},{"$f":"SUMIF('Concert 5'!$E$9:$E$56,Statistiques!A190,'Concert 5'!$J$9:$J$56)","v":0}]
[{"$f":"Ecoles!A187","v":0},{"$f":"Ecoles!B187","v":0},{"$f":"Ecoles!C187","v":0},null,{"$f":"SUMIF('Concert 1'!$E$9:$E$56,Statistiques!A191,'Concert 1'!$I$9:$I$56)+SUMIF('Concert 2'!$E$9:$E$56,Statistiques!A191,'Concert 2'!$I$9:$I$56)+SUMIF('Concert 3'!$E$9:$E$56,Statistiques!A191,'Concert 3'!$I$9:$I$56)+SUMIF('Concert 4'!$E$9:$E$56,Statistiques!A191,'Concert 4'!$I$9:$I$56)+SUMIF('Concert 5'!$E$9:$E$56,Statistiques!A191,'Concert 5'!$I$9:$I$56)","v":0},{"$f":"SUMIF('Concert 1'!$E$9:$E$56,Statistiques!A191,'Concert 1'!$J$9:$J$56)+SUMIF('Concert 2'!$E$9:$E$56,Statistiques!A191,'Concert 2'!$J$9:$J$56)+SUMIF('Concert 3'!$E$9:$E$56,Statistiques!A191,'Concert 3'!$J$9:$J$56)+SUMIF('Concert 4'!$E$9:$E$56,Statistiques!A191,'Concert 4'!$J$9:$J$56)+SUMIF('Concert 5'!$E$9:$E$56,Statistiques!A191,'Concert 5'!$J$9:$J$56)","v":0},null,null,{"$f":"SUMIF('Concert 1'!$E$9:$E$56,Statistiques!A191,'Concert 1'!$I$9:$I$56)","v":0},{"$f":"SUMIF('Concert 1'!$E$9:$E$56,Statistiques!A191,'Concert 1'!$J$9:$J$56)","v":0},{"$f":"SUMIF('Concert 2'!$E$9:$E$56,Statistiques!A191,'Concert 2'!$I$9:$I$56)","v":0},{"$f":"SUMIF('Concert 2'!$E$9:$E$56,Statistiques!A191,'Concert 2'!$J$9:$J$56)","v":0},{"$f":"SUMIF('Concert 3'!$E$9:$E$56,Statistiques!A191,'Concert 3'!$I$9:$I$56)","v":0},{"$f":"SUMIF('Concert 3'!$E$9:$E$56,Statistiques!A191,'Concert 3'!$J$9:$J$56)","v":0},{"$f":"SUMIF('Concert 4'!$E$9:$E$56,Statistiques!A191,'Concert 4'!$I$9:$I$56)","v":0},{"$f":"SUMIF('Concert 4'!$E$9:$E$56,Statistiques!A191,'Concert 4'!$J$9:$J$56)","v":0},{"$f":"SUMIF('Concert 5'!$E$9:$E$56,Statistiques!A191,'Concert 5'!$I$9:$I$56)","v":0},{"$f":"SUMIF('Concert 5'!$E$9:$E$56,Statistiques!A191,'Concert 5'!$J$9:$J$56)","v":0}]
[{"$f":"Ecoles!A188","v":0},{"$f":"Ecoles!B188","v":0},{"$f":"Ecoles!C188","v":0},null,{"$f":"SUMIF('Concert 1'!$E$9:$E$56,Statistiques!A192,'Concert 1'!$I$9:$I$56)+SUMIF('Concert 2'!$E$9:$E$56,Statistiques!A192,'Concert 2'!$I$9:$I$56)+SUMIF('Concert 3'!$E$9:$E$56,Statistiques!A192,'Concert 3'!$I$9:$I$56)+SUMIF('Concert 4'!$E$9:$E$56,Statistiques!A192,'Concert 4'!$I$9:$I$56)+SUMIF('Concert 5'!$E$9:$E$56,Statistiques!A192,'Concert 5'!$I$9:$I$56)","v":0},{"$f":"SUMIF('Concert 1'!$E$9:$E$56,Statistiques!A192,'Concert 1'!$J$9:$J$56)+SUMIF('Concert 2'!$E$9:$E$56,Statistiques!A192,'Concert 2'!$J$9:$J$56)+SUMIF('Concert 3'!$E$9:$E$56,Statistiques!A192,'Concert 3'!$J$9:$J$56)+SUMIF('Concert 4'!$E$9:$E$56,Statistiques!A192,'Concert 4'!$J$9:$J$56)+SUMIF('Concert 5'!$E$9:$E$56,Statistiques!A192,'Concert 5'!$J$9:$J$56)","v":0},null,null,{"$f":"SUMIF('Concert 1'!$E$9:$E$56,Statistiques!A192,'Concert 1'!$I$9:$I$56)","v":0},{"$f":"SUMIF('Concert 1'!$E$9:$E$56,Statistiques!A192,'Concert 1'!$J$9:$J$56)","v":0},{"$f":"SUMIF('Concert 2'!$E$9:$E$56,Statistiques!A192,'Concert 2'!$I$9:$I$56)","v":0},{"$f":"SUMIF('Concert 2'!$E$9:$E$56,Statistiques!A192,'Concert 2'!$J$9:$J$56)","v":0},{"$f":"SUMIF('Concert 3'!$E$9:$E$56,Statistiques!A192,'Concert 3'!$I$9:$I$56)","v":0},{"$f":"SUMIF('Concert 3'!$E$9:$E$56,Statistiques!A192,'Concert 3'!$J$9:$J$56)","v":0},{"$f":"SUMIF('Concert 4'!$E$9:$E$56,Statistiques!A192,'Concert 4'!$I$9:$I$56)","v":0},{"$f":"SUMIF('Concert 4'!$E$9:$E$56,Statistiques!A192,'Concert 4'!$J$9:$J$56)","v":0},{"$f":"SUMIF('Concert 5'!$E$9:$E$56,Statistiques!A192,'Concert 5'!$I$9:$I$56)","v":0},{"$f":"SUMIF('Concert 5'!$E$9:$E$56,Statistiques!A192,'Concert 5'!$J$9:$J$56)","v":0}]
[{"$f":"Ecoles!A189","v":0},{"$f":"Ecoles!B189","v":0},{"$f":"Ecoles!C189","v":0},null,{"$f":"SUMIF('Concert 1'!$E$9:$E$56,Statistiques!A193,'Concert 1'!$I$9:$I$56)+SUMIF('Concert 2'!$E$9:$E$56,Statistiques!A193,'Concert 2'!$I$9:$I$56)+SUMIF('Concert 3'!$E$9:$E$56,Statistiques!A193,'Concert 3'!$I$9:$I$56)+SUMIF('Concert 4'!$E$9:$E$56,Statistiques!A193,'Concert 4'!$I$9:$I$56)+SUMIF('Concert 5'!$E$9:$E$56,Statistiques!A193,'Concert 5'!$I$9:$I$56)","v":0},{"$f":"SUMIF('Concert 1'!$E$9:$E$56,Statistiques!A193,'Concert 1'!$J$9:$J$56)+SUMIF('Concert 2'!$E$9:$E$56,Statistiques!A193,'Concert 2'!$J$9:$J$56)+SUMIF('Concert 3'!$E$9:$E$56,Statistiques!A193,'Concert 3'!$J$9:$J$56)+SUMIF('Concert 4'!$E$9:$E$56,Statistiques!A193,'Concert 4'!$J$9:$J$56)+SUMIF('Concert 5'!$E$9:$E$56,Statistiques!A193,'Concert 5'!$J$9:$J$56)","v":0},null,null,{"$f":"SUMIF('Concert 1'!$E$9:$E$56,Statistiques!A193,'Concert 1'!$I$9:$I$56)","v":0},{"$f":"SUMIF('Concert 1'!$E$9:$E$56,Statistiques!A193,'Concert 1'!$J$9:$J$56)","v":0},{"$f":"SUMIF('Concert 2'!$E$9:$E$56,Statistiques!A193,'Concert 2'!$I$9:$I$56)","v":0},{"$f":"SUMIF('Concert 2'!$E$9:$E$56,Statistiques!A193,'Concert 2'!$J$9:$J$56)","v":0},{"$f":"SUMIF('Concert 3'!$E$9:$E$56,Statistiques!A193,'Concert 3'!$I$9:$I$56)","v":0},{"$f":"SUMIF('Concert 3'!$E$9:$E$56,Statistiques!A193,'Concert 3'!$J$9:$J$56)","v":0},{"$f":"SUMIF('Concert 4'!$E$9:$E$56,Statistiques!A193,'Concert 4'!$I$9:$I$56)","v":0},{"$f":"SUMIF('Concert 4'!$E$9:$E$56,Statistiques!A193,'Concert 4'!$J$9:$J$56)","v":0},{"$f":"SUMIF('Concert 5'!$E$9:$E$56,Statistiques!A193,'Concert 5'!$I$9:$I$56)","v":0},{"$f":"SUMIF('Concert 5'!$E$9:$E$56,Statistiques!A193,'Concert 5'!$J$9:$J$56)","v":0}]
[{"$f":"Ecoles!A190","v":0},{"$f":"Ecoles!B190","v":0},{"$f":"Ecoles!C190","v":0},null,{"$f":"SUMIF('Concert 1'!$E$9:$E$56,Statistiques!A194,'Concert 1'!$I$9:$I$56)+SUMIF('Concert 2'!$E$9:$E$56,Statistiques!A194,'Concert 2'!$I$9:$I$56)+SUMIF('Concert 3'!$E$9:$E$56,Statistiques!A194,'Concert 3'!$I$9:$I$56)+SUMIF('Concert 4'!$E$9:$E$56,Statistiques!A194,'Concert 4'!$I$9:$I$56)+SUMIF('Concert 5'!$E$9:$E$56,Statistiques!A194,'Concert 5'!$I$9:$I$56)","v":0},{"$f":"SUMIF('Concert 1'!$E$9:$E$56,Statistiques!A194,'Concert 1'!$J$9:$J$56)+SUMIF('Concert 2'!$E$9:$E$56,Statistiques!A194,'Concert 2'!$J$9:$J$56)+SUMIF('Concert 3'!$E$9:$E$56,Statistiques!A194,'Concert 3'!$J$9:$J$56)+SUMIF('Concert 4'!$E$9:$E$56,Statistiques!A194,'Concert 4'!$J$9:$J$56)+SUMIF('Concert 5'!$E$9:$E$56,Statistiques!A194,'Concert 5'!$J$9:$J$56)","v":0},null,null,{"$f":"SUMIF('Concert 1'!$E$9:$E$56,Statistiques!A194,'Concert 1'!$I$9:$I$56)","v":0},{"$f":"SUMIF('Concert 1'!$E$9:$E$56,Statistiques!A194,'Concert 1'!$J$9:$J$56)","v":0},{"$f":"SUMIF('Concert 2'!$E$9:$E$56,Statistiques!A194,'Concert 2'!$I$9:$I$56)","v":0},{"$f":"SUMIF('Concert 2'!$E$9:$E$56,Statistiques!A194,'Concert 2'!$J$9:$J$56)","v":0},{"$f":"SUMIF('Concert 3'!$E$9:$E$56,Statistiques!A194,'Concert 3'!$I$9:$I$56)","v":0},{"$f":"SUMIF('Concert 3'!$E$9:$E$56,Statistiques!A194,'Concert 3'!$J$9:$J$56)","v":0},{"$f":"SUMIF('Concert 4'!$E$9:$E$56,Statistiques!A194,'Concert 4'!$I$9:$I$56)","v":0},{"$f":"SUMIF('Concert 4'!$E$9:$E$56,Statistiques!A194,'Concert 4'!$J$9:$J$56)","v":0},{"$f":"SUMIF('Concert 5'!$E$9:$E$56,Statistiques!A194,'Concert 5'!$I$9:$I$56)","v":0},{"$f":"SUMIF('Concert 5'!$E$9:$E$56,Statistiques!A194,'Concert 5'!$J$9:$J$56)","v":0}]
[{"$f":"Ecoles!A191","v":0},{"$f":"Ecoles!B191","v":0},{"$f":"Ecoles!C191","v":0},null,{"$f":"SUMIF('Concert 1'!$E$9:$E$56,Statistiques!A195,'Concert 1'!$I$9:$I$56)+SUMIF('Concert 2'!$E$9:$E$56,Statistiques!A195,'Concert 2'!$I$9:$I$56)+SUMIF('Concert 3'!$E$9:$E$56,Statistiques!A195,'Concert 3'!$I$9:$I$56)+SUMIF('Concert 4'!$E$9:$E$56,Statistiques!A195,'Concert 4'!$I$9:$I$56)+SUMIF('Concert 5'!$E$9:$E$56,Statistiques!A195,'Concert 5'!$I$9:$I$56)","v":0},{"$f":"SUMIF('Concert 1'!$E$9:$E$56,Statistiques!A195,'Concert 1'!$J$9:$J$56)+SUMIF('Concert 2'!$E$9:$E$56,Statistiques!A195,'Concert 2'!$J$9:$J$56)+SUMIF('Concert 3'!$E$9:$E$56,Statistiques!A195,'Concert 3'!$J$9:$J$56)+SUMIF('Concert 4'!$E$9:$E$56,Statistiques!A195,'Concert 4'!$J$9:$J$56)+SUMIF('Concert 5'!$E$9:$E$56,Statistiques!A195,'Concert 5'!$J$9:$J$56)","v":0},null,null,{"$f":"SUMIF('Concert 1'!$E$9:$E$56,Statistiques!A195,'Concert 1'!$I$9:$I$56)","v":0},{"$f":"SUMIF('Concert 1'!$E$9:$E$56,Statistiques!A195,'Concert 1'!$J$9:$J$56)","v":0},{"$f":"SUMIF('Concert 2'!$E$9:$E$56,Statistiques!A195,'Concert 2'!$I$9:$I$56)","v":0},{"$f":"SUMIF('Concert 2'!$E$9:$E$56,Statistiques!A195,'Concert 2'!$J$9:$J$56)","v":0},{"$f":"SUMIF('Concert 3'!$E$9:$E$56,Statistiques!A195,'Concert 3'!$I$9:$I$56)","v":0},{"$f":"SUMIF('Concert 3'!$E$9:$E$56,Statistiques!A195,'Concert 3'!$J$9:$J$56)","v":0},{"$f":"SUMIF('Concert 4'!$E$9:$E$56,Statistiques!A195,'Concert 4'!$I$9:$I$56)","v":0},{"$f":"SUMIF('Concert 4'!$E$9:$E$56,Statistiques!A195,'Concert 4'!$J$9:$J$56)","v":0},{"$f":"SUMIF('Concert 5'!$E$9:$E$56,Statistiques!A195,'Concert 5'!$I$9:$I$56)","v":0},{"$f":"SUMIF('Concert 5'!$E$9:$E$56,Statistiques!A195,'Concert 5'!$J$9:$J$56)","v":0}]
[{"$f":"Ecoles!A192","v":0},{"$f":"Ecoles!B192","v":0},{"$f":"Ecoles!C192","v":0},null,{"$f":"SUMIF('Concert 1'!$E$9:$E$56,Statistiques!A196,'Concert 1'!$I$9:$I$56)+SUMIF('Concert 2'!$E$9:$E$56,Statistiques!A196,'Concert 2'!$I$9:$I$56)+SUMIF('Concert 3'!$E$9:$E$56,Statistiques!A196,'Concert 3'!$I$9:$I$56)+SUMIF('Concert 4'!$E$9:$E$56,Statistiques!A196,'Concert 4'!$I$9:$I$56)+SUMIF('Concert 5'!$E$9:$E$56,Statistiques!A196,'Concert 5'!$I$9:$I$56)","v":0},{"$f":"SUMIF('Concert 1'!$E$9:$E$56,Statistiques!A196,'Concert 1'!$J$9:$J$56)+SUMIF('Concert 2'!$E$9:$E$56,Statistiques!A196,'Concert 2'!$J$9:$J$56)+SUMIF('Concert 3'!$E$9:$E$56,Statistiques!A196,'Concert 3'!$J$9:$J$56)+SUMIF('Concert 4'!$E$9:$E$56,Statistiques!A196,'Concert 4'!$J$9:$J$56)+SUMIF('Concert 5'!$E$9:$E$56,Statistiques!A196,'Concert 5'!$J$9:$J$56)","v":0},null,null,{"$f":"SUMIF('Concert 1'!$E$9:$E$56,Statistiques!A196,'Concert 1'!$I$9:$I$56)","v":0},{"$f":"SUMIF('Concert 1'!$E$9:$E$56,Statistiques!A196,'Concert 1'!$J$9:$J$56)","v":0},{"$f":"SUMIF('Concert 2'!$E$9:$E$56,Statistiques!A196,'Concert 2'!$I$9:$I$56)","v":0},{"$f":"SUMIF('Concert 2'!$E$9:$E$56,Statistiques!A196,'Concert 2'!$J$9:$J$56)","v":0},{"$f":"SUMIF('Concert 3'!$E$9:$E$56,Statistiques!A196,'Concert 3'!$I$9:$I$56)","v":0},{"$f":"SUMIF('Concert 3'!$E$9:$E$56,Statistiques!A196,'Concert 3'!$J$9:$J$56)","v":0},{"$f":"SUMIF('Concert 4'!$E$9:$E$56,Statistiques!A196,'Concert 4'!$I$9:$I$56)","v":0},{"$f":"SUMIF('Concert 4'!$E$9:$E$56,Statistiques!A196,'Concert 4'!$J$9:$J$56)","v":0},{"$f":"SUMIF('Concert 5'!$E$9:$E$56,Statistiques!A196,'Concert 5'!$I$9:$I$56)","v":0},{"$f":"SUMIF('Concert 5'!$E$9:$E$56,Statistiques!A196,'Concert 5'!$J$9:$J$56)","v":0}]
[{"$f":"Ecoles!A193","v":0},{"$f":"Ecoles!B193","v":0},{"$f":"Ecoles!C193","v":0},null,{"$f":"SUMIF('Concert 1'!$E$9:$E$56,Statistiques!A197,'Concert 1'!$I$9:$I$56)+SUMIF('Concert 2'!$E$9:$E$56,Statistiques!A197,'Concert 2'!$I$9:$I$56)+SUMIF('Concert 3'!$E$9:$E$56,Statistiques!A197,'Concert 3'!$I$9:$I$56)+SUMIF('Concert 4'!$E$9:$E$56,Statistiques!A197,'Concert 4'!$I$9:$I$56)+SUMIF('Concert 5'!$E$9:$E$56,Statistiques!A197,'Concert 5'!$I$9:$I$56)","v":0},{"$f":"SUMIF('Concert 1'!$E$9:$E$56,Statistiques!A197,'Concert 1'!$J$9:$J$56)+SUMIF('Concert 2'!$E$9:$E$56,Statistiques!A197,'Concert 2'!$J$9:$J$56)+SUMIF('Concert 3'!$E$9:$E$56,Statistiques!A197,'Concert 3'!$J$9:$J$56)+SUMIF('Concert 4'!$E$9:$E$56,Statistiques!A197,'Concert 4'!$J$9:$J$56)+SUMIF('Concert 5'!$E$9:$E$56,Statistiques!A197,'Concert 5'!$J$9:$J$56)","v":0},null,null,{"$f":"SUMIF('Concert 1'!$E$9:$E$56,Statistiques!A197,'Concert 1'!$I$9:$I$56)","v":0},{"$f":"SUMIF('Concert 1'!$E$9:$E$56,Statistiques!A197,'Concert 1'!$J$9:$J$56)","v":0},{"$f":"SUMIF('Concert 2'!$E$9:$E$56,Statistiques!A197,'Concert 2'!$I$9:$I$56)","v":0},{"$f":"SUMIF('Concert 2'!$E$9:$E$56,Statistiques!A197,'Concert 2'!$J$9:$J$56)","v":0},{"$f":"SUMIF('Concert 3'!$E$9:$E$56,Statistiques!A197,'Concert 3'!$I$9:$I$56)","v":0},{"$f":"SUMIF('Concert 3'!$E$9:$E$56,Statistiques!A197,'Concert 3'!$J$9:$J$56)","v":0},{"$f":"SUMIF('Concert 4'!$E$9:$E$56,Statistiques!A197,'Concert 4'!$I$9:$I$56)","v":0},{"$f":"SUMIF('Concert 4'!$E$9:$E$56,Statistiques!A197,'Concert 4'!$J$9:$J$56)","v":0},{"$f":"SUMIF('Concert 5'!$E$9:$E$56,Statistiques!A197,'Concert 5'!$I$9:$I$56)","v":0},{"$f":"SUMIF('Concert 5'!$E$9:$E$56,Statistiques!A197,'Concert 5'!$J$9:$J$56)","v":0}]
[{"$f":"Ecoles!A194","v":0},{"$f":"Ecoles!B194","v":0},{"$f":"Ecoles!C194","v":0},null,{"$f":"SUMIF('Concert 1'!$E$9:$E$56,Statistiques!A198,'Concert 1'!$I$9:$I$56)+SUMIF('Concert 2'!$E$9:$E$56,Statistiques!A198,'Concert 2'!$I$9:$I$56)+SUMIF('Concert 3'!$E$9:$E$56,Statistiques!A198,'Concert 3'!$I$9:$I$56)+SUMIF('Concert 4'!$E$9:$E$56,Statistiques!A198,'Concert 4'!$I$9:$I$56)+SUMIF('Concert 5'!$E$9:$E$56,Statistiques!A198,'Concert 5'!$I$9:$I$56)","v":0},{"$f":"SUMIF('Concert 1'!$E$9:$E$56,Statistiques!A198,'Concert 1'!$J$9:$J$56)+SUMIF('Concert 2'!$E$9:$E$56,Statistiques!A198,'Concert 2'!$J$9:$J$56)+SUMIF('Concert 3'!$E$9:$E$56,Statistiques!A198,'Concert 3'!$J$9:$J$56)+SUMIF('Concert 4'!$E$9:$E$56,Statistiques!A198,'Concert 4'!$J$9:$J$56)+SUMIF('Concert 5'!$E$9:$E$56,Statistiques!A198,'Concert 5'!$J$9:$J$56)","v":0},null,null,{"$f":"SUMIF('Concert 1'!$E$9:$E$56,Statistiques!A198,'Concert 1'!$I$9:$I$56)","v":0},{"$f":"SUMIF('Concert 1'!$E$9:$E$56,Statistiques!A198,'Concert 1'!$J$9:$J$56)","v":0},{"$f":"SUMIF('Concert 2'!$E$9:$E$56,Statistiques!A198,'Concert 2'!$I$9:$I$56)","v":0},{"$f":"SUMIF('Concert 2'!$E$9:$E$56,Statistiques!A198,'Concert 2'!$J$9:$J$56)","v":0},{"$f":"SUMIF('Concert 3'!$E$9:$E$56,Statistiques!A198,'Concert 3'!$I$9:$I$56)","v":0},{"$f":"SUMIF('Concert 3'!$E$9:$E$56,Statistiques!A198,'Concert 3'!$J$9:$J$56)","v":0},{"$f":"SUMIF('Concert 4'!$E$9:$E$56,Statistiques!A198,'Concert 4'!$I$9:$I$56)","v":0},{"$f":"SUMIF('Concert 4'!$E$9:$E$56,Statistiques!A198,'Concert 4'!$J$9:$J$56)","v":0},{"$f":"SUMIF('Concert 5'!$E$9:$E$56,Statistiques!A198,'Concert 5'!$I$9:$I$56)","v":0},{"$f":"SUMIF('Concert 5'!$E$9:$E$56,Statistiques!A198,'Concert 5'!$J$9:$J$56)","v":0}]
[{"$f":"Ecoles!A195","v":0},{"$f":"Ecoles!B195","v":0},{"$f":"Ecoles!C195","v":0},null,{"$f":"SUMIF('Concert 1'!$E$9:$E$56,Statistiques!A199,'Concert 1'!$I$9:$I$56)+SUMIF('Concert 2'!$E$9:$E$56,Statistiques!A199,'Concert 2'!$I$9:$I$56)+SUMIF('Concert 3'!$E$9:$E$56,Statistiques!A199,'Concert 3'!$I$9:$I$56)+SUMIF('Concert 4'!$E$9:$E$56,Statistiques!A199,'Concert 4'!$I$9:$I$56)+SUMIF('Concert 5'!$E$9:$E$56,Statistiques!A199,'Concert 5'!$I$9:$I$56)","v":0},{"$f":"SUMIF('Concert 1'!$E$9:$E$56,Statistiques!A199,'Concert 1'!$J$9:$J$56)+SUMIF('Concert 2'!$E$9:$E$56,Statistiques!A199,'Concert 2'!$J$9:$J$56)+SUMIF('Concert 3'!$E$9:$E$56,Statistiques!A199,'Concert 3'!$J$9:$J$56)+SUMIF('Concert 4'!$E$9:$E$56,Statistiques!A199,'Concert 4'!$J$9:$J$56)+SUMIF('Concert 5'!$E$9:$E$56,Statistiques!A199,'Concert 5'!$J$9:$J$56)","v":0},null,null,{"$f":"SUMIF('Concert 1'!$E$9:$E$56,Statistiques!A199,'Concert 1'!$I$9:$I$56)","v":0},{"$f":"SUMIF('Concert 1'!$E$9:$E$56,Statistiques!A199,'Concert 1'!$J$9:$J$56)","v":0},{"$f":"SUMIF('Concert 2'!$E$9:$E$56,Statistiques!A199,'Concert 2'!$I$9:$I$56)","v":0},{"$f":"SUMIF('Concert 2'!$E$9:$E$56,Statistiques!A199,'Concert 2'!$J$9:$J$56)","v":0},{"$f":"SUMIF('Concert 3'!$E$9:$E$56,Statistiques!A199,'Concert 3'!$I$9:$I$56)","v":0},{"$f":"SUMIF('Concert 3'!$E$9:$E$56,Statistiques!A199,'Concert 3'!$J$9:$J$56)","v":0},{"$f":"SUMIF('Concert 4'!$E$9:$E$56,Statistiques!A199,'Concert 4'!$I$9:$I$56)","v":0},{"$f":"SUMIF('Concert 4'!$E$9:$E$56,Statistiques!A199,'Concert 4'!$J$9:$J$56)","v":0},{"$f":"SUMIF('Concert 5'!$E$9:$E$56,Statistiques!A199,'Concert 5'!$I$9:$I$56)","v":0},{"$f":"SUMIF('Concert 5'!$E$9:$E$56,Statistiques!A199,'Concert 5'!$J$9:$J$56)","v":0}]
[{"$f":"Ecoles!A196","v":0},{"$f":"Ecoles!B196","v":0},{"$f":"Ecoles!C196","v":0},null,{"$f":"SUMIF('Concert 1'!$E$9:$E$56,Statistiques!A200,'Concert 1'!$I$9:$I$56)+SUMIF('Concert 2'!$E$9:$E$56,Statistiques!A200,'Concert 2'!$I$9:$I$56)+SUMIF('Concert 3'!$E$9:$E$56,Statistiques!A200,'Concert 3'!$I$9:$I$56)+SUMIF('Concert 4'!$E$9:$E$56,Statistiques!A200,'Concert 4'!$I$9:$I$56)+SUMIF('Concert 5'!$E$9:$E$56,Statistiques!A200,'Concert 5'!$I$9:$I$56)","v":0},{"$f":"SUMIF('Concert 1'!$E$9:$E$56,Statistiques!A200,'Concert 1'!$J$9:$J$56)+SUMIF('Concert 2'!$E$9:$E$56,Statistiques!A200,'Concert 2'!$J$9:$J$56)+SUMIF('Concert 3'!$E$9:$E$56,Statistiques!A200,'Concert 3'!$J$9:$J$56)+SUMIF('Concert 4'!$E$9:$E$56,Statistiques!A200,'Concert 4'!$J$9:$J$56)+SUMIF('Concert 5'!$E$9:$E$56,Statistiques!A200,'Concert 5'!$J$9:$J$56)","v":0},null,null,{"$f":"SUMIF('Concert 1'!$E$9:$E$56,Statistiques!A200,'Concert 1'!$I$9:$I$56)","v":0},{"$f":"SUMIF('Concert 1'!$E$9:$E$56,Statistiques!A200,'Concert 1'!$J$9:$J$56)","v":0},{"$f":"SUMIF('Concert 2'!$E$9:$E$56,Statistiques!A200,'Concert 2'!$I$9:$I$56)","v":0},{"$f":"SUMIF('Concert 2'!$E$9:$E$56,Statistiques!A200,'Concert 2'!$J$9:$J$56)","v":0},{"$f":"SUMIF('Concert 3'!$E$9:$E$56,Statistiques!A200,'Concert 3'!$I$9:$I$56)","v":0},{"$f":"SUMIF('Concert 3'!$E$9:$E$56,Statistiques!A200,'Concert 3'!$J$9:$J$56)","v":0},{"$f":"SUMIF('Concert 4'!$E$9:$E$56,Statistiques!A200,'Concert 4'!$I$9:$I$56)","v":0},{"$f":"SUMIF('Concert 4'!$E$9:$E$56,Statistiques!A200,'Concert 4'!$J$9:$J$56)","v":0},{"$f":"SUMIF('Concert 5'!$E$9:$E$56,Statistiques!A200,'Concert 5'!$I$9:$I$56)","v":0},{"$f":"SUMIF('Concert 5'!$E$9:$E$56,Statistiques!A200,'Concert 5'!$J$9:$J$56)","v":0}]
[{"$f":"Ecoles!A197","v":0},{"$f":"Ecoles!B197","v":0},{"$f":"Ecoles!C197","v":0},null,{"$f":"SUMIF('Concert 1'!$E$9:$E$56,Statistiques!A201,'Concert 1'!$I$9:$I$56)+SUMIF('Concert 2'!$E$9:$E$56,Statistiques!A201,'Concert 2'!$I$9:$I$56)+SUMIF('Concert 3'!$E$9:$E$56,Statistiques!A201,'Concert 3'!$I$9:$I$56)+SUMIF('Concert 4'!$E$9:$E$56,Statistiques!A201,'Concert 4'!$I$9:$I$56)+SUMIF('Concert 5'!$E$9:$E$56,Statistiques!A201,'Concert 5'!$I$9:$I$56)","v":0},{"$f":"SUMIF('Concert 1'!$E$9:$E$56,Statistiques!A201,'Concert 1'!$J$9:$J$56)+SUMIF('Concert 2'!$E$9:$E$56,Statistiques!A201,'Concert 2'!$J$9:$J$56)+SUMIF('Concert 3'!$E$9:$E$56,Statistiques!A201,'Concert 3'!$J$9:$J$56)+SUMIF('Concert 4'!$E$9:$E$56,Statistiques!A201,'Concert 4'!$J$9:$J$56)+SUMIF('Concert 5'!$E$9:$E$56,Statistiques!A201,'Concert 5'!$J$9:$J$56)","v":0},null,null,{"$f":"SUMIF('Concert 1'!$E$9:$E$56,Statistiques!A201,'Concert 1'!$I$9:$I$56)","v":0},{"$f":"SUMIF('Concert 1'!$E$9:$E$56,Statistiques!A201,'Concert 1'!$J$9:$J$56)","v":0},{"$f":"SUMIF('Concert 2'!$E$9:$E$56,Statistiques!A201,'Concert 2'!$I$9:$I$56)","v":0},{"$f":"SUMIF('Concert 2'!$E$9:$E$56,Statistiques!A201,'Concert 2'!$J$9:$J$56)","v":0},{"$f":"SUMIF('Concert 3'!$E$9:$E$56,Statistiques!A201,'Concert 3'!$I$9:$I$56)","v":0},{"$f":"SUMIF('Concert 3'!$E$9:$E$56,Statistiques!A201,'Concert 3'!$J$9:$J$56)","v":0},{"$f":"SUMIF('Concert 4'!$E$9:$E$56,Statistiques!A201,'Concert 4'!$I$9:$I$56)","v":0},{"$f":"SUMIF('Concert 4'!$E$9:$E$56,Statistiques!A201,'Concert 4'!$J$9:$J$56)","v":0},{"$f":"SUMIF('Concert 5'!$E$9:$E$56,Statistiques!A201,'Concert 5'!$I$9:$I$56)","v":0},{"$f":"SUMIF('Concert 5'!$E$9:$E$56,Statistiques!A201,'Concert 5'!$J$9:$J$56)","v":0}]
[{"$f":"Ecoles!A198","v":0},{"$f":"Ecoles!B198","v":0},{"$f":"Ecoles!C198","v":0},null,{"$f":"SUMIF('Concert 1'!$E$9:$E$56,Statistiques!A202,'Concert 1'!$I$9:$I$56)+SUMIF('Concert 2'!$E$9:$E$56,Statistiques!A202,'Concert 2'!$I$9:$I$56)+SUMIF('Concert 3'!$E$9:$E$56,Statistiques!A202,'Concert 3'!$I$9:$I$56)+SUMIF('Concert 4'!$E$9:$E$56,Statistiques!A202,'Concert 4'!$I$9:$I$56)+SUMIF('Concert 5'!$E$9:$E$56,Statistiques!A202,'Concert 5'!$I$9:$I$56)","v":0},{"$f":"SUMIF('Concert 1'!$E$9:$E$56,Statistiques!A202,'Concert 1'!$J$9:$J$56)+SUMIF('Concert 2'!$E$9:$E$56,Statistiques!A202,'Concert 2'!$J$9:$J$56)+SUMIF('Concert 3'!$E$9:$E$56,Statistiques!A202,'Concert 3'!$J$9:$J$56)+SUMIF('Concert 4'!$E$9:$E$56,Statistiques!A202,'Concert 4'!$J$9:$J$56)+SUMIF('Concert 5'!$E$9:$E$56,Statistiques!A202,'Concert 5'!$J$9:$J$56)","v":0},null,null,{"$f":"SUMIF('Concert 1'!$E$9:$E$56,Statistiques!A202,'Concert 1'!$I$9:$I$56)","v":0},{"$f":"SUMIF('Concert 1'!$E$9:$E$56,Statistiques!A202,'Concert 1'!$J$9:$J$56)","v":0},{"$f":"SUMIF('Concert 2'!$E$9:$E$56,Statistiques!A202,'Concert 2'!$I$9:$I$56)","v":0},{"$f":"SUMIF('Concert 2'!$E$9:$E$56,Statistiques!A202,'Concert 2'!$J$9:$J$56)","v":0},{"$f":"SUMIF('Concert 3'!$E$9:$E$56,Statistiques!A202,'Concert 3'!$I$9:$I$56)","v":0},{"$f":"SUMIF('Concert 3'!$E$9:$E$56,Statistiques!A202,'Concert 3'!$J$9:$J$56)","v":0},{"$f":"SUMIF('Concert 4'!$E$9:$E$56,Statistiques!A202,'Concert 4'!$I$9:$I$56)","v":0},{"$f":"SUMIF('Concert 4'!$E$9:$E$56,Statistiques!A202,'Concert 4'!$J$9:$J$56)","v":0},{"$f":"SUMIF('Concert 5'!$E$9:$E$56,Statistiques!A202,'Concert 5'!$I$9:$I$56)","v":0},{"$f":"SUMIF('Concert 5'!$E$9:$E$56,Statistiques!A202,'Concert 5'!$J$9:$J$56)","v":0}]
[{"$f":"Ecoles!A199","v":0},{"$f":"Ecoles!B199","v":0},{"$f":"Ecoles!C199","v":0},null,{"$f":"SUMIF('Concert 1'!$E$9:$E$56,Statistiques!A203,'Concert 1'!$I$9:$I$56)+SUMIF('Concert 2'!$E$9:$E$56,Statistiques!A203,'Concert 2'!$I$9:$I$56)+SUMIF('Concert 3'!$E$9:$E$56,Statistiques!A203,'Concert 3'!$I$9:$I$56)+SUMIF('Concert 4'!$E$9:$E$56,Statistiques!A203,'Concert 4'!$I$9:$I$56)+SUMIF('Concert 5'!$E$9:$E$56,Statistiques!A203,'Concert 5'!$I$9:$I$56)","v":0},{"$f":"SUMIF('Concert 1'!$E$9:$E$56,Statistiques!A203,'Concert 1'!$J$9:$J$56)+SUMIF('Concert 2'!$E$9:$E$56,Statistiques!A203,'Concert 2'!$J$9:$J$56)+SUMIF('Concert 3'!$E$9:$E$56,Statistiques!A203,'Concert 3'!$J$9:$J$56)+SUMIF('Concert 4'!$E$9:$E$56,Statistiques!A203,'Concert 4'!$J$9:$J$56)+SUMIF('Concert 5'!$E$9:$E$56,Statistiques!A203,'Concert 5'!$J$9:$J$56)","v":0},null,null,{"$f":"SUMIF('Concert 1'!$E$9:$E$56,Statistiques!A203,'Concert 1'!$I$9:$I$56)","v":0},{"$f":"SUMIF('Concert 1'!$E$9:$E$56,Statistiques!A203,'Concert 1'!$J$9:$J$56)","v":0},{"$f":"SUMIF('Concert 2'!$E$9:$E$56,Statistiques!A203,'Concert 2'!$I$9:$I$56)","v":0},{"$f":"SUMIF('Concert 2'!$E$9:$E$56,Statistiques!A203,'Concert 2'!$J$9:$J$56)","v":0},{"$f":"SUMIF('Concert 3'!$E$9:$E$56,Statistiques!A203,'Concert 3'!$I$9:$I$56)","v":0},{"$f":"SUMIF('Concert 3'!$E$9:$E$56,Statistiques!A203,'Concert 3'!$J$9:$J$56)","v":0},{"$f":"SUMIF('Concert 4'!$E$9:$E$56,Statistiques!A203,'Concert 4'!$I$9:$I$56)","v":0},{"$f":"SUMIF('Concert 4'!$E$9:$E$56,Statistiques!A203,'Concert 4'!$J$9:$J$56)","v":0},{"$f":"SUMIF('Concert 5'!$E$9:$E$56,Statistiques!A203,'Concert 5'!$I$9:$I$56)","v":0},{"$f":"SUMIF('Concert 5'!$E$9:$E$56,Statistiques!A203,'Concert 5'!$J$9:$J$56)","v":0}]
[{"$f":"Ecoles!A200","v":0},{"$f":"Ecoles!B200","v":0},{"$f":"Ecoles!C200","v":0},null,{"$f":"SUMIF('Concert 1'!$E$9:$E$56,Statistiques!A204,'Concert 1'!$I$9:$I$56)+SUMIF('Concert 2'!$E$9:$E$56,Statistiques!A204,'Concert 2'!$I$9:$I$56)+SUMIF('Concert 3'!$E$9:$E$56,Statistiques!A204,'Concert 3'!$I$9:$I$56)+SUMIF('Concert 4'!$E$9:$E$56,Statistiques!A204,'Concert 4'!$I$9:$I$56)+SUMIF('Concert 5'!$E$9:$E$56,Statistiques!A204,'Concert 5'!$I$9:$I$56)","v":0},{"$f":"SUMIF('Concert 1'!$E$9:$E$56,Statistiques!A204,'Concert 1'!$J$9:$J$56)+SUMIF('Concert 2'!$E$9:$E$56,Statistiques!A204,'Concert 2'!$J$9:$J$56)+SUMIF('Concert 3'!$E$9:$E$56,Statistiques!A204,'Concert 3'!$J$9:$J$56)+SUMIF('Concert 4'!$E$9:$E$56,Statistiques!A204,'Concert 4'!$J$9:$J$56)+SUMIF('Concert 5'!$E$9:$E$56,Statistiques!A204,'Concert 5'!$J$9:$J$56)","v":0},null,null,{"$f":"SUMIF('Concert 1'!$E$9:$E$56,Statistiques!A204,'Concert 1'!$I$9:$I$56)","v":0},{"$f":"SUMIF('Concert 1'!$E$9:$E$56,Statistiques!A204,'Concert 1'!$J$9:$J$56)","v":0},{"$f":"SUMIF('Concert 2'!$E$9:$E$56,Statistiques!A204,'Concert 2'!$I$9:$I$56)","v":0},{"$f":"SUMIF('Concert 2'!$E$9:$E$56,Statistiques!A204,'Concert 2'!$J$9:$J$56)","v":0},{"$f":"SUMIF('Concert 3'!$E$9:$E$56,Statistiques!A204,'Concert 3'!$I$9:$I$56)","v":0},{"$f":"SUMIF('Concert 3'!$E$9:$E$56,Statistiques!A204,'Concert 3'!$J$9:$J$56)","v":0},{"$f":"SUMIF('Concert 4'!$E$9:$E$56,Statistiques!A204,'Concert 4'!$I$9:$I$56)","v":0},{"$f":"SUMIF('Concert 4'!$E$9:$E$56,Statistiques!A204,'Concert 4'!$J$9:$J$56)","v":0},{"$f":"SUMIF('Concert 5'!$E$9:$E$56,Statistiques!A204,'Concert 5'!$I$9:$I$56)","v":0},{"$f":"SUMIF('Concert 5'!$E$9:$E$56,Statistiques!A204,'Concert 5'!$J$9:$J$56)","v":0}]
[{"$f":"Ecoles!A201","v":0},{"$f":"Ecoles!B201","v":0},{"$f":"Ecoles!C201","v":0},null,{"$f":"SUMIF('Concert 1'!$E$9:$E$56,Statistiques!A205,'Concert 1'!$I$9:$I$56)+SUMIF('Concert 2'!$E$9:$E$56,Statistiques!A205,'Concert 2'!$I$9:$I$56)+SUMIF('Concert 3'!$E$9:$E$56,Statistiques!A205,'Concert 3'!$I$9:$I$56)+SUMIF('Concert 4'!$E$9:$E$56,Statistiques!A205,'Concert 4'!$I$9:$I$56)+SUMIF('Concert 5'!$E$9:$E$56,Statistiques!A205,'Concert 5'!$I$9:$I$56)","v":0},{"$f":"SUMIF('Concert 1'!$E$9:$E$56,Statistiques!A205,'Concert 1'!$J$9:$J$56)+SUMIF('Concert 2'!$E$9:$E$56,Statistiques!A205,'Concert 2'!$J$9:$J$56)+SUMIF('Concert 3'!$E$9:$E$56,Statistiques!A205,'Concert 3'!$J$9:$J$56)+SUMIF('Concert 4'!$E$9:$E$56,Statistiques!A205,'Concert 4'!$J$9:$J$56)+SUMIF('Concert 5'!$E$9:$E$56,Statistiques!A205,'Concert 5'!$J$9:$J$56)","v":0},null,null,{"$f":"SUMIF('Concert 1'!$E$9:$E$56,Statistiques!A205,'Concert 1'!$I$9:$I$56)","v":0},{"$f":"SUMIF('Concert 1'!$E$9:$E$56,Statistiques!A205,'Concert 1'!$J$9:$J$56)","v":0},{"$f":"SUMIF('Concert 2'!$E$9:$E$56,Statistiques!A205,'Concert 2'!$I$9:$I$56)","v":0},{"$f":"SUMIF('Concert 2'!$E$9:$E$56,Statistiques!A205,'Concert 2'!$J$9:$J$56)","v":0},{"$f":"SUMIF('Concert 3'!$E$9:$E$56,Statistiques!A205,'Concert 3'!$I$9:$I$56)","v":0},{"$f":"SUMIF('Concert 3'!$E$9:$E$56,Statistiques!A205,'Concert 3'!$J$9:$J$56)","v":0},{"$f":"SUMIF('Concert 4'!$E$9:$E$56,Statistiques!A205,'Concert 4'!$I$9:$I$56)","v":0},{"$f":"SUMIF('Concert 4'!$E$9:$E$56,Statistiques!A205,'Concert 4'!$J$9:$J$56)","v":0},{"$f":"SUMIF('Concert 5'!$E$9:$E$56,Statistiques!A205,'Concert 5'!$I$9:$I$56)","v":0},{"$f":"SUMIF('Concert 5'!$E$9:$E$56,Statistiques!A205,'Concert 5'!$J$9:$J$56)","v":0}]
[{"$f":"Ecoles!A202","v":0},{"$f":"Ecoles!B202","v":0},{"$f":"Ecoles!C202","v":0},null,{"$f":"SUMIF('Concert 1'!$E$9:$E$56,Statistiques!A206,'Concert 1'!$I$9:$I$56)+SUMIF('Concert 2'!$E$9:$E$56,Statistiques!A206,'Concert 2'!$I$9:$I$56)+SUMIF('Concert 3'!$E$9:$E$56,Statistiques!A206,'Concert 3'!$I$9:$I$56)+SUMIF('Concert 4'!$E$9:$E$56,Statistiques!A206,'Concert 4'!$I$9:$I$56)+SUMIF('Concert 5'!$E$9:$E$56,Statistiques!A206,'Concert 5'!$I$9:$I$56)","v":0},{"$f":"SUMIF('Concert 1'!$E$9:$E$56,Statistiques!A206,'Concert 1'!$J$9:$J$56)+SUMIF('Concert 2'!$E$9:$E$56,Statistiques!A206,'Concert 2'!$J$9:$J$56)+SUMIF('Concert 3'!$E$9:$E$56,Statistiques!A206,'Concert 3'!$J$9:$J$56)+SUMIF('Concert 4'!$E$9:$E$56,Statistiques!A206,'Concert 4'!$J$9:$J$56)+SUMIF('Concert 5'!$E$9:$E$56,Statistiques!A206,'Concert 5'!$J$9:$J$56)","v":0},null,null,{"$f":"SUMIF('Concert 1'!$E$9:$E$56,Statistiques!A206,'Concert 1'!$I$9:$I$56)","v":0},{"$f":"SUMIF('Concert 1'!$E$9:$E$56,Statistiques!A206,'Concert 1'!$J$9:$J$56)","v":0},{"$f":"SUMIF('Concert 2'!$E$9:$E$56,Statistiques!A206,'Concert 2'!$I$9:$I$56)","v":0},{"$f":"SUMIF('Concert 2'!$E$9:$E$56,Statistiques!A206,'Concert 2'!$J$9:$J$56)","v":0},{"$f":"SUMIF('Concert 3'!$E$9:$E$56,Statistiques!A206,'Concert 3'!$I$9:$I$56)","v":0},{"$f":"SUMIF('Concert 3'!$E$9:$E$56,Statistiques!A206,'Concert 3'!$J$9:$J$56)","v":0},{"$f":"SUMIF('Concert 4'!$E$9:$E$56,Statistiques!A206,'Concert 4'!$I$9:$I$56)","v":0},{"$f":"SUMIF('Concert 4'!$E$9:$E$56,Statistiques!A206,'Concert 4'!$J$9:$J$56)","v":0},{"$f":"SUMIF('Concert 5'!$E$9:$E$56,Statistiques!A206,'Concert 5'!$I$9:$I$56)","v":0},{"$f":"SUMIF('Concert 5'!$E$9:$E$56,Statistiques!A206,'Concert 5'!$J$9:$J$56)","v":0}]
[{"$f":"Ecoles!A203","v":0},{"$f":"Ecoles!B203","v":0},{"$f":"Ecoles!C203","v":0},null,{"$f":"SUMIF('Concert 1'!$E$9:$E$56,Statistiques!A207,'Concert 1'!$I$9:$I$56)+SUMIF('Concert 2'!$E$9:$E$56,Statistiques!A207,'Concert 2'!$I$9:$I$56)+SUMIF('Concert 3'!$E$9:$E$56,Statistiques!A207,'Concert 3'!$I$9:$I$56)+SUMIF('Concert 4'!$E$9:$E$56,Statistiques!A207,'Concert 4'!$I$9:$I$56)+SUMIF('Concert 5'!$E$9:$E$56,Statistiques!A207,'Concert 5'!$I$9:$I$56)","v":0},{"$f":"SUMIF('Concert 1'!$E$9:$E$56,Statistiques!A207,'Concert 1'!$J$9:$J$56)+SUMIF('Concert 2'!$E$9:$E$56,Statistiques!A207,'Concert 2'!$J$9:$J$56)+SUMIF('Concert 3'!$E$9:$E$56,Statistiques!A207,'Concert 3'!$J$9:$J$56)+SUMIF('Concert 4'!$E$9:$E$56,Statistiques!A207,'Concert 4'!$J$9:$J$56)+SUMIF('Concert 5'!$E$9:$E$56,Statistiques!A207,'Concert 5'!$J$9:$J$56)","v":0},null,null,{"$f":"SUMIF('Concert 1'!$E$9:$E$56,Statistiques!A207,'Concert 1'!$I$9:$I$56)","v":0},{"$f":"SUMIF('Concert 1'!$E$9:$E$56,Statistiques!A207,'Concert 1'!$J$9:$J$56)","v":0},{"$f":"SUMIF('Concert 2'!$E$9:$E$56,Statistiques!A207,'Concert 2'!$I$9:$I$56)","v":0},{"$f":"SUMIF('Concert 2'!$E$9:$E$56,Statistiques!A207,'Concert 2'!$J$9:$J$56)","v":0},{"$f":"SUMIF('Concert 3'!$E$9:$E$56,Statistiques!A207,'Concert 3'!$I$9:$I$56)","v":0},{"$f":"SUMIF('Concert 3'!$E$9:$E$56,Statistiques!A207,'Concert 3'!$J$9:$J$56)","v":0},{"$f":"SUMIF('Concert 4'!$E$9:$E$56,Statistiques!A207,'Concert 4'!$I$9:$I$56)","v":0},{"$f":"SUMIF('Concert 4'!$E$9:$E$56,Statistiques!A207,'Concert 4'!$J$9:$J$56)","v":0},{"$f":"SUMIF('Concert 5'!$E$9:$E$56,Statistiques!A207,'Concert 5'!$I$9:$I$56)","v":0},{"$f":"SUMIF('Concert 5'!$E$9:$E$56,Statistiques!A207,'Concert 5'!$J$9:$J$56)","v":0}]
[{"$f":"Ecoles!A204","v":0},{"$f":"Ecoles!B204","v":0},{"$f":"Ecoles!C204","v":0},null,{"$f":"SUMIF('Concert 1'!$E$9:$E$56,Statistiques!A208,'Concert 1'!$I$9:$I$56)+SUMIF('Concert 2'!$E$9:$E$56,Statistiques!A208,'Concert 2'!$I$9:$I$56)+SUMIF('Concert 3'!$E$9:$E$56,Statistiques!A208,'Concert 3'!$I$9:$I$56)+SUMIF('Concert 4'!$E$9:$E$56,Statistiques!A208,'Concert 4'!$I$9:$I$56)+SUMIF('Concert 5'!$E$9:$E$56,Statistiques!A208,'Concert 5'!$I$9:$I$56)","v":0},{"$f":"SUMIF('Concert 1'!$E$9:$E$56,Statistiques!A208,'Concert 1'!$J$9:$J$56)+SUMIF('Concert 2'!$E$9:$E$56,Statistiques!A208,'Concert 2'!$J$9:$J$56)+SUMIF('Concert 3'!$E$9:$E$56,Statistiques!A208,'Concert 3'!$J$9:$J$56)+SUMIF('Concert 4'!$E$9:$E$56,Statistiques!A208,'Concert 4'!$J$9:$J$56)+SUMIF('Concert 5'!$E$9:$E$56,Statistiques!A208,'Concert 5'!$J$9:$J$56)","v":0},null,null,{"$f":"SUMIF('Concert 1'!$E$9:$E$56,Statistiques!A208,'Concert 1'!$I$9:$I$56)","v":0},{"$f":"SUMIF('Concert 1'!$E$9:$E$56,Statistiques!A208,'Concert 1'!$J$9:$J$56)","v":0},{"$f":"SUMIF('Concert 2'!$E$9:$E$56,Statistiques!A208,'Concert 2'!$I$9:$I$56)","v":0},{"$f":"SUMIF('Concert 2'!$E$9:$E$56,Statistiques!A208,'Concert 2'!$J$9:$J$56)","v":0},{"$f":"SUMIF('Concert 3'!$E$9:$E$56,Statistiques!A208,'Concert 3'!$I$9:$I$56)","v":0},{"$f":"SUMIF('Concert 3'!$E$9:$E$56,Statistiques!A208,'Concert 3'!$J$9:$J$56)","v":0},{"$f":"SUMIF('Concert 4'!$E$9:$E$56,Statistiques!A208,'Concert 4'!$I$9:$I$56)","v":0},{"$f":"SUMIF('Concert 4'!$E$9:$E$56,Statistiques!A208,'Concert 4'!$J$9:$J$56)","v":0},{"$f":"SUMIF('Concert 5'!$E$9:$E$56,Statistiques!A208,'Concert 5'!$I$9:$I$56)","v":0},{"$f":"SUMIF('Concert 5'!$E$9:$E$56,Statistiques!A208,'Concert 5'!$J$9:$J$56)","v":0}]
[{"$f":"Ecoles!A205","v":0},{"$f":"Ecoles!B205","v":0},{"$f":"Ecoles!C205","v":0},null,{"$f":"SUMIF('Concert 1'!$E$9:$E$56,Statistiques!A209,'Concert 1'!$I$9:$I$56)+SUMIF('Concert 2'!$E$9:$E$56,Statistiques!A209,'Concert 2'!$I$9:$I$56)+SUMIF('Concert 3'!$E$9:$E$56,Statistiques!A209,'Concert 3'!$I$9:$I$56)+SUMIF('Concert 4'!$E$9:$E$56,Statistiques!A209,'Concert 4'!$I$9:$I$56)+SUMIF('Concert 5'!$E$9:$E$56,Statistiques!A209,'Concert 5'!$I$9:$I$56)","v":0},{"$f":"SUMIF('Concert 1'!$E$9:$E$56,Statistiques!A209,'Concert 1'!$J$9:$J$56)+SUMIF('Concert 2'!$E$9:$E$56,Statistiques!A209,'Concert 2'!$J$9:$J$56)+SUMIF('Concert 3'!$E$9:$E$56,Statistiques!A209,'Concert 3'!$J$9:$J$56)+SUMIF('Concert 4'!$E$9:$E$56,Statistiques!A209,'Concert 4'!$J$9:$J$56)+SUMIF('Concert 5'!$E$9:$E$56,Statistiques!A209,'Concert 5'!$J$9:$J$56)","v":0},null,null,{"$f":"SUMIF('Concert 1'!$E$9:$E$56,Statistiques!A209,'Concert 1'!$I$9:$I$56)","v":0},{"$f":"SUMIF('Concert 1'!$E$9:$E$56,Statistiques!A209,'Concert 1'!$J$9:$J$56)","v":0},{"$f":"SUMIF('Concert 2'!$E$9:$E$56,Statistiques!A209,'Concert 2'!$I$9:$I$56)","v":0},{"$f":"SUMIF('Concert 2'!$E$9:$E$56,Statistiques!A209,'Concert 2'!$J$9:$J$56)","v":0},{"$f":"SUMIF('Concert 3'!$E$9:$E$56,Statistiques!A209,'Concert 3'!$I$9:$I$56)","v":0},{"$f":"SUMIF('Concert 3'!$E$9:$E$56,Statistiques!A209,'Concert 3'!$J$9:$J$56)","v":0},{"$f":"SUMIF('Concert 4'!$E$9:$E$56,Statistiques!A209,'Concert 4'!$I$9:$I$56)","v":0},{"$f":"SUMIF('Concert 4'!$E$9:$E$56,Statistiques!A209,'Concert 4'!$J$9:$J$56)","v":0},{"$f":"SUMIF('Concert 5'!$E$9:$E$56,Statistiques!A209,'Concert 5'!$I$9:$I$56)","v":0},{"$f":"SUMIF('Concert 5'!$E$9:$E$56,Statistiques!A209,'Concert 5'!$J$9:$J$56)","v":0}]
[{"$f":"Ecoles!A206","v":0},{"$f":"Ecoles!B206","v":0},{"$f":"Ecoles!C206","v":0},null,{"$f":"SUMIF('Concert 1'!$E$9:$E$56,Statistiques!A210,'Concert 1'!$I$9:$I$56)+SUMIF('Concert 2'!$E$9:$E$56,Statistiques!A210,'Concert 2'!$I$9:$I$56)+SUMIF('Concert 3'!$E$9:$E$56,Statistiques!A210,'Concert 3'!$I$9:$I$56)+SUMIF('Concert 4'!$E$9:$E$56,Statistiques!A210,'Concert 4'!$I$9:$I$56)+SUMIF('Concert 5'!$E$9:$E$56,Statistiques!A210,'Concert 5'!$I$9:$I$56)","v":0},{"$f":"SUMIF('Concert 1'!$E$9:$E$56,Statistiques!A210,'Concert 1'!$J$9:$J$56)+SUMIF('Concert 2'!$E$9:$E$56,Statistiques!A210,'Concert 2'!$J$9:$J$56)+SUMIF('Concert 3'!$E$9:$E$56,Statistiques!A210,'Concert 3'!$J$9:$J$56)+SUMIF('Concert 4'!$E$9:$E$56,Statistiques!A210,'Concert 4'!$J$9:$J$56)+SUMIF('Concert 5'!$E$9:$E$56,Statistiques!A210,'Concert 5'!$J$9:$J$56)","v":0},null,null,{"$f":"SUMIF('Concert 1'!$E$9:$E$56,Statistiques!A210,'Concert 1'!$I$9:$I$56)","v":0},{"$f":"SUMIF('Concert 1'!$E$9:$E$56,Statistiques!A210,'Concert 1'!$J$9:$J$56)","v":0},{"$f":"SUMIF('Concert 2'!$E$9:$E$56,Statistiques!A210,'Concert 2'!$I$9:$I$56)","v":0},{"$f":"SUMIF('Concert 2'!$E$9:$E$56,Statistiques!A210,'Concert 2'!$J$9:$J$56)","v":0},{"$f":"SUMIF('Concert 3'!$E$9:$E$56,Statistiques!A210,'Concert 3'!$I$9:$I$56)","v":0},{"$f":"SUMIF('Concert 3'!$E$9:$E$56,Statistiques!A210,'Concert 3'!$J$9:$J$56)","v":0},{"$f":"SUMIF('Concert 4'!$E$9:$E$56,Statistiques!A210,'Concert 4'!$I$9:$I$56)","v":0},{"$f":"SUMIF('Concert 4'!$E$9:$E$56,Statistiques!A210,'Concert 4'!$J$9:$J$56)","v":0},{"$f":"SUMIF('Concert 5'!$E$9:$E$56,Statistiques!A210,'Concert 5'!$I$9:$I$56)","v":0},{"$f":"SUMIF('Concert 5'!$E$9:$E$56,Statistiques!A210,'Concert 5'!$J$9:$J$56)","v":0}]
[{"$f":"Ecoles!A207","v":0},{"$f":"Ecoles!B207","v":0},{"$f":"Ecoles!C207","v":0},null,{"$f":"SUMIF('Concert 1'!$E$9:$E$56,Statistiques!A211,'Concert 1'!$I$9:$I$56)+SUMIF('Concert 2'!$E$9:$E$56,Statistiques!A211,'Concert 2'!$I$9:$I$56)+SUMIF('Concert 3'!$E$9:$E$56,Statistiques!A211,'Concert 3'!$I$9:$I$56)+SUMIF('Concert 4'!$E$9:$E$56,Statistiques!A211,'Concert 4'!$I$9:$I$56)+SUMIF('Concert 5'!$E$9:$E$56,Statistiques!A211,'Concert 5'!$I$9:$I$56)","v":0},{"$f":"SUMIF('Concert 1'!$E$9:$E$56,Statistiques!A211,'Concert 1'!$J$9:$J$56)+SUMIF('Concert 2'!$E$9:$E$56,Statistiques!A211,'Concert 2'!$J$9:$J$56)+SUMIF('Concert 3'!$E$9:$E$56,Statistiques!A211,'Concert 3'!$J$9:$J$56)+SUMIF('Concert 4'!$E$9:$E$56,Statistiques!A211,'Concert 4'!$J$9:$J$56)+SUMIF('Concert 5'!$E$9:$E$56,Statistiques!A211,'Concert 5'!$J$9:$J$56)","v":0},null,null,{"$f":"SUMIF('Concert 1'!$E$9:$E$56,Statistiques!A211,'Concert 1'!$I$9:$I$56)","v":0},{"$f":"SUMIF('Concert 1'!$E$9:$E$56,Statistiques!A211,'Concert 1'!$J$9:$J$56)","v":0},{"$f":"SUMIF('Concert 2'!$E$9:$E$56,Statistiques!A211,'Concert 2'!$I$9:$I$56)","v":0},{"$f":"SUMIF('Concert 2'!$E$9:$E$56,Statistiques!A211,'Concert 2'!$J$9:$J$56)","v":0},{"$f":"SUMIF('Concert 3'!$E$9:$E$56,Statistiques!A211,'Concert 3'!$I$9:$I$56)","v":0},{"$f":"SUMIF('Concert 3'!$E$9:$E$56,Statistiques!A211,'Concert 3'!$J$9:$J$56)","v":0},{"$f":"SUMIF('Concert 4'!$E$9:$E$56,Statistiques!A211,'Concert 4'!$I$9:$I$56)","v":0},{"$f":"SUMIF('Concert 4'!$E$9:$E$56,Statistiques!A211,'Concert 4'!$J$9:$J$56)","v":0},{"$f":"SUMIF('Concert 5'!$E$9:$E$56,Statistiques!A211,'Concert 5'!$I$9:$I$56)","v":0},{"$f":"SUMIF('Concert 5'!$E$9:$E$56,Statistiques!A211,'Concert 5'!$J$9:$J$56)","v":0}]
[{"$f":"Ecoles!A208","v":0},{"$f":"Ecoles!B208","v":0},{"$f":"Ecoles!C208","v":0},null,{"$f":"SUMIF('Concert 1'!$E$9:$E$56,Statistiques!A212,'Concert 1'!$I$9:$I$56)+SUMIF('Concert 2'!$E$9:$E$56,Statistiques!A212,'Concert 2'!$I$9:$I$56)+SUMIF('Concert 3'!$E$9:$E$56,Statistiques!A212,'Concert 3'!$I$9:$I$56)+SUMIF('Concert 4'!$E$9:$E$56,Statistiques!A212,'Concert 4'!$I$9:$I$56)+SUMIF('Concert 5'!$E$9:$E$56,Statistiques!A212,'Concert 5'!$I$9:$I$56)","v":0},{"$f":"SUMIF('Concert 1'!$E$9:$E$56,Statistiques!A212,'Concert 1'!$J$9:$J$56)+SUMIF('Concert 2'!$E$9:$E$56,Statistiques!A212,'Concert 2'!$J$9:$J$56)+SUMIF('Concert 3'!$E$9:$E$56,Statistiques!A212,'Concert 3'!$J$9:$J$56)+SUMIF('Concert 4'!$E$9:$E$56,Statistiques!A212,'Concert 4'!$J$9:$J$56)+SUMIF('Concert 5'!$E$9:$E$56,Statistiques!A212,'Concert 5'!$J$9:$J$56)","v":0},null,null,{"$f":"SUMIF('Concert 1'!$E$9:$E$56,Statistiques!A212,'Concert 1'!$I$9:$I$56)","v":0},{"$f":"SUMIF('Concert 1'!$E$9:$E$56,Statistiques!A212,'Concert 1'!$J$9:$J$56)","v":0},{"$f":"SUMIF('Concert 2'!$E$9:$E$56,Statistiques!A212,'Concert 2'!$I$9:$I$56)","v":0},{"$f":"SUMIF('Concert 2'!$E$9:$E$56,Statistiques!A212,'Concert 2'!$J$9:$J$56)","v":0},{"$f":"SUMIF('Concert 3'!$E$9:$E$56,Statistiques!A212,'Concert 3'!$I$9:$I$56)","v":0},{"$f":"SUMIF('Concert 3'!$E$9:$E$56,Statistiques!A212,'Concert 3'!$J$9:$J$56)","v":0},{"$f":"SUMIF('Concert 4'!$E$9:$E$56,Statistiques!A212,'Concert 4'!$I$9:$I$56)","v":0},{"$f":"SUMIF('Concert 4'!$E$9:$E$56,Statistiques!A212,'Concert 4'!$J$9:$J$56)","v":0},{"$f":"SUMIF('Concert 5'!$E$9:$E$56,Statistiques!A212,'Concert 5'!$I$9:$I$56)","v":0},{"$f":"SUMIF('Concert 5'!$E$9:$E$56,Statistiques!A212,'Concert 5'!$J$9:$J$56)","v":0}]
[{"$f":"Ecoles!A209","v":0},{"$f":"Ecoles!B209","v":0},{"$f":"Ecoles!C209","v":0},null,{"$f":"SUMIF('Concert 1'!$E$9:$E$56,Statistiques!A213,'Concert 1'!$I$9:$I$56)+SUMIF('Concert 2'!$E$9:$E$56,Statistiques!A213,'Concert 2'!$I$9:$I$56)+SUMIF('Concert 3'!$E$9:$E$56,Statistiques!A213,'Concert 3'!$I$9:$I$56)+SUMIF('Concert 4'!$E$9:$E$56,Statistiques!A213,'Concert 4'!$I$9:$I$56)+SUMIF('Concert 5'!$E$9:$E$56,Statistiques!A213,'Concert 5'!$I$9:$I$56)","v":0},{"$f":"SUMIF('Concert 1'!$E$9:$E$56,Statistiques!A213,'Concert 1'!$J$9:$J$56)+SUMIF('Concert 2'!$E$9:$E$56,Statistiques!A213,'Concert 2'!$J$9:$J$56)+SUMIF('Concert 3'!$E$9:$E$56,Statistiques!A213,'Concert 3'!$J$9:$J$56)+SUMIF('Concert 4'!$E$9:$E$56,Statistiques!A213,'Concert 4'!$J$9:$J$56)+SUMIF('Concert 5'!$E$9:$E$56,Statistiques!A213,'Concert 5'!$J$9:$J$56)","v":0},null,null,{"$f":"SUMIF('Concert 1'!$E$9:$E$56,Statistiques!A213,'Concert 1'!$I$9:$I$56)","v":0},{"$f":"SUMIF('Concert 1'!$E$9:$E$56,Statistiques!A213,'Concert 1'!$J$9:$J$56)","v":0},{"$f":"SUMIF('Concert 2'!$E$9:$E$56,Statistiques!A213,'Concert 2'!$I$9:$I$56)","v":0},{"$f":"SUMIF('Concert 2'!$E$9:$E$56,Statistiques!A213,'Concert 2'!$J$9:$J$56)","v":0},{"$f":"SUMIF('Concert 3'!$E$9:$E$56,Statistiques!A213,'Concert 3'!$I$9:$I$56)","v":0},{"$f":"SUMIF('Concert 3'!$E$9:$E$56,Statistiques!A213,'Concert 3'!$J$9:$J$56)","v":0},{"$f":"SUMIF('Concert 4'!$E$9:$E$56,Statistiques!A213,'Concert 4'!$I$9:$I$56)","v":0},{"$f":"SUMIF('Concert 4'!$E$9:$E$56,Statistiques!A213,'Concert 4'!$J$9:$J$56)","v":0},{"$f":"SUMIF('Concert 5'!$E$9:$E$56,Statistiques!A213,'Concert 5'!$I$9:$I$56)","v":0},{"$f":"SUMIF('Concert 5'!$E$9:$E$56,Statistiques!A213,'Concert 5'!$J$9:$J$56)","v":0}]
[{"$f":"Ecoles!A210","v":0},{"$f":"Ecoles!B210","v":0},{"$f":"Ecoles!C210","v":0},null,{"$f":"SUMIF('Concert 1'!$E$9:$E$56,Statistiques!A214,'Concert 1'!$I$9:$I$56)+SUMIF('Concert 2'!$E$9:$E$56,Statistiques!A214,'Concert 2'!$I$9:$I$56)+SUMIF('Concert 3'!$E$9:$E$56,Statistiques!A214,'Concert 3'!$I$9:$I$56)+SUMIF('Concert 4'!$E$9:$E$56,Statistiques!A214,'Concert 4'!$I$9:$I$56)+SUMIF('Concert 5'!$E$9:$E$56,Statistiques!A214,'Concert 5'!$I$9:$I$56)","v":0},{"$f":"SUMIF('Concert 1'!$E$9:$E$56,Statistiques!A214,'Concert 1'!$J$9:$J$56)+SUMIF('Concert 2'!$E$9:$E$56,Statistiques!A214,'Concert 2'!$J$9:$J$56)+SUMIF('Concert 3'!$E$9:$E$56,Statistiques!A214,'Concert 3'!$J$9:$J$56)+SUMIF('Concert 4'!$E$9:$E$56,Statistiques!A214,'Concert 4'!$J$9:$J$56)+SUMIF('Concert 5'!$E$9:$E$56,Statistiques!A214,'Concert 5'!$J$9:$J$56)","v":0},null,null,{"$f":"SUMIF('Concert 1'!$E$9:$E$56,Statistiques!A214,'Concert 1'!$I$9:$I$56)","v":0},{"$f":"SUMIF('Concert 1'!$E$9:$E$56,Statistiques!A214,'Concert 1'!$J$9:$J$56)","v":0},{"$f":"SUMIF('Concert 2'!$E$9:$E$56,Statistiques!A214,'Concert 2'!$I$9:$I$56)","v":0},{"$f":"SUMIF('Concert 2'!$E$9:$E$56,Statistiques!A214,'Concert 2'!$J$9:$J$56)","v":0},{"$f":"SUMIF('Concert 3'!$E$9:$E$56,Statistiques!A214,'Concert 3'!$I$9:$I$56)","v":0},{"$f":"SUMIF('Concert 3'!$E$9:$E$56,Statistiques!A214,'Concert 3'!$J$9:$J$56)","v":0},{"$f":"SUMIF('Concert 4'!$E$9:$E$56,Statistiques!A214,'Concert 4'!$I$9:$I$56)","v":0},{"$f":"SUMIF('Concert 4'!$E$9:$E$56,Statistiques!A214,'Concert 4'!$J$9:$J$56)","v":0},{"$f":"SUMIF('Concert 5'!$E$9:$E$56,Statistiques!A214,'Concert 5'!$I$9:$I$56)","v":0},{"$f":"SUMIF('Concert 5'!$E$9:$E$56,Statistiques!A214,'Concert 5'!$J$9:$J$56)","v":0}]
[{"$f":"Ecoles!A211","v":0},{"$f":"Ecoles!B211","v":0},{"$f":"Ecoles!C211","v":0},null,{"$f":"SUMIF('Concert 1'!$E$9:$E$56,Statistiques!A215,'Concert 1'!$I$9:$I$56)+SUMIF('Concert 2'!$E$9:$E$56,Statistiques!A215,'Concert 2'!$I$9:$I$56)+SUMIF('Concert 3'!$E$9:$E$56,Statistiques!A215,'Concert 3'!$I$9:$I$56)+SUMIF('Concert 4'!$E$9:$E$56,Statistiques!A215,'Concert 4'!$I$9:$I$56)+SUMIF('Concert 5'!$E$9:$E$56,Statistiques!A215,'Concert 5'!$I$9:$I$56)","v":0},{"$f":"SUMIF('Concert 1'!$E$9:$E$56,Statistiques!A215,'Concert 1'!$J$9:$J$56)+SUMIF('Concert 2'!$E$9:$E$56,Statistiques!A215,'Concert 2'!$J$9:$J$56)+SUMIF('Concert 3'!$E$9:$E$56,Statistiques!A215,'Concert 3'!$J$9:$J$56)+SUMIF('Concert 4'!$E$9:$E$56,Statistiques!A215,'Concert 4'!$J$9:$J$56)+SUMIF('Concert 5'!$E$9:$E$56,Statistiques!A215,'Concert 5'!$J$9:$J$56)","v":0},null,null,{"$f":"SUMIF('Concert 1'!$E$9:$E$56,Statistiques!A215,'Concert 1'!$I$9:$I$56)","v":0},{"$f":"SUMIF('Concert 1'!$E$9:$E$56,Statistiques!A215,'Concert 1'!$J$9:$J$56)","v":0},{"$f":"SUMIF('Concert 2'!$E$9:$E$56,Statistiques!A215,'Concert 2'!$I$9:$I$56)","v":0},{"$f":"SUMIF('Concert 2'!$E$9:$E$56,Statistiques!A215,'Concert 2'!$J$9:$J$56)","v":0},{"$f":"SUMIF('Concert 3'!$E$9:$E$56,Statistiques!A215,'Concert 3'!$I$9:$I$56)","v":0},{"$f":"SUMIF('Concert 3'!$E$9:$E$56,Statistiques!A215,'Concert 3'!$J$9:$J$56)","v":0},{"$f":"SUMIF('Concert 4'!$E$9:$E$56,Statistiques!A215,'Concert 4'!$I$9:$I$56)","v":0},{"$f":"SUMIF('Concert 4'!$E$9:$E$56,Statistiques!A215,'Concert 4'!$J$9:$J$56)","v":0},{"$f":"SUMIF('Concert 5'!$E$9:$E$56,Statistiques!A215,'Concert 5'!$I$9:$I$56)","v":0},{"$f":"SUMIF('Concert 5'!$E$9:$E$56,Statistiques!A215,'Concert 5'!$J$9:$J$56)","v":0}]
[{"$f":"Ecoles!A212","v":0},{"$f":"Ecoles!B212","v":0},{"$f":"Ecoles!C212","v":0},null,{"$f":"SUMIF('Concert 1'!$E$9:$E$56,Statistiques!A216,'Concert 1'!$I$9:$I$56)+SUMIF('Concert 2'!$E$9:$E$56,Statistiques!A216,'Concert 2'!$I$9:$I$56)+SUMIF('Concert 3'!$E$9:$E$56,Statistiques!A216,'Concert 3'!$I$9:$I$56)+SUMIF('Concert 4'!$E$9:$E$56,Statistiques!A216,'Concert 4'!$I$9:$I$56)+SUMIF('Concert 5'!$E$9:$E$56,Statistiques!A216,'Concert 5'!$I$9:$I$56)","v":0},{"$f":"SUMIF('Concert 1'!$E$9:$E$56,Statistiques!A216,'Concert 1'!$J$9:$J$56)+SUMIF('Concert 2'!$E$9:$E$56,Statistiques!A216,'Concert 2'!$J$9:$J$56)+SUMIF('Concert 3'!$E$9:$E$56,Statistiques!A216,'Concert 3'!$J$9:$J$56)+SUMIF('Concert 4'!$E$9:$E$56,Statistiques!A216,'Concert 4'!$J$9:$J$56)+SUMIF('Concert 5'!$E$9:$E$56,Statistiques!A216,'Concert 5'!$J$9:$J$56)","v":0},null,null,{"$f":"SUMIF('Concert 1'!$E$9:$E$56,Statistiques!A216,'Concert 1'!$I$9:$I$56)","v":0},{"$f":"SUMIF('Concert 1'!$E$9:$E$56,Statistiques!A216,'Concert 1'!$J$9:$J$56)","v":0},{"$f":"SUMIF('Concert 2'!$E$9:$E$56,Statistiques!A216,'Concert 2'!$I$9:$I$56)","v":0},{"$f":"SUMIF('Concert 2'!$E$9:$E$56,Statistiques!A216,'Concert 2'!$J$9:$J$56)","v":0},{"$f":"SUMIF('Concert 3'!$E$9:$E$56,Statistiques!A216,'Concert 3'!$I$9:$I$56)","v":0},{"$f":"SUMIF('Concert 3'!$E$9:$E$56,Statistiques!A216,'Concert 3'!$J$9:$J$56)","v":0},{"$f":"SUMIF('Concert 4'!$E$9:$E$56,Statistiques!A216,'Concert 4'!$I$9:$I$56)","v":0},{"$f":"SUMIF('Concert 4'!$E$9:$E$56,Statistiques!A216,'Concert 4'!$J$9:$J$56)","v":0},{"$f":"SUMIF('Concert 5'!$E$9:$E$56,Statistiques!A216,'Concert 5'!$I$9:$I$56)","v":0},{"$f":"SUMIF('Concert 5'!$E$9:$E$56,Statistiques!A216,'Concert 5'!$J$9:$J$56)","v":0}]
[{"$f":"Ecoles!A213","v":0},{"$f":"Ecoles!B213","v":0},{"$f":"Ecoles!C213","v":0},null,{"$f":"SUMIF('Concert 1'!$E$9:$E$56,Statistiques!A217,'Concert 1'!$I$9:$I$56)+SUMIF('Concert 2'!$E$9:$E$56,Statistiques!A217,'Concert 2'!$I$9:$I$56)+SUMIF('Concert 3'!$E$9:$E$56,Statistiques!A217,'Concert 3'!$I$9:$I$56)+SUMIF('Concert 4'!$E$9:$E$56,Statistiques!A217,'Concert 4'!$I$9:$I$56)+SUMIF('Concert 5'!$E$9:$E$56,Statistiques!A217,'Concert 5'!$I$9:$I$56)","v":0},{"$f":"SUMIF('Concert 1'!$E$9:$E$56,Statistiques!A217,'Concert 1'!$J$9:$J$56)+SUMIF('Concert 2'!$E$9:$E$56,Statistiques!A217,'Concert 2'!$J$9:$J$56)+SUMIF('Concert 3'!$E$9:$E$56,Statistiques!A217,'Concert 3'!$J$9:$J$56)+SUMIF('Concert 4'!$E$9:$E$56,Statistiques!A217,'Concert 4'!$J$9:$J$56)+SUMIF('Concert 5'!$E$9:$E$56,Statistiques!A217,'Concert 5'!$J$9:$J$56)","v":0},null,null,{"$f":"SUMIF('Concert 1'!$E$9:$E$56,Statistiques!A217,'Concert 1'!$I$9:$I$56)","v":0},{"$f":"SUMIF('Concert 1'!$E$9:$E$56,Statistiques!A217,'Concert 1'!$J$9:$J$56)","v":0},{"$f":"SUMIF('Concert 2'!$E$9:$E$56,Statistiques!A217,'Concert 2'!$I$9:$I$56)","v":0},{"$f":"SUMIF('Concert 2'!$E$9:$E$56,Statistiques!A217,'Concert 2'!$J$9:$J$56)","v":0},{"$f":"SUMIF('Concert 3'!$E$9:$E$56,Statistiques!A217,'Concert 3'!$I$9:$I$56)","v":0},{"$f":"SUMIF('Concert 3'!$E$9:$E$56,Statistiques!A217,'Concert 3'!$J$9:$J$56)","v":0},{"$f":"SUMIF('Concert 4'!$E$9:$E$56,Statistiques!A217,'Concert 4'!$I$9:$I$56)","v":0},{"$f":"SUMIF('Concert 4'!$E$9:$E$56,Statistiques!A217,'Concert 4'!$J$9:$J$56)","v":0},{"$f":"SUMIF('Concert 5'!$E$9:$E$56,Statistiques!A217,'Concert 5'!$I$9:$I$56)","v":0},{"$f":"SUMIF('Concert 5'!$E$9:$E$56,Statistiques!A217,'Concert 5'!$J$9:$J$56)","v":0}]
[{"$f":"Ecoles!A214","v":0},{"$f":"Ecoles!B214","v":0},{"$f":"Ecoles!C214","v":0},null,{"$f":"SUMIF('Concert 1'!$E$9:$E$56,Statistiques!A218,'Concert 1'!$I$9:$I$56)+SUMIF('Concert 2'!$E$9:$E$56,Statistiques!A218,'Concert 2'!$I$9:$I$56)+SUMIF('Concert 3'!$E$9:$E$56,Statistiques!A218,'Concert 3'!$I$9:$I$56)+SUMIF('Concert 4'!$E$9:$E$56,Statistiques!A218,'Concert 4'!$I$9:$I$56)+SUMIF('Concert 5'!$E$9:$E$56,Statistiques!A218,'Concert 5'!$I$9:$I$56)","v":0},{"$f":"SUMIF('Concert 1'!$E$9:$E$56,Statistiques!A218,'Concert 1'!$J$9:$J$56)+SUMIF('Concert 2'!$E$9:$E$56,Statistiques!A218,'Concert 2'!$J$9:$J$56)+SUMIF('Concert 3'!$E$9:$E$56,Statistiques!A218,'Concert 3'!$J$9:$J$56)+SUMIF('Concert 4'!$E$9:$E$56,Statistiques!A218,'Concert 4'!$J$9:$J$56)+SUMIF('Concert 5'!$E$9:$E$56,Statistiques!A218,'Concert 5'!$J$9:$J$56)","v":0},null,null,{"$f":"SUMIF('Concert 1'!$E$9:$E$56,Statistiques!A218,'Concert 1'!$I$9:$I$56)","v":0},{"$f":"SUMIF('Concert 1'!$E$9:$E$56,Statistiques!A218,'Concert 1'!$J$9:$J$56)","v":0},{"$f":"SUMIF('Concert 2'!$E$9:$E$56,Statistiques!A218,'Concert 2'!$I$9:$I$56)","v":0},{"$f":"SUMIF('Concert 2'!$E$9:$E$56,Statistiques!A218,'Concert 2'!$J$9:$J$56)","v":0},{"$f":"SUMIF('Concert 3'!$E$9:$E$56,Statistiques!A218,'Concert 3'!$I$9:$I$56)","v":0},{"$f":"SUMIF('Concert 3'!$E$9:$E$56,Statistiques!A218,'Concert 3'!$J$9:$J$56)","v":0},{"$f":"SUMIF('Concert 4'!$E$9:$E$56,Statistiques!A218,'Concert 4'!$I$9:$I$56)","v":0},{"$f":"SUMIF('Concert 4'!$E$9:$E$56,Statistiques!A218,'Concert 4'!$J$9:$J$56)","v":0},{"$f":"SUMIF('Concert 5'!$E$9:$E$56,Statistiques!A218,'Concert 5'!$I$9:$I$56)","v":0},{"$f":"SUMIF('Concert 5'!$E$9:$E$56,Statistiques!A218,'Concert 5'!$J$9:$J$56)","v":0}]
[{"$f":"Ecoles!A215","v":0},{"$f":"Ecoles!B215","v":0},{"$f":"Ecoles!C215","v":0},null,{"$f":"SUMIF('Concert 1'!$E$9:$E$56,Statistiques!A219,'Concert 1'!$I$9:$I$56)+SUMIF('Concert 2'!$E$9:$E$56,Statistiques!A219,'Concert 2'!$I$9:$I$56)+SUMIF('Concert 3'!$E$9:$E$56,Statistiques!A219,'Concert 3'!$I$9:$I$56)+SUMIF('Concert 4'!$E$9:$E$56,Statistiques!A219,'Concert 4'!$I$9:$I$56)+SUMIF('Concert 5'!$E$9:$E$56,Statistiques!A219,'Concert 5'!$I$9:$I$56)","v":0},{"$f":"SUMIF('Concert 1'!$E$9:$E$56,Statistiques!A219,'Concert 1'!$J$9:$J$56)+SUMIF('Concert 2'!$E$9:$E$56,Statistiques!A219,'Concert 2'!$J$9:$J$56)+SUMIF('Concert 3'!$E$9:$E$56,Statistiques!A219,'Concert 3'!$J$9:$J$56)+SUMIF('Concert 4'!$E$9:$E$56,Statistiques!A219,'Concert 4'!$J$9:$J$56)+SUMIF('Concert 5'!$E$9:$E$56,Statistiques!A219,'Concert 5'!$J$9:$J$56)","v":0},null,null,{"$f":"SUMIF('Concert 1'!$E$9:$E$56,Statistiques!A219,'Concert 1'!$I$9:$I$56)","v":0},{"$f":"SUMIF('Concert 1'!$E$9:$E$56,Statistiques!A219,'Concert 1'!$J$9:$J$56)","v":0},{"$f":"SUMIF('Concert 2'!$E$9:$E$56,Statistiques!A219,'Concert 2'!$I$9:$I$56)","v":0},{"$f":"SUMIF('Concert 2'!$E$9:$E$56,Statistiques!A219,'Concert 2'!$J$9:$J$56)","v":0},{"$f":"SUMIF('Concert 3'!$E$9:$E$56,Statistiques!A219,'Concert 3'!$I$9:$I$56)","v":0},{"$f":"SUMIF('Concert 3'!$E$9:$E$56,Statistiques!A219,'Concert 3'!$J$9:$J$56)","v":0},{"$f":"SUMIF('Concert 4'!$E$9:$E$56,Statistiques!A219,'Concert 4'!$I$9:$I$56)","v":0},{"$f":"SUMIF('Concert 4'!$E$9:$E$56,Statistiques!A219,'Concert 4'!$J$9:$J$56)","v":0},{"$f":"SUMIF('Concert 5'!$E$9:$E$56,Statistiques!A219,'Concert 5'!$I$9:$I$56)","v":0},{"$f":"SUMIF('Concert 5'!$E$9:$E$56,Statistiques!A219,'Concert 5'!$J$9:$J$56)","v":0}]
[{"$f":"Ecoles!A216","v":0},{"$f":"Ecoles!B216","v":0},{"$f":"Ecoles!C216","v":0},null,{"$f":"SUMIF('Concert 1'!$E$9:$E$56,Statistiques!A220,'Concert 1'!$I$9:$I$56)+SUMIF('Concert 2'!$E$9:$E$56,Statistiques!A220,'Concert 2'!$I$9:$I$56)+SUMIF('Concert 3'!$E$9:$E$56,Statistiques!A220,'Concert 3'!$I$9:$I$56)+SUMIF('Concert 4'!$E$9:$E$56,Statistiques!A220,'Concert 4'!$I$9:$I$56)+SUMIF('Concert 5'!$E$9:$E$56,Statistiques!A220,'Concert 5'!$I$9:$I$56)","v":0},{"$f":"SUMIF('Concert 1'!$E$9:$E$56,Statistiques!A220,'Concert 1'!$J$9:$J$56)+SUMIF('Concert 2'!$E$9:$E$56,Statistiques!A220,'Concert 2'!$J$9:$J$56)+SUMIF('Concert 3'!$E$9:$E$56,Statistiques!A220,'Concert 3'!$J$9:$J$56)+SUMIF('Concert 4'!$E$9:$E$56,Statistiques!A220,'Concert 4'!$J$9:$J$56)+SUMIF('Concert 5'!$E$9:$E$56,Statistiques!A220,'Concert 5'!$J$9:$J$56)","v":0},null,null,{"$f":"SUMIF('Concert 1'!$E$9:$E$56,Statistiques!A220,'Concert 1'!$I$9:$I$56)","v":0},{"$f":"SUMIF('Concert 1'!$E$9:$E$56,Statistiques!A220,'Concert 1'!$J$9:$J$56)","v":0},{"$f":"SUMIF('Concert 2'!$E$9:$E$56,Statistiques!A220,'Concert 2'!$I$9:$I$56)","v":0},{"$f":"SUMIF('Concert 2'!$E$9:$E$56,Statistiques!A220,'Concert 2'!$J$9:$J$56)","v":0},{"$f":"SUMIF('Concert 3'!$E$9:$E$56,Statistiques!A220,'Concert 3'!$I$9:$I$56)","v":0},{"$f":"SUMIF('Concert 3'!$E$9:$E$56,Statistiques!A220,'Concert 3'!$J$9:$J$56)","v":0},{"$f":"SUMIF('Concert 4'!$E$9:$E$56,Statistiques!A220,'Concert 4'!$I$9:$I$56)","v":0},{"$f":"SUMIF('Concert 4'!$E$9:$E$56,Statistiques!A220,'Concert 4'!$J$9:$J$56)","v":0},{"$f":"SUMIF('Concert 5'!$E$9:$E$56,Statistiques!A220,'Concert 5'!$I$9:$I$56)","v":0},{"$f":"SUMIF('Concert 5'!$E$9:$E$56,Statistiques!A220,'Concert 5'!$J$9:$J$56)","v":0}]
[{"$f":"Ecoles!A217","v":0},{"$f":"Ecoles!B217","v":0},{"$f":"Ecoles!C217","v":0},null,{"$f":"SUMIF('Concert 1'!$E$9:$E$56,Statistiques!A221,'Concert 1'!$I$9:$I$56)+SUMIF('Concert 2'!$E$9:$E$56,Statistiques!A221,'Concert 2'!$I$9:$I$56)+SUMIF('Concert 3'!$E$9:$E$56,Statistiques!A221,'Concert 3'!$I$9:$I$56)+SUMIF('Concert 4'!$E$9:$E$56,Statistiques!A221,'Concert 4'!$I$9:$I$56)+SUMIF('Concert 5'!$E$9:$E$56,Statistiques!A221,'Concert 5'!$I$9:$I$56)","v":0},{"$f":"SUMIF('Concert 1'!$E$9:$E$56,Statistiques!A221,'Concert 1'!$J$9:$J$56)+SUMIF('Concert 2'!$E$9:$E$56,Statistiques!A221,'Concert 2'!$J$9:$J$56)+SUMIF('Concert 3'!$E$9:$E$56,Statistiques!A221,'Concert 3'!$J$9:$J$56)+SUMIF('Concert 4'!$E$9:$E$56,Statistiques!A221,'Concert 4'!$J$9:$J$56)+SUMIF('Concert 5'!$E$9:$E$56,Statistiques!A221,'Concert 5'!$J$9:$J$56)","v":0},null,null,{"$f":"SUMIF('Concert 1'!$E$9:$E$56,Statistiques!A221,'Concert 1'!$I$9:$I$56)","v":0},{"$f":"SUMIF('Concert 1'!$E$9:$E$56,Statistiques!A221,'Concert 1'!$J$9:$J$56)","v":0},{"$f":"SUMIF('Concert 2'!$E$9:$E$56,Statistiques!A221,'Concert 2'!$I$9:$I$56)","v":0},{"$f":"SUMIF('Concert 2'!$E$9:$E$56,Statistiques!A221,'Concert 2'!$J$9:$J$56)","v":0},{"$f":"SUMIF('Concert 3'!$E$9:$E$56,Statistiques!A221,'Concert 3'!$I$9:$I$56)","v":0},{"$f":"SUMIF('Concert 3'!$E$9:$E$56,Statistiques!A221,'Concert 3'!$J$9:$J$56)","v":0},{"$f":"SUMIF('Concert 4'!$E$9:$E$56,Statistiques!A221,'Concert 4'!$I$9:$I$56)","v":0},{"$f":"SUMIF('Concert 4'!$E$9:$E$56,Statistiques!A221,'Concert 4'!$J$9:$J$56)","v":0},{"$f":"SUMIF('Concert 5'!$E$9:$E$56,Statistiques!A221,'Concert 5'!$I$9:$I$56)","v":0},{"$f":"SUMIF('Concert 5'!$E$9:$E$56,Statistiques!A221,'Concert 5'!$J$9:$J$56)","v":0}]
[{"$f":"Ecoles!A218","v":0},{"$f":"Ecoles!B218","v":0},{"$f":"Ecoles!C218","v":0},null,{"$f":"SUMIF('Concert 1'!$E$9:$E$56,Statistiques!A222,'Concert 1'!$I$9:$I$56)+SUMIF('Concert 2'!$E$9:$E$56,Statistiques!A222,'Concert 2'!$I$9:$I$56)+SUMIF('Concert 3'!$E$9:$E$56,Statistiques!A222,'Concert 3'!$I$9:$I$56)+SUMIF('Concert 4'!$E$9:$E$56,Statistiques!A222,'Concert 4'!$I$9:$I$56)+SUMIF('Concert 5'!$E$9:$E$56,Statistiques!A222,'Concert 5'!$I$9:$I$56)","v":0},{"$f":"SUMIF('Concert 1'!$E$9:$E$56,Statistiques!A222,'Concert 1'!$J$9:$J$56)+SUMIF('Concert 2'!$E$9:$E$56,Statistiques!A222,'Concert 2'!$J$9:$J$56)+SUMIF('Concert 3'!$E$9:$E$56,Statistiques!A222,'Concert 3'!$J$9:$J$56)+SUMIF('Concert 4'!$E$9:$E$56,Statistiques!A222,'Concert 4'!$J$9:$J$56)+SUMIF('Concert 5'!$E$9:$E$56,Statistiques!A222,'Concert 5'!$J$9:$J$56)","v":0},null,null,{"$f":"SUMIF('Concert 1'!$E$9:$E$56,Statistiques!A222,'Concert 1'!$I$9:$I$56)","v":0},{"$f":"SUMIF('Concert 1'!$E$9:$E$56,Statistiques!A222,'Concert 1'!$J$9:$J$56)","v":0},{"$f":"SUMIF('Concert 2'!$E$9:$E$56,Statistiques!A222,'Concert 2'!$I$9:$I$56)","v":0},{"$f":"SUMIF('Concert 2'!$E$9:$E$56,Statistiques!A222,'Concert 2'!$J$9:$J$56)","v":0},{"$f":"SUMIF('Concert 3'!$E$9:$E$56,Statistiques!A222,'Concert 3'!$I$9:$I$56)","v":0},{"$f":"SUMIF('Concert 3'!$E$9:$E$56,Statistiques!A222,'Concert 3'!$J$9:$J$56)","v":0},{"$f":"SUMIF('Concert 4'!$E$9:$E$56,Statistiques!A222,'Concert 4'!$I$9:$I$56)","v":0},{"$f":"SUMIF('Concert 4'!$E$9:$E$56,Statistiques!A222,'Concert 4'!$J$9:$J$56)","v":0},{"$f":"SUMIF('Concert 5'!$E$9:$E$56,Statistiques!A222,'Concert 5'!$I$9:$I$56)","v":0},{"$f":"SUMIF('Concert 5'!$E$9:$E$56,Statistiques!A222,'Concert 5'!$J$9:$J$56)","v":0}]
[{"$f":"Ecoles!A219","v":0},{"$f":"Ecoles!B219","v":0},{"$f":"Ecoles!C219","v":0},null,{"$f":"SUMIF('Concert 1'!$E$9:$E$56,Statistiques!A223,'Concert 1'!$I$9:$I$56)+SUMIF('Concert 2'!$E$9:$E$56,Statistiques!A223,'Concert 2'!$I$9:$I$56)+SUMIF('Concert 3'!$E$9:$E$56,Statistiques!A223,'Concert 3'!$I$9:$I$56)+SUMIF('Concert 4'!$E$9:$E$56,Statistiques!A223,'Concert 4'!$I$9:$I$56)+SUMIF('Concert 5'!$E$9:$E$56,Statistiques!A223,'Concert 5'!$I$9:$I$56)","v":0},{"$f":"SUMIF('Concert 1'!$E$9:$E$56,Statistiques!A223,'Concert 1'!$J$9:$J$56)+SUMIF('Concert 2'!$E$9:$E$56,Statistiques!A223,'Concert 2'!$J$9:$J$56)+SUMIF('Concert 3'!$E$9:$E$56,Statistiques!A223,'Concert 3'!$J$9:$J$56)+SUMIF('Concert 4'!$E$9:$E$56,Statistiques!A223,'Concert 4'!$J$9:$J$56)+SUMIF('Concert 5'!$E$9:$E$56,Statistiques!A223,'Concert 5'!$J$9:$J$56)","v":0},null,null,{"$f":"SUMIF('Concert 1'!$E$9:$E$56,Statistiques!A223,'Concert 1'!$I$9:$I$56)","v":0},{"$f":"SUMIF('Concert 1'!$E$9:$E$56,Statistiques!A223,'Concert 1'!$J$9:$J$56)","v":0},{"$f":"SUMIF('Concert 2'!$E$9:$E$56,Statistiques!A223,'Concert 2'!$I$9:$I$56)","v":0},{"$f":"SUMIF('Concert 2'!$E$9:$E$56,Statistiques!A223,'Concert 2'!$J$9:$J$56)","v":0},{"$f":"SUMIF('Concert 3'!$E$9:$E$56,Statistiques!A223,'Concert 3'!$I$9:$I$56)","v":0},{"$f":"SUMIF('Concert 3'!$E$9:$E$56,Statistiques!A223,'Concert 3'!$J$9:$J$56)","v":0},{"$f":"SUMIF('Concert 4'!$E$9:$E$56,Statistiques!A223,'Concert 4'!$I$9:$I$56)","v":0},{"$f":"SUMIF('Concert 4'!$E$9:$E$56,Statistiques!A223,'Concert 4'!$J$9:$J$56)","v":0},{"$f":"SUMIF('Concert 5'!$E$9:$E$56,Statistiques!A223,'Concert 5'!$I$9:$I$56)","v":0},{"$f":"SUMIF('Concert 5'!$E$9:$E$56,Statistiques!A223,'Concert 5'!$J$9:$J$56)","v":0}]
[{"$f":"Ecoles!A220","v":0},{"$f":"Ecoles!B220","v":0},{"$f":"Ecoles!C220","v":0},null,{"$f":"SUMIF('Concert 1'!$E$9:$E$56,Statistiques!A224,'Concert 1'!$I$9:$I$56)+SUMIF('Concert 2'!$E$9:$E$56,Statistiques!A224,'Concert 2'!$I$9:$I$56)+SUMIF('Concert 3'!$E$9:$E$56,Statistiques!A224,'Concert 3'!$I$9:$I$56)+SUMIF('Concert 4'!$E$9:$E$56,Statistiques!A224,'Concert 4'!$I$9:$I$56)+SUMIF('Concert 5'!$E$9:$E$56,Statistiques!A224,'Concert 5'!$I$9:$I$56)","v":0},{"$f":"SUMIF('Concert 1'!$E$9:$E$56,Statistiques!A224,'Concert 1'!$J$9:$J$56)+SUMIF('Concert 2'!$E$9:$E$56,Statistiques!A224,'Concert 2'!$J$9:$J$56)+SUMIF('Concert 3'!$E$9:$E$56,Statistiques!A224,'Concert 3'!$J$9:$J$56)+SUMIF('Concert 4'!$E$9:$E$56,Statistiques!A224,'Concert 4'!$J$9:$J$56)+SUMIF('Concert 5'!$E$9:$E$56,Statistiques!A224,'Concert 5'!$J$9:$J$56)","v":0},null,null,{"$f":"SUMIF('Concert 1'!$E$9:$E$56,Statistiques!A224,'Concert 1'!$I$9:$I$56)","v":0},{"$f":"SUMIF('Concert 1'!$E$9:$E$56,Statistiques!A224,'Concert 1'!$J$9:$J$56)","v":0},{"$f":"SUMIF('Concert 2'!$E$9:$E$56,Statistiques!A224,'Concert 2'!$I$9:$I$56)","v":0},{"$f":"SUMIF('Concert 2'!$E$9:$E$56,Statistiques!A224,'Concert 2'!$J$9:$J$56)","v":0},{"$f":"SUMIF('Concert 3'!$E$9:$E$56,Statistiques!A224,'Concert 3'!$I$9:$I$56)","v":0},{"$f":"SUMIF('Concert 3'!$E$9:$E$56,Statistiques!A224,'Concert 3'!$J$9:$J$56)","v":0},{"$f":"SUMIF('Concert 4'!$E$9:$E$56,Statistiques!A224,'Concert 4'!$I$9:$I$56)","v":0},{"$f":"SUMIF('Concert 4'!$E$9:$E$56,Statistiques!A224,'Concert 4'!$J$9:$J$56)","v":0},{"$f":"SUMIF('Concert 5'!$E$9:$E$56,Statistiques!A224,'Concert 5'!$I$9:$I$56)","v":0},{"$f":"SUMIF('Concert 5'!$E$9:$E$56,Statistiques!A224,'Concert 5'!$J$9:$J$56)","v":0}]
[{"$f":"Ecoles!A221","v":0},{"$f":"Ecoles!B221","v":0},{"$f":"Ecoles!C221","v":0},null,{"$f":"SUMIF('Concert 1'!$E$9:$E$56,Statistiques!A225,'Concert 1'!$I$9:$I$56)+SUMIF('Concert 2'!$E$9:$E$56,Statistiques!A225,'Concert 2'!$I$9:$I$56)+SUMIF('Concert 3'!$E$9:$E$56,Statistiques!A225,'Concert 3'!$I$9:$I$56)+SUMIF('Concert 4'!$E$9:$E$56,Statistiques!A225,'Concert 4'!$I$9:$I$56)+SUMIF('Concert 5'!$E$9:$E$56,Statistiques!A225,'Concert 5'!$I$9:$I$56)","v":0},{"$f":"SUMIF('Concert 1'!$E$9:$E$56,Statistiques!A225,'Concert 1'!$J$9:$J$56)+SUMIF('Concert 2'!$E$9:$E$56,Statistiques!A225,'Concert 2'!$J$9:$J$56)+SUMIF('Concert 3'!$E$9:$E$56,Statistiques!A225,'Concert 3'!$J$9:$J$56)+SUMIF('Concert 4'!$E$9:$E$56,Statistiques!A225,'Concert 4'!$J$9:$J$56)+SUMIF('Concert 5'!$E$9:$E$56,Statistiques!A225,'Concert 5'!$J$9:$J$56)","v":0},null,null,{"$f":"SUMIF('Concert 1'!$E$9:$E$56,Statistiques!A225,'Concert 1'!$I$9:$I$56)","v":0},{"$f":"SUMIF('Concert 1'!$E$9:$E$56,Statistiques!A225,'Concert 1'!$J$9:$J$56)","v":0},{"$f":"SUMIF('Concert 2'!$E$9:$E$56,Statistiques!A225,'Concert 2'!$I$9:$I$56)","v":0},{"$f":"SUMIF('Concert 2'!$E$9:$E$56,Statistiques!A225,'Concert 2'!$J$9:$J$56)","v":0},{"$f":"SUMIF('Concert 3'!$E$9:$E$56,Statistiques!A225,'Concert 3'!$I$9:$I$56)","v":0},{"$f":"SUMIF('Concert 3'!$E$9:$E$56,Statistiques!A225,'Concert 3'!$J$9:$J$56)","v":0},{"$f":"SUMIF('Concert 4'!$E$9:$E$56,Statistiques!A225,'Concert 4'!$I$9:$I$56)","v":0},{"$f":"SUMIF('Concert 4'!$E$9:$E$56,Statistiques!A225,'Concert 4'!$J$9:$J$56)","v":0},{"$f":"SUMIF('Concert 5'!$E$9:$E$56,Statistiques!A225,'Concert 5'!$I$9:$I$56)","v":0},{"$f":"SUMIF('Concert 5'!$E$9:$E$56,Statistiques!A225,'Concert 5'!$J$9:$J$56)","v":0}]
[{"$f":"Ecoles!A222","v":0},{"$f":"Ecoles!B222","v":0},{"$f":"Ecoles!C222","v":0},null,{"$f":"SUMIF('Concert 1'!$E$9:$E$56,Statistiques!A226,'Concert 1'!$I$9:$I$56)+SUMIF('Concert 2'!$E$9:$E$56,Statistiques!A226,'Concert 2'!$I$9:$I$56)+SUMIF('Concert 3'!$E$9:$E$56,Statistiques!A226,'Concert 3'!$I$9:$I$56)+SUMIF('Concert 4'!$E$9:$E$56,Statistiques!A226,'Concert 4'!$I$9:$I$56)+SUMIF('Concert 5'!$E$9:$E$56,Statistiques!A226,'Concert 5'!$I$9:$I$56)","v":0},{"$f":"SUMIF('Concert 1'!$E$9:$E$56,Statistiques!A226,'Concert 1'!$J$9:$J$56)+SUMIF('Concert 2'!$E$9:$E$56,Statistiques!A226,'Concert 2'!$J$9:$J$56)+SUMIF('Concert 3'!$E$9:$E$56,Statistiques!A226,'Concert 3'!$J$9:$J$56)+SUMIF('Concert 4'!$E$9:$E$56,Statistiques!A226,'Concert 4'!$J$9:$J$56)+SUMIF('Concert 5'!$E$9:$E$56,Statistiques!A226,'Concert 5'!$J$9:$J$56)","v":0},null,null,{"$f":"SUMIF('Concert 1'!$E$9:$E$56,Statistiques!A226,'Concert 1'!$I$9:$I$56)","v":0},{"$f":"SUMIF('Concert 1'!$E$9:$E$56,Statistiques!A226,'Concert 1'!$J$9:$J$56)","v":0},{"$f":"SUMIF('Concert 2'!$E$9:$E$56,Statistiques!A226,'Concert 2'!$I$9:$I$56)","v":0},{"$f":"SUMIF('Concert 2'!$E$9:$E$56,Statistiques!A226,'Concert 2'!$J$9:$J$56)","v":0},{"$f":"SUMIF('Concert 3'!$E$9:$E$56,Statistiques!A226,'Concert 3'!$I$9:$I$56)","v":0},{"$f":"SUMIF('Concert 3'!$E$9:$E$56,Statistiques!A226,'Concert 3'!$J$9:$J$56)","v":0},{"$f":"SUMIF('Concert 4'!$E$9:$E$56,Statistiques!A226,'Concert 4'!$I$9:$I$56)","v":0},{"$f":"SUMIF('Concert 4'!$E$9:$E$56,Statistiques!A226,'Concert 4'!$J$9:$J$56)","v":0},{"$f":"SUMIF('Concert 5'!$E$9:$E$56,Statistiques!A226,'Concert 5'!$I$9:$I$56)","v":0},{"$f":"SUMIF('Concert 5'!$E$9:$E$56,Statistiques!A226,'Concert 5'!$J$9:$J$56)","v":0}]
[{"$f":"Ecoles!A223","v":0},{"$f":"Ecoles!B223","v":0},{"$f":"Ecoles!C223","v":0},null,{"$f":"SUMIF('Concert 1'!$E$9:$E$56,Statistiques!A227,'Concert 1'!$I$9:$I$56)+SUMIF('Concert 2'!$E$9:$E$56,Statistiques!A227,'Concert 2'!$I$9:$I$56)+SUMIF('Concert 3'!$E$9:$E$56,Statistiques!A227,'Concert 3'!$I$9:$I$56)+SUMIF('Concert 4'!$E$9:$E$56,Statistiques!A227,'Concert 4'!$I$9:$I$56)+SUMIF('Concert 5'!$E$9:$E$56,Statistiques!A227,'Concert 5'!$I$9:$I$56)","v":0},{"$f":"SUMIF('Concert 1'!$E$9:$E$56,Statistiques!A227,'Concert 1'!$J$9:$J$56)+SUMIF('Concert 2'!$E$9:$E$56,Statistiques!A227,'Concert 2'!$J$9:$J$56)+SUMIF('Concert 3'!$E$9:$E$56,Statistiques!A227,'Concert 3'!$J$9:$J$56)+SUMIF('Concert 4'!$E$9:$E$56,Statistiques!A227,'Concert 4'!$J$9:$J$56)+SUMIF('Concert 5'!$E$9:$E$56,Statistiques!A227,'Concert 5'!$J$9:$J$56)","v":0},null,null,{"$f":"SUMIF('Concert 1'!$E$9:$E$56,Statistiques!A227,'Concert 1'!$I$9:$I$56)","v":0},{"$f":"SUMIF('Concert 1'!$E$9:$E$56,Statistiques!A227,'Concert 1'!$J$9:$J$56)","v":0},{"$f":"SUMIF('Concert 2'!$E$9:$E$56,Statistiques!A227,'Concert 2'!$I$9:$I$56)","v":0},{"$f":"SUMIF('Concert 2'!$E$9:$E$56,Statistiques!A227,'Concert 2'!$J$9:$J$56)","v":0},{"$f":"SUMIF('Concert 3'!$E$9:$E$56,Statistiques!A227,'Concert 3'!$I$9:$I$56)","v":0},{"$f":"SUMIF('Concert 3'!$E$9:$E$56,Statistiques!A227,'Concert 3'!$J$9:$J$56)","v":0},{"$f":"SUMIF('Concert 4'!$E$9:$E$56,Statistiques!A227,'Concert 4'!$I$9:$I$56)","v":0},{"$f":"SUMIF('Concert 4'!$E$9:$E$56,Statistiques!A227,'Concert 4'!$J$9:$J$56)","v":0},{"$f":"SUMIF('Concert 5'!$E$9:$E$56,Statistiques!A227,'Concert 5'!$I$9:$I$56)","v":0},{"$f":"SUMIF('Concert 5'!$E$9:$E$56,Statistiques!A227,'Concert 5'!$J$9:$J$56)","v":0}]
[{"$f":"Ecoles!A224","v":0},{"$f":"Ecoles!B224","v":0},{"$f":"Ecoles!C224","v":0},null,{"$f":"SUMIF('Concert 1'!$E$9:$E$56,Statistiques!A228,'Concert 1'!$I$9:$I$56)+SUMIF('Concert 2'!$E$9:$E$56,Statistiques!A228,'Concert 2'!$I$9:$I$56)+SUMIF('Concert 3'!$E$9:$E$56,Statistiques!A228,'Concert 3'!$I$9:$I$56)+SUMIF('Concert 4'!$E$9:$E$56,Statistiques!A228,'Concert 4'!$I$9:$I$56)+SUMIF('Concert 5'!$E$9:$E$56,Statistiques!A228,'Concert 5'!$I$9:$I$56)","v":0},{"$f":"SUMIF('Concert 1'!$E$9:$E$56,Statistiques!A228,'Concert 1'!$J$9:$J$56)+SUMIF('Concert 2'!$E$9:$E$56,Statistiques!A228,'Concert 2'!$J$9:$J$56)+SUMIF('Concert 3'!$E$9:$E$56,Statistiques!A228,'Concert 3'!$J$9:$J$56)+SUMIF('Concert 4'!$E$9:$E$56,Statistiques!A228,'Concert 4'!$J$9:$J$56)+SUMIF('Concert 5'!$E$9:$E$56,Statistiques!A228,'Concert 5'!$J$9:$J$56)","v":0},null,null,{"$f":"SUMIF('Concert 1'!$E$9:$E$56,Statistiques!A228,'Concert 1'!$I$9:$I$56)","v":0},{"$f":"SUMIF('Concert 1'!$E$9:$E$56,Statistiques!A228,'Concert 1'!$J$9:$J$56)","v":0},{"$f":"SUMIF('Concert 2'!$E$9:$E$56,Statistiques!A228,'Concert 2'!$I$9:$I$56)","v":0},{"$f":"SUMIF('Concert 2'!$E$9:$E$56,Statistiques!A228,'Concert 2'!$J$9:$J$56)","v":0},{"$f":"SUMIF('Concert 3'!$E$9:$E$56,Statistiques!A228,'Concert 3'!$I$9:$I$56)","v":0},{"$f":"SUMIF('Concert 3'!$E$9:$E$56,Statistiques!A228,'Concert 3'!$J$9:$J$56)","v":0},{"$f":"SUMIF('Concert 4'!$E$9:$E$56,Statistiques!A228,'Concert 4'!$I$9:$I$56)","v":0},{"$f":"SUMIF('Concert 4'!$E$9:$E$56,Statistiques!A228,'Concert 4'!$J$9:$J$56)","v":0},{"$f":"SUMIF('Concert 5'!$E$9:$E$56,Statistiques!A228,'Concert 5'!$I$9:$I$56)","v":0},{"$f":"SUMIF('Concert 5'!$E$9:$E$56,Statistiques!A228,'Concert 5'!$J$9:$J$56)","v":0}]
[{"$f":"Ecoles!A225","v":0},{"$f":"Ecoles!B225","v":0},{"$f":"Ecoles!C225","v":0},null,{"$f":"SUMIF('Concert 1'!$E$9:$E$56,Statistiques!A229,'Concert 1'!$I$9:$I$56)+SUMIF('Concert 2'!$E$9:$E$56,Statistiques!A229,'Concert 2'!$I$9:$I$56)+SUMIF('Concert 3'!$E$9:$E$56,Statistiques!A229,'Concert 3'!$I$9:$I$56)+SUMIF('Concert 4'!$E$9:$E$56,Statistiques!A229,'Concert 4'!$I$9:$I$56)+SUMIF('Concert 5'!$E$9:$E$56,Statistiques!A229,'Concert 5'!$I$9:$I$56)","v":0},{"$f":"SUMIF('Concert 1'!$E$9:$E$56,Statistiques!A229,'Concert 1'!$J$9:$J$56)+SUMIF('Concert 2'!$E$9:$E$56,Statistiques!A229,'Concert 2'!$J$9:$J$56)+SUMIF('Concert 3'!$E$9:$E$56,Statistiques!A229,'Concert 3'!$J$9:$J$56)+SUMIF('Concert 4'!$E$9:$E$56,Statistiques!A229,'Concert 4'!$J$9:$J$56)+SUMIF('Concert 5'!$E$9:$E$56,Statistiques!A229,'Concert 5'!$J$9:$J$56)","v":0},null,null,{"$f":"SUMIF('Concert 1'!$E$9:$E$56,Statistiques!A229,'Concert 1'!$I$9:$I$56)","v":0},{"$f":"SUMIF('Concert 1'!$E$9:$E$56,Statistiques!A229,'Concert 1'!$J$9:$J$56)","v":0},{"$f":"SUMIF('Concert 2'!$E$9:$E$56,Statistiques!A229,'Concert 2'!$I$9:$I$56)","v":0},{"$f":"SUMIF('Concert 2'!$E$9:$E$56,Statistiques!A229,'Concert 2'!$J$9:$J$56)","v":0},{"$f":"SUMIF('Concert 3'!$E$9:$E$56,Statistiques!A229,'Concert 3'!$I$9:$I$56)","v":0},{"$f":"SUMIF('Concert 3'!$E$9:$E$56,Statistiques!A229,'Concert 3'!$J$9:$J$56)","v":0},{"$f":"SUMIF('Concert 4'!$E$9:$E$56,Statistiques!A229,'Concert 4'!$I$9:$I$56)","v":0},{"$f":"SUMIF('Concert 4'!$E$9:$E$56,Statistiques!A229,'Concert 4'!$J$9:$J$56)","v":0},{"$f":"SUMIF('Concert 5'!$E$9:$E$56,Statistiques!A229,'Concert 5'!$I$9:$I$56)","v":0},{"$f":"SUMIF('Concert 5'!$E$9:$E$56,Statistiques!A229,'Concert 5'!$J$9:$J$56)","v":0}]
[{"$f":"Ecoles!A226","v":0},{"$f":"Ecoles!B226","v":0},{"$f":"Ecoles!C226","v":0},null,{"$f":"SUMIF('Concert 1'!$E$9:$E$56,Statistiques!A230,'Concert 1'!$I$9:$I$56)+SUMIF('Concert 2'!$E$9:$E$56,Statistiques!A230,'Concert 2'!$I$9:$I$56)+SUMIF('Concert 3'!$E$9:$E$56,Statistiques!A230,'Concert 3'!$I$9:$I$56)+SUMIF('Concert 4'!$E$9:$E$56,Statistiques!A230,'Concert 4'!$I$9:$I$56)+SUMIF('Concert 5'!$E$9:$E$56,Statistiques!A230,'Concert 5'!$I$9:$I$56)","v":0},{"$f":"SUMIF('Concert 1'!$E$9:$E$56,Statistiques!A230,'Concert 1'!$J$9:$J$56)+SUMIF('Concert 2'!$E$9:$E$56,Statistiques!A230,'Concert 2'!$J$9:$J$56)+SUMIF('Concert 3'!$E$9:$E$56,Statistiques!A230,'Concert 3'!$J$9:$J$56)+SUMIF('Concert 4'!$E$9:$E$56,Statistiques!A230,'Concert 4'!$J$9:$J$56)+SUMIF('Concert 5'!$E$9:$E$56,Statistiques!A230,'Concert 5'!$J$9:$J$56)","v":0},null,null,{"$f":"SUMIF('Concert 1'!$E$9:$E$56,Statistiques!A230,'Concert 1'!$I$9:$I$56)","v":0},{"$f":"SUMIF('Concert 1'!$E$9:$E$56,Statistiques!A230,'Concert 1'!$J$9:$J$56)","v":0},{"$f":"SUMIF('Concert 2'!$E$9:$E$56,Statistiques!A230,'Concert 2'!$I$9:$I$56)","v":0},{"$f":"SUMIF('Concert 2'!$E$9:$E$56,Statistiques!A230,'Concert 2'!$J$9:$J$56)","v":0},{"$f":"SUMIF('Concert 3'!$E$9:$E$56,Statistiques!A230,'Concert 3'!$I$9:$I$56)","v":0},{"$f":"SUMIF('Concert 3'!$E$9:$E$56,Statistiques!A230,'Concert 3'!$J$9:$J$56)","v":0},{"$f":"SUMIF('Concert 4'!$E$9:$E$56,Statistiques!A230,'Concert 4'!$I$9:$I$56)","v":0},{"$f":"SUMIF('Concert 4'!$E$9:$E$56,Statistiques!A230,'Concert 4'!$J$9:$J$56)","v":0},{"$f":"SUMIF('Concert 5'!$E$9:$E$56,Statistiques!A230,'Concert 5'!$I$9:$I$56)","v":0},{"$f":"SUMIF('Concert 5'!$E$9:$E$56,Statistiques!A230,'Concert 5'!$J$9:$J$56)","v":0}]
[{"$f":"Ecoles!A227","v":0},{"$f":"Ecoles!B227","v":0},{"$f":"Ecoles!C227","v":0},null,{"$f":"SUMIF('Concert 1'!$E$9:$E$56,Statistiques!A231,'Concert 1'!$I$9:$I$56)+SUMIF('Concert 2'!$E$9:$E$56,Statistiques!A231,'Concert 2'!$I$9:$I$56)+SUMIF('Concert 3'!$E$9:$E$56,Statistiques!A231,'Concert 3'!$I$9:$I$56)+SUMIF('Concert 4'!$E$9:$E$56,Statistiques!A231,'Concert 4'!$I$9:$I$56)+SUMIF('Concert 5'!$E$9:$E$56,Statistiques!A231,'Concert 5'!$I$9:$I$56)","v":0},{"$f":"SUMIF('Concert 1'!$E$9:$E$56,Statistiques!A231,'Concert 1'!$J$9:$J$56)+SUMIF('Concert 2'!$E$9:$E$56,Statistiques!A231,'Concert 2'!$J$9:$J$56)+SUMIF('Concert 3'!$E$9:$E$56,Statistiques!A231,'Concert 3'!$J$9:$J$56)+SUMIF('Concert 4'!$E$9:$E$56,Statistiques!A231,'Concert 4'!$J$9:$J$56)+SUMIF('Concert 5'!$E$9:$E$56,Statistiques!A231,'Concert 5'!$J$9:$J$56)","v":0},null,null,{"$f":"SUMIF('Concert 1'!$E$9:$E$56,Statistiques!A231,'Concert 1'!$I$9:$I$56)","v":0},{"$f":"SUMIF('Concert 1'!$E$9:$E$56,Statistiques!A231,'Concert 1'!$J$9:$J$56)","v":0},{"$f":"SUMIF('Concert 2'!$E$9:$E$56,Statistiques!A231,'Concert 2'!$I$9:$I$56)","v":0},{"$f":"SUMIF('Concert 2'!$E$9:$E$56,Statistiques!A231,'Concert 2'!$J$9:$J$56)","v":0},{"$f":"SUMIF('Concert 3'!$E$9:$E$56,Statistiques!A231,'Concert 3'!$I$9:$I$56)","v":0},{"$f":"SUMIF('Concert 3'!$E$9:$E$56,Statistiques!A231,'Concert 3'!$J$9:$J$56)","v":0},{"$f":"SUMIF('Concert 4'!$E$9:$E$56,Statistiques!A231,'Concert 4'!$I$9:$I$56)","v":0},{"$f":"SUMIF('Concert 4'!$E$9:$E$56,Statistiques!A231,'Concert 4'!$J$9:$J$56)","v":0},{"$f":"SUMIF('Concert 5'!$E$9:$E$56,Statistiques!A231,'Concert 5'!$I$9:$I$56)","v":0},{"$f":"SUMIF('Concert 5'!$E$9:$E$56,Statistiques!A231,'Concert 5'!$J$9:$J$56)","v":0}]
[{"$f":"Ecoles!A228","v":0},{"$f":"Ecoles!B228","v":0},{"$f":"Ecoles!C228","v":0},null,{"$f":"SUMIF('Concert 1'!$E$9:$E$56,Statistiques!A232,'Concert 1'!$I$9:$I$56)+SUMIF('Concert 2'!$E$9:$E$56,Statistiques!A232,'Concert 2'!$I$9:$I$56)+SUMIF('Concert 3'!$E$9:$E$56,Statistiques!A232,'Concert 3'!$I$9:$I$56)+SUMIF('Concert 4'!$E$9:$E$56,Statistiques!A232,'Concert 4'!$I$9:$I$56)+SUMIF('Concert 5'!$E$9:$E$56,Statistiques!A232,'Concert 5'!$I$9:$I$56)","v":0},{"$f":"SUMIF('Concert 1'!$E$9:$E$56,Statistiques!A232,'Concert 1'!$J$9:$J$56)+SUMIF('Concert 2'!$E$9:$E$56,Statistiques!A232,'Concert 2'!$J$9:$J$56)+SUMIF('Concert 3'!$E$9:$E$56,Statistiques!A232,'Concert 3'!$J$9:$J$56)+SUMIF('Concert 4'!$E$9:$E$56,Statistiques!A232,'Concert 4'!$J$9:$J$56)+SUMIF('Concert 5'!$E$9:$E$56,Statistiques!A232,'Concert 5'!$J$9:$J$56)","v":0},null,null,{"$f":"SUMIF('Concert 1'!$E$9:$E$56,Statistiques!A232,'Concert 1'!$I$9:$I$56)","v":0},{"$f":"SUMIF('Concert 1'!$E$9:$E$56,Statistiques!A232,'Concert 1'!$J$9:$J$56)","v":0},{"$f":"SUMIF('Concert 2'!$E$9:$E$56,Statistiques!A232,'Concert 2'!$I$9:$I$56)","v":0},{"$f":"SUMIF('Concert 2'!$E$9:$E$56,Statistiques!A232,'Concert 2'!$J$9:$J$56)","v":0},{"$f":"SUMIF('Concert 3'!$E$9:$E$56,Statistiques!A232,'Concert 3'!$I$9:$I$56)","v":0},{"$f":"SUMIF('Concert 3'!$E$9:$E$56,Statistiques!A232,'Concert 3'!$J$9:$J$56)","v":0},{"$f":"SUMIF('Concert 4'!$E$9:$E$56,Statistiques!A232,'Concert 4'!$I$9:$I$56)","v":0},{"$f":"SUMIF('Concert 4'!$E$9:$E$56,Statistiques!A232,'Concert 4'!$J$9:$J$56)","v":0},{"$f":"SUMIF('Concert 5'!$E$9:$E$56,Statistiques!A232,'Concert 5'!$I$9:$I$56)","v":0},{"$f":"SUMIF('Concert 5'!$E$9:$E$56,Statistiques!A232,'Concert 5'!$J$9:$J$56)","v":0}]
[{"$f":"Ecoles!A229","v":0},{"$f":"Ecoles!B229","v":0},{"$f":"Ecoles!C229","v":0},null,{"$f":"SUMIF('Concert 1'!$E$9:$E$56,Statistiques!A233,'Concert 1'!$I$9:$I$56)+SUMIF('Concert 2'!$E$9:$E$56,Statistiques!A233,'Concert 2'!$I$9:$I$56)+SUMIF('Concert 3'!$E$9:$E$56,Statistiques!A233,'Concert 3'!$I$9:$I$56)+SUMIF('Concert 4'!$E$9:$E$56,Statistiques!A233,'Concert 4'!$I$9:$I$56)+SUMIF('Concert 5'!$E$9:$E$56,Statistiques!A233,'Concert 5'!$I$9:$I$56)","v":0},{"$f":"SUMIF('Concert 1'!$E$9:$E$56,Statistiques!A233,'Concert 1'!$J$9:$J$56)+SUMIF('Concert 2'!$E$9:$E$56,Statistiques!A233,'Concert 2'!$J$9:$J$56)+SUMIF('Concert 3'!$E$9:$E$56,Statistiques!A233,'Concert 3'!$J$9:$J$56)+SUMIF('Concert 4'!$E$9:$E$56,Statistiques!A233,'Concert 4'!$J$9:$J$56)+SUMIF('Concert 5'!$E$9:$E$56,Statistiques!A233,'Concert 5'!$J$9:$J$56)","v":0},null,null,{"$f":"SUMIF('Concert 1'!$E$9:$E$56,Statistiques!A233,'Concert 1'!$I$9:$I$56)","v":0},{"$f":"SUMIF('Concert 1'!$E$9:$E$56,Statistiques!A233,'Concert 1'!$J$9:$J$56)","v":0},{"$f":"SUMIF('Concert 2'!$E$9:$E$56,Statistiques!A233,'Concert 2'!$I$9:$I$56)","v":0},{"$f":"SUMIF('Concert 2'!$E$9:$E$56,Statistiques!A233,'Concert 2'!$J$9:$J$56)","v":0},{"$f":"SUMIF('Concert 3'!$E$9:$E$56,Statistiques!A233,'Concert 3'!$I$9:$I$56)","v":0},{"$f":"SUMIF('Concert 3'!$E$9:$E$56,Statistiques!A233,'Concert 3'!$J$9:$J$56)","v":0},{"$f":"SUMIF('Concert 4'!$E$9:$E$56,Statistiques!A233,'Concert 4'!$I$9:$I$56)","v":0},{"$f":"SUMIF('Concert 4'!$E$9:$E$56,Statistiques!A233,'Concert 4'!$J$9:$J$56)","v":0},{"$f":"SUMIF('Concert 5'!$E$9:$E$56,Statistiques!A233,'Concert 5'!$I$9:$I$56)","v":0},{"$f":"SUMIF('Concert 5'!$E$9:$E$56,Statistiques!A233,'Concert 5'!$J$9:$J$56)","v":0}]
[{"$f":"Ecoles!A230","v":0},{"$f":"Ecoles!B230","v":0},{"$f":"Ecoles!C230","v":0},null,{"$f":"SUMIF('Concert 1'!$E$9:$E$56,Statistiques!A234,'Concert 1'!$I$9:$I$56)+SUMIF('Concert 2'!$E$9:$E$56,Statistiques!A234,'Concert 2'!$I$9:$I$56)+SUMIF('Concert 3'!$E$9:$E$56,Statistiques!A234,'Concert 3'!$I$9:$I$56)+SUMIF('Concert 4'!$E$9:$E$56,Statistiques!A234,'Concert 4'!$I$9:$I$56)+SUMIF('Concert 5'!$E$9:$E$56,Statistiques!A234,'Concert 5'!$I$9:$I$56)","v":0},{"$f":"SUMIF('Concert 1'!$E$9:$E$56,Statistiques!A234,'Concert 1'!$J$9:$J$56)+SUMIF('Concert 2'!$E$9:$E$56,Statistiques!A234,'Concert 2'!$J$9:$J$56)+SUMIF('Concert 3'!$E$9:$E$56,Statistiques!A234,'Concert 3'!$J$9:$J$56)+SUMIF('Concert 4'!$E$9:$E$56,Statistiques!A234,'Concert 4'!$J$9:$J$56)+SUMIF('Concert 5'!$E$9:$E$56,Statistiques!A234,'Concert 5'!$J$9:$J$56)","v":0},null,null,{"$f":"SUMIF('Concert 1'!$E$9:$E$56,Statistiques!A234,'Concert 1'!$I$9:$I$56)","v":0},{"$f":"SUMIF('Concert 1'!$E$9:$E$56,Statistiques!A234,'Concert 1'!$J$9:$J$56)","v":0},{"$f":"SUMIF('Concert 2'!$E$9:$E$56,Statistiques!A234,'Concert 2'!$I$9:$I$56)","v":0},{"$f":"SUMIF('Concert 2'!$E$9:$E$56,Statistiques!A234,'Concert 2'!$J$9:$J$56)","v":0},{"$f":"SUMIF('Concert 3'!$E$9:$E$56,Statistiques!A234,'Concert 3'!$I$9:$I$56)","v":0},{"$f":"SUMIF('Concert 3'!$E$9:$E$56,Statistiques!A234,'Concert 3'!$J$9:$J$56)","v":0},{"$f":"SUMIF('Concert 4'!$E$9:$E$56,Statistiques!A234,'Concert 4'!$I$9:$I$56)","v":0},{"$f":"SUMIF('Concert 4'!$E$9:$E$56,Statistiques!A234,'Concert 4'!$J$9:$J$56)","v":0},{"$f":"SUMIF('Concert 5'!$E$9:$E$56,Statistiques!A234,'Concert 5'!$I$9:$I$56)","v":0},{"$f":"SUMIF('Concert 5'!$E$9:$E$56,Statistiques!A234,'Concert 5'!$J$9:$J$56)","v":0}]
[{"$f":"Ecoles!A231","v":0},{"$f":"Ecoles!B231","v":0},{"$f":"Ecoles!C231","v":0},null,{"$f":"SUMIF('Concert 1'!$E$9:$E$56,Statistiques!A235,'Concert 1'!$I$9:$I$56)+SUMIF('Concert 2'!$E$9:$E$56,Statistiques!A235,'Concert 2'!$I$9:$I$56)+SUMIF('Concert 3'!$E$9:$E$56,Statistiques!A235,'Concert 3'!$I$9:$I$56)+SUMIF('Concert 4'!$E$9:$E$56,Statistiques!A235,'Concert 4'!$I$9:$I$56)+SUMIF('Concert 5'!$E$9:$E$56,Statistiques!A235,'Concert 5'!$I$9:$I$56)","v":0},{"$f":"SUMIF('Concert 1'!$E$9:$E$56,Statistiques!A235,'Concert 1'!$J$9:$J$56)+SUMIF('Concert 2'!$E$9:$E$56,Statistiques!A235,'Concert 2'!$J$9:$J$56)+SUMIF('Concert 3'!$E$9:$E$56,Statistiques!A235,'Concert 3'!$J$9:$J$56)+SUMIF('Concert 4'!$E$9:$E$56,Statistiques!A235,'Concert 4'!$J$9:$J$56)+SUMIF('Concert 5'!$E$9:$E$56,Statistiques!A235,'Concert 5'!$J$9:$J$56)","v":0},null,null,{"$f":"SUMIF('Concert 1'!$E$9:$E$56,Statistiques!A235,'Concert 1'!$I$9:$I$56)","v":0},{"$f":"SUMIF('Concert 1'!$E$9:$E$56,Statistiques!A235,'Concert 1'!$J$9:$J$56)","v":0},{"$f":"SUMIF('Concert 2'!$E$9:$E$56,Statistiques!A235,'Concert 2'!$I$9:$I$56)","v":0},{"$f":"SUMIF('Concert 2'!$E$9:$E$56,Statistiques!A235,'Concert 2'!$J$9:$J$56)","v":0},{"$f":"SUMIF('Concert 3'!$E$9:$E$56,Statistiques!A235,'Concert 3'!$I$9:$I$56)","v":0},{"$f":"SUMIF('Concert 3'!$E$9:$E$56,Statistiques!A235,'Concert 3'!$J$9:$J$56)","v":0},{"$f":"SUMIF('Concert 4'!$E$9:$E$56,Statistiques!A235,'Concert 4'!$I$9:$I$56)","v":0},{"$f":"SUMIF('Concert 4'!$E$9:$E$56,Statistiques!A235,'Concert 4'!$J$9:$J$56)","v":0},{"$f":"SUMIF('Concert 5'!$E$9:$E$56,Statistiques!A235,'Concert 5'!$I$9:$I$56)","v":0},{"$f":"SUMIF('Concert 5'!$E$9:$E$56,Statistiques!A235,'Concert 5'!$J$9:$J$56)","v":0}]
[{"$f":"Ecoles!A232","v":0},{"$f":"Ecoles!B232","v":0},{"$f":"Ecoles!C232","v":0},null,{"$f":"SUMIF('Concert 1'!$E$9:$E$56,Statistiques!A236,'Concert 1'!$I$9:$I$56)+SUMIF('Concert 2'!$E$9:$E$56,Statistiques!A236,'Concert 2'!$I$9:$I$56)+SUMIF('Concert 3'!$E$9:$E$56,Statistiques!A236,'Concert 3'!$I$9:$I$56)+SUMIF('Concert 4'!$E$9:$E$56,Statistiques!A236,'Concert 4'!$I$9:$I$56)+SUMIF('Concert 5'!$E$9:$E$56,Statistiques!A236,'Concert 5'!$I$9:$I$56)","v":0},{"$f":"SUMIF('Concert 1'!$E$9:$E$56,Statistiques!A236,'Concert 1'!$J$9:$J$56)+SUMIF('Concert 2'!$E$9:$E$56,Statistiques!A236,'Concert 2'!$J$9:$J$56)+SUMIF('Concert 3'!$E$9:$E$56,Statistiques!A236,'Concert 3'!$J$9:$J$56)+SUMIF('Concert 4'!$E$9:$E$56,Statistiques!A236,'Concert 4'!$J$9:$J$56)+SUMIF('Concert 5'!$E$9:$E$56,Statistiques!A236,'Concert 5'!$J$9:$J$56)","v":0},null,null,{"$f":"SUMIF('Concert 1'!$E$9:$E$56,Statistiques!A236,'Concert 1'!$I$9:$I$56)","v":0},{"$f":"SUMIF('Concert 1'!$E$9:$E$56,Statistiques!A236,'Concert 1'!$J$9:$J$56)","v":0},{"$f":"SUMIF('Concert 2'!$E$9:$E$56,Statistiques!A236,'Concert 2'!$I$9:$I$56)","v":0},{"$f":"SUMIF('Concert 2'!$E$9:$E$56,Statistiques!A236,'Concert 2'!$J$9:$J$56)","v":0},{"$f":"SUMIF('Concert 3'!$E$9:$E$56,Statistiques!A236,'Concert 3'!$I$9:$I$56)","v":0},{"$f":"SUMIF('Concert 3'!$E$9:$E$56,Statistiques!A236,'Concert 3'!$J$9:$J$56)","v":0},{"$f":"SUMIF('Concert 4'!$E$9:$E$56,Statistiques!A236,'Concert 4'!$I$9:$I$56)","v":0},{"$f":"SUMIF('Concert 4'!$E$9:$E$56,Statistiques!A236,'Concert 4'!$J$9:$J$56)","v":0},{"$f":"SUMIF('Concert 5'!$E$9:$E$56,Statistiques!A236,'Concert 5'!$I$9:$I$56)","v":0},{"$f":"SUMIF('Concert 5'!$E$9:$E$56,Statistiques!A236,'Concert 5'!$J$9:$J$56)","v":0}]
[{"$f":"Ecoles!A233","v":0},{"$f":"Ecoles!B233","v":0},{"$f":"Ecoles!C233","v":0},null,{"$f":"SUMIF('Concert 1'!$E$9:$E$56,Statistiques!A237,'Concert 1'!$I$9:$I$56)+SUMIF('Concert 2'!$E$9:$E$56,Statistiques!A237,'Concert 2'!$I$9:$I$56)+SUMIF('Concert 3'!$E$9:$E$56,Statistiques!A237,'Concert 3'!$I$9:$I$56)+SUMIF('Concert 4'!$E$9:$E$56,Statistiques!A237,'Concert 4'!$I$9:$I$56)+SUMIF('Concert 5'!$E$9:$E$56,Statistiques!A237,'Concert 5'!$I$9:$I$56)","v":0},{"$f":"SUMIF('Concert 1'!$E$9:$E$56,Statistiques!A237,'Concert 1'!$J$9:$J$56)+SUMIF('Concert 2'!$E$9:$E$56,Statistiques!A237,'Concert 2'!$J$9:$J$56)+SUMIF('Concert 3'!$E$9:$E$56,Statistiques!A237,'Concert 3'!$J$9:$J$56)+SUMIF('Concert 4'!$E$9:$E$56,Statistiques!A237,'Concert 4'!$J$9:$J$56)+SUMIF('Concert 5'!$E$9:$E$56,Statistiques!A237,'Concert 5'!$J$9:$J$56)","v":0},null,null,{"$f":"SUMIF('Concert 1'!$E$9:$E$56,Statistiques!A237,'Concert 1'!$I$9:$I$56)","v":0},{"$f":"SUMIF('Concert 1'!$E$9:$E$56,Statistiques!A237,'Concert 1'!$J$9:$J$56)","v":0},{"$f":"SUMIF('Concert 2'!$E$9:$E$56,Statistiques!A237,'Concert 2'!$I$9:$I$56)","v":0},{"$f":"SUMIF('Concert 2'!$E$9:$E$56,Statistiques!A237,'Concert 2'!$J$9:$J$56)","v":0},{"$f":"SUMIF('Concert 3'!$E$9:$E$56,Statistiques!A237,'Concert 3'!$I$9:$I$56)","v":0},{"$f":"SUMIF('Concert 3'!$E$9:$E$56,Statistiques!A237,'Concert 3'!$J$9:$J$56)","v":0},{"$f":"SUMIF('Concert 4'!$E$9:$E$56,Statistiques!A237,'Concert 4'!$I$9:$I$56)","v":0},{"$f":"SUMIF('Concert 4'!$E$9:$E$56,Statistiques!A237,'Concert 4'!$J$9:$J$56)","v":0},{"$f":"SUMIF('Concert 5'!$E$9:$E$56,Statistiques!A237,'Concert 5'!$I$9:$I$56)","v":0},{"$f":"SUMIF('Concert 5'!$E$9:$E$56,Statistiques!A237,'Concert 5'!$J$9:$J$56)","v":0}]
[{"$f":"Ecoles!A234","v":0},{"$f":"Ecoles!B234","v":0},{"$f":"Ecoles!C234","v":0},null,{"$f":"SUMIF('Concert 1'!$E$9:$E$56,Statistiques!A238,'Concert 1'!$I$9:$I$56)+SUMIF('Concert 2'!$E$9:$E$56,Statistiques!A238,'Concert 2'!$I$9:$I$56)+SUMIF('Concert 3'!$E$9:$E$56,Statistiques!A238,'Concert 3'!$I$9:$I$56)+SUMIF('Concert 4'!$E$9:$E$56,Statistiques!A238,'Concert 4'!$I$9:$I$56)+SUMIF('Concert 5'!$E$9:$E$56,Statistiques!A238,'Concert 5'!$I$9:$I$56)","v":0},{"$f":"SUMIF('Concert 1'!$E$9:$E$56,Statistiques!A238,'Concert 1'!$J$9:$J$56)+SUMIF('Concert 2'!$E$9:$E$56,Statistiques!A238,'Concert 2'!$J$9:$J$56)+SUMIF('Concert 3'!$E$9:$E$56,Statistiques!A238,'Concert 3'!$J$9:$J$56)+SUMIF('Concert 4'!$E$9:$E$56,Statistiques!A238,'Concert 4'!$J$9:$J$56)+SUMIF('Concert 5'!$E$9:$E$56,Statistiques!A238,'Concert 5'!$J$9:$J$56)","v":0},null,null,{"$f":"SUMIF('Concert 1'!$E$9:$E$56,Statistiques!A238,'Concert 1'!$I$9:$I$56)","v":0},{"$f":"SUMIF('Concert 1'!$E$9:$E$56,Statistiques!A238,'Concert 1'!$J$9:$J$56)","v":0},{"$f":"SUMIF('Concert 2'!$E$9:$E$56,Statistiques!A238,'Concert 2'!$I$9:$I$56)","v":0},{"$f":"SUMIF('Concert 2'!$E$9:$E$56,Statistiques!A238,'Concert 2'!$J$9:$J$56)","v":0},{"$f":"SUMIF('Concert 3'!$E$9:$E$56,Statistiques!A238,'Concert 3'!$I$9:$I$56)","v":0},{"$f":"SUMIF('Concert 3'!$E$9:$E$56,Statistiques!A238,'Concert 3'!$J$9:$J$56)","v":0},{"$f":"SUMIF('Concert 4'!$E$9:$E$56,Statistiques!A238,'Concert 4'!$I$9:$I$56)","v":0},{"$f":"SUMIF('Concert 4'!$E$9:$E$56,Statistiques!A238,'Concert 4'!$J$9:$J$56)","v":0},{"$f":"SUMIF('Concert 5'!$E$9:$E$56,Statistiques!A238,'Concert 5'!$I$9:$I$56)","v":0},{"$f":"SUMIF('Concert 5'!$E$9:$E$56,Statistiques!A238,'Concert 5'!$J$9:$J$56)","v":0}]
[{"$f":"Ecoles!A235","v":0},{"$f":"Ecoles!B235","v":0},{"$f":"Ecoles!C235","v":0},null,{"$f":"SUMIF('Concert 1'!$E$9:$E$56,Statistiques!A239,'Concert 1'!$I$9:$I$56)+SUMIF('Concert 2'!$E$9:$E$56,Statistiques!A239,'Concert 2'!$I$9:$I$56)+SUMIF('Concert 3'!$E$9:$E$56,Statistiques!A239,'Concert 3'!$I$9:$I$56)+SUMIF('Concert 4'!$E$9:$E$56,Statistiques!A239,'Concert 4'!$I$9:$I$56)+SUMIF('Concert 5'!$E$9:$E$56,Statistiques!A239,'Concert 5'!$I$9:$I$56)","v":0},{"$f":"SUMIF('Concert 1'!$E$9:$E$56,Statistiques!A239,'Concert 1'!$J$9:$J$56)+SUMIF('Concert 2'!$E$9:$E$56,Statistiques!A239,'Concert 2'!$J$9:$J$56)+SUMIF('Concert 3'!$E$9:$E$56,Statistiques!A239,'Concert 3'!$J$9:$J$56)+SUMIF('Concert 4'!$E$9:$E$56,Statistiques!A239,'Concert 4'!$J$9:$J$56)+SUMIF('Concert 5'!$E$9:$E$56,Statistiques!A239,'Concert 5'!$J$9:$J$56)","v":0},null,null,{"$f":"SUMIF('Concert 1'!$E$9:$E$56,Statistiques!A239,'Concert 1'!$I$9:$I$56)","v":0},{"$f":"SUMIF('Concert 1'!$E$9:$E$56,Statistiques!A239,'Concert 1'!$J$9:$J$56)","v":0},{"$f":"SUMIF('Concert 2'!$E$9:$E$56,Statistiques!A239,'Concert 2'!$I$9:$I$56)","v":0},{"$f":"SUMIF('Concert 2'!$E$9:$E$56,Statistiques!A239,'Concert 2'!$J$9:$J$56)","v":0},{"$f":"SUMIF('Concert 3'!$E$9:$E$56,Statistiques!A239,'Concert 3'!$I$9:$I$56)","v":0},{"$f":"SUMIF('Concert 3'!$E$9:$E$56,Statistiques!A239,'Concert 3'!$J$9:$J$56)","v":0},{"$f":"SUMIF('Concert 4'!$E$9:$E$56,Statistiques!A239,'Concert 4'!$I$9:$I$56)","v":0},{"$f":"SUMIF('Concert 4'!$E$9:$E$56,Statistiques!A239,'Concert 4'!$J$9:$J$56)","v":0},{"$f":"SUMIF('Concert 5'!$E$9:$E$56,Statistiques!A239,'Concert 5'!$I$9:$I$56)","v":0},{"$f":"SUMIF('Concert 5'!$E$9:$E$56,Statistiques!A239,'Concert 5'!$J$9:$J$56)","v":0}]
[{"$f":"Ecoles!A236","v":0},{"$f":"Ecoles!B236","v":0},{"$f":"Ecoles!C236","v":0},null,{"$f":"SUMIF('Concert 1'!$E$9:$E$56,Statistiques!A240,'Concert 1'!$I$9:$I$56)+SUMIF('Concert 2'!$E$9:$E$56,Statistiques!A240,'Concert 2'!$I$9:$I$56)+SUMIF('Concert 3'!$E$9:$E$56,Statistiques!A240,'Concert 3'!$I$9:$I$56)+SUMIF('Concert 4'!$E$9:$E$56,Statistiques!A240,'Concert 4'!$I$9:$I$56)+SUMIF('Concert 5'!$E$9:$E$56,Statistiques!A240,'Concert 5'!$I$9:$I$56)","v":0},{"$f":"SUMIF('Concert 1'!$E$9:$E$56,Statistiques!A240,'Concert 1'!$J$9:$J$56)+SUMIF('Concert 2'!$E$9:$E$56,Statistiques!A240,'Concert 2'!$J$9:$J$56)+SUMIF('Concert 3'!$E$9:$E$56,Statistiques!A240,'Concert 3'!$J$9:$J$56)+SUMIF('Concert 4'!$E$9:$E$56,Statistiques!A240,'Concert 4'!$J$9:$J$56)+SUMIF('Concert 5'!$E$9:$E$56,Statistiques!A240,'Concert 5'!$J$9:$J$56)","v":0},null,null,{"$f":"SUMIF('Concert 1'!$E$9:$E$56,Statistiques!A240,'Concert 1'!$I$9:$I$56)","v":0},{"$f":"SUMIF('Concert 1'!$E$9:$E$56,Statistiques!A240,'Concert 1'!$J$9:$J$56)","v":0},{"$f":"SUMIF('Concert 2'!$E$9:$E$56,Statistiques!A240,'Concert 2'!$I$9:$I$56)","v":0},{"$f":"SUMIF('Concert 2'!$E$9:$E$56,Statistiques!A240,'Concert 2'!$J$9:$J$56)","v":0},{"$f":"SUMIF('Concert 3'!$E$9:$E$56,Statistiques!A240,'Concert 3'!$I$9:$I$56)","v":0},{"$f":"SUMIF('Concert 3'!$E$9:$E$56,Statistiques!A240,'Concert 3'!$J$9:$J$56)","v":0},{"$f":"SUMIF('Concert 4'!$E$9:$E$56,Statistiques!A240,'Concert 4'!$I$9:$I$56)","v":0},{"$f":"SUMIF('Concert 4'!$E$9:$E$56,Statistiques!A240,'Concert 4'!$J$9:$J$56)","v":0},{"$f":"SUMIF('Concert 5'!$E$9:$E$56,Statistiques!A240,'Concert 5'!$I$9:$I$56)","v":0},{"$f":"SUMIF('Concert 5'!$E$9:$E$56,Statistiques!A240,'Concert 5'!$J$9:$J$56)","v":0}]
[{"$f":"Ecoles!A237","v":0},{"$f":"Ecoles!B237","v":0},{"$f":"Ecoles!C237","v":0},null,{"$f":"SUMIF('Concert 1'!$E$9:$E$56,Statistiques!A241,'Concert 1'!$I$9:$I$56)+SUMIF('Concert 2'!$E$9:$E$56,Statistiques!A241,'Concert 2'!$I$9:$I$56)+SUMIF('Concert 3'!$E$9:$E$56,Statistiques!A241,'Concert 3'!$I$9:$I$56)+SUMIF('Concert 4'!$E$9:$E$56,Statistiques!A241,'Concert 4'!$I$9:$I$56)+SUMIF('Concert 5'!$E$9:$E$56,Statistiques!A241,'Concert 5'!$I$9:$I$56)","v":0},{"$f":"SUMIF('Concert 1'!$E$9:$E$56,Statistiques!A241,'Concert 1'!$J$9:$J$56)+SUMIF('Concert 2'!$E$9:$E$56,Statistiques!A241,'Concert 2'!$J$9:$J$56)+SUMIF('Concert 3'!$E$9:$E$56,Statistiques!A241,'Concert 3'!$J$9:$J$56)+SUMIF('Concert 4'!$E$9:$E$56,Statistiques!A241,'Concert 4'!$J$9:$J$56)+SUMIF('Concert 5'!$E$9:$E$56,Statistiques!A241,'Concert 5'!$J$9:$J$56)","v":0},null,null,{"$f":"SUMIF('Concert 1'!$E$9:$E$56,Statistiques!A241,'Concert 1'!$I$9:$I$56)","v":0},{"$f":"SUMIF('Concert 1'!$E$9:$E$56,Statistiques!A241,'Concert 1'!$J$9:$J$56)","v":0},{"$f":"SUMIF('Concert 2'!$E$9:$E$56,Statistiques!A241,'Concert 2'!$I$9:$I$56)","v":0},{"$f":"SUMIF('Concert 2'!$E$9:$E$56,Statistiques!A241,'Concert 2'!$J$9:$J$56)","v":0},{"$f":"SUMIF('Concert 3'!$E$9:$E$56,Statistiques!A241,'Concert 3'!$I$9:$I$56)","v":0},{"$f":"SUMIF('Concert 3'!$E$9:$E$56,Statistiques!A241,'Concert 3'!$J$9:$J$56)","v":0},{"$f":"SUMIF('Concert 4'!$E$9:$E$56,Statistiques!A241,'Concert 4'!$I$9:$I$56)","v":0},{"$f":"SUMIF('Concert 4'!$E$9:$E$56,Statistiques!A241,'Concert 4'!$J$9:$J$56)","v":0},{"$f":"SUMIF('Concert 5'!$E$9:$E$56,Statistiques!A241,'Concert 5'!$I$9:$I$56)","v":0},{"$f":"SUMIF('Concert 5'!$E$9:$E$56,Statistiques!A241,'Concert 5'!$J$9:$J$56)","v":0}]
[{"$f":"Ecoles!A238","v":0},{"$f":"Ecoles!B238","v":0},{"$f":"Ecoles!C238","v":0},null,{"$f":"SUMIF('Concert 1'!$E$9:$E$56,Statistiques!A242,'Concert 1'!$I$9:$I$56)+SUMIF('Concert 2'!$E$9:$E$56,Statistiques!A242,'Concert 2'!$I$9:$I$56)+SUMIF('Concert 3'!$E$9:$E$56,Statistiques!A242,'Concert 3'!$I$9:$I$56)+SUMIF('Concert 4'!$E$9:$E$56,Statistiques!A242,'Concert 4'!$I$9:$I$56)+SUMIF('Concert 5'!$E$9:$E$56,Statistiques!A242,'Concert 5'!$I$9:$I$56)","v":0},{"$f":"SUMIF('Concert 1'!$E$9:$E$56,Statistiques!A242,'Concert 1'!$J$9:$J$56)+SUMIF('Concert 2'!$E$9:$E$56,Statistiques!A242,'Concert 2'!$J$9:$J$56)+SUMIF('Concert 3'!$E$9:$E$56,Statistiques!A242,'Concert 3'!$J$9:$J$56)+SUMIF('Concert 4'!$E$9:$E$56,Statistiques!A242,'Concert 4'!$J$9:$J$56)+SUMIF('Concert 5'!$E$9:$E$56,Statistiques!A242,'Concert 5'!$J$9:$J$56)","v":0},null,null,{"$f":"SUMIF('Concert 1'!$E$9:$E$56,Statistiques!A242,'Concert 1'!$I$9:$I$56)","v":0},{"$f":"SUMIF('Concert 1'!$E$9:$E$56,Statistiques!A242,'Concert 1'!$J$9:$J$56)","v":0},{"$f":"SUMIF('Concert 2'!$E$9:$E$56,Statistiques!A242,'Concert 2'!$I$9:$I$56)","v":0},{"$f":"SUMIF('Concert 2'!$E$9:$E$56,Statistiques!A242,'Concert 2'!$J$9:$J$56)","v":0},{"$f":"SUMIF('Concert 3'!$E$9:$E$56,Statistiques!A242,'Concert 3'!$I$9:$I$56)","v":0},{"$f":"SUMIF('Concert 3'!$E$9:$E$56,Statistiques!A242,'Concert 3'!$J$9:$J$56)","v":0},{"$f":"SUMIF('Concert 4'!$E$9:$E$56,Statistiques!A242,'Concert 4'!$I$9:$I$56)","v":0},{"$f":"SUMIF('Concert 4'!$E$9:$E$56,Statistiques!A242,'Concert 4'!$J$9:$J$56)","v":0},{"$f":"SUMIF('Concert 5'!$E$9:$E$56,Statistiques!A242,'Concert 5'!$I$9:$I$56)","v":0},{"$f":"SUMIF('Concert 5'!$E$9:$E$56,Statistiques!A242,'Concert 5'!$J$9:$J$56)","v":0}]
[{"$f":"Ecoles!A239","v":0},{"$f":"Ecoles!B239","v":0},{"$f":"Ecoles!C239","v":0},null,{"$f":"SUMIF('Concert 1'!$E$9:$E$56,Statistiques!A243,'Concert 1'!$I$9:$I$56)+SUMIF('Concert 2'!$E$9:$E$56,Statistiques!A243,'Concert 2'!$I$9:$I$56)+SUMIF('Concert 3'!$E$9:$E$56,Statistiques!A243,'Concert 3'!$I$9:$I$56)+SUMIF('Concert 4'!$E$9:$E$56,Statistiques!A243,'Concert 4'!$I$9:$I$56)+SUMIF('Concert 5'!$E$9:$E$56,Statistiques!A243,'Concert 5'!$I$9:$I$56)","v":0},{"$f":"SUMIF('Concert 1'!$E$9:$E$56,Statistiques!A243,'Concert 1'!$J$9:$J$56)+SUMIF('Concert 2'!$E$9:$E$56,Statistiques!A243,'Concert 2'!$J$9:$J$56)+SUMIF('Concert 3'!$E$9:$E$56,Statistiques!A243,'Concert 3'!$J$9:$J$56)+SUMIF('Concert 4'!$E$9:$E$56,Statistiques!A243,'Concert 4'!$J$9:$J$56)+SUMIF('Concert 5'!$E$9:$E$56,Statistiques!A243,'Concert 5'!$J$9:$J$56)","v":0},null,null,{"$f":"SUMIF('Concert 1'!$E$9:$E$56,Statistiques!A243,'Concert 1'!$I$9:$I$56)","v":0},{"$f":"SUMIF('Concert 1'!$E$9:$E$56,Statistiques!A243,'Concert 1'!$J$9:$J$56)","v":0},{"$f":"SUMIF('Concert 2'!$E$9:$E$56,Statistiques!A243,'Concert 2'!$I$9:$I$56)","v":0},{"$f":"SUMIF('Concert 2'!$E$9:$E$56,Statistiques!A243,'Concert 2'!$J$9:$J$56)","v":0},{"$f":"SUMIF('Concert 3'!$E$9:$E$56,Statistiques!A243,'Concert 3'!$I$9:$I$56)","v":0},{"$f":"SUMIF('Concert 3'!$E$9:$E$56,Statistiques!A243,'Concert 3'!$J$9:$J$56)","v":0},{"$f":"SUMIF('Concert 4'!$E$9:$E$56,Statistiques!A243,'Concert 4'!$I$9:$I$56)","v":0},{"$f":"SUMIF('Concert 4'!$E$9:$E$56,Statistiques!A243,'Concert 4'!$J$9:$J$56)","v":0},{"$f":"SUMIF('Concert 5'!$E$9:$E$56,Statistiques!A243,'Concert 5'!$I$9:$I$56)","v":0},{"$f":"SUMIF('Concert 5'!$E$9:$E$56,Statistiques!A243,'Concert 5'!$J$9:$J$56)","v":0}]
[{"$f":"Ecoles!A240","v":0},{"$f":"Ecoles!B240","v":0},{"$f":"Ecoles!C240","v":0},null,{"$f":"SUMIF('Concert 1'!$E$9:$E$56,Statistiques!A244,'Concert 1'!$I$9:$I$56)+SUMIF('Concert 2'!$E$9:$E$56,Statistiques!A244,'Concert 2'!$I$9:$I$56)+SUMIF('Concert 3'!$E$9:$E$56,Statistiques!A244,'Concert 3'!$I$9:$I$56)+SUMIF('Concert 4'!$E$9:$E$56,Statistiques!A244,'Concert 4'!$I$9:$I$56)+SUMIF('Concert 5'!$E$9:$E$56,Statistiques!A244,'Concert 5'!$I$9:$I$56)","v":0},{"$f":"SUMIF('Concert 1'!$E$9:$E$56,Statistiques!A244,'Concert 1'!$J$9:$J$56)+SUMIF('Concert 2'!$E$9:$E$56,Statistiques!A244,'Concert 2'!$J$9:$J$56)+SUMIF('Concert 3'!$E$9:$E$56,Statistiques!A244,'Concert 3'!$J$9:$J$56)+SUMIF('Concert 4'!$E$9:$E$56,Statistiques!A244,'Concert 4'!$J$9:$J$56)+SUMIF('Concert 5'!$E$9:$E$56,Statistiques!A244,'Concert 5'!$J$9:$J$56)","v":0},null,null,{"$f":"SUMIF('Concert 1'!$E$9:$E$56,Statistiques!A244,'Concert 1'!$I$9:$I$56)","v":0},{"$f":"SUMIF('Concert 1'!$E$9:$E$56,Statistiques!A244,'Concert 1'!$J$9:$J$56)","v":0},{"$f":"SUMIF('Concert 2'!$E$9:$E$56,Statistiques!A244,'Concert 2'!$I$9:$I$56)","v":0},{"$f":"SUMIF('Concert 2'!$E$9:$E$56,Statistiques!A244,'Concert 2'!$J$9:$J$56)","v":0},{"$f":"SUMIF('Concert 3'!$E$9:$E$56,Statistiques!A244,'Concert 3'!$I$9:$I$56)","v":0},{"$f":"SUMIF('Concert 3'!$E$9:$E$56,Statistiques!A244,'Concert 3'!$J$9:$J$56)","v":0},{"$f":"SUMIF('Concert 4'!$E$9:$E$56,Statistiques!A244,'Concert 4'!$I$9:$I$56)","v":0},{"$f":"SUMIF('Concert 4'!$E$9:$E$56,Statistiques!A244,'Concert 4'!$J$9:$J$56)","v":0},{"$f":"SUMIF('Concert 5'!$E$9:$E$56,Statistiques!A244,'Concert 5'!$I$9:$I$56)","v":0},{"$f":"SUMIF('Concert 5'!$E$9:$E$56,Statistiques!A244,'Concert 5'!$J$9:$J$56)","v":0}]
[{"$f":"Ecoles!A241","v":0},{"$f":"Ecoles!B241","v":0},{"$f":"Ecoles!C241","v":0},null,{"$f":"SUMIF('Concert 1'!$E$9:$E$56,Statistiques!A245,'Concert 1'!$I$9:$I$56)+SUMIF('Concert 2'!$E$9:$E$56,Statistiques!A245,'Concert 2'!$I$9:$I$56)+SUMIF('Concert 3'!$E$9:$E$56,Statistiques!A245,'Concert 3'!$I$9:$I$56)+SUMIF('Concert 4'!$E$9:$E$56,Statistiques!A245,'Concert 4'!$I$9:$I$56)+SUMIF('Concert 5'!$E$9:$E$56,Statistiques!A245,'Concert 5'!$I$9:$I$56)","v":0},{"$f":"SUMIF('Concert 1'!$E$9:$E$56,Statistiques!A245,'Concert 1'!$J$9:$J$56)+SUMIF('Concert 2'!$E$9:$E$56,Statistiques!A245,'Concert 2'!$J$9:$J$56)+SUMIF('Concert 3'!$E$9:$E$56,Statistiques!A245,'Concert 3'!$J$9:$J$56)+SUMIF('Concert 4'!$E$9:$E$56,Statistiques!A245,'Concert 4'!$J$9:$J$56)+SUMIF('Concert 5'!$E$9:$E$56,Statistiques!A245,'Concert 5'!$J$9:$J$56)","v":0},null,null,{"$f":"SUMIF('Concert 1'!$E$9:$E$56,Statistiques!A245,'Concert 1'!$I$9:$I$56)","v":0},{"$f":"SUMIF('Concert 1'!$E$9:$E$56,Statistiques!A245,'Concert 1'!$J$9:$J$56)","v":0},{"$f":"SUMIF('Concert 2'!$E$9:$E$56,Statistiques!A245,'Concert 2'!$I$9:$I$56)","v":0},{"$f":"SUMIF('Concert 2'!$E$9:$E$56,Statistiques!A245,'Concert 2'!$J$9:$J$56)","v":0},{"$f":"SUMIF('Concert 3'!$E$9:$E$56,Statistiques!A245,'Concert 3'!$I$9:$I$56)","v":0},{"$f":"SUMIF('Concert 3'!$E$9:$E$56,Statistiques!A245,'Concert 3'!$J$9:$J$56)","v":0},{"$f":"SUMIF('Concert 4'!$E$9:$E$56,Statistiques!A245,'Concert 4'!$I$9:$I$56)","v":0},{"$f":"SUMIF('Concert 4'!$E$9:$E$56,Statistiques!A245,'Concert 4'!$J$9:$J$56)","v":0},{"$f":"SUMIF('Concert 5'!$E$9:$E$56,Statistiques!A245,'Concert 5'!$I$9:$I$56)","v":0},{"$f":"SUMIF('Concert 5'!$E$9:$E$56,Statistiques!A245,'Concert 5'!$J$9:$J$56)","v":0}]
[{"$f":"Ecoles!A242","v":0},{"$f":"Ecoles!B242","v":0},{"$f":"Ecoles!C242","v":0},null,{"$f":"SUMIF('Concert 1'!$E$9:$E$56,Statistiques!A246,'Concert 1'!$I$9:$I$56)+SUMIF('Concert 2'!$E$9:$E$56,Statistiques!A246,'Concert 2'!$I$9:$I$56)+SUMIF('Concert 3'!$E$9:$E$56,Statistiques!A246,'Concert 3'!$I$9:$I$56)+SUMIF('Concert 4'!$E$9:$E$56,Statistiques!A246,'Concert 4'!$I$9:$I$56)+SUMIF('Concert 5'!$E$9:$E$56,Statistiques!A246,'Concert 5'!$I$9:$I$56)","v":0},{"$f":"SUMIF('Concert 1'!$E$9:$E$56,Statistiques!A246,'Concert 1'!$J$9:$J$56)+SUMIF('Concert 2'!$E$9:$E$56,Statistiques!A246,'Concert 2'!$J$9:$J$56)+SUMIF('Concert 3'!$E$9:$E$56,Statistiques!A246,'Concert 3'!$J$9:$J$56)+SUMIF('Concert 4'!$E$9:$E$56,Statistiques!A246,'Concert 4'!$J$9:$J$56)+SUMIF('Concert 5'!$E$9:$E$56,Statistiques!A246,'Concert 5'!$J$9:$J$56)","v":0},null,null,{"$f":"SUMIF('Concert 1'!$E$9:$E$56,Statistiques!A246,'Concert 1'!$I$9:$I$56)","v":0},{"$f":"SUMIF('Concert 1'!$E$9:$E$56,Statistiques!A246,'Concert 1'!$J$9:$J$56)","v":0},{"$f":"SUMIF('Concert 2'!$E$9:$E$56,Statistiques!A246,'Concert 2'!$I$9:$I$56)","v":0},{"$f":"SUMIF('Concert 2'!$E$9:$E$56,Statistiques!A246,'Concert 2'!$J$9:$J$56)","v":0},{"$f":"SUMIF('Concert 3'!$E$9:$E$56,Statistiques!A246,'Concert 3'!$I$9:$I$56)","v":0},{"$f":"SUMIF('Concert 3'!$E$9:$E$56,Statistiques!A246,'Concert 3'!$J$9:$J$56)","v":0},{"$f":"SUMIF('Concert 4'!$E$9:$E$56,Statistiques!A246,'Concert 4'!$I$9:$I$56)","v":0},{"$f":"SUMIF('Concert 4'!$E$9:$E$56,Statistiques!A246,'Concert 4'!$J$9:$J$56)","v":0},{"$f":"SUMIF('Concert 5'!$E$9:$E$56,Statistiques!A246,'Concert 5'!$I$9:$I$56)","v":0},{"$f":"SUMIF('Concert 5'!$E$9:$E$56,Statistiques!A246,'Concert 5'!$J$9:$J$56)","v":0}]
[{"$f":"Ecoles!A243","v":0},{"$f":"Ecoles!B243","v":0},{"$f":"Ecoles!C243","v":0},null,{"$f":"SUMIF('Concert 1'!$E$9:$E$56,Statistiques!A247,'Concert 1'!$I$9:$I$56)+SUMIF('Concert 2'!$E$9:$E$56,Statistiques!A247,'Concert 2'!$I$9:$I$56)+SUMIF('Concert 3'!$E$9:$E$56,Statistiques!A247,'Concert 3'!$I$9:$I$56)+SUMIF('Concert 4'!$E$9:$E$56,Statistiques!A247,'Concert 4'!$I$9:$I$56)+SUMIF('Concert 5'!$E$9:$E$56,Statistiques!A247,'Concert 5'!$I$9:$I$56)","v":0},{"$f":"SUMIF('Concert 1'!$E$9:$E$56,Statistiques!A247,'Concert 1'!$J$9:$J$56)+SUMIF('Concert 2'!$E$9:$E$56,Statistiques!A247,'Concert 2'!$J$9:$J$56)+SUMIF('Concert 3'!$E$9:$E$56,Statistiques!A247,'Concert 3'!$J$9:$J$56)+SUMIF('Concert 4'!$E$9:$E$56,Statistiques!A247,'Concert 4'!$J$9:$J$56)+SUMIF('Concert 5'!$E$9:$E$56,Statistiques!A247,'Concert 5'!$J$9:$J$56)","v":0},null,null,{"$f":"SUMIF('Concert 1'!$E$9:$E$56,Statistiques!A247,'Concert 1'!$I$9:$I$56)","v":0},{"$f":"SUMIF('Concert 1'!$E$9:$E$56,Statistiques!A247,'Concert 1'!$J$9:$J$56)","v":0},{"$f":"SUMIF('Concert 2'!$E$9:$E$56,Statistiques!A247,'Concert 2'!$I$9:$I$56)","v":0},{"$f":"SUMIF('Concert 2'!$E$9:$E$56,Statistiques!A247,'Concert 2'!$J$9:$J$56)","v":0},{"$f":"SUMIF('Concert 3'!$E$9:$E$56,Statistiques!A247,'Concert 3'!$I$9:$I$56)","v":0},{"$f":"SUMIF('Concert 3'!$E$9:$E$56,Statistiques!A247,'Concert 3'!$J$9:$J$56)","v":0},{"$f":"SUMIF('Concert 4'!$E$9:$E$56,Statistiques!A247,'Concert 4'!$I$9:$I$56)","v":0},{"$f":"SUMIF('Concert 4'!$E$9:$E$56,Statistiques!A247,'Concert 4'!$J$9:$J$56)","v":0},{"$f":"SUMIF('Concert 5'!$E$9:$E$56,Statistiques!A247,'Concert 5'!$I$9:$I$56)","v":0},{"$f":"SUMIF('Concert 5'!$E$9:$E$56,Statistiques!A247,'Concert 5'!$J$9:$J$56)","v":0}]
[{"$f":"Ecoles!A244","v":0},{"$f":"Ecoles!B244","v":0},{"$f":"Ecoles!C244","v":0},null,{"$f":"SUMIF('Concert 1'!$E$9:$E$56,Statistiques!A248,'Concert 1'!$I$9:$I$56)+SUMIF('Concert 2'!$E$9:$E$56,Statistiques!A248,'Concert 2'!$I$9:$I$56)+SUMIF('Concert 3'!$E$9:$E$56,Statistiques!A248,'Concert 3'!$I$9:$I$56)+SUMIF('Concert 4'!$E$9:$E$56,Statistiques!A248,'Concert 4'!$I$9:$I$56)+SUMIF('Concert 5'!$E$9:$E$56,Statistiques!A248,'Concert 5'!$I$9:$I$56)","v":0},{"$f":"SUMIF('Concert 1'!$E$9:$E$56,Statistiques!A248,'Concert 1'!$J$9:$J$56)+SUMIF('Concert 2'!$E$9:$E$56,Statistiques!A248,'Concert 2'!$J$9:$J$56)+SUMIF('Concert 3'!$E$9:$E$56,Statistiques!A248,'Concert 3'!$J$9:$J$56)+SUMIF('Concert 4'!$E$9:$E$56,Statistiques!A248,'Concert 4'!$J$9:$J$56)+SUMIF('Concert 5'!$E$9:$E$56,Statistiques!A248,'Concert 5'!$J$9:$J$56)","v":0},null,null,{"$f":"SUMIF('Concert 1'!$E$9:$E$56,Statistiques!A248,'Concert 1'!$I$9:$I$56)","v":0},{"$f":"SUMIF('Concert 1'!$E$9:$E$56,Statistiques!A248,'Concert 1'!$J$9:$J$56)","v":0},{"$f":"SUMIF('Concert 2'!$E$9:$E$56,Statistiques!A248,'Concert 2'!$I$9:$I$56)","v":0},{"$f":"SUMIF('Concert 2'!$E$9:$E$56,Statistiques!A248,'Concert 2'!$J$9:$J$56)","v":0},{"$f":"SUMIF('Concert 3'!$E$9:$E$56,Statistiques!A248,'Concert 3'!$I$9:$I$56)","v":0},{"$f":"SUMIF('Concert 3'!$E$9:$E$56,Statistiques!A248,'Concert 3'!$J$9:$J$56)","v":0},{"$f":"SUMIF('Concert 4'!$E$9:$E$56,Statistiques!A248,'Concert 4'!$I$9:$I$56)","v":0},{"$f":"SUMIF('Concert 4'!$E$9:$E$56,Statistiques!A248,'Concert 4'!$J$9:$J$56)","v":0},{"$f":"SUMIF('Concert 5'!$E$9:$E$56,Statistiques!A248,'Concert 5'!$I$9:$I$56)","v":0},{"$f":"SUMIF('Concert 5'!$E$9:$E$56,Statistiques!A248,'Concert 5'!$J$9:$J$56)","v":0}]
[{"$f":"Ecoles!A245","v":0},{"$f":"Ecoles!B245","v":0},{"$f":"Ecoles!C245","v":0},null,{"$f":"SUMIF('Concert 1'!$E$9:$E$56,Statistiques!A249,'Concert 1'!$I$9:$I$56)+SUMIF('Concert 2'!$E$9:$E$56,Statistiques!A249,'Concert 2'!$I$9:$I$56)+SUMIF('Concert 3'!$E$9:$E$56,Statistiques!A249,'Concert 3'!$I$9:$I$56)+SUMIF('Concert 4'!$E$9:$E$56,Statistiques!A249,'Concert 4'!$I$9:$I$56)+SUMIF('Concert 5'!$E$9:$E$56,Statistiques!A249,'Concert 5'!$I$9:$I$56)","v":0},{"$f":"SUMIF('Concert 1'!$E$9:$E$56,Statistiques!A249,'Concert 1'!$J$9:$J$56)+SUMIF('Concert 2'!$E$9:$E$56,Statistiques!A249,'Concert 2'!$J$9:$J$56)+SUMIF('Concert 3'!$E$9:$E$56,Statistiques!A249,'Concert 3'!$J$9:$J$56)+SUMIF('Concert 4'!$E$9:$E$56,Statistiques!A249,'Concert 4'!$J$9:$J$56)+SUMIF('Concert 5'!$E$9:$E$56,Statistiques!A249,'Concert 5'!$J$9:$J$56)","v":0},null,null,{"$f":"SUMIF('Concert 1'!$E$9:$E$56,Statistiques!A249,'Concert 1'!$I$9:$I$56)","v":0},{"$f":"SUMIF('Concert 1'!$E$9:$E$56,Statistiques!A249,'Concert 1'!$J$9:$J$56)","v":0},{"$f":"SUMIF('Concert 2'!$E$9:$E$56,Statistiques!A249,'Concert 2'!$I$9:$I$56)","v":0},{"$f":"SUMIF('Concert 2'!$E$9:$E$56,Statistiques!A249,'Concert 2'!$J$9:$J$56)","v":0},{"$f":"SUMIF('Concert 3'!$E$9:$E$56,Statistiques!A249,'Concert 3'!$I$9:$I$56)","v":0},{"$f":"SUMIF('Concert 3'!$E$9:$E$56,Statistiques!A249,'Concert 3'!$J$9:$J$56)","v":0},{"$f":"SUMIF('Concert 4'!$E$9:$E$56,Statistiques!A249,'Concert 4'!$I$9:$I$56)","v":0},{"$f":"SUMIF('Concert 4'!$E$9:$E$56,Statistiques!A249,'Concert 4'!$J$9:$J$56)","v":0},{"$f":"SUMIF('Concert 5'!$E$9:$E$56,Statistiques!A249,'Concert 5'!$I$9:$I$56)","v":0},{"$f":"SUMIF('Concert 5'!$E$9:$E$56,Statistiques!A249,'Concert 5'!$J$9:$J$56)","v":0}]
[{"$f":"Ecoles!A246","v":0},{"$f":"Ecoles!B246","v":0},{"$f":"Ecoles!C246","v":0},null,{"$f":"SUMIF('Concert 1'!$E$9:$E$56,Statistiques!A250,'Concert 1'!$I$9:$I$56)+SUMIF('Concert 2'!$E$9:$E$56,Statistiques!A250,'Concert 2'!$I$9:$I$56)+SUMIF('Concert 3'!$E$9:$E$56,Statistiques!A250,'Concert 3'!$I$9:$I$56)+SUMIF('Concert 4'!$E$9:$E$56,Statistiques!A250,'Concert 4'!$I$9:$I$56)+SUMIF('Concert 5'!$E$9:$E$56,Statistiques!A250,'Concert 5'!$I$9:$I$56)","v":0},{"$f":"SUMIF('Concert 1'!$E$9:$E$56,Statistiques!A250,'Concert 1'!$J$9:$J$56)+SUMIF('Concert 2'!$E$9:$E$56,Statistiques!A250,'Concert 2'!$J$9:$J$56)+SUMIF('Concert 3'!$E$9:$E$56,Statistiques!A250,'Concert 3'!$J$9:$J$56)+SUMIF('Concert 4'!$E$9:$E$56,Statistiques!A250,'Concert 4'!$J$9:$J$56)+SUMIF('Concert 5'!$E$9:$E$56,Statistiques!A250,'Concert 5'!$J$9:$J$56)","v":0},null,null,{"$f":"SUMIF('Concert 1'!$E$9:$E$56,Statistiques!A250,'Concert 1'!$I$9:$I$56)","v":0},{"$f":"SUMIF('Concert 1'!$E$9:$E$56,Statistiques!A250,'Concert 1'!$J$9:$J$56)","v":0},{"$f":"SUMIF('Concert 2'!$E$9:$E$56,Statistiques!A250,'Concert 2'!$I$9:$I$56)","v":0},{"$f":"SUMIF('Concert 2'!$E$9:$E$56,Statistiques!A250,'Concert 2'!$J$9:$J$56)","v":0},{"$f":"SUMIF('Concert 3'!$E$9:$E$56,Statistiques!A250,'Concert 3'!$I$9:$I$56)","v":0},{"$f":"SUMIF('Concert 3'!$E$9:$E$56,Statistiques!A250,'Concert 3'!$J$9:$J$56)","v":0},{"$f":"SUMIF('Concert 4'!$E$9:$E$56,Statistiques!A250,'Concert 4'!$I$9:$I$56)","v":0},{"$f":"SUMIF('Concert 4'!$E$9:$E$56,Statistiques!A250,'Concert 4'!$J$9:$J$56)","v":0},{"$f":"SUMIF('Concert 5'!$E$9:$E$56,Statistiques!A250,'Concert 5'!$I$9:$I$56)","v":0},{"$f":"SUMIF('Concert 5'!$E$9:$E$56,Statistiques!A250,'Concert 5'!$J$9:$J$56)","v":0}]
[{"$f":"Ecoles!A247","v":0},{"$f":"Ecoles!B247","v":0},{"$f":"Ecoles!C247","v":0},null,{"$f":"SUMIF('Concert 1'!$E$9:$E$56,Statistiques!A251,'Concert 1'!$I$9:$I$56)+SUMIF('Concert 2'!$E$9:$E$56,Statistiques!A251,'Concert 2'!$I$9:$I$56)+SUMIF('Concert 3'!$E$9:$E$56,Statistiques!A251,'Concert 3'!$I$9:$I$56)+SUMIF('Concert 4'!$E$9:$E$56,Statistiques!A251,'Concert 4'!$I$9:$I$56)+SUMIF('Concert 5'!$E$9:$E$56,Statistiques!A251,'Concert 5'!$I$9:$I$56)","v":0},{"$f":"SUMIF('Concert 1'!$E$9:$E$56,Statistiques!A251,'Concert 1'!$J$9:$J$56)+SUMIF('Concert 2'!$E$9:$E$56,Statistiques!A251,'Concert 2'!$J$9:$J$56)+SUMIF('Concert 3'!$E$9:$E$56,Statistiques!A251,'Concert 3'!$J$9:$J$56)+SUMIF('Concert 4'!$E$9:$E$56,Statistiques!A251,'Concert 4'!$J$9:$J$56)+SUMIF('Concert 5'!$E$9:$E$56,Statistiques!A251,'Concert 5'!$J$9:$J$56)","v":0},null,null,{"$f":"SUMIF('Concert 1'!$E$9:$E$56,Statistiques!A251,'Concert 1'!$I$9:$I$56)","v":0},{"$f":"SUMIF('Concert 1'!$E$9:$E$56,Statistiques!A251,'Concert 1'!$J$9:$J$56)","v":0},{"$f":"SUMIF('Concert 2'!$E$9:$E$56,Statistiques!A251,'Concert 2'!$I$9:$I$56)","v":0},{"$f":"SUMIF('Concert 2'!$E$9:$E$56,Statistiques!A251,'Concert 2'!$J$9:$J$56)","v":0},{"$f":"SUMIF('Concert 3'!$E$9:$E$56,Statistiques!A251,'Concert 3'!$I$9:$I$56)","v":0},{"$f":"SUMIF('Concert 3'!$E$9:$E$56,Statistiques!A251,'Concert 3'!$J$9:$J$56)","v":0},{"$f":"SUMIF('Concert 4'!$E$9:$E$56,Statistiques!A251,'Concert 4'!$I$9:$I$56)","v":0},{"$f":"SUMIF('Concert 4'!$E$9:$E$56,Statistiques!A251,'Concert 4'!$J$9:$J$56)","v":0},{"$f":"SUMIF('Concert 5'!$E$9:$E$56,Statistiques!A251,'Concert 5'!$I$9:$I$56)","v":0},{"$f":"SUMIF('Concert 5'!$E$9:$E$56,Statistiques!A251,'Concert 5'!$J$9:$J$56)","v":0}]
[{"$f":"Ecoles!A248","v":0},{"$f":"Ecoles!B248","v":0},{"$f":"Ecoles!C248","v":0},null,{"$f":"SUMIF('Concert 1'!$E$9:$E$56,Statistiques!A252,'Concert 1'!$I$9:$I$56)+SUMIF('Concert 2'!$E$9:$E$56,Statistiques!A252,'Concert 2'!$I$9:$I$56)+SUMIF('Concert 3'!$E$9:$E$56,Statistiques!A252,'Concert 3'!$I$9:$I$56)+SUMIF('Concert 4'!$E$9:$E$56,Statistiques!A252,'Concert 4'!$I$9:$I$56)+SUMIF('Concert 5'!$E$9:$E$56,Statistiques!A252,'Concert 5'!$I$9:$I$56)","v":0},{"$f":"SUMIF('Concert 1'!$E$9:$E$56,Statistiques!A252,'Concert 1'!$J$9:$J$56)+SUMIF('Concert 2'!$E$9:$E$56,Statistiques!A252,'Concert 2'!$J$9:$J$56)+SUMIF('Concert 3'!$E$9:$E$56,Statistiques!A252,'Concert 3'!$J$9:$J$56)+SUMIF('Concert 4'!$E$9:$E$56,Statistiques!A252,'Concert 4'!$J$9:$J$56)+SUMIF('Concert 5'!$E$9:$E$56,Statistiques!A252,'Concert 5'!$J$9:$J$56)","v":0},null,null,{"$f":"SUMIF('Concert 1'!$E$9:$E$56,Statistiques!A252,'Concert 1'!$I$9:$I$56)","v":0},{"$f":"SUMIF('Concert 1'!$E$9:$E$56,Statistiques!A252,'Concert 1'!$J$9:$J$56)","v":0},{"$f":"SUMIF('Concert 2'!$E$9:$E$56,Statistiques!A252,'Concert 2'!$I$9:$I$56)","v":0},{"$f":"SUMIF('Concert 2'!$E$9:$E$56,Statistiques!A252,'Concert 2'!$J$9:$J$56)","v":0},{"$f":"SUMIF('Concert 3'!$E$9:$E$56,Statistiques!A252,'Concert 3'!$I$9:$I$56)","v":0},{"$f":"SUMIF('Concert 3'!$E$9:$E$56,Statistiques!A252,'Concert 3'!$J$9:$J$56)","v":0},{"$f":"SUMIF('Concert 4'!$E$9:$E$56,Statistiques!A252,'Concert 4'!$I$9:$I$56)","v":0},{"$f":"SUMIF('Concert 4'!$E$9:$E$56,Statistiques!A252,'Concert 4'!$J$9:$J$56)","v":0},{"$f":"SUMIF('Concert 5'!$E$9:$E$56,Statistiques!A252,'Concert 5'!$I$9:$I$56)","v":0},{"$f":"SUMIF('Concert 5'!$E$9:$E$56,Statistiques!A252,'Concert 5'!$J$9:$J$56)","v":0}]
[{"$f":"Ecoles!A249","v":0},{"$f":"Ecoles!B249","v":0},{"$f":"Ecoles!C249","v":0},null,{"$f":"SUMIF('Concert 1'!$E$9:$E$56,Statistiques!A253,'Concert 1'!$I$9:$I$56)+SUMIF('Concert 2'!$E$9:$E$56,Statistiques!A253,'Concert 2'!$I$9:$I$56)+SUMIF('Concert 3'!$E$9:$E$56,Statistiques!A253,'Concert 3'!$I$9:$I$56)+SUMIF('Concert 4'!$E$9:$E$56,Statistiques!A253,'Concert 4'!$I$9:$I$56)+SUMIF('Concert 5'!$E$9:$E$56,Statistiques!A253,'Concert 5'!$I$9:$I$56)","v":0},{"$f":"SUMIF('Concert 1'!$E$9:$E$56,Statistiques!A253,'Concert 1'!$J$9:$J$56)+SUMIF('Concert 2'!$E$9:$E$56,Statistiques!A253,'Concert 2'!$J$9:$J$56)+SUMIF('Concert 3'!$E$9:$E$56,Statistiques!A253,'Concert 3'!$J$9:$J$56)+SUMIF('Concert 4'!$E$9:$E$56,Statistiques!A253,'Concert 4'!$J$9:$J$56)+SUMIF('Concert 5'!$E$9:$E$56,Statistiques!A253,'Concert 5'!$J$9:$J$56)","v":0},null,null,{"$f":"SUMIF('Concert 1'!$E$9:$E$56,Statistiques!A253,'Concert 1'!$I$9:$I$56)","v":0},{"$f":"SUMIF('Concert 1'!$E$9:$E$56,Statistiques!A253,'Concert 1'!$J$9:$J$56)","v":0},{"$f":"SUMIF('Concert 2'!$E$9:$E$56,Statistiques!A253,'Concert 2'!$I$9:$I$56)","v":0},{"$f":"SUMIF('Concert 2'!$E$9:$E$56,Statistiques!A253,'Concert 2'!$J$9:$J$56)","v":0},{"$f":"SUMIF('Concert 3'!$E$9:$E$56,Statistiques!A253,'Concert 3'!$I$9:$I$56)","v":0},{"$f":"SUMIF('Concert 3'!$E$9:$E$56,Statistiques!A253,'Concert 3'!$J$9:$J$56)","v":0},{"$f":"SUMIF('Concert 4'!$E$9:$E$56,Statistiques!A253,'Concert 4'!$I$9:$I$56)","v":0},{"$f":"SUMIF('Concert 4'!$E$9:$E$56,Statistiques!A253,'Concert 4'!$J$9:$J$56)","v":0},{"$f":"SUMIF('Concert 5'!$E$9:$E$56,Statistiques!A253,'Concert 5'!$I$9:$I$56)","v":0},{"$f":"SUMIF('Concert 5'!$E$9:$E$56,Statistiques!A253,'Concert 5'!$J$9:$J$56)","v":0}]
[{"$f":"Ecoles!A250","v":0},{"$f":"Ecoles!B250","v":0},{"$f":"Ecoles!C250","v":0},null,{"$f":"SUMIF('Concert 1'!$E$9:$E$56,Statistiques!A254,'Concert 1'!$I$9:$I$56)+SUMIF('Concert 2'!$E$9:$E$56,Statistiques!A254,'Concert 2'!$I$9:$I$56)+SUMIF('Concert 3'!$E$9:$E$56,Statistiques!A254,'Concert 3'!$I$9:$I$56)+SUMIF('Concert 4'!$E$9:$E$56,Statistiques!A254,'Concert 4'!$I$9:$I$56)+SUMIF('Concert 5'!$E$9:$E$56,Statistiques!A254,'Concert 5'!$I$9:$I$56)","v":0},{"$f":"SUMIF('Concert 1'!$E$9:$E$56,Statistiques!A254,'Concert 1'!$J$9:$J$56)+SUMIF('Concert 2'!$E$9:$E$56,Statistiques!A254,'Concert 2'!$J$9:$J$56)+SUMIF('Concert 3'!$E$9:$E$56,Statistiques!A254,'Concert 3'!$J$9:$J$56)+SUMIF('Concert 4'!$E$9:$E$56,Statistiques!A254,'Concert 4'!$J$9:$J$56)+SUMIF('Concert 5'!$E$9:$E$56,Statistiques!A254,'Concert 5'!$J$9:$J$56)","v":0},null,null,{"$f":"SUMIF('Concert 1'!$E$9:$E$56,Statistiques!A254,'Concert 1'!$I$9:$I$56)","v":0},{"$f":"SUMIF('Concert 1'!$E$9:$E$56,Statistiques!A254,'Concert 1'!$J$9:$J$56)","v":0},{"$f":"SUMIF('Concert 2'!$E$9:$E$56,Statistiques!A254,'Concert 2'!$I$9:$I$56)","v":0},{"$f":"SUMIF('Concert 2'!$E$9:$E$56,Statistiques!A254,'Concert 2'!$J$9:$J$56)","v":0},{"$f":"SUMIF('Concert 3'!$E$9:$E$56,Statistiques!A254,'Concert 3'!$I$9:$I$56)","v":0},{"$f":"SUMIF('Concert 3'!$E$9:$E$56,Statistiques!A254,'Concert 3'!$J$9:$J$56)","v":0},{"$f":"SUMIF('Concert 4'!$E$9:$E$56,Statistiques!A254,'Concert 4'!$I$9:$I$56)","v":0},{"$f":"SUMIF('Concert 4'!$E$9:$E$56,Statistiques!A254,'Concert 4'!$J$9:$J$56)","v":0},{"$f":"SUMIF('Concert 5'!$E$9:$E$56,Statistiques!A254,'Concert 5'!$I$9:$I$56)","v":0},{"$f":"SUMIF('Concert 5'!$E$9:$E$56,Statistiques!A254,'Concert 5'!$J$9:$J$56)","v":0}]
[{"$f":"Ecoles!A251","v":0},{"$f":"Ecoles!B251","v":0},{"$f":"Ecoles!C251","v":0},null,{"$f":"SUMIF('Concert 1'!$E$9:$E$56,Statistiques!A255,'Concert 1'!$I$9:$I$56)+SUMIF('Concert 2'!$E$9:$E$56,Statistiques!A255,'Concert 2'!$I$9:$I$56)+SUMIF('Concert 3'!$E$9:$E$56,Statistiques!A255,'Concert 3'!$I$9:$I$56)+SUMIF('Concert 4'!$E$9:$E$56,Statistiques!A255,'Concert 4'!$I$9:$I$56)+SUMIF('Concert 5'!$E$9:$E$56,Statistiques!A255,'Concert 5'!$I$9:$I$56)","v":0},{"$f":"SUMIF('Concert 1'!$E$9:$E$56,Statistiques!A255,'Concert 1'!$J$9:$J$56)+SUMIF('Concert 2'!$E$9:$E$56,Statistiques!A255,'Concert 2'!$J$9:$J$56)+SUMIF('Concert 3'!$E$9:$E$56,Statistiques!A255,'Concert 3'!$J$9:$J$56)+SUMIF('Concert 4'!$E$9:$E$56,Statistiques!A255,'Concert 4'!$J$9:$J$56)+SUMIF('Concert 5'!$E$9:$E$56,Statistiques!A255,'Concert 5'!$J$9:$J$56)","v":0},null,null,{"$f":"SUMIF('Concert 1'!$E$9:$E$56,Statistiques!A255,'Concert 1'!$I$9:$I$56)","v":0},{"$f":"SUMIF('Concert 1'!$E$9:$E$56,Statistiques!A255,'Concert 1'!$J$9:$J$56)","v":0},{"$f":"SUMIF('Concert 2'!$E$9:$E$56,Statistiques!A255,'Concert 2'!$I$9:$I$56)","v":0},{"$f":"SUMIF('Concert 2'!$E$9:$E$56,Statistiques!A255,'Concert 2'!$J$9:$J$56)","v":0},{"$f":"SUMIF('Concert 3'!$E$9:$E$56,Statistiques!A255,'Concert 3'!$I$9:$I$56)","v":0},{"$f":"SUMIF('Concert 3'!$E$9:$E$56,Statistiques!A255,'Concert 3'!$J$9:$J$56)","v":0},{"$f":"SUMIF('Concert 4'!$E$9:$E$56,Statistiques!A255,'Concert 4'!$I$9:$I$56)","v":0},{"$f":"SUMIF('Concert 4'!$E$9:$E$56,Statistiques!A255,'Concert 4'!$J$9:$J$56)","v":0},{"$f":"SUMIF('Concert 5'!$E$9:$E$56,Statistiques!A255,'Concert 5'!$I$9:$I$56)","v":0},{"$f":"SUMIF('Concert 5'!$E$9:$E$56,Statistiques!A255,'Concert 5'!$J$9:$J$56)","v":0}]
[{"$f":"Ecoles!A252","v":0},{"$f":"Ecoles!B252","v":0},{"$f":"Ecoles!C252","v":0},null,{"$f":"SUMIF('Concert 1'!$E$9:$E$56,Statistiques!A256,'Concert 1'!$I$9:$I$56)+SUMIF('Concert 2'!$E$9:$E$56,Statistiques!A256,'Concert 2'!$I$9:$I$56)+SUMIF('Concert 3'!$E$9:$E$56,Statistiques!A256,'Concert 3'!$I$9:$I$56)+SUMIF('Concert 4'!$E$9:$E$56,Statistiques!A256,'Concert 4'!$I$9:$I$56)+SUMIF('Concert 5'!$E$9:$E$56,Statistiques!A256,'Concert 5'!$I$9:$I$56)","v":0},{"$f":"SUMIF('Concert 1'!$E$9:$E$56,Statistiques!A256,'Concert 1'!$J$9:$J$56)+SUMIF('Concert 2'!$E$9:$E$56,Statistiques!A256,'Concert 2'!$J$9:$J$56)+SUMIF('Concert 3'!$E$9:$E$56,Statistiques!A256,'Concert 3'!$J$9:$J$56)+SUMIF('Concert 4'!$E$9:$E$56,Statistiques!A256,'Concert 4'!$J$9:$J$56)+SUMIF('Concert 5'!$E$9:$E$56,Statistiques!A256,'Concert 5'!$J$9:$J$56)","v":0},null,null,{"$f":"SUMIF('Concert 1'!$E$9:$E$56,Statistiques!A256,'Concert 1'!$I$9:$I$56)","v":0},{"$f":"SUMIF('Concert 1'!$E$9:$E$56,Statistiques!A256,'Concert 1'!$J$9:$J$56)","v":0},{"$f":"SUMIF('Concert 2'!$E$9:$E$56,Statistiques!A256,'Concert 2'!$I$9:$I$56)","v":0},{"$f":"SUMIF('Concert 2'!$E$9:$E$56,Statistiques!A256,'Concert 2'!$J$9:$J$56)","v":0},{"$f":"SUMIF('Concert 3'!$E$9:$E$56,Statistiques!A256,'Concert 3'!$I$9:$I$56)","v":0},{"$f":"SUMIF('Concert 3'!$E$9:$E$56,Statistiques!A256,'Concert 3'!$J$9:$J$56)","v":0},{"$f":"SUMIF('Concert 4'!$E$9:$E$56,Statistiques!A256,'Concert 4'!$I$9:$I$56)","v":0},{"$f":"SUMIF('Concert 4'!$E$9:$E$56,Statistiques!A256,'Concert 4'!$J$9:$J$56)","v":0},{"$f":"SUMIF('Concert 5'!$E$9:$E$56,Statistiques!A256,'Concert 5'!$I$9:$I$56)","v":0},{"$f":"SUMIF('Concert 5'!$E$9:$E$56,Statistiques!A256,'Concert 5'!$J$9:$J$56)","v":0}]
[{"$f":"Ecoles!A253","v":0},{"$f":"Ecoles!B253","v":0},{"$f":"Ecoles!C253","v":0},null,{"$f":"SUMIF('Concert 1'!$E$9:$E$56,Statistiques!A257,'Concert 1'!$I$9:$I$56)+SUMIF('Concert 2'!$E$9:$E$56,Statistiques!A257,'Concert 2'!$I$9:$I$56)+SUMIF('Concert 3'!$E$9:$E$56,Statistiques!A257,'Concert 3'!$I$9:$I$56)+SUMIF('Concert 4'!$E$9:$E$56,Statistiques!A257,'Concert 4'!$I$9:$I$56)+SUMIF('Concert 5'!$E$9:$E$56,Statistiques!A257,'Concert 5'!$I$9:$I$56)","v":0},{"$f":"SUMIF('Concert 1'!$E$9:$E$56,Statistiques!A257,'Concert 1'!$J$9:$J$56)+SUMIF('Concert 2'!$E$9:$E$56,Statistiques!A257,'Concert 2'!$J$9:$J$56)+SUMIF('Concert 3'!$E$9:$E$56,Statistiques!A257,'Concert 3'!$J$9:$J$56)+SUMIF('Concert 4'!$E$9:$E$56,Statistiques!A257,'Concert 4'!$J$9:$J$56)+SUMIF('Concert 5'!$E$9:$E$56,Statistiques!A257,'Concert 5'!$J$9:$J$56)","v":0},null,null,{"$f":"SUMIF('Concert 1'!$E$9:$E$56,Statistiques!A257,'Concert 1'!$I$9:$I$56)","v":0},{"$f":"SUMIF('Concert 1'!$E$9:$E$56,Statistiques!A257,'Concert 1'!$J$9:$J$56)","v":0},{"$f":"SUMIF('Concert 2'!$E$9:$E$56,Statistiques!A257,'Concert 2'!$I$9:$I$56)","v":0},{"$f":"SUMIF('Concert 2'!$E$9:$E$56,Statistiques!A257,'Concert 2'!$J$9:$J$56)","v":0},{"$f":"SUMIF('Concert 3'!$E$9:$E$56,Statistiques!A257,'Concert 3'!$I$9:$I$56)","v":0},{"$f":"SUMIF('Concert 3'!$E$9:$E$56,Statistiques!A257,'Concert 3'!$J$9:$J$56)","v":0},{"$f":"SUMIF('Concert 4'!$E$9:$E$56,Statistiques!A257,'Concert 4'!$I$9:$I$56)","v":0},{"$f":"SUMIF('Concert 4'!$E$9:$E$56,Statistiques!A257,'Concert 4'!$J$9:$J$56)","v":0},{"$f":"SUMIF('Concert 5'!$E$9:$E$56,Statistiques!A257,'Concert 5'!$I$9:$I$56)","v":0},{"$f":"SUMIF('Concert 5'!$E$9:$E$56,Statistiques!A257,'Concert 5'!$J$9:$J$56)","v":0}]
[{"$f":"Ecoles!A254","v":0},{"$f":"Ecoles!B254","v":0},{"$f":"Ecoles!C254","v":0},null,{"$f":"SUMIF('Concert 1'!$E$9:$E$56,Statistiques!A258,'Concert 1'!$I$9:$I$56)+SUMIF('Concert 2'!$E$9:$E$56,Statistiques!A258,'Concert 2'!$I$9:$I$56)+SUMIF('Concert 3'!$E$9:$E$56,Statistiques!A258,'Concert 3'!$I$9:$I$56)+SUMIF('Concert 4'!$E$9:$E$56,Statistiques!A258,'Concert 4'!$I$9:$I$56)+SUMIF('Concert 5'!$E$9:$E$56,Statistiques!A258,'Concert 5'!$I$9:$I$56)","v":0},{"$f":"SUMIF('Concert 1'!$E$9:$E$56,Statistiques!A258,'Concert 1'!$J$9:$J$56)+SUMIF('Concert 2'!$E$9:$E$56,Statistiques!A258,'Concert 2'!$J$9:$J$56)+SUMIF('Concert 3'!$E$9:$E$56,Statistiques!A258,'Concert 3'!$J$9:$J$56)+SUMIF('Concert 4'!$E$9:$E$56,Statistiques!A258,'Concert 4'!$J$9:$J$56)+SUMIF('Concert 5'!$E$9:$E$56,Statistiques!A258,'Concert 5'!$J$9:$J$56)","v":0},null,null,{"$f":"SUMIF('Concert 1'!$E$9:$E$56,Statistiques!A258,'Concert 1'!$I$9:$I$56)","v":0},{"$f":"SUMIF('Concert 1'!$E$9:$E$56,Statistiques!A258,'Concert 1'!$J$9:$J$56)","v":0},{"$f":"SUMIF('Concert 2'!$E$9:$E$56,Statistiques!A258,'Concert 2'!$I$9:$I$56)","v":0},{"$f":"SUMIF('Concert 2'!$E$9:$E$56,Statistiques!A258,'Concert 2'!$J$9:$J$56)","v":0},{"$f":"SUMIF('Concert 3'!$E$9:$E$56,Statistiques!A258,'Concert 3'!$I$9:$I$56)","v":0},{"$f":"SUMIF('Concert 3'!$E$9:$E$56,Statistiques!A258,'Concert 3'!$J$9:$J$56)","v":0},{"$f":"SUMIF('Concert 4'!$E$9:$E$56,Statistiques!A258,'Concert 4'!$I$9:$I$56)","v":0},{"$f":"SUMIF('Concert 4'!$E$9:$E$56,Statistiques!A258,'Concert 4'!$J$9:$J$56)","v":0},{"$f":"SUMIF('Concert 5'!$E$9:$E$56,Statistiques!A258,'Concert 5'!$I$9:$I$56)","v":0},{"$f":"SUMIF('Concert 5'!$E$9:$E$56,Statistiques!A258,'Concert 5'!$J$9:$J$56)","v":0}]
[{"$f":"Ecoles!A255","v":0},{"$f":"Ecoles!B255","v":0},{"$f":"Ecoles!C255","v":0},null,{"$f":"SUMIF('Concert 1'!$E$9:$E$56,Statistiques!A259,'Concert 1'!$I$9:$I$56)+SUMIF('Concert 2'!$E$9:$E$56,Statistiques!A259,'Concert 2'!$I$9:$I$56)+SUMIF('Concert 3'!$E$9:$E$56,Statistiques!A259,'Concert 3'!$I$9:$I$56)+SUMIF('Concert 4'!$E$9:$E$56,Statistiques!A259,'Concert 4'!$I$9:$I$56)+SUMIF('Concert 5'!$E$9:$E$56,Statistiques!A259,'Concert 5'!$I$9:$I$56)","v":0},{"$f":"SUMIF('Concert 1'!$E$9:$E$56,Statistiques!A259,'Concert 1'!$J$9:$J$56)+SUMIF('Concert 2'!$E$9:$E$56,Statistiques!A259,'Concert 2'!$J$9:$J$56)+SUMIF('Concert 3'!$E$9:$E$56,Statistiques!A259,'Concert 3'!$J$9:$J$56)+SUMIF('Concert 4'!$E$9:$E$56,Statistiques!A259,'Concert 4'!$J$9:$J$56)+SUMIF('Concert 5'!$E$9:$E$56,Statistiques!A259,'Concert 5'!$J$9:$J$56)","v":0},null,null,{"$f":"SUMIF('Concert 1'!$E$9:$E$56,Statistiques!A259,'Concert 1'!$I$9:$I$56)","v":0},{"$f":"SUMIF('Concert 1'!$E$9:$E$56,Statistiques!A259,'Concert 1'!$J$9:$J$56)","v":0},{"$f":"SUMIF('Concert 2'!$E$9:$E$56,Statistiques!A259,'Concert 2'!$I$9:$I$56)","v":0},{"$f":"SUMIF('Concert 2'!$E$9:$E$56,Statistiques!A259,'Concert 2'!$J$9:$J$56)","v":0},{"$f":"SUMIF('Concert 3'!$E$9:$E$56,Statistiques!A259,'Concert 3'!$I$9:$I$56)","v":0},{"$f":"SUMIF('Concert 3'!$E$9:$E$56,Statistiques!A259,'Concert 3'!$J$9:$J$56)","v":0},{"$f":"SUMIF('Concert 4'!$E$9:$E$56,Statistiques!A259,'Concert 4'!$I$9:$I$56)","v":0},{"$f":"SUMIF('Concert 4'!$E$9:$E$56,Statistiques!A259,'Concert 4'!$J$9:$J$56)","v":0},{"$f":"SUMIF('Concert 5'!$E$9:$E$56,Statistiques!A259,'Concert 5'!$I$9:$I$56)","v":0},{"$f":"SUMIF('Concert 5'!$E$9:$E$56,Statistiques!A259,'Concert 5'!$J$9:$J$56)","v":0}]
[{"$f":"Ecoles!A256","v":0},{"$f":"Ecoles!B256","v":0},{"$f":"Ecoles!C256","v":0},null,{"$f":"SUMIF('Concert 1'!$E$9:$E$56,Statistiques!A260,'Concert 1'!$I$9:$I$56)+SUMIF('Concert 2'!$E$9:$E$56,Statistiques!A260,'Concert 2'!$I$9:$I$56)+SUMIF('Concert 3'!$E$9:$E$56,Statistiques!A260,'Concert 3'!$I$9:$I$56)+SUMIF('Concert 4'!$E$9:$E$56,Statistiques!A260,'Concert 4'!$I$9:$I$56)+SUMIF('Concert 5'!$E$9:$E$56,Statistiques!A260,'Concert 5'!$I$9:$I$56)","v":0},{"$f":"SUMIF('Concert 1'!$E$9:$E$56,Statistiques!A260,'Concert 1'!$J$9:$J$56)+SUMIF('Concert 2'!$E$9:$E$56,Statistiques!A260,'Concert 2'!$J$9:$J$56)+SUMIF('Concert 3'!$E$9:$E$56,Statistiques!A260,'Concert 3'!$J$9:$J$56)+SUMIF('Concert 4'!$E$9:$E$56,Statistiques!A260,'Concert 4'!$J$9:$J$56)+SUMIF('Concert 5'!$E$9:$E$56,Statistiques!A260,'Concert 5'!$J$9:$J$56)","v":0},null,null,{"$f":"SUMIF('Concert 1'!$E$9:$E$56,Statistiques!A260,'Concert 1'!$I$9:$I$56)","v":0},{"$f":"SUMIF('Concert 1'!$E$9:$E$56,Statistiques!A260,'Concert 1'!$J$9:$J$56)","v":0},{"$f":"SUMIF('Concert 2'!$E$9:$E$56,Statistiques!A260,'Concert 2'!$I$9:$I$56)","v":0},{"$f":"SUMIF('Concert 2'!$E$9:$E$56,Statistiques!A260,'Concert 2'!$J$9:$J$56)","v":0},{"$f":"SUMIF('Concert 3'!$E$9:$E$56,Statistiques!A260,'Concert 3'!$I$9:$I$56)","v":0},{"$f":"SUMIF('Concert 3'!$E$9:$E$56,Statistiques!A260,'Concert 3'!$J$9:$J$56)","v":0},{"$f":"SUMIF('Concert 4'!$E$9:$E$56,Statistiques!A260,'Concert 4'!$I$9:$I$56)","v":0},{"$f":"SUMIF('Concert 4'!$E$9:$E$56,Statistiques!A260,'Concert 4'!$J$9:$J$56)","v":0},{"$f":"SUMIF('Concert 5'!$E$9:$E$56,Statistiques!A260,'Concert 5'!$I$9:$I$56)","v":0},{"$f":"SUMIF('Concert 5'!$E$9:$E$56,Statistiques!A260,'Concert 5'!$J$9:$J$56)","v":0}]
[{"$f":"Ecoles!A257","v":0},{"$f":"Ecoles!B257","v":0},{"$f":"Ecoles!C257","v":0},null,{"$f":"SUMIF('Concert 1'!$E$9:$E$56,Statistiques!A261,'Concert 1'!$I$9:$I$56)+SUMIF('Concert 2'!$E$9:$E$56,Statistiques!A261,'Concert 2'!$I$9:$I$56)+SUMIF('Concert 3'!$E$9:$E$56,Statistiques!A261,'Concert 3'!$I$9:$I$56)+SUMIF('Concert 4'!$E$9:$E$56,Statistiques!A261,'Concert 4'!$I$9:$I$56)+SUMIF('Concert 5'!$E$9:$E$56,Statistiques!A261,'Concert 5'!$I$9:$I$56)","v":0},{"$f":"SUMIF('Concert 1'!$E$9:$E$56,Statistiques!A261,'Concert 1'!$J$9:$J$56)+SUMIF('Concert 2'!$E$9:$E$56,Statistiques!A261,'Concert 2'!$J$9:$J$56)+SUMIF('Concert 3'!$E$9:$E$56,Statistiques!A261,'Concert 3'!$J$9:$J$56)+SUMIF('Concert 4'!$E$9:$E$56,Statistiques!A261,'Concert 4'!$J$9:$J$56)+SUMIF('Concert 5'!$E$9:$E$56,Statistiques!A261,'Concert 5'!$J$9:$J$56)","v":0},null,null,{"$f":"SUMIF('Concert 1'!$E$9:$E$56,Statistiques!A261,'Concert 1'!$I$9:$I$56)","v":0},{"$f":"SUMIF('Concert 1'!$E$9:$E$56,Statistiques!A261,'Concert 1'!$J$9:$J$56)","v":0},{"$f":"SUMIF('Concert 2'!$E$9:$E$56,Statistiques!A261,'Concert 2'!$I$9:$I$56)","v":0},{"$f":"SUMIF('Concert 2'!$E$9:$E$56,Statistiques!A261,'Concert 2'!$J$9:$J$56)","v":0},{"$f":"SUMIF('Concert 3'!$E$9:$E$56,Statistiques!A261,'Concert 3'!$I$9:$I$56)","v":0},{"$f":"SUMIF('Concert 3'!$E$9:$E$56,Statistiques!A261,'Concert 3'!$J$9:$J$56)","v":0},{"$f":"SUMIF('Concert 4'!$E$9:$E$56,Statistiques!A261,'Concert 4'!$I$9:$I$56)","v":0},{"$f":"SUMIF('Concert 4'!$E$9:$E$56,Statistiques!A261,'Concert 4'!$J$9:$J$56)","v":0},{"$f":"SUMIF('Concert 5'!$E$9:$E$56,Statistiques!A261,'Concert 5'!$I$9:$I$56)","v":0},{"$f":"SUMIF('Concert 5'!$E$9:$E$56,Statistiques!A261,'Concert 5'!$J$9:$J$56)","v":0}]
[{"$f":"Ecoles!A258","v":0},{"$f":"Ecoles!B258","v":0},{"$f":"Ecoles!C258","v":0},null,{"$f":"SUMIF('Concert 1'!$E$9:$E$56,Statistiques!A262,'Concert 1'!$I$9:$I$56)+SUMIF('Concert 2'!$E$9:$E$56,Statistiques!A262,'Concert 2'!$I$9:$I$56)+SUMIF('Concert 3'!$E$9:$E$56,Statistiques!A262,'Concert 3'!$I$9:$I$56)+SUMIF('Concert 4'!$E$9:$E$56,Statistiques!A262,'Concert 4'!$I$9:$I$56)+SUMIF('Concert 5'!$E$9:$E$56,Statistiques!A262,'Concert 5'!$I$9:$I$56)","v":0},{"$f":"SUMIF('Concert 1'!$E$9:$E$56,Statistiques!A262,'Concert 1'!$J$9:$J$56)+SUMIF('Concert 2'!$E$9:$E$56,Statistiques!A262,'Concert 2'!$J$9:$J$56)+SUMIF('Concert 3'!$E$9:$E$56,Statistiques!A262,'Concert 3'!$J$9:$J$56)+SUMIF('Concert 4'!$E$9:$E$56,Statistiques!A262,'Concert 4'!$J$9:$J$56)+SUMIF('Concert 5'!$E$9:$E$56,Statistiques!A262,'Concert 5'!$J$9:$J$56)","v":0},null,null,{"$f":"SUMIF('Concert 1'!$E$9:$E$56,Statistiques!A262,'Concert 1'!$I$9:$I$56)","v":0},{"$f":"SUMIF('Concert 1'!$E$9:$E$56,Statistiques!A262,'Concert 1'!$J$9:$J$56)","v":0},{"$f":"SUMIF('Concert 2'!$E$9:$E$56,Statistiques!A262,'Concert 2'!$I$9:$I$56)","v":0},{"$f":"SUMIF('Concert 2'!$E$9:$E$56,Statistiques!A262,'Concert 2'!$J$9:$J$56)","v":0},{"$f":"SUMIF('Concert 3'!$E$9:$E$56,Statistiques!A262,'Concert 3'!$I$9:$I$56)","v":0},{"$f":"SUMIF('Concert 3'!$E$9:$E$56,Statistiques!A262,'Concert 3'!$J$9:$J$56)","v":0},{"$f":"SUMIF('Concert 4'!$E$9:$E$56,Statistiques!A262,'Concert 4'!$I$9:$I$56)","v":0},{"$f":"SUMIF('Concert 4'!$E$9:$E$56,Statistiques!A262,'Concert 4'!$J$9:$J$56)","v":0},{"$f":"SUMIF('Concert 5'!$E$9:$E$56,Statistiques!A262,'Concert 5'!$I$9:$I$56)","v":0},{"$f":"SUMIF('Concert 5'!$E$9:$E$56,Statistiques!A262,'Concert 5'!$J$9:$J$56)","v":0}]
[{"$f":"Ecoles!A259","v":0},{"$f":"Ecoles!B259","v":0},{"$f":"Ecoles!C259","v":0},null,{"$f":"SUMIF('Concert 1'!$E$9:$E$56,Statistiques!A263,'Concert 1'!$I$9:$I$56)+SUMIF('Concert 2'!$E$9:$E$56,Statistiques!A263,'Concert 2'!$I$9:$I$56)+SUMIF('Concert 3'!$E$9:$E$56,Statistiques!A263,'Concert 3'!$I$9:$I$56)+SUMIF('Concert 4'!$E$9:$E$56,Statistiques!A263,'Concert 4'!$I$9:$I$56)+SUMIF('Concert 5'!$E$9:$E$56,Statistiques!A263,'Concert 5'!$I$9:$I$56)","v":0},{"$f":"SUMIF('Concert 1'!$E$9:$E$56,Statistiques!A263,'Concert 1'!$J$9:$J$56)+SUMIF('Concert 2'!$E$9:$E$56,Statistiques!A263,'Concert 2'!$J$9:$J$56)+SUMIF('Concert 3'!$E$9:$E$56,Statistiques!A263,'Concert 3'!$J$9:$J$56)+SUMIF('Concert 4'!$E$9:$E$56,Statistiques!A263,'Concert 4'!$J$9:$J$56)+SUMIF('Concert 5'!$E$9:$E$56,Statistiques!A263,'Concert 5'!$J$9:$J$56)","v":0},null,null,{"$f":"SUMIF('Concert 1'!$E$9:$E$56,Statistiques!A263,'Concert 1'!$I$9:$I$56)","v":0},{"$f":"SUMIF('Concert 1'!$E$9:$E$56,Statistiques!A263,'Concert 1'!$J$9:$J$56)","v":0},{"$f":"SUMIF('Concert 2'!$E$9:$E$56,Statistiques!A263,'Concert 2'!$I$9:$I$56)","v":0},{"$f":"SUMIF('Concert 2'!$E$9:$E$56,Statistiques!A263,'Concert 2'!$J$9:$J$56)","v":0},{"$f":"SUMIF('Concert 3'!$E$9:$E$56,Statistiques!A263,'Concert 3'!$I$9:$I$56)","v":0},{"$f":"SUMIF('Concert 3'!$E$9:$E$56,Statistiques!A263,'Concert 3'!$J$9:$J$56)","v":0},{"$f":"SUMIF('Concert 4'!$E$9:$E$56,Statistiques!A263,'Concert 4'!$I$9:$I$56)","v":0},{"$f":"SUMIF('Concert 4'!$E$9:$E$56,Statistiques!A263,'Concert 4'!$J$9:$J$56)","v":0},{"$f":"SUMIF('Concert 5'!$E$9:$E$56,Statistiques!A263,'Concert 5'!$I$9:$I$56)","v":0},{"$f":"SUMIF('Concert 5'!$E$9:$E$56,Statistiques!A263,'Concert 5'!$J$9:$J$56)","v":0}]
[{"$f":"Ecoles!A260","v":0},{"$f":"Ecoles!B260","v":0},{"$f":"Ecoles!C260","v":0},null,{"$f":"SUMIF('Concert 1'!$E$9:$E$56,Statistiques!A264,'Concert 1'!$I$9:$I$56)+SUMIF('Concert 2'!$E$9:$E$56,Statistiques!A264,'Concert 2'!$I$9:$I$56)+SUMIF('Concert 3'!$E$9:$E$56,Statistiques!A264,'Concert 3'!$I$9:$I$56)+SUMIF('Concert 4'!$E$9:$E$56,Statistiques!A264,'Concert 4'!$I$9:$I$56)+SUMIF('Concert 5'!$E$9:$E$56,Statistiques!A264,'Concert 5'!$I$9:$I$56)","v":0},{"$f":"SUMIF('Concert 1'!$E$9:$E$56,Statistiques!A264,'Concert 1'!$J$9:$J$56)+SUMIF('Concert 2'!$E$9:$E$56,Statistiques!A264,'Concert 2'!$J$9:$J$56)+SUMIF('Concert 3'!$E$9:$E$56,Statistiques!A264,'Concert 3'!$J$9:$J$56)+SUMIF('Concert 4'!$E$9:$E$56,Statistiques!A264,'Concert 4'!$J$9:$J$56)+SUMIF('Concert 5'!$E$9:$E$56,Statistiques!A264,'Concert 5'!$J$9:$J$56)","v":0},null,null,{"$f":"SUMIF('Concert 1'!$E$9:$E$56,Statistiques!A264,'Concert 1'!$I$9:$I$56)","v":0},{"$f":"SUMIF('Concert 1'!$E$9:$E$56,Statistiques!A264,'Concert 1'!$J$9:$J$56)","v":0},{"$f":"SUMIF('Concert 2'!$E$9:$E$56,Statistiques!A264,'Concert 2'!$I$9:$I$56)","v":0},{"$f":"SUMIF('Concert 2'!$E$9:$E$56,Statistiques!A264,'Concert 2'!$J$9:$J$56)","v":0},{"$f":"SUMIF('Concert 3'!$E$9:$E$56,Statistiques!A264,'Concert 3'!$I$9:$I$56)","v":0},{"$f":"SUMIF('Concert 3'!$E$9:$E$56,Statistiques!A264,'Concert 3'!$J$9:$J$56)","v":0},{"$f":"SUMIF('Concert 4'!$E$9:$E$56,Statistiques!A264,'Concert 4'!$I$9:$I$56)","v":0},{"$f":"SUMIF('Concert 4'!$E$9:$E$56,Statistiques!A264,'Concert 4'!$J$9:$J$56)","v":0},{"$f":"SUMIF('Concert 5'!$E$9:$E$56,Statistiques!A264,'Concert 5'!$I$9:$I$56)","v":0},{"$f":"SUMIF('Concert 5'!$E$9:$E$56,Statistiques!A264,'Concert 5'!$J$9:$J$56)","v":0}]
[{"$f":"Ecoles!A261","v":0},{"$f":"Ecoles!B261","v":0},{"$f":"Ecoles!C261","v":0},null,{"$f":"SUMIF('Concert 1'!$E$9:$E$56,Statistiques!A265,'Concert 1'!$I$9:$I$56)+SUMIF('Concert 2'!$E$9:$E$56,Statistiques!A265,'Concert 2'!$I$9:$I$56)+SUMIF('Concert 3'!$E$9:$E$56,Statistiques!A265,'Concert 3'!$I$9:$I$56)+SUMIF('Concert 4'!$E$9:$E$56,Statistiques!A265,'Concert 4'!$I$9:$I$56)+SUMIF('Concert 5'!$E$9:$E$56,Statistiques!A265,'Concert 5'!$I$9:$I$56)","v":0},{"$f":"SUMIF('Concert 1'!$E$9:$E$56,Statistiques!A265,'Concert 1'!$J$9:$J$56)+SUMIF('Concert 2'!$E$9:$E$56,Statistiques!A265,'Concert 2'!$J$9:$J$56)+SUMIF('Concert 3'!$E$9:$E$56,Statistiques!A265,'Concert 3'!$J$9:$J$56)+SUMIF('Concert 4'!$E$9:$E$56,Statistiques!A265,'Concert 4'!$J$9:$J$56)+SUMIF('Concert 5'!$E$9:$E$56,Statistiques!A265,'Concert 5'!$J$9:$J$56)","v":0},null,null,{"$f":"SUMIF('Concert 1'!$E$9:$E$56,Statistiques!A265,'Concert 1'!$I$9:$I$56)","v":0},{"$f":"SUMIF('Concert 1'!$E$9:$E$56,Statistiques!A265,'Concert 1'!$J$9:$J$56)","v":0},{"$f":"SUMIF('Concert 2'!$E$9:$E$56,Statistiques!A265,'Concert 2'!$I$9:$I$56)","v":0},{"$f":"SUMIF('Concert 2'!$E$9:$E$56,Statistiques!A265,'Concert 2'!$J$9:$J$56)","v":0},{"$f":"SUMIF('Concert 3'!$E$9:$E$56,Statistiques!A265,'Concert 3'!$I$9:$I$56)","v":0},{"$f":"SUMIF('Concert 3'!$E$9:$E$56,Statistiques!A265,'Concert 3'!$J$9:$J$56)","v":0},{"$f":"SUMIF('Concert 4'!$E$9:$E$56,Statistiques!A265,'Concert 4'!$I$9:$I$56)","v":0},{"$f":"SUMIF('Concert 4'!$E$9:$E$56,Statistiques!A265,'Concert 4'!$J$9:$J$56)","v":0},{"$f":"SUMIF('Concert 5'!$E$9:$E$56,Statistiques!A265,'Concert 5'!$I$9:$I$56)","v":0},{"$f":"SUMIF('Concert 5'!$E$9:$E$56,Statistiques!A265,'Concert 5'!$J$9:$J$56)","v":0}]
[{"$f":"Ecoles!A262","v":0},{"$f":"Ecoles!B262","v":0},{"$f":"Ecoles!C262","v":0},null,{"$f":"SUMIF('Concert 1'!$E$9:$E$56,Statistiques!A266,'Concert 1'!$I$9:$I$56)+SUMIF('Concert 2'!$E$9:$E$56,Statistiques!A266,'Concert 2'!$I$9:$I$56)+SUMIF('Concert 3'!$E$9:$E$56,Statistiques!A266,'Concert 3'!$I$9:$I$56)+SUMIF('Concert 4'!$E$9:$E$56,Statistiques!A266,'Concert 4'!$I$9:$I$56)+SUMIF('Concert 5'!$E$9:$E$56,Statistiques!A266,'Concert 5'!$I$9:$I$56)","v":0},{"$f":"SUMIF('Concert 1'!$E$9:$E$56,Statistiques!A266,'Concert 1'!$J$9:$J$56)+SUMIF('Concert 2'!$E$9:$E$56,Statistiques!A266,'Concert 2'!$J$9:$J$56)+SUMIF('Concert 3'!$E$9:$E$56,Statistiques!A266,'Concert 3'!$J$9:$J$56)+SUMIF('Concert 4'!$E$9:$E$56,Statistiques!A266,'Concert 4'!$J$9:$J$56)+SUMIF('Concert 5'!$E$9:$E$56,Statistiques!A266,'Concert 5'!$J$9:$J$56)","v":0},null,null,{"$f":"SUMIF('Concert 1'!$E$9:$E$56,Statistiques!A266,'Concert 1'!$I$9:$I$56)","v":0},{"$f":"SUMIF('Concert 1'!$E$9:$E$56,Statistiques!A266,'Concert 1'!$J$9:$J$56)","v":0},{"$f":"SUMIF('Concert 2'!$E$9:$E$56,Statistiques!A266,'Concert 2'!$I$9:$I$56)","v":0},{"$f":"SUMIF('Concert 2'!$E$9:$E$56,Statistiques!A266,'Concert 2'!$J$9:$J$56)","v":0},{"$f":"SUMIF('Concert 3'!$E$9:$E$56,Statistiques!A266,'Concert 3'!$I$9:$I$56)","v":0},{"$f":"SUMIF('Concert 3'!$E$9:$E$56,Statistiques!A266,'Concert 3'!$J$9:$J$56)","v":0},{"$f":"SUMIF('Concert 4'!$E$9:$E$56,Statistiques!A266,'Concert 4'!$I$9:$I$56)","v":0},{"$f":"SUMIF('Concert 4'!$E$9:$E$56,Statistiques!A266,'Concert 4'!$J$9:$J$56)","v":0},{"$f":"SUMIF('Concert 5'!$E$9:$E$56,Statistiques!A266,'Concert 5'!$I$9:$I$56)","v":0},{"$f":"SUMIF('Concert 5'!$E$9:$E$56,Statistiques!A266,'Concert 5'!$J$9:$J$56)","v":0}]
[{"$f":"Ecoles!A263","v":0},{"$f":"Ecoles!B263","v":0},{"$f":"Ecoles!C263","v":0},null,{"$f":"SUMIF('Concert 1'!$E$9:$E$56,Statistiques!A267,'Concert 1'!$I$9:$I$56)+SUMIF('Concert 2'!$E$9:$E$56,Statistiques!A267,'Concert 2'!$I$9:$I$56)+SUMIF('Concert 3'!$E$9:$E$56,Statistiques!A267,'Concert 3'!$I$9:$I$56)+SUMIF('Concert 4'!$E$9:$E$56,Statistiques!A267,'Concert 4'!$I$9:$I$56)+SUMIF('Concert 5'!$E$9:$E$56,Statistiques!A267,'Concert 5'!$I$9:$I$56)","v":0},{"$f":"SUMIF('Concert 1'!$E$9:$E$56,Statistiques!A267,'Concert 1'!$J$9:$J$56)+SUMIF('Concert 2'!$E$9:$E$56,Statistiques!A267,'Concert 2'!$J$9:$J$56)+SUMIF('Concert 3'!$E$9:$E$56,Statistiques!A267,'Concert 3'!$J$9:$J$56)+SUMIF('Concert 4'!$E$9:$E$56,Statistiques!A267,'Concert 4'!$J$9:$J$56)+SUMIF('Concert 5'!$E$9:$E$56,Statistiques!A267,'Concert 5'!$J$9:$J$56)","v":0},null,null,{"$f":"SUMIF('Concert 1'!$E$9:$E$56,Statistiques!A267,'Concert 1'!$I$9:$I$56)","v":0},{"$f":"SUMIF('Concert 1'!$E$9:$E$56,Statistiques!A267,'Concert 1'!$J$9:$J$56)","v":0},{"$f":"SUMIF('Concert 2'!$E$9:$E$56,Statistiques!A267,'Concert 2'!$I$9:$I$56)","v":0},{"$f":"SUMIF('Concert 2'!$E$9:$E$56,Statistiques!A267,'Concert 2'!$J$9:$J$56)","v":0},{"$f":"SUMIF('Concert 3'!$E$9:$E$56,Statistiques!A267,'Concert 3'!$I$9:$I$56)","v":0},{"$f":"SUMIF('Concert 3'!$E$9:$E$56,Statistiques!A267,'Concert 3'!$J$9:$J$56)","v":0},{"$f":"SUMIF('Concert 4'!$E$9:$E$56,Statistiques!A267,'Concert 4'!$I$9:$I$56)","v":0},{"$f":"SUMIF('Concert 4'!$E$9:$E$56,Statistiques!A267,'Concert 4'!$J$9:$J$56)","v":0},{"$f":"SUMIF('Concert 5'!$E$9:$E$56,Statistiques!A267,'Concert 5'!$I$9:$I$56)","v":0},{"$f":"SUMIF('Concert 5'!$E$9:$E$56,Statistiques!A267,'Concert 5'!$J$9:$J$56)","v":0}]
[{"$f":"Ecoles!A264","v":0},{"$f":"Ecoles!B264","v":0},{"$f":"Ecoles!C264","v":0},null,{"$f":"SUMIF('Concert 1'!$E$9:$E$56,Statistiques!A268,'Concert 1'!$I$9:$I$56)+SUMIF('Concert 2'!$E$9:$E$56,Statistiques!A268,'Concert 2'!$I$9:$I$56)+SUMIF('Concert 3'!$E$9:$E$56,Statistiques!A268,'Concert 3'!$I$9:$I$56)+SUMIF('Concert 4'!$E$9:$E$56,Statistiques!A268,'Concert 4'!$I$9:$I$56)+SUMIF('Concert 5'!$E$9:$E$56,Statistiques!A268,'Concert 5'!$I$9:$I$56)","v":0},{"$f":"SUMIF('Concert 1'!$E$9:$E$56,Statistiques!A268,'Concert 1'!$J$9:$J$56)+SUMIF('Concert 2'!$E$9:$E$56,Statistiques!A268,'Concert 2'!$J$9:$J$56)+SUMIF('Concert 3'!$E$9:$E$56,Statistiques!A268,'Concert 3'!$J$9:$J$56)+SUMIF('Concert 4'!$E$9:$E$56,Statistiques!A268,'Concert 4'!$J$9:$J$56)+SUMIF('Concert 5'!$E$9:$E$56,Statistiques!A268,'Concert 5'!$J$9:$J$56)","v":0},null,null,{"$f":"SUMIF('Concert 1'!$E$9:$E$56,Statistiques!A268,'Concert 1'!$I$9:$I$56)","v":0},{"$f":"SUMIF('Concert 1'!$E$9:$E$56,Statistiques!A268,'Concert 1'!$J$9:$J$56)","v":0},{"$f":"SUMIF('Concert 2'!$E$9:$E$56,Statistiques!A268,'Concert 2'!$I$9:$I$56)","v":0},{"$f":"SUMIF('Concert 2'!$E$9:$E$56,Statistiques!A268,'Concert 2'!$J$9:$J$56)","v":0},{"$f":"SUMIF('Concert 3'!$E$9:$E$56,Statistiques!A268,'Concert 3'!$I$9:$I$56)","v":0},{"$f":"SUMIF('Concert 3'!$E$9:$E$56,Statistiques!A268,'Concert 3'!$J$9:$J$56)","v":0},{"$f":"SUMIF('Concert 4'!$E$9:$E$56,Statistiques!A268,'Concert 4'!$I$9:$I$56)","v":0},{"$f":"SUMIF('Concert 4'!$E$9:$E$56,Statistiques!A268,'Concert 4'!$J$9:$J$56)","v":0},{"$f":"SUMIF('Concert 5'!$E$9:$E$56,Statistiques!A268,'Concert 5'!$I$9:$I$56)","v":0},{"$f":"SUMIF('Concert 5'!$E$9:$E$56,Statistiques!A268,'Concert 5'!$J$9:$J$56)","v":0}]
[{"$f":"Ecoles!A265","v":0},{"$f":"Ecoles!B265","v":0},{"$f":"Ecoles!C265","v":0},null,{"$f":"SUMIF('Concert 1'!$E$9:$E$56,Statistiques!A269,'Concert 1'!$I$9:$I$56)+SUMIF('Concert 2'!$E$9:$E$56,Statistiques!A269,'Concert 2'!$I$9:$I$56)+SUMIF('Concert 3'!$E$9:$E$56,Statistiques!A269,'Concert 3'!$I$9:$I$56)+SUMIF('Concert 4'!$E$9:$E$56,Statistiques!A269,'Concert 4'!$I$9:$I$56)+SUMIF('Concert 5'!$E$9:$E$56,Statistiques!A269,'Concert 5'!$I$9:$I$56)","v":0},{"$f":"SUMIF('Concert 1'!$E$9:$E$56,Statistiques!A269,'Concert 1'!$J$9:$J$56)+SUMIF('Concert 2'!$E$9:$E$56,Statistiques!A269,'Concert 2'!$J$9:$J$56)+SUMIF('Concert 3'!$E$9:$E$56,Statistiques!A269,'Concert 3'!$J$9:$J$56)+SUMIF('Concert 4'!$E$9:$E$56,Statistiques!A269,'Concert 4'!$J$9:$J$56)+SUMIF('Concert 5'!$E$9:$E$56,Statistiques!A269,'Concert 5'!$J$9:$J$56)","v":0},null,null,{"$f":"SUMIF('Concert 1'!$E$9:$E$56,Statistiques!A269,'Concert 1'!$I$9:$I$56)","v":0},{"$f":"SUMIF('Concert 1'!$E$9:$E$56,Statistiques!A269,'Concert 1'!$J$9:$J$56)","v":0},{"$f":"SUMIF('Concert 2'!$E$9:$E$56,Statistiques!A269,'Concert 2'!$I$9:$I$56)","v":0},{"$f":"SUMIF('Concert 2'!$E$9:$E$56,Statistiques!A269,'Concert 2'!$J$9:$J$56)","v":0},{"$f":"SUMIF('Concert 3'!$E$9:$E$56,Statistiques!A269,'Concert 3'!$I$9:$I$56)","v":0},{"$f":"SUMIF('Concert 3'!$E$9:$E$56,Statistiques!A269,'Concert 3'!$J$9:$J$56)","v":0},{"$f":"SUMIF('Concert 4'!$E$9:$E$56,Statistiques!A269,'Concert 4'!$I$9:$I$56)","v":0},{"$f":"SUMIF('Concert 4'!$E$9:$E$56,Statistiques!A269,'Concert 4'!$J$9:$J$56)","v":0},{"$f":"SUMIF('Concert 5'!$E$9:$E$56,Statistiques!A269,'Concert 5'!$I$9:$I$56)","v":0},{"$f":"SUMIF('Concert 5'!$E$9:$E$56,Statistiques!A269,'Concert 5'!$J$9:$J$56)","v":0}]
[{"$f":"Ecoles!A266","v":0},{"$f":"Ecoles!B266","v":0},{"$f":"Ecoles!C266","v":0},null,{"$f":"SUMIF('Concert 1'!$E$9:$E$56,Statistiques!A270,'Concert 1'!$I$9:$I$56)+SUMIF('Concert 2'!$E$9:$E$56,Statistiques!A270,'Concert 2'!$I$9:$I$56)+SUMIF('Concert 3'!$E$9:$E$56,Statistiques!A270,'Concert 3'!$I$9:$I$56)+SUMIF('Concert 4'!$E$9:$E$56,Statistiques!A270,'Concert 4'!$I$9:$I$56)+SUMIF('Concert 5'!$E$9:$E$56,Statistiques!A270,'Concert 5'!$I$9:$I$56)","v":0},{"$f":"SUMIF('Concert 1'!$E$9:$E$56,Statistiques!A270,'Concert 1'!$J$9:$J$56)+SUMIF('Concert 2'!$E$9:$E$56,Statistiques!A270,'Concert 2'!$J$9:$J$56)+SUMIF('Concert 3'!$E$9:$E$56,Statistiques!A270,'Concert 3'!$J$9:$J$56)+SUMIF('Concert 4'!$E$9:$E$56,Statistiques!A270,'Concert 4'!$J$9:$J$56)+SUMIF('Concert 5'!$E$9:$E$56,Statistiques!A270,'Concert 5'!$J$9:$J$56)","v":0},null,null,{"$f":"SUMIF('Concert 1'!$E$9:$E$56,Statistiques!A270,'Concert 1'!$I$9:$I$56)","v":0},{"$f":"SUMIF('Concert 1'!$E$9:$E$56,Statistiques!A270,'Concert 1'!$J$9:$J$56)","v":0},{"$f":"SUMIF('Concert 2'!$E$9:$E$56,Statistiques!A270,'Concert 2'!$I$9:$I$56)","v":0},{"$f":"SUMIF('Concert 2'!$E$9:$E$56,Statistiques!A270,'Concert 2'!$J$9:$J$56)","v":0},{"$f":"SUMIF('Concert 3'!$E$9:$E$56,Statistiques!A270,'Concert 3'!$I$9:$I$56)","v":0},{"$f":"SUMIF('Concert 3'!$E$9:$E$56,Statistiques!A270,'Concert 3'!$J$9:$J$56)","v":0},{"$f":"SUMIF('Concert 4'!$E$9:$E$56,Statistiques!A270,'Concert 4'!$I$9:$I$56)","v":0},{"$f":"SUMIF('Concert 4'!$E$9:$E$56,Statistiques!A270,'Concert 4'!$J$9:$J$56)","v":0},{"$f":"SUMIF('Concert 5'!$E$9:$E$56,Statistiques!A270,'Concert 5'!$I$9:$I$56)","v":0},{"$f":"SUMIF('Concert 5'!$E$9:$E$56,Statistiques!A270,'Concert 5'!$J$9:$J$56)","v":0}]
[{"$f":"Ecoles!A267","v":0},{"$f":"Ecoles!B267","v":0},{"$f":"Ecoles!C267","v":0},null,{"$f":"SUMIF('Concert 1'!$E$9:$E$56,Statistiques!A271,'Concert 1'!$I$9:$I$56)+SUMIF('Concert 2'!$E$9:$E$56,Statistiques!A271,'Concert 2'!$I$9:$I$56)+SUMIF('Concert 3'!$E$9:$E$56,Statistiques!A271,'Concert 3'!$I$9:$I$56)+SUMIF('Concert 4'!$E$9:$E$56,Statistiques!A271,'Concert 4'!$I$9:$I$56)+SUMIF('Concert 5'!$E$9:$E$56,Statistiques!A271,'Concert 5'!$I$9:$I$56)","v":0},{"$f":"SUMIF('Concert 1'!$E$9:$E$56,Statistiques!A271,'Concert 1'!$J$9:$J$56)+SUMIF('Concert 2'!$E$9:$E$56,Statistiques!A271,'Concert 2'!$J$9:$J$56)+SUMIF('Concert 3'!$E$9:$E$56,Statistiques!A271,'Concert 3'!$J$9:$J$56)+SUMIF('Concert 4'!$E$9:$E$56,Statistiques!A271,'Concert 4'!$J$9:$J$56)+SUMIF('Concert 5'!$E$9:$E$56,Statistiques!A271,'Concert 5'!$J$9:$J$56)","v":0},null,null,{"$f":"SUMIF('Concert 1'!$E$9:$E$56,Statistiques!A271,'Concert 1'!$I$9:$I$56)","v":0},{"$f":"SUMIF('Concert 1'!$E$9:$E$56,Statistiques!A271,'Concert 1'!$J$9:$J$56)","v":0},{"$f":"SUMIF('Concert 2'!$E$9:$E$56,Statistiques!A271,'Concert 2'!$I$9:$I$56)","v":0},{"$f":"SUMIF('Concert 2'!$E$9:$E$56,Statistiques!A271,'Concert 2'!$J$9:$J$56)","v":0},{"$f":"SUMIF('Concert 3'!$E$9:$E$56,Statistiques!A271,'Concert 3'!$I$9:$I$56)","v":0},{"$f":"SUMIF('Concert 3'!$E$9:$E$56,Statistiques!A271,'Concert 3'!$J$9:$J$56)","v":0},{"$f":"SUMIF('Concert 4'!$E$9:$E$56,Statistiques!A271,'Concert 4'!$I$9:$I$56)","v":0},{"$f":"SUMIF('Concert 4'!$E$9:$E$56,Statistiques!A271,'Concert 4'!$J$9:$J$56)","v":0},{"$f":"SUMIF('Concert 5'!$E$9:$E$56,Statistiques!A271,'Concert 5'!$I$9:$I$56)","v":0},{"$f":"SUMIF('Concert 5'!$E$9:$E$56,Statistiques!A271,'Concert 5'!$J$9:$J$56)","v":0}]
[{"$f":"Ecoles!A268","v":0},{"$f":"Ecoles!B268","v":0},{"$f":"Ecoles!C268","v":0},null,{"$f":"SUMIF('Concert 1'!$E$9:$E$56,Statistiques!A272,'Concert 1'!$I$9:$I$56)+SUMIF('Concert 2'!$E$9:$E$56,Statistiques!A272,'Concert 2'!$I$9:$I$56)+SUMIF('Concert 3'!$E$9:$E$56,Statistiques!A272,'Concert 3'!$I$9:$I$56)+SUMIF('Concert 4'!$E$9:$E$56,Statistiques!A272,'Concert 4'!$I$9:$I$56)+SUMIF('Concert 5'!$E$9:$E$56,Statistiques!A272,'Concert 5'!$I$9:$I$56)","v":0},{"$f":"SUMIF('Concert 1'!$E$9:$E$56,Statistiques!A272,'Concert 1'!$J$9:$J$56)+SUMIF('Concert 2'!$E$9:$E$56,Statistiques!A272,'Concert 2'!$J$9:$J$56)+SUMIF('Concert 3'!$E$9:$E$56,Statistiques!A272,'Concert 3'!$J$9:$J$56)+SUMIF('Concert 4'!$E$9:$E$56,Statistiques!A272,'Concert 4'!$J$9:$J$56)+SUMIF('Concert 5'!$E$9:$E$56,Statistiques!A272,'Concert 5'!$J$9:$J$56)","v":0},null,null,{"$f":"SUMIF('Concert 1'!$E$9:$E$56,Statistiques!A272,'Concert 1'!$I$9:$I$56)","v":0},{"$f":"SUMIF('Concert 1'!$E$9:$E$56,Statistiques!A272,'Concert 1'!$J$9:$J$56)","v":0},{"$f":"SUMIF('Concert 2'!$E$9:$E$56,Statistiques!A272,'Concert 2'!$I$9:$I$56)","v":0},{"$f":"SUMIF('Concert 2'!$E$9:$E$56,Statistiques!A272,'Concert 2'!$J$9:$J$56)","v":0},{"$f":"SUMIF('Concert 3'!$E$9:$E$56,Statistiques!A272,'Concert 3'!$I$9:$I$56)","v":0},{"$f":"SUMIF('Concert 3'!$E$9:$E$56,Statistiques!A272,'Concert 3'!$J$9:$J$56)","v":0},{"$f":"SUMIF('Concert 4'!$E$9:$E$56,Statistiques!A272,'Concert 4'!$I$9:$I$56)","v":0},{"$f":"SUMIF('Concert 4'!$E$9:$E$56,Statistiques!A272,'Concert 4'!$J$9:$J$56)","v":0},{"$f":"SUMIF('Concert 5'!$E$9:$E$56,Statistiques!A272,'Concert 5'!$I$9:$I$56)","v":0},{"$f":"SUMIF('Concert 5'!$E$9:$E$56,Statistiques!A272,'Concert 5'!$J$9:$J$56)","v":0}]
[{"$f":"Ecoles!A269","v":0},{"$f":"Ecoles!B269","v":0},{"$f":"Ecoles!C269","v":0},null,{"$f":"SUMIF('Concert 1'!$E$9:$E$56,Statistiques!A273,'Concert 1'!$I$9:$I$56)+SUMIF('Concert 2'!$E$9:$E$56,Statistiques!A273,'Concert 2'!$I$9:$I$56)+SUMIF('Concert 3'!$E$9:$E$56,Statistiques!A273,'Concert 3'!$I$9:$I$56)+SUMIF('Concert 4'!$E$9:$E$56,Statistiques!A273,'Concert 4'!$I$9:$I$56)+SUMIF('Concert 5'!$E$9:$E$56,Statistiques!A273,'Concert 5'!$I$9:$I$56)","v":0},{"$f":"SUMIF('Concert 1'!$E$9:$E$56,Statistiques!A273,'Concert 1'!$J$9:$J$56)+SUMIF('Concert 2'!$E$9:$E$56,Statistiques!A273,'Concert 2'!$J$9:$J$56)+SUMIF('Concert 3'!$E$9:$E$56,Statistiques!A273,'Concert 3'!$J$9:$J$56)+SUMIF('Concert 4'!$E$9:$E$56,Statistiques!A273,'Concert 4'!$J$9:$J$56)+SUMIF('Concert 5'!$E$9:$E$56,Statistiques!A273,'Concert 5'!$J$9:$J$56)","v":0},null,null,{"$f":"SUMIF('Concert 1'!$E$9:$E$56,Statistiques!A273,'Concert 1'!$I$9:$I$56)","v":0},{"$f":"SUMIF('Concert 1'!$E$9:$E$56,Statistiques!A273,'Concert 1'!$J$9:$J$56)","v":0},{"$f":"SUMIF('Concert 2'!$E$9:$E$56,Statistiques!A273,'Concert 2'!$I$9:$I$56)","v":0},{"$f":"SUMIF('Concert 2'!$E$9:$E$56,Statistiques!A273,'Concert 2'!$J$9:$J$56)","v":0},{"$f":"SUMIF('Concert 3'!$E$9:$E$56,Statistiques!A273,'Concert 3'!$I$9:$I$56)","v":0},{"$f":"SUMIF('Concert 3'!$E$9:$E$56,Statistiques!A273,'Concert 3'!$J$9:$J$56)","v":0},{"$f":"SUMIF('Concert 4'!$E$9:$E$56,Statistiques!A273,'Concert 4'!$I$9:$I$56)","v":0},{"$f":"SUMIF('Concert 4'!$E$9:$E$56,Statistiques!A273,'Concert 4'!$J$9:$J$56)","v":0},{"$f":"SUMIF('Concert 5'!$E$9:$E$56,Statistiques!A273,'Concert 5'!$I$9:$I$56)","v":0},{"$f":"SUMIF('Concert 5'!$E$9:$E$56,Statistiques!A273,'Concert 5'!$J$9:$J$56)","v":0}]
[{"$f":"Ecoles!A270","v":0},{"$f":"Ecoles!B270","v":0},{"$f":"Ecoles!C270","v":0},null,{"$f":"SUMIF('Concert 1'!$E$9:$E$56,Statistiques!A274,'Concert 1'!$I$9:$I$56)+SUMIF('Concert 2'!$E$9:$E$56,Statistiques!A274,'Concert 2'!$I$9:$I$56)+SUMIF('Concert 3'!$E$9:$E$56,Statistiques!A274,'Concert 3'!$I$9:$I$56)+SUMIF('Concert 4'!$E$9:$E$56,Statistiques!A274,'Concert 4'!$I$9:$I$56)+SUMIF('Concert 5'!$E$9:$E$56,Statistiques!A274,'Concert 5'!$I$9:$I$56)","v":0},{"$f":"SUMIF('Concert 1'!$E$9:$E$56,Statistiques!A274,'Concert 1'!$J$9:$J$56)+SUMIF('Concert 2'!$E$9:$E$56,Statistiques!A274,'Concert 2'!$J$9:$J$56)+SUMIF('Concert 3'!$E$9:$E$56,Statistiques!A274,'Concert 3'!$J$9:$J$56)+SUMIF('Concert 4'!$E$9:$E$56,Statistiques!A274,'Concert 4'!$J$9:$J$56)+SUMIF('Concert 5'!$E$9:$E$56,Statistiques!A274,'Concert 5'!$J$9:$J$56)","v":0},null,null,{"$f":"SUMIF('Concert 1'!$E$9:$E$56,Statistiques!A274,'Concert 1'!$I$9:$I$56)","v":0},{"$f":"SUMIF('Concert 1'!$E$9:$E$56,Statistiques!A274,'Concert 1'!$J$9:$J$56)","v":0},{"$f":"SUMIF('Concert 2'!$E$9:$E$56,Statistiques!A274,'Concert 2'!$I$9:$I$56)","v":0},{"$f":"SUMIF('Concert 2'!$E$9:$E$56,Statistiques!A274,'Concert 2'!$J$9:$J$56)","v":0},{"$f":"SUMIF('Concert 3'!$E$9:$E$56,Statistiques!A274,'Concert 3'!$I$9:$I$56)","v":0},{"$f":"SUMIF('Concert 3'!$E$9:$E$56,Statistiques!A274,'Concert 3'!$J$9:$J$56)","v":0},{"$f":"SUMIF('Concert 4'!$E$9:$E$56,Statistiques!A274,'Concert 4'!$I$9:$I$56)","v":0},{"$f":"SUMIF('Concert 4'!$E$9:$E$56,Statistiques!A274,'Concert 4'!$J$9:$J$56)","v":0},{"$f":"SUMIF('Concert 5'!$E$9:$E$56,Statistiques!A274,'Concert 5'!$I$9:$I$56)","v":0},{"$f":"SUMIF('Concert 5'!$E$9:$E$56,Statistiques!A274,'Concert 5'!$J$9:$J$56)","v":0}]
[{"$f":"Ecoles!A271","v":0},{"$f":"Ecoles!B271","v":0},{"$f":"Ecoles!C271","v":0},null,{"$f":"SUMIF('Concert 1'!$E$9:$E$56,Statistiques!A275,'Concert 1'!$I$9:$I$56)+SUMIF('Concert 2'!$E$9:$E$56,Statistiques!A275,'Concert 2'!$I$9:$I$56)+SUMIF('Concert 3'!$E$9:$E$56,Statistiques!A275,'Concert 3'!$I$9:$I$56)+SUMIF('Concert 4'!$E$9:$E$56,Statistiques!A275,'Concert 4'!$I$9:$I$56)+SUMIF('Concert 5'!$E$9:$E$56,Statistiques!A275,'Concert 5'!$I$9:$I$56)","v":0},{"$f":"SUMIF('Concert 1'!$E$9:$E$56,Statistiques!A275,'Concert 1'!$J$9:$J$56)+SUMIF('Concert 2'!$E$9:$E$56,Statistiques!A275,'Concert 2'!$J$9:$J$56)+SUMIF('Concert 3'!$E$9:$E$56,Statistiques!A275,'Concert 3'!$J$9:$J$56)+SUMIF('Concert 4'!$E$9:$E$56,Statistiques!A275,'Concert 4'!$J$9:$J$56)+SUMIF('Concert 5'!$E$9:$E$56,Statistiques!A275,'Concert 5'!$J$9:$J$56)","v":0},null,null,{"$f":"SUMIF('Concert 1'!$E$9:$E$56,Statistiques!A275,'Concert 1'!$I$9:$I$56)","v":0},{"$f":"SUMIF('Concert 1'!$E$9:$E$56,Statistiques!A275,'Concert 1'!$J$9:$J$56)","v":0},{"$f":"SUMIF('Concert 2'!$E$9:$E$56,Statistiques!A275,'Concert 2'!$I$9:$I$56)","v":0},{"$f":"SUMIF('Concert 2'!$E$9:$E$56,Statistiques!A275,'Concert 2'!$J$9:$J$56)","v":0},{"$f":"SUMIF('Concert 3'!$E$9:$E$56,Statistiques!A275,'Concert 3'!$I$9:$I$56)","v":0},{"$f":"SUMIF('Concert 3'!$E$9:$E$56,Statistiques!A275,'Concert 3'!$J$9:$J$56)","v":0},{"$f":"SUMIF('Concert 4'!$E$9:$E$56,Statistiques!A275,'Concert 4'!$I$9:$I$56)","v":0},{"$f":"SUMIF('Concert 4'!$E$9:$E$56,Statistiques!A275,'Concert 4'!$J$9:$J$56)","v":0},{"$f":"SUMIF('Concert 5'!$E$9:$E$56,Statistiques!A275,'Concert 5'!$I$9:$I$56)","v":0},{"$f":"SUMIF('Concert 5'!$E$9:$E$56,Statistiques!A275,'Concert 5'!$J$9:$J$56)","v":0}]
[{"$f":"Ecoles!A272","v":0},{"$f":"Ecoles!B272","v":0},{"$f":"Ecoles!C272","v":0},null,{"$f":"SUMIF('Concert 1'!$E$9:$E$56,Statistiques!A276,'Concert 1'!$I$9:$I$56)+SUMIF('Concert 2'!$E$9:$E$56,Statistiques!A276,'Concert 2'!$I$9:$I$56)+SUMIF('Concert 3'!$E$9:$E$56,Statistiques!A276,'Concert 3'!$I$9:$I$56)+SUMIF('Concert 4'!$E$9:$E$56,Statistiques!A276,'Concert 4'!$I$9:$I$56)+SUMIF('Concert 5'!$E$9:$E$56,Statistiques!A276,'Concert 5'!$I$9:$I$56)","v":0},{"$f":"SUMIF('Concert 1'!$E$9:$E$56,Statistiques!A276,'Concert 1'!$J$9:$J$56)+SUMIF('Concert 2'!$E$9:$E$56,Statistiques!A276,'Concert 2'!$J$9:$J$56)+SUMIF('Concert 3'!$E$9:$E$56,Statistiques!A276,'Concert 3'!$J$9:$J$56)+SUMIF('Concert 4'!$E$9:$E$56,Statistiques!A276,'Concert 4'!$J$9:$J$56)+SUMIF('Concert 5'!$E$9:$E$56,Statistiques!A276,'Concert 5'!$J$9:$J$56)","v":0},null,null,{"$f":"SUMIF('Concert 1'!$E$9:$E$56,Statistiques!A276,'Concert 1'!$I$9:$I$56)","v":0},{"$f":"SUMIF('Concert 1'!$E$9:$E$56,Statistiques!A276,'Concert 1'!$J$9:$J$56)","v":0},{"$f":"SUMIF('Concert 2'!$E$9:$E$56,Statistiques!A276,'Concert 2'!$I$9:$I$56)","v":0},{"$f":"SUMIF('Concert 2'!$E$9:$E$56,Statistiques!A276,'Concert 2'!$J$9:$J$56)","v":0},{"$f":"SUMIF('Concert 3'!$E$9:$E$56,Statistiques!A276,'Concert 3'!$I$9:$I$56)","v":0},{"$f":"SUMIF('Concert 3'!$E$9:$E$56,Statistiques!A276,'Concert 3'!$J$9:$J$56)","v":0},{"$f":"SUMIF('Concert 4'!$E$9:$E$56,Statistiques!A276,'Concert 4'!$I$9:$I$56)","v":0},{"$f":"SUMIF('Concert 4'!$E$9:$E$56,Statistiques!A276,'Concert 4'!$J$9:$J$56)","v":0},{"$f":"SUMIF('Concert 5'!$E$9:$E$56,Statistiques!A276,'Concert 5'!$I$9:$I$56)","v":0},{"$f":"SUMIF('Concert 5'!$E$9:$E$56,Statistiques!A276,'Concert 5'!$J$9:$J$56)","v":0}]
[{"$f":"Ecoles!A273","v":0},{"$f":"Ecoles!B273","v":0},{"$f":"Ecoles!C273","v":0},null,{"$f":"SUMIF('Concert 1'!$E$9:$E$56,Statistiques!A277,'Concert 1'!$I$9:$I$56)+SUMIF('Concert 2'!$E$9:$E$56,Statistiques!A277,'Concert 2'!$I$9:$I$56)+SUMIF('Concert 3'!$E$9:$E$56,Statistiques!A277,'Concert 3'!$I$9:$I$56)+SUMIF('Concert 4'!$E$9:$E$56,Statistiques!A277,'Concert 4'!$I$9:$I$56)+SUMIF('Concert 5'!$E$9:$E$56,Statistiques!A277,'Concert 5'!$I$9:$I$56)","v":0},{"$f":"SUMIF('Concert 1'!$E$9:$E$56,Statistiques!A277,'Concert 1'!$J$9:$J$56)+SUMIF('Concert 2'!$E$9:$E$56,Statistiques!A277,'Concert 2'!$J$9:$J$56)+SUMIF('Concert 3'!$E$9:$E$56,Statistiques!A277,'Concert 3'!$J$9:$J$56)+SUMIF('Concert 4'!$E$9:$E$56,Statistiques!A277,'Concert 4'!$J$9:$J$56)+SUMIF('Concert 5'!$E$9:$E$56,Statistiques!A277,'Concert 5'!$J$9:$J$56)","v":0},null,null,{"$f":"SUMIF('Concert 1'!$E$9:$E$56,Statistiques!A277,'Concert 1'!$I$9:$I$56)","v":0},{"$f":"SUMIF('Concert 1'!$E$9:$E$56,Statistiques!A277,'Concert 1'!$J$9:$J$56)","v":0},{"$f":"SUMIF('Concert 2'!$E$9:$E$56,Statistiques!A277,'Concert 2'!$I$9:$I$56)","v":0},{"$f":"SUMIF('Concert 2'!$E$9:$E$56,Statistiques!A277,'Concert 2'!$J$9:$J$56)","v":0},{"$f":"SUMIF('Concert 3'!$E$9:$E$56,Statistiques!A277,'Concert 3'!$I$9:$I$56)","v":0},{"$f":"SUMIF('Concert 3'!$E$9:$E$56,Statistiques!A277,'Concert 3'!$J$9:$J$56)","v":0},{"$f":"SUMIF('Concert 4'!$E$9:$E$56,Statistiques!A277,'Concert 4'!$I$9:$I$56)","v":0},{"$f":"SUMIF('Concert 4'!$E$9:$E$56,Statistiques!A277,'Concert 4'!$J$9:$J$56)","v":0},{"$f":"SUMIF('Concert 5'!$E$9:$E$56,Statistiques!A277,'Concert 5'!$I$9:$I$56)","v":0},{"$f":"SUMIF('Concert 5'!$E$9:$E$56,Statistiques!A277,'Concert 5'!$J$9:$J$56)","v":0}]
[{"$f":"Ecoles!A274","v":0},{"$f":"Ecoles!B274","v":0},{"$f":"Ecoles!C274","v":0},null,{"$f":"SUMIF('Concert 1'!$E$9:$E$56,Statistiques!A278,'Concert 1'!$I$9:$I$56)+SUMIF('Concert 2'!$E$9:$E$56,Statistiques!A278,'Concert 2'!$I$9:$I$56)+SUMIF('Concert 3'!$E$9:$E$56,Statistiques!A278,'Concert 3'!$I$9:$I$56)+SUMIF('Concert 4'!$E$9:$E$56,Statistiques!A278,'Concert 4'!$I$9:$I$56)+SUMIF('Concert 5'!$E$9:$E$56,Statistiques!A278,'Concert 5'!$I$9:$I$56)","v":0},{"$f":"SUMIF('Concert 1'!$E$9:$E$56,Statistiques!A278,'Concert 1'!$J$9:$J$56)+SUMIF('Concert 2'!$E$9:$E$56,Statistiques!A278,'Concert 2'!$J$9:$J$56)+SUMIF('Concert 3'!$E$9:$E$56,Statistiques!A278,'Concert 3'!$J$9:$J$56)+SUMIF('Concert 4'!$E$9:$E$56,Statistiques!A278,'Concert 4'!$J$9:$J$56)+SUMIF('Concert 5'!$E$9:$E$56,Statistiques!A278,'Concert 5'!$J$9:$J$56)","v":0},null,null,{"$f":"SUMIF('Concert 1'!$E$9:$E$56,Statistiques!A278,'Concert 1'!$I$9:$I$56)","v":0},{"$f":"SUMIF('Concert 1'!$E$9:$E$56,Statistiques!A278,'Concert 1'!$J$9:$J$56)","v":0},{"$f":"SUMIF('Concert 2'!$E$9:$E$56,Statistiques!A278,'Concert 2'!$I$9:$I$56)","v":0},{"$f":"SUMIF('Concert 2'!$E$9:$E$56,Statistiques!A278,'Concert 2'!$J$9:$J$56)","v":0},{"$f":"SUMIF('Concert 3'!$E$9:$E$56,Statistiques!A278,'Concert 3'!$I$9:$I$56)","v":0},{"$f":"SUMIF('Concert 3'!$E$9:$E$56,Statistiques!A278,'Concert 3'!$J$9:$J$56)","v":0},{"$f":"SUMIF('Concert 4'!$E$9:$E$56,Statistiques!A278,'Concert 4'!$I$9:$I$56)","v":0},{"$f":"SUMIF('Concert 4'!$E$9:$E$56,Statistiques!A278,'Concert 4'!$J$9:$J$56)","v":0},{"$f":"SUMIF('Concert 5'!$E$9:$E$56,Statistiques!A278,'Concert 5'!$I$9:$I$56)","v":0},{"$f":"SUMIF('Concert 5'!$E$9:$E$56,Statistiques!A278,'Concert 5'!$J$9:$J$56)","v":0}]
[{"$f":"Ecoles!A275","v":0},{"$f":"Ecoles!B275","v":0},{"$f":"Ecoles!C275","v":0},null,{"$f":"SUMIF('Concert 1'!$E$9:$E$56,Statistiques!A279,'Concert 1'!$I$9:$I$56)+SUMIF('Concert 2'!$E$9:$E$56,Statistiques!A279,'Concert 2'!$I$9:$I$56)+SUMIF('Concert 3'!$E$9:$E$56,Statistiques!A279,'Concert 3'!$I$9:$I$56)+SUMIF('Concert 4'!$E$9:$E$56,Statistiques!A279,'Concert 4'!$I$9:$I$56)+SUMIF('Concert 5'!$E$9:$E$56,Statistiques!A279,'Concert 5'!$I$9:$I$56)","v":0},{"$f":"SUMIF('Concert 1'!$E$9:$E$56,Statistiques!A279,'Concert 1'!$J$9:$J$56)+SUMIF('Concert 2'!$E$9:$E$56,Statistiques!A279,'Concert 2'!$J$9:$J$56)+SUMIF('Concert 3'!$E$9:$E$56,Statistiques!A279,'Concert 3'!$J$9:$J$56)+SUMIF('Concert 4'!$E$9:$E$56,Statistiques!A279,'Concert 4'!$J$9:$J$56)+SUMIF('Concert 5'!$E$9:$E$56,Statistiques!A279,'Concert 5'!$J$9:$J$56)","v":0},null,null,{"$f":"SUMIF('Concert 1'!$E$9:$E$56,Statistiques!A279,'Concert 1'!$I$9:$I$56)","v":0},{"$f":"SUMIF('Concert 1'!$E$9:$E$56,Statistiques!A279,'Concert 1'!$J$9:$J$56)","v":0},{"$f":"SUMIF('Concert 2'!$E$9:$E$56,Statistiques!A279,'Concert 2'!$I$9:$I$56)","v":0},{"$f":"SUMIF('Concert 2'!$E$9:$E$56,Statistiques!A279,'Concert 2'!$J$9:$J$56)","v":0},{"$f":"SUMIF('Concert 3'!$E$9:$E$56,Statistiques!A279,'Concert 3'!$I$9:$I$56)","v":0},{"$f":"SUMIF('Concert 3'!$E$9:$E$56,Statistiques!A279,'Concert 3'!$J$9:$J$56)","v":0},{"$f":"SUMIF('Concert 4'!$E$9:$E$56,Statistiques!A279,'Concert 4'!$I$9:$I$56)","v":0},{"$f":"SUMIF('Concert 4'!$E$9:$E$56,Statistiques!A279,'Concert 4'!$J$9:$J$56)","v":0},{"$f":"SUMIF('Concert 5'!$E$9:$E$56,Statistiques!A279,'Concert 5'!$I$9:$I$56)","v":0},{"$f":"SUMIF('Concert 5'!$E$9:$E$56,Statistiques!A279,'Concert 5'!$J$9:$J$56)","v":0}]
[{"$f":"Ecoles!A276","v":0},{"$f":"Ecoles!B276","v":0},{"$f":"Ecoles!C276","v":0},null,{"$f":"SUMIF('Concert 1'!$E$9:$E$56,Statistiques!A280,'Concert 1'!$I$9:$I$56)+SUMIF('Concert 2'!$E$9:$E$56,Statistiques!A280,'Concert 2'!$I$9:$I$56)+SUMIF('Concert 3'!$E$9:$E$56,Statistiques!A280,'Concert 3'!$I$9:$I$56)+SUMIF('Concert 4'!$E$9:$E$56,Statistiques!A280,'Concert 4'!$I$9:$I$56)+SUMIF('Concert 5'!$E$9:$E$56,Statistiques!A280,'Concert 5'!$I$9:$I$56)","v":0},{"$f":"SUMIF('Concert 1'!$E$9:$E$56,Statistiques!A280,'Concert 1'!$J$9:$J$56)+SUMIF('Concert 2'!$E$9:$E$56,Statistiques!A280,'Concert 2'!$J$9:$J$56)+SUMIF('Concert 3'!$E$9:$E$56,Statistiques!A280,'Concert 3'!$J$9:$J$56)+SUMIF('Concert 4'!$E$9:$E$56,Statistiques!A280,'Concert 4'!$J$9:$J$56)+SUMIF('Concert 5'!$E$9:$E$56,Statistiques!A280,'Concert 5'!$J$9:$J$56)","v":0},null,null,{"$f":"SUMIF('Concert 1'!$E$9:$E$56,Statistiques!A280,'Concert 1'!$I$9:$I$56)","v":0},{"$f":"SUMIF('Concert 1'!$E$9:$E$56,Statistiques!A280,'Concert 1'!$J$9:$J$56)","v":0},{"$f":"SUMIF('Concert 2'!$E$9:$E$56,Statistiques!A280,'Concert 2'!$I$9:$I$56)","v":0},{"$f":"SUMIF('Concert 2'!$E$9:$E$56,Statistiques!A280,'Concert 2'!$J$9:$J$56)","v":0},{"$f":"SUMIF('Concert 3'!$E$9:$E$56,Statistiques!A280,'Concert 3'!$I$9:$I$56)","v":0},{"$f":"SUMIF('Concert 3'!$E$9:$E$56,Statistiques!A280,'Concert 3'!$J$9:$J$56)","v":0},{"$f":"SUMIF('Concert 4'!$E$9:$E$56,Statistiques!A280,'Concert 4'!$I$9:$I$56)","v":0},{"$f":"SUMIF('Concert 4'!$E$9:$E$56,Statistiques!A280,'Concert 4'!$J$9:$J$56)","v":0},{"$f":"SUMIF('Concert 5'!$E$9:$E$56,Statistiques!A280,'Concert 5'!$I$9:$I$56)","v":0},{"$f":"SUMIF('Concert 5'!$E$9:$E$56,Statistiques!A280,'Concert 5'!$J$9:$J$56)","v":0}]
[{"$f":"Ecoles!A277","v":0},{"$f":"Ecoles!B277","v":0},{"$f":"Ecoles!C277","v":0},null,{"$f":"SUMIF('Concert 1'!$E$9:$E$56,Statistiques!A281,'Concert 1'!$I$9:$I$56)+SUMIF('Concert 2'!$E$9:$E$56,Statistiques!A281,'Concert 2'!$I$9:$I$56)+SUMIF('Concert 3'!$E$9:$E$56,Statistiques!A281,'Concert 3'!$I$9:$I$56)+SUMIF('Concert 4'!$E$9:$E$56,Statistiques!A281,'Concert 4'!$I$9:$I$56)+SUMIF('Concert 5'!$E$9:$E$56,Statistiques!A281,'Concert 5'!$I$9:$I$56)","v":0},{"$f":"SUMIF('Concert 1'!$E$9:$E$56,Statistiques!A281,'Concert 1'!$J$9:$J$56)+SUMIF('Concert 2'!$E$9:$E$56,Statistiques!A281,'Concert 2'!$J$9:$J$56)+SUMIF('Concert 3'!$E$9:$E$56,Statistiques!A281,'Concert 3'!$J$9:$J$56)+SUMIF('Concert 4'!$E$9:$E$56,Statistiques!A281,'Concert 4'!$J$9:$J$56)+SUMIF('Concert 5'!$E$9:$E$56,Statistiques!A281,'Concert 5'!$J$9:$J$56)","v":0},null,null,{"$f":"SUMIF('Concert 1'!$E$9:$E$56,Statistiques!A281,'Concert 1'!$I$9:$I$56)","v":0},{"$f":"SUMIF('Concert 1'!$E$9:$E$56,Statistiques!A281,'Concert 1'!$J$9:$J$56)","v":0},{"$f":"SUMIF('Concert 2'!$E$9:$E$56,Statistiques!A281,'Concert 2'!$I$9:$I$56)","v":0},{"$f":"SUMIF('Concert 2'!$E$9:$E$56,Statistiques!A281,'Concert 2'!$J$9:$J$56)","v":0},{"$f":"SUMIF('Concert 3'!$E$9:$E$56,Statistiques!A281,'Concert 3'!$I$9:$I$56)","v":0},{"$f":"SUMIF('Concert 3'!$E$9:$E$56,Statistiques!A281,'Concert 3'!$J$9:$J$56)","v":0},{"$f":"SUMIF('Concert 4'!$E$9:$E$56,Statistiques!A281,'Concert 4'!$I$9:$I$56)","v":0},{"$f":"SUMIF('Concert 4'!$E$9:$E$56,Statistiques!A281,'Concert 4'!$J$9:$J$56)","v":0},{"$f":"SUMIF('Concert 5'!$E$9:$E$56,Statistiques!A281,'Concert 5'!$I$9:$I$56)","v":0},{"$f":"SUMIF('Concert 5'!$E$9:$E$56,Statistiques!A281,'Concert 5'!$J$9:$J$56)","v":0}]
[{"$f":"Ecoles!A278","v":0},{"$f":"Ecoles!B278","v":0},{"$f":"Ecoles!C278","v":0},null,{"$f":"SUMIF('Concert 1'!$E$9:$E$56,Statistiques!A282,'Concert 1'!$I$9:$I$56)+SUMIF('Concert 2'!$E$9:$E$56,Statistiques!A282,'Concert 2'!$I$9:$I$56)+SUMIF('Concert 3'!$E$9:$E$56,Statistiques!A282,'Concert 3'!$I$9:$I$56)+SUMIF('Concert 4'!$E$9:$E$56,Statistiques!A282,'Concert 4'!$I$9:$I$56)+SUMIF('Concert 5'!$E$9:$E$56,Statistiques!A282,'Concert 5'!$I$9:$I$56)","v":0},{"$f":"SUMIF('Concert 1'!$E$9:$E$56,Statistiques!A282,'Concert 1'!$J$9:$J$56)+SUMIF('Concert 2'!$E$9:$E$56,Statistiques!A282,'Concert 2'!$J$9:$J$56)+SUMIF('Concert 3'!$E$9:$E$56,Statistiques!A282,'Concert 3'!$J$9:$J$56)+SUMIF('Concert 4'!$E$9:$E$56,Statistiques!A282,'Concert 4'!$J$9:$J$56)+SUMIF('Concert 5'!$E$9:$E$56,Statistiques!A282,'Concert 5'!$J$9:$J$56)","v":0},null,null,{"$f":"SUMIF('Concert 1'!$E$9:$E$56,Statistiques!A282,'Concert 1'!$I$9:$I$56)","v":0},{"$f":"SUMIF('Concert 1'!$E$9:$E$56,Statistiques!A282,'Concert 1'!$J$9:$J$56)","v":0},{"$f":"SUMIF('Concert 2'!$E$9:$E$56,Statistiques!A282,'Concert 2'!$I$9:$I$56)","v":0},{"$f":"SUMIF('Concert 2'!$E$9:$E$56,Statistiques!A282,'Concert 2'!$J$9:$J$56)","v":0},{"$f":"SUMIF('Concert 3'!$E$9:$E$56,Statistiques!A282,'Concert 3'!$I$9:$I$56)","v":0},{"$f":"SUMIF('Concert 3'!$E$9:$E$56,Statistiques!A282,'Concert 3'!$J$9:$J$56)","v":0},{"$f":"SUMIF('Concert 4'!$E$9:$E$56,Statistiques!A282,'Concert 4'!$I$9:$I$56)","v":0},{"$f":"SUMIF('Concert 4'!$E$9:$E$56,Statistiques!A282,'Concert 4'!$J$9:$J$56)","v":0},{"$f":"SUMIF('Concert 5'!$E$9:$E$56,Statistiques!A282,'Concert 5'!$I$9:$I$56)","v":0},{"$f":"SUMIF('Concert 5'!$E$9:$E$56,Statistiques!A282,'Concert 5'!$J$9:$J$56)","v":0}]
[{"$f":"Ecoles!A279","v":0},{"$f":"Ecoles!B279","v":0},{"$f":"Ecoles!C279","v":0},null,{"$f":"SUMIF('Concert 1'!$E$9:$E$56,Statistiques!A283,'Concert 1'!$I$9:$I$56)+SUMIF('Concert 2'!$E$9:$E$56,Statistiques!A283,'Concert 2'!$I$9:$I$56)+SUMIF('Concert 3'!$E$9:$E$56,Statistiques!A283,'Concert 3'!$I$9:$I$56)+SUMIF('Concert 4'!$E$9:$E$56,Statistiques!A283,'Concert 4'!$I$9:$I$56)+SUMIF('Concert 5'!$E$9:$E$56,Statistiques!A283,'Concert 5'!$I$9:$I$56)","v":0},{"$f":"SUMIF('Concert 1'!$E$9:$E$56,Statistiques!A283,'Concert 1'!$J$9:$J$56)+SUMIF('Concert 2'!$E$9:$E$56,Statistiques!A283,'Concert 2'!$J$9:$J$56)+SUMIF('Concert 3'!$E$9:$E$56,Statistiques!A283,'Concert 3'!$J$9:$J$56)+SUMIF('Concert 4'!$E$9:$E$56,Statistiques!A283,'Concert 4'!$J$9:$J$56)+SUMIF('Concert 5'!$E$9:$E$56,Statistiques!A283,'Concert 5'!$J$9:$J$56)","v":0},null,null,{"$f":"SUMIF('Concert 1'!$E$9:$E$56,Statistiques!A283,'Concert 1'!$I$9:$I$56)","v":0},{"$f":"SUMIF('Concert 1'!$E$9:$E$56,Statistiques!A283,'Concert 1'!$J$9:$J$56)","v":0},{"$f":"SUMIF('Concert 2'!$E$9:$E$56,Statistiques!A283,'Concert 2'!$I$9:$I$56)","v":0},{"$f":"SUMIF('Concert 2'!$E$9:$E$56,Statistiques!A283,'Concert 2'!$J$9:$J$56)","v":0},{"$f":"SUMIF('Concert 3'!$E$9:$E$56,Statistiques!A283,'Concert 3'!$I$9:$I$56)","v":0},{"$f":"SUMIF('Concert 3'!$E$9:$E$56,Statistiques!A283,'Concert 3'!$J$9:$J$56)","v":0},{"$f":"SUMIF('Concert 4'!$E$9:$E$56,Statistiques!A283,'Concert 4'!$I$9:$I$56)","v":0},{"$f":"SUMIF('Concert 4'!$E$9:$E$56,Statistiques!A283,'Concert 4'!$J$9:$J$56)","v":0},{"$f":"SUMIF('Concert 5'!$E$9:$E$56,Statistiques!A283,'Concert 5'!$I$9:$I$56)","v":0},{"$f":"SUMIF('Concert 5'!$E$9:$E$56,Statistiques!A283,'Concert 5'!$J$9:$J$56)","v":0}]
[{"$f":"Ecoles!A280","v":0},{"$f":"Ecoles!B280","v":0},{"$f":"Ecoles!C280","v":0},null,{"$f":"SUMIF('Concert 1'!$E$9:$E$56,Statistiques!A284,'Concert 1'!$I$9:$I$56)+SUMIF('Concert 2'!$E$9:$E$56,Statistiques!A284,'Concert 2'!$I$9:$I$56)+SUMIF('Concert 3'!$E$9:$E$56,Statistiques!A284,'Concert 3'!$I$9:$I$56)+SUMIF('Concert 4'!$E$9:$E$56,Statistiques!A284,'Concert 4'!$I$9:$I$56)+SUMIF('Concert 5'!$E$9:$E$56,Statistiques!A284,'Concert 5'!$I$9:$I$56)","v":0},{"$f":"SUMIF('Concert 1'!$E$9:$E$56,Statistiques!A284,'Concert 1'!$J$9:$J$56)+SUMIF('Concert 2'!$E$9:$E$56,Statistiques!A284,'Concert 2'!$J$9:$J$56)+SUMIF('Concert 3'!$E$9:$E$56,Statistiques!A284,'Concert 3'!$J$9:$J$56)+SUMIF('Concert 4'!$E$9:$E$56,Statistiques!A284,'Concert 4'!$J$9:$J$56)+SUMIF('Concert 5'!$E$9:$E$56,Statistiques!A284,'Concert 5'!$J$9:$J$56)","v":0},null,null,{"$f":"SUMIF('Concert 1'!$E$9:$E$56,Statistiques!A284,'Concert 1'!$I$9:$I$56)","v":0},{"$f":"SUMIF('Concert 1'!$E$9:$E$56,Statistiques!A284,'Concert 1'!$J$9:$J$56)","v":0},{"$f":"SUMIF('Concert 2'!$E$9:$E$56,Statistiques!A284,'Concert 2'!$I$9:$I$56)","v":0},{"$f":"SUMIF('Concert 2'!$E$9:$E$56,Statistiques!A284,'Concert 2'!$J$9:$J$56)","v":0},{"$f":"SUMIF('Concert 3'!$E$9:$E$56,Statistiques!A284,'Concert 3'!$I$9:$I$56)","v":0},{"$f":"SUMIF('Concert 3'!$E$9:$E$56,Statistiques!A284,'Concert 3'!$J$9:$J$56)","v":0},{"$f":"SUMIF('Concert 4'!$E$9:$E$56,Statistiques!A284,'Concert 4'!$I$9:$I$56)","v":0},{"$f":"SUMIF('Concert 4'!$E$9:$E$56,Statistiques!A284,'Concert 4'!$J$9:$J$56)","v":0},{"$f":"SUMIF('Concert 5'!$E$9:$E$56,Statistiques!A284,'Concert 5'!$I$9:$I$56)","v":0},{"$f":"SUMIF('Concert 5'!$E$9:$E$56,Statistiques!A284,'Concert 5'!$J$9:$J$56)","v":0}]
[{"$f":"Ecoles!A281","v":0},{"$f":"Ecoles!B281","v":0},{"$f":"Ecoles!C281","v":0},null,{"$f":"SUMIF('Concert 1'!$E$9:$E$56,Statistiques!A285,'Concert 1'!$I$9:$I$56)+SUMIF('Concert 2'!$E$9:$E$56,Statistiques!A285,'Concert 2'!$I$9:$I$56)+SUMIF('Concert 3'!$E$9:$E$56,Statistiques!A285,'Concert 3'!$I$9:$I$56)+SUMIF('Concert 4'!$E$9:$E$56,Statistiques!A285,'Concert 4'!$I$9:$I$56)+SUMIF('Concert 5'!$E$9:$E$56,Statistiques!A285,'Concert 5'!$I$9:$I$56)","v":0},{"$f":"SUMIF('Concert 1'!$E$9:$E$56,Statistiques!A285,'Concert 1'!$J$9:$J$56)+SUMIF('Concert 2'!$E$9:$E$56,Statistiques!A285,'Concert 2'!$J$9:$J$56)+SUMIF('Concert 3'!$E$9:$E$56,Statistiques!A285,'Concert 3'!$J$9:$J$56)+SUMIF('Concert 4'!$E$9:$E$56,Statistiques!A285,'Concert 4'!$J$9:$J$56)+SUMIF('Concert 5'!$E$9:$E$56,Statistiques!A285,'Concert 5'!$J$9:$J$56)","v":0},null,null,{"$f":"SUMIF('Concert 1'!$E$9:$E$56,Statistiques!A285,'Concert 1'!$I$9:$I$56)","v":0},{"$f":"SUMIF('Concert 1'!$E$9:$E$56,Statistiques!A285,'Concert 1'!$J$9:$J$56)","v":0},{"$f":"SUMIF('Concert 2'!$E$9:$E$56,Statistiques!A285,'Concert 2'!$I$9:$I$56)","v":0},{"$f":"SUMIF('Concert 2'!$E$9:$E$56,Statistiques!A285,'Concert 2'!$J$9:$J$56)","v":0},{"$f":"SUMIF('Concert 3'!$E$9:$E$56,Statistiques!A285,'Concert 3'!$I$9:$I$56)","v":0},{"$f":"SUMIF('Concert 3'!$E$9:$E$56,Statistiques!A285,'Concert 3'!$J$9:$J$56)","v":0},{"$f":"SUMIF('Concert 4'!$E$9:$E$56,Statistiques!A285,'Concert 4'!$I$9:$I$56)","v":0},{"$f":"SUMIF('Concert 4'!$E$9:$E$56,Statistiques!A285,'Concert 4'!$J$9:$J$56)","v":0},{"$f":"SUMIF('Concert 5'!$E$9:$E$56,Statistiques!A285,'Concert 5'!$I$9:$I$56)","v":0},{"$f":"SUMIF('Concert 5'!$E$9:$E$56,Statistiques!A285,'Concert 5'!$J$9:$J$56)","v":0}]
[{"$f":"Ecoles!A282","v":0},{"$f":"Ecoles!B282","v":0},{"$f":"Ecoles!C282","v":0},null,{"$f":"SUMIF('Concert 1'!$E$9:$E$56,Statistiques!A286,'Concert 1'!$I$9:$I$56)+SUMIF('Concert 2'!$E$9:$E$56,Statistiques!A286,'Concert 2'!$I$9:$I$56)+SUMIF('Concert 3'!$E$9:$E$56,Statistiques!A286,'Concert 3'!$I$9:$I$56)+SUMIF('Concert 4'!$E$9:$E$56,Statistiques!A286,'Concert 4'!$I$9:$I$56)+SUMIF('Concert 5'!$E$9:$E$56,Statistiques!A286,'Concert 5'!$I$9:$I$56)","v":0},{"$f":"SUMIF('Concert 1'!$E$9:$E$56,Statistiques!A286,'Concert 1'!$J$9:$J$56)+SUMIF('Concert 2'!$E$9:$E$56,Statistiques!A286,'Concert 2'!$J$9:$J$56)+SUMIF('Concert 3'!$E$9:$E$56,Statistiques!A286,'Concert 3'!$J$9:$J$56)+SUMIF('Concert 4'!$E$9:$E$56,Statistiques!A286,'Concert 4'!$J$9:$J$56)+SUMIF('Concert 5'!$E$9:$E$56,Statistiques!A286,'Concert 5'!$J$9:$J$56)","v":0},null,null,{"$f":"SUMIF('Concert 1'!$E$9:$E$56,Statistiques!A286,'Concert 1'!$I$9:$I$56)","v":0},{"$f":"SUMIF('Concert 1'!$E$9:$E$56,Statistiques!A286,'Concert 1'!$J$9:$J$56)","v":0},{"$f":"SUMIF('Concert 2'!$E$9:$E$56,Statistiques!A286,'Concert 2'!$I$9:$I$56)","v":0},{"$f":"SUMIF('Concert 2'!$E$9:$E$56,Statistiques!A286,'Concert 2'!$J$9:$J$56)","v":0},{"$f":"SUMIF('Concert 3'!$E$9:$E$56,Statistiques!A286,'Concert 3'!$I$9:$I$56)","v":0},{"$f":"SUMIF('Concert 3'!$E$9:$E$56,Statistiques!A286,'Concert 3'!$J$9:$J$56)","v":0},{"$f":"SUMIF('Concert 4'!$E$9:$E$56,Statistiques!A286,'Concert 4'!$I$9:$I$56)","v":0},{"$f":"SUMIF('Concert 4'!$E$9:$E$56,Statistiques!A286,'Concert 4'!$J$9:$J$56)","v":0},{"$f":"SUMIF('Concert 5'!$E$9:$E$56,Statistiques!A286,'Concert 5'!$I$9:$I$56)","v":0},{"$f":"SUMIF('Concert 5'!$E$9:$E$56,Statistiques!A286,'Concert 5'!$J$9:$J$56)","v":0}]
[{"$f":"Ecoles!A283","v":0},{"$f":"Ecoles!B283","v":0},{"$f":"Ecoles!C283","v":0},null,{"$f":"SUMIF('Concert 1'!$E$9:$E$56,Statistiques!A287,'Concert 1'!$I$9:$I$56)+SUMIF('Concert 2'!$E$9:$E$56,Statistiques!A287,'Concert 2'!$I$9:$I$56)+SUMIF('Concert 3'!$E$9:$E$56,Statistiques!A287,'Concert 3'!$I$9:$I$56)+SUMIF('Concert 4'!$E$9:$E$56,Statistiques!A287,'Concert 4'!$I$9:$I$56)+SUMIF('Concert 5'!$E$9:$E$56,Statistiques!A287,'Concert 5'!$I$9:$I$56)","v":0},{"$f":"SUMIF('Concert 1'!$E$9:$E$56,Statistiques!A287,'Concert 1'!$J$9:$J$56)+SUMIF('Concert 2'!$E$9:$E$56,Statistiques!A287,'Concert 2'!$J$9:$J$56)+SUMIF('Concert 3'!$E$9:$E$56,Statistiques!A287,'Concert 3'!$J$9:$J$56)+SUMIF('Concert 4'!$E$9:$E$56,Statistiques!A287,'Concert 4'!$J$9:$J$56)+SUMIF('Concert 5'!$E$9:$E$56,Statistiques!A287,'Concert 5'!$J$9:$J$56)","v":0},null,null,{"$f":"SUMIF('Concert 1'!$E$9:$E$56,Statistiques!A287,'Concert 1'!$I$9:$I$56)","v":0},{"$f":"SUMIF('Concert 1'!$E$9:$E$56,Statistiques!A287,'Concert 1'!$J$9:$J$56)","v":0},{"$f":"SUMIF('Concert 2'!$E$9:$E$56,Statistiques!A287,'Concert 2'!$I$9:$I$56)","v":0},{"$f":"SUMIF('Concert 2'!$E$9:$E$56,Statistiques!A287,'Concert 2'!$J$9:$J$56)","v":0},{"$f":"SUMIF('Concert 3'!$E$9:$E$56,Statistiques!A287,'Concert 3'!$I$9:$I$56)","v":0},{"$f":"SUMIF('Concert 3'!$E$9:$E$56,Statistiques!A287,'Concert 3'!$J$9:$J$56)","v":0},{"$f":"SUMIF('Concert 4'!$E$9:$E$56,Statistiques!A287,'Concert 4'!$I$9:$I$56)","v":0},{"$f":"SUMIF('Concert 4'!$E$9:$E$56,Statistiques!A287,'Concert 4'!$J$9:$J$56)","v":0},{"$f":"SUMIF('Concert 5'!$E$9:$E$56,Statistiques!A287,'Concert 5'!$I$9:$I$56)","v":0},{"$f":"SUMIF('Concert 5'!$E$9:$E$56,Statistiques!A287,'Concert 5'!$J$9:$J$56)","v":0}]
[{"$f":"Ecoles!A284","v":0},{"$f":"Ecoles!B284","v":0},{"$f":"Ecoles!C284","v":0},null,{"$f":"SUMIF('Concert 1'!$E$9:$E$56,Statistiques!A288,'Concert 1'!$I$9:$I$56)+SUMIF('Concert 2'!$E$9:$E$56,Statistiques!A288,'Concert 2'!$I$9:$I$56)+SUMIF('Concert 3'!$E$9:$E$56,Statistiques!A288,'Concert 3'!$I$9:$I$56)+SUMIF('Concert 4'!$E$9:$E$56,Statistiques!A288,'Concert 4'!$I$9:$I$56)+SUMIF('Concert 5'!$E$9:$E$56,Statistiques!A288,'Concert 5'!$I$9:$I$56)","v":0},{"$f":"SUMIF('Concert 1'!$E$9:$E$56,Statistiques!A288,'Concert 1'!$J$9:$J$56)+SUMIF('Concert 2'!$E$9:$E$56,Statistiques!A288,'Concert 2'!$J$9:$J$56)+SUMIF('Concert 3'!$E$9:$E$56,Statistiques!A288,'Concert 3'!$J$9:$J$56)+SUMIF('Concert 4'!$E$9:$E$56,Statistiques!A288,'Concert 4'!$J$9:$J$56)+SUMIF('Concert 5'!$E$9:$E$56,Statistiques!A288,'Concert 5'!$J$9:$J$56)","v":0},null,null,{"$f":"SUMIF('Concert 1'!$E$9:$E$56,Statistiques!A288,'Concert 1'!$I$9:$I$56)","v":0},{"$f":"SUMIF('Concert 1'!$E$9:$E$56,Statistiques!A288,'Concert 1'!$J$9:$J$56)","v":0},{"$f":"SUMIF('Concert 2'!$E$9:$E$56,Statistiques!A288,'Concert 2'!$I$9:$I$56)","v":0},{"$f":"SUMIF('Concert 2'!$E$9:$E$56,Statistiques!A288,'Concert 2'!$J$9:$J$56)","v":0},{"$f":"SUMIF('Concert 3'!$E$9:$E$56,Statistiques!A288,'Concert 3'!$I$9:$I$56)","v":0},{"$f":"SUMIF('Concert 3'!$E$9:$E$56,Statistiques!A288,'Concert 3'!$J$9:$J$56)","v":0},{"$f":"SUMIF('Concert 4'!$E$9:$E$56,Statistiques!A288,'Concert 4'!$I$9:$I$56)","v":0},{"$f":"SUMIF('Concert 4'!$E$9:$E$56,Statistiques!A288,'Concert 4'!$J$9:$J$56)","v":0},{"$f":"SUMIF('Concert 5'!$E$9:$E$56,Statistiques!A288,'Concert 5'!$I$9:$I$56)","v":0},{"$f":"SUMIF('Concert 5'!$E$9:$E$56,Statistiques!A288,'Concert 5'!$J$9:$J$56)","v":0}]
[{"$f":"Ecoles!A285","v":0},{"$f":"Ecoles!B285","v":0},{"$f":"Ecoles!C285","v":0},null,{"$f":"SUMIF('Concert 1'!$E$9:$E$56,Statistiques!A289,'Concert 1'!$I$9:$I$56)+SUMIF('Concert 2'!$E$9:$E$56,Statistiques!A289,'Concert 2'!$I$9:$I$56)+SUMIF('Concert 3'!$E$9:$E$56,Statistiques!A289,'Concert 3'!$I$9:$I$56)+SUMIF('Concert 4'!$E$9:$E$56,Statistiques!A289,'Concert 4'!$I$9:$I$56)+SUMIF('Concert 5'!$E$9:$E$56,Statistiques!A289,'Concert 5'!$I$9:$I$56)","v":0},{"$f":"SUMIF('Concert 1'!$E$9:$E$56,Statistiques!A289,'Concert 1'!$J$9:$J$56)+SUMIF('Concert 2'!$E$9:$E$56,Statistiques!A289,'Concert 2'!$J$9:$J$56)+SUMIF('Concert 3'!$E$9:$E$56,Statistiques!A289,'Concert 3'!$J$9:$J$56)+SUMIF('Concert 4'!$E$9:$E$56,Statistiques!A289,'Concert 4'!$J$9:$J$56)+SUMIF('Concert 5'!$E$9:$E$56,Statistiques!A289,'Concert 5'!$J$9:$J$56)","v":0},null,null,{"$f":"SUMIF('Concert 1'!$E$9:$E$56,Statistiques!A289,'Concert 1'!$I$9:$I$56)","v":0},{"$f":"SUMIF('Concert 1'!$E$9:$E$56,Statistiques!A289,'Concert 1'!$J$9:$J$56)","v":0},{"$f":"SUMIF('Concert 2'!$E$9:$E$56,Statistiques!A289,'Concert 2'!$I$9:$I$56)","v":0},{"$f":"SUMIF('Concert 2'!$E$9:$E$56,Statistiques!A289,'Concert 2'!$J$9:$J$56)","v":0},{"$f":"SUMIF('Concert 3'!$E$9:$E$56,Statistiques!A289,'Concert 3'!$I$9:$I$56)","v":0},{"$f":"SUMIF('Concert 3'!$E$9:$E$56,Statistiques!A289,'Concert 3'!$J$9:$J$56)","v":0},{"$f":"SUMIF('Concert 4'!$E$9:$E$56,Statistiques!A289,'Concert 4'!$I$9:$I$56)","v":0},{"$f":"SUMIF('Concert 4'!$E$9:$E$56,Statistiques!A289,'Concert 4'!$J$9:$J$56)","v":0},{"$f":"SUMIF('Concert 5'!$E$9:$E$56,Statistiques!A289,'Concert 5'!$I$9:$I$56)","v":0},{"$f":"SUMIF('Concert 5'!$E$9:$E$56,Statistiques!A289,'Concert 5'!$J$9:$J$56)","v":0}]
[{"$f":"Ecoles!A286","v":0},{"$f":"Ecoles!B286","v":0},{"$f":"Ecoles!C286","v":0},null,{"$f":"SUMIF('Concert 1'!$E$9:$E$56,Statistiques!A290,'Concert 1'!$I$9:$I$56)+SUMIF('Concert 2'!$E$9:$E$56,Statistiques!A290,'Concert 2'!$I$9:$I$56)+SUMIF('Concert 3'!$E$9:$E$56,Statistiques!A290,'Concert 3'!$I$9:$I$56)+SUMIF('Concert 4'!$E$9:$E$56,Statistiques!A290,'Concert 4'!$I$9:$I$56)+SUMIF('Concert 5'!$E$9:$E$56,Statistiques!A290,'Concert 5'!$I$9:$I$56)","v":0},{"$f":"SUMIF('Concert 1'!$E$9:$E$56,Statistiques!A290,'Concert 1'!$J$9:$J$56)+SUMIF('Concert 2'!$E$9:$E$56,Statistiques!A290,'Concert 2'!$J$9:$J$56)+SUMIF('Concert 3'!$E$9:$E$56,Statistiques!A290,'Concert 3'!$J$9:$J$56)+SUMIF('Concert 4'!$E$9:$E$56,Statistiques!A290,'Concert 4'!$J$9:$J$56)+SUMIF('Concert 5'!$E$9:$E$56,Statistiques!A290,'Concert 5'!$J$9:$J$56)","v":0},null,null,{"$f":"SUMIF('Concert 1'!$E$9:$E$56,Statistiques!A290,'Concert 1'!$I$9:$I$56)","v":0},{"$f":"SUMIF('Concert 1'!$E$9:$E$56,Statistiques!A290,'Concert 1'!$J$9:$J$56)","v":0},{"$f":"SUMIF('Concert 2'!$E$9:$E$56,Statistiques!A290,'Concert 2'!$I$9:$I$56)","v":0},{"$f":"SUMIF('Concert 2'!$E$9:$E$56,Statistiques!A290,'Concert 2'!$J$9:$J$56)","v":0},{"$f":"SUMIF('Concert 3'!$E$9:$E$56,Statistiques!A290,'Concert 3'!$I$9:$I$56)","v":0},{"$f":"SUMIF('Concert 3'!$E$9:$E$56,Statistiques!A290,'Concert 3'!$J$9:$J$56)","v":0},{"$f":"SUMIF('Concert 4'!$E$9:$E$56,Statistiques!A290,'Concert 4'!$I$9:$I$56)","v":0},{"$f":"SUMIF('Concert 4'!$E$9:$E$56,Statistiques!A290,'Concert 4'!$J$9:$J$56)","v":0},{"$f":"SUMIF('Concert 5'!$E$9:$E$56,Statistiques!A290,'Concert 5'!$I$9:$I$56)","v":0},{"$f":"SUMIF('Concert 5'!$E$9:$E$56,Statistiques!A290,'Concert 5'!$J$9:$J$56)","v":0}]
[{"$f":"Ecoles!A287","v":0},{"$f":"Ecoles!B287","v":0},{"$f":"Ecoles!C287","v":0},null,{"$f":"SUMIF('Concert 1'!$E$9:$E$56,Statistiques!A291,'Concert 1'!$I$9:$I$56)+SUMIF('Concert 2'!$E$9:$E$56,Statistiques!A291,'Concert 2'!$I$9:$I$56)+SUMIF('Concert 3'!$E$9:$E$56,Statistiques!A291,'Concert 3'!$I$9:$I$56)+SUMIF('Concert 4'!$E$9:$E$56,Statistiques!A291,'Concert 4'!$I$9:$I$56)+SUMIF('Concert 5'!$E$9:$E$56,Statistiques!A291,'Concert 5'!$I$9:$I$56)","v":0},{"$f":"SUMIF('Concert 1'!$E$9:$E$56,Statistiques!A291,'Concert 1'!$J$9:$J$56)+SUMIF('Concert 2'!$E$9:$E$56,Statistiques!A291,'Concert 2'!$J$9:$J$56)+SUMIF('Concert 3'!$E$9:$E$56,Statistiques!A291,'Concert 3'!$J$9:$J$56)+SUMIF('Concert 4'!$E$9:$E$56,Statistiques!A291,'Concert 4'!$J$9:$J$56)+SUMIF('Concert 5'!$E$9:$E$56,Statistiques!A291,'Concert 5'!$J$9:$J$56)","v":0},null,null,{"$f":"SUMIF('Concert 1'!$E$9:$E$56,Statistiques!A291,'Concert 1'!$I$9:$I$56)","v":0},{"$f":"SUMIF('Concert 1'!$E$9:$E$56,Statistiques!A291,'Concert 1'!$J$9:$J$56)","v":0},{"$f":"SUMIF('Concert 2'!$E$9:$E$56,Statistiques!A291,'Concert 2'!$I$9:$I$56)","v":0},{"$f":"SUMIF('Concert 2'!$E$9:$E$56,Statistiques!A291,'Concert 2'!$J$9:$J$56)","v":0},{"$f":"SUMIF('Concert 3'!$E$9:$E$56,Statistiques!A291,'Concert 3'!$I$9:$I$56)","v":0},{"$f":"SUMIF('Concert 3'!$E$9:$E$56,Statistiques!A291,'Concert 3'!$J$9:$J$56)","v":0},{"$f":"SUMIF('Concert 4'!$E$9:$E$56,Statistiques!A291,'Concert 4'!$I$9:$I$56)","v":0},{"$f":"SUMIF('Concert 4'!$E$9:$E$56,Statistiques!A291,'Concert 4'!$J$9:$J$56)","v":0},{"$f":"SUMIF('Concert 5'!$E$9:$E$56,Statistiques!A291,'Concert 5'!$I$9:$I$56)","v":0},{"$f":"SUMIF('Concert 5'!$E$9:$E$56,Statistiques!A291,'Concert 5'!$J$9:$J$56)","v":0}]
[{"$f":"Ecoles!A288","v":0},{"$f":"Ecoles!B288","v":0},{"$f":"Ecoles!C288","v":0},null,{"$f":"SUMIF('Concert 1'!$E$9:$E$56,Statistiques!A292,'Concert 1'!$I$9:$I$56)+SUMIF('Concert 2'!$E$9:$E$56,Statistiques!A292,'Concert 2'!$I$9:$I$56)+SUMIF('Concert 3'!$E$9:$E$56,Statistiques!A292,'Concert 3'!$I$9:$I$56)+SUMIF('Concert 4'!$E$9:$E$56,Statistiques!A292,'Concert 4'!$I$9:$I$56)+SUMIF('Concert 5'!$E$9:$E$56,Statistiques!A292,'Concert 5'!$I$9:$I$56)","v":0},{"$f":"SUMIF('Concert 1'!$E$9:$E$56,Statistiques!A292,'Concert 1'!$J$9:$J$56)+SUMIF('Concert 2'!$E$9:$E$56,Statistiques!A292,'Concert 2'!$J$9:$J$56)+SUMIF('Concert 3'!$E$9:$E$56,Statistiques!A292,'Concert 3'!$J$9:$J$56)+SUMIF('Concert 4'!$E$9:$E$56,Statistiques!A292,'Concert 4'!$J$9:$J$56)+SUMIF('Concert 5'!$E$9:$E$56,Statistiques!A292,'Concert 5'!$J$9:$J$56)","v":0},null,null,{"$f":"SUMIF('Concert 1'!$E$9:$E$56,Statistiques!A292,'Concert 1'!$I$9:$I$56)","v":0},{"$f":"SUMIF('Concert 1'!$E$9:$E$56,Statistiques!A292,'Concert 1'!$J$9:$J$56)","v":0},{"$f":"SUMIF('Concert 2'!$E$9:$E$56,Statistiques!A292,'Concert 2'!$I$9:$I$56)","v":0},{"$f":"SUMIF('Concert 2'!$E$9:$E$56,Statistiques!A292,'Concert 2'!$J$9:$J$56)","v":0},{"$f":"SUMIF('Concert 3'!$E$9:$E$56,Statistiques!A292,'Concert 3'!$I$9:$I$56)","v":0},{"$f":"SUMIF('Concert 3'!$E$9:$E$56,Statistiques!A292,'Concert 3'!$J$9:$J$56)","v":0},{"$f":"SUMIF('Concert 4'!$E$9:$E$56,Statistiques!A292,'Concert 4'!$I$9:$I$56)","v":0},{"$f":"SUMIF('Concert 4'!$E$9:$E$56,Statistiques!A292,'Concert 4'!$J$9:$J$56)","v":0},{"$f":"SUMIF('Concert 5'!$E$9:$E$56,Statistiques!A292,'Concert 5'!$I$9:$I$56)","v":0},{"$f":"SUMIF('Concert 5'!$E$9:$E$56,Statistiques!A292,'Concert 5'!$J$9:$J$56)","v":0}]
[{"$f":"Ecoles!A289","v":0},{"$f":"Ecoles!B289","v":0},{"$f":"Ecoles!C289","v":0},null,{"$f":"SUMIF('Concert 1'!$E$9:$E$56,Statistiques!A293,'Concert 1'!$I$9:$I$56)+SUMIF('Concert 2'!$E$9:$E$56,Statistiques!A293,'Concert 2'!$I$9:$I$56)+SUMIF('Concert 3'!$E$9:$E$56,Statistiques!A293,'Concert 3'!$I$9:$I$56)+SUMIF('Concert 4'!$E$9:$E$56,Statistiques!A293,'Concert 4'!$I$9:$I$56)+SUMIF('Concert 5'!$E$9:$E$56,Statistiques!A293,'Concert 5'!$I$9:$I$56)","v":0},{"$f":"SUMIF('Concert 1'!$E$9:$E$56,Statistiques!A293,'Concert 1'!$J$9:$J$56)+SUMIF('Concert 2'!$E$9:$E$56,Statistiques!A293,'Concert 2'!$J$9:$J$56)+SUMIF('Concert 3'!$E$9:$E$56,Statistiques!A293,'Concert 3'!$J$9:$J$56)+SUMIF('Concert 4'!$E$9:$E$56,Statistiques!A293,'Concert 4'!$J$9:$J$56)+SUMIF('Concert 5'!$E$9:$E$56,Statistiques!A293,'Concert 5'!$J$9:$J$56)","v":0},null,null,{"$f":"SUMIF('Concert 1'!$E$9:$E$56,Statistiques!A293,'Concert 1'!$I$9:$I$56)","v":0},{"$f":"SUMIF('Concert 1'!$E$9:$E$56,Statistiques!A293,'Concert 1'!$J$9:$J$56)","v":0},{"$f":"SUMIF('Concert 2'!$E$9:$E$56,Statistiques!A293,'Concert 2'!$I$9:$I$56)","v":0},{"$f":"SUMIF('Concert 2'!$E$9:$E$56,Statistiques!A293,'Concert 2'!$J$9:$J$56)","v":0},{"$f":"SUMIF('Concert 3'!$E$9:$E$56,Statistiques!A293,'Concert 3'!$I$9:$I$56)","v":0},{"$f":"SUMIF('Concert 3'!$E$9:$E$56,Statistiques!A293,'Concert 3'!$J$9:$J$56)","v":0},{"$f":"SUMIF('Concert 4'!$E$9:$E$56,Statistiques!A293,'Concert 4'!$I$9:$I$56)","v":0},{"$f":"SUMIF('Concert 4'!$E$9:$E$56,Statistiques!A293,'Concert 4'!$J$9:$J$56)","v":0},{"$f":"SUMIF('Concert 5'!$E$9:$E$56,Statistiques!A293,'Concert 5'!$I$9:$I$56)","v":0},{"$f":"SUMIF('Concert 5'!$E$9:$E$56,Statistiques!A293,'Concert 5'!$J$9:$J$56)","v":0}]
[{"$f":"Ecoles!A290","v":0},{"$f":"Ecoles!B290","v":0},{"$f":"Ecoles!C290","v":0},null,{"$f":"SUMIF('Concert 1'!$E$9:$E$56,Statistiques!A294,'Concert 1'!$I$9:$I$56)+SUMIF('Concert 2'!$E$9:$E$56,Statistiques!A294,'Concert 2'!$I$9:$I$56)+SUMIF('Concert 3'!$E$9:$E$56,Statistiques!A294,'Concert 3'!$I$9:$I$56)+SUMIF('Concert 4'!$E$9:$E$56,Statistiques!A294,'Concert 4'!$I$9:$I$56)+SUMIF('Concert 5'!$E$9:$E$56,Statistiques!A294,'Concert 5'!$I$9:$I$56)","v":0},{"$f":"SUMIF('Concert 1'!$E$9:$E$56,Statistiques!A294,'Concert 1'!$J$9:$J$56)+SUMIF('Concert 2'!$E$9:$E$56,Statistiques!A294,'Concert 2'!$J$9:$J$56)+SUMIF('Concert 3'!$E$9:$E$56,Statistiques!A294,'Concert 3'!$J$9:$J$56)+SUMIF('Concert 4'!$E$9:$E$56,Statistiques!A294,'Concert 4'!$J$9:$J$56)+SUMIF('Concert 5'!$E$9:$E$56,Statistiques!A294,'Concert 5'!$J$9:$J$56)","v":0},null,null,{"$f":"SUMIF('Concert 1'!$E$9:$E$56,Statistiques!A294,'Concert 1'!$I$9:$I$56)","v":0},{"$f":"SUMIF('Concert 1'!$E$9:$E$56,Statistiques!A294,'Concert 1'!$J$9:$J$56)","v":0},{"$f":"SUMIF('Concert 2'!$E$9:$E$56,Statistiques!A294,'Concert 2'!$I$9:$I$56)","v":0},{"$f":"SUMIF('Concert 2'!$E$9:$E$56,Statistiques!A294,'Concert 2'!$J$9:$J$56)","v":0},{"$f":"SUMIF('Concert 3'!$E$9:$E$56,Statistiques!A294,'Concert 3'!$I$9:$I$56)","v":0},{"$f":"SUMIF('Concert 3'!$E$9:$E$56,Statistiques!A294,'Concert 3'!$J$9:$J$56)","v":0},{"$f":"SUMIF('Concert 4'!$E$9:$E$56,Statistiques!A294,'Concert 4'!$I$9:$I$56)","v":0},{"$f":"SUMIF('Concert 4'!$E$9:$E$56,Statistiques!A294,'Concert 4'!$J$9:$J$56)","v":0},{"$f":"SUMIF('Concert 5'!$E$9:$E$56,Statistiques!A294,'Concert 5'!$I$9:$I$56)","v":0},{"$f":"SUMIF('Concert 5'!$E$9:$E$56,Statistiques!A294,'Concert 5'!$J$9:$J$56)","v":0}]
[{"$f":"Ecoles!A291","v":0},{"$f":"Ecoles!B291","v":0},{"$f":"Ecoles!C291","v":0},null,{"$f":"SUMIF('Concert 1'!$E$9:$E$56,Statistiques!A295,'Concert 1'!$I$9:$I$56)+SUMIF('Concert 2'!$E$9:$E$56,Statistiques!A295,'Concert 2'!$I$9:$I$56)+SUMIF('Concert 3'!$E$9:$E$56,Statistiques!A295,'Concert 3'!$I$9:$I$56)+SUMIF('Concert 4'!$E$9:$E$56,Statistiques!A295,'Concert 4'!$I$9:$I$56)+SUMIF('Concert 5'!$E$9:$E$56,Statistiques!A295,'Concert 5'!$I$9:$I$56)","v":0},{"$f":"SUMIF('Concert 1'!$E$9:$E$56,Statistiques!A295,'Concert 1'!$J$9:$J$56)+SUMIF('Concert 2'!$E$9:$E$56,Statistiques!A295,'Concert 2'!$J$9:$J$56)+SUMIF('Concert 3'!$E$9:$E$56,Statistiques!A295,'Concert 3'!$J$9:$J$56)+SUMIF('Concert 4'!$E$9:$E$56,Statistiques!A295,'Concert 4'!$J$9:$J$56)+SUMIF('Concert 5'!$E$9:$E$56,Statistiques!A295,'Concert 5'!$J$9:$J$56)","v":0},null,null,{"$f":"SUMIF('Concert 1'!$E$9:$E$56,Statistiques!A295,'Concert 1'!$I$9:$I$56)","v":0},{"$f":"SUMIF('Concert 1'!$E$9:$E$56,Statistiques!A295,'Concert 1'!$J$9:$J$56)","v":0},{"$f":"SUMIF('Concert 2'!$E$9:$E$56,Statistiques!A295,'Concert 2'!$I$9:$I$56)","v":0},{"$f":"SUMIF('Concert 2'!$E$9:$E$56,Statistiques!A295,'Concert 2'!$J$9:$J$56)","v":0},{"$f":"SUMIF('Concert 3'!$E$9:$E$56,Statistiques!A295,'Concert 3'!$I$9:$I$56)","v":0},{"$f":"SUMIF('Concert 3'!$E$9:$E$56,Statistiques!A295,'Concert 3'!$J$9:$J$56)","v":0},{"$f":"SUMIF('Concert 4'!$E$9:$E$56,Statistiques!A295,'Concert 4'!$I$9:$I$56)","v":0},{"$f":"SUMIF('Concert 4'!$E$9:$E$56,Statistiques!A295,'Concert 4'!$J$9:$J$56)","v":0},{"$f":"SUMIF('Concert 5'!$E$9:$E$56,Statistiques!A295,'Concert 5'!$I$9:$I$56)","v":0},{"$f":"SUMIF('Concert 5'!$E$9:$E$56,Statistiques!A295,'Concert 5'!$J$9:$J$56)","v":0}]
[{"$f":"Ecoles!A292","v":0},{"$f":"Ecoles!B292","v":0},{"$f":"Ecoles!C292","v":0},null,{"$f":"SUMIF('Concert 1'!$E$9:$E$56,Statistiques!A296,'Concert 1'!$I$9:$I$56)+SUMIF('Concert 2'!$E$9:$E$56,Statistiques!A296,'Concert 2'!$I$9:$I$56)+SUMIF('Concert 3'!$E$9:$E$56,Statistiques!A296,'Concert 3'!$I$9:$I$56)+SUMIF('Concert 4'!$E$9:$E$56,Statistiques!A296,'Concert 4'!$I$9:$I$56)+SUMIF('Concert 5'!$E$9:$E$56,Statistiques!A296,'Concert 5'!$I$9:$I$56)","v":0},{"$f":"SUMIF('Concert 1'!$E$9:$E$56,Statistiques!A296,'Concert 1'!$J$9:$J$56)+SUMIF('Concert 2'!$E$9:$E$56,Statistiques!A296,'Concert 2'!$J$9:$J$56)+SUMIF('Concert 3'!$E$9:$E$56,Statistiques!A296,'Concert 3'!$J$9:$J$56)+SUMIF('Concert 4'!$E$9:$E$56,Statistiques!A296,'Concert 4'!$J$9:$J$56)+SUMIF('Concert 5'!$E$9:$E$56,Statistiques!A296,'Concert 5'!$J$9:$J$56)","v":0},null,null,{"$f":"SUMIF('Concert 1'!$E$9:$E$56,Statistiques!A296,'Concert 1'!$I$9:$I$56)","v":0},{"$f":"SUMIF('Concert 1'!$E$9:$E$56,Statistiques!A296,'Concert 1'!$J$9:$J$56)","v":0},{"$f":"SUMIF('Concert 2'!$E$9:$E$56,Statistiques!A296,'Concert 2'!$I$9:$I$56)","v":0},{"$f":"SUMIF('Concert 2'!$E$9:$E$56,Statistiques!A296,'Concert 2'!$J$9:$J$56)","v":0},{"$f":"SUMIF('Concert 3'!$E$9:$E$56,Statistiques!A296,'Concert 3'!$I$9:$I$56)","v":0},{"$f":"SUMIF('Concert 3'!$E$9:$E$56,Statistiques!A296,'Concert 3'!$J$9:$J$56)","v":0},{"$f":"SUMIF('Concert 4'!$E$9:$E$56,Statistiques!A296,'Concert 4'!$I$9:$I$56)","v":0},{"$f":"SUMIF('Concert 4'!$E$9:$E$56,Statistiques!A296,'Concert 4'!$J$9:$J$56)","v":0},{"$f":"SUMIF('Concert 5'!$E$9:$E$56,Statistiques!A296,'Concert 5'!$I$9:$I$56)","v":0},{"$f":"SUMIF('Concert 5'!$E$9:$E$56,Statistiques!A296,'Concert 5'!$J$9:$J$56)","v":0}]
[{"$f":"Ecoles!A293","v":0},{"$f":"Ecoles!B293","v":0},{"$f":"Ecoles!C293","v":0},null,{"$f":"SUMIF('Concert 1'!$E$9:$E$56,Statistiques!A297,'Concert 1'!$I$9:$I$56)+SUMIF('Concert 2'!$E$9:$E$56,Statistiques!A297,'Concert 2'!$I$9:$I$56)+SUMIF('Concert 3'!$E$9:$E$56,Statistiques!A297,'Concert 3'!$I$9:$I$56)+SUMIF('Concert 4'!$E$9:$E$56,Statistiques!A297,'Concert 4'!$I$9:$I$56)+SUMIF('Concert 5'!$E$9:$E$56,Statistiques!A297,'Concert 5'!$I$9:$I$56)","v":0},{"$f":"SUMIF('Concert 1'!$E$9:$E$56,Statistiques!A297,'Concert 1'!$J$9:$J$56)+SUMIF('Concert 2'!$E$9:$E$56,Statistiques!A297,'Concert 2'!$J$9:$J$56)+SUMIF('Concert 3'!$E$9:$E$56,Statistiques!A297,'Concert 3'!$J$9:$J$56)+SUMIF('Concert 4'!$E$9:$E$56,Statistiques!A297,'Concert 4'!$J$9:$J$56)+SUMIF('Concert 5'!$E$9:$E$56,Statistiques!A297,'Concert 5'!$J$9:$J$56)","v":0},null,null,{"$f":"SUMIF('Concert 1'!$E$9:$E$56,Statistiques!A297,'Concert 1'!$I$9:$I$56)","v":0},{"$f":"SUMIF('Concert 1'!$E$9:$E$56,Statistiques!A297,'Concert 1'!$J$9:$J$56)","v":0},{"$f":"SUMIF('Concert 2'!$E$9:$E$56,Statistiques!A297,'Concert 2'!$I$9:$I$56)","v":0},{"$f":"SUMIF('Concert 2'!$E$9:$E$56,Statistiques!A297,'Concert 2'!$J$9:$J$56)","v":0},{"$f":"SUMIF('Concert 3'!$E$9:$E$56,Statistiques!A297,'Concert 3'!$I$9:$I$56)","v":0},{"$f":"SUMIF('Concert 3'!$E$9:$E$56,Statistiques!A297,'Concert 3'!$J$9:$J$56)","v":0},{"$f":"SUMIF('Concert 4'!$E$9:$E$56,Statistiques!A297,'Concert 4'!$I$9:$I$56)","v":0},{"$f":"SUMIF('Concert 4'!$E$9:$E$56,Statistiques!A297,'Concert 4'!$J$9:$J$56)","v":0},{"$f":"SUMIF('Concert 5'!$E$9:$E$56,Statistiques!A297,'Concert 5'!$I$9:$I$56)","v":0},{"$f":"SUMIF('Concert 5'!$E$9:$E$56,Statistiques!A297,'Concert 5'!$J$9:$J$56)","v":0}]
[{"$f":"Ecoles!A294","v":0},{"$f":"Ecoles!B294","v":0},{"$f":"Ecoles!C294","v":0},null,{"$f":"SUMIF('Concert 1'!$E$9:$E$56,Statistiques!A298,'Concert 1'!$I$9:$I$56)+SUMIF('Concert 2'!$E$9:$E$56,Statistiques!A298,'Concert 2'!$I$9:$I$56)+SUMIF('Concert 3'!$E$9:$E$56,Statistiques!A298,'Concert 3'!$I$9:$I$56)+SUMIF('Concert 4'!$E$9:$E$56,Statistiques!A298,'Concert 4'!$I$9:$I$56)+SUMIF('Concert 5'!$E$9:$E$56,Statistiques!A298,'Concert 5'!$I$9:$I$56)","v":0},{"$f":"SUMIF('Concert 1'!$E$9:$E$56,Statistiques!A298,'Concert 1'!$J$9:$J$56)+SUMIF('Concert 2'!$E$9:$E$56,Statistiques!A298,'Concert 2'!$J$9:$J$56)+SUMIF('Concert 3'!$E$9:$E$56,Statistiques!A298,'Concert 3'!$J$9:$J$56)+SUMIF('Concert 4'!$E$9:$E$56,Statistiques!A298,'Concert 4'!$J$9:$J$56)+SUMIF('Concert 5'!$E$9:$E$56,Statistiques!A298,'Concert 5'!$J$9:$J$56)","v":0},null,null,{"$f":"SUMIF('Concert 1'!$E$9:$E$56,Statistiques!A298,'Concert 1'!$I$9:$I$56)","v":0},{"$f":"SUMIF('Concert 1'!$E$9:$E$56,Statistiques!A298,'Concert 1'!$J$9:$J$56)","v":0},{"$f":"SUMIF('Concert 2'!$E$9:$E$56,Statistiques!A298,'Concert 2'!$I$9:$I$56)","v":0},{"$f":"SUMIF('Concert 2'!$E$9:$E$56,Statistiques!A298,'Concert 2'!$J$9:$J$56)","v":0},{"$f":"SUMIF('Concert 3'!$E$9:$E$56,Statistiques!A298,'Concert 3'!$I$9:$I$56)","v":0},{"$f":"SUMIF('Concert 3'!$E$9:$E$56,Statistiques!A298,'Concert 3'!$J$9:$J$56)","v":0},{"$f":"SUMIF('Concert 4'!$E$9:$E$56,Statistiques!A298,'Concert 4'!$I$9:$I$56)","v":0},{"$f":"SUMIF('Concert 4'!$E$9:$E$56,Statistiques!A298,'Concert 4'!$J$9:$J$56)","v":0},{"$f":"SUMIF('Concert 5'!$E$9:$E$56,Statistiques!A298,'Concert 5'!$I$9:$I$56)","v":0},{"$f":"SUMIF('Concert 5'!$E$9:$E$56,Statistiques!A298,'Concert 5'!$J$9:$J$56)","v":0}]
[{"$f":"Ecoles!A295","v":0},{"$f":"Ecoles!B295","v":0},{"$f":"Ecoles!C295","v":0},null,{"$f":"SUMIF('Concert 1'!$E$9:$E$56,Statistiques!A299,'Concert 1'!$I$9:$I$56)+SUMIF('Concert 2'!$E$9:$E$56,Statistiques!A299,'Concert 2'!$I$9:$I$56)+SUMIF('Concert 3'!$E$9:$E$56,Statistiques!A299,'Concert 3'!$I$9:$I$56)+SUMIF('Concert 4'!$E$9:$E$56,Statistiques!A299,'Concert 4'!$I$9:$I$56)+SUMIF('Concert 5'!$E$9:$E$56,Statistiques!A299,'Concert 5'!$I$9:$I$56)","v":0},{"$f":"SUMIF('Concert 1'!$E$9:$E$56,Statistiques!A299,'Concert 1'!$J$9:$J$56)+SUMIF('Concert 2'!$E$9:$E$56,Statistiques!A299,'Concert 2'!$J$9:$J$56)+SUMIF('Concert 3'!$E$9:$E$56,Statistiques!A299,'Concert 3'!$J$9:$J$56)+SUMIF('Concert 4'!$E$9:$E$56,Statistiques!A299,'Concert 4'!$J$9:$J$56)+SUMIF('Concert 5'!$E$9:$E$56,Statistiques!A299,'Concert 5'!$J$9:$J$56)","v":0},null,null,{"$f":"SUMIF('Concert 1'!$E$9:$E$56,Statistiques!A299,'Concert 1'!$I$9:$I$56)","v":0},{"$f":"SUMIF('Concert 1'!$E$9:$E$56,Statistiques!A299,'Concert 1'!$J$9:$J$56)","v":0},{"$f":"SUMIF('Concert 2'!$E$9:$E$56,Statistiques!A299,'Concert 2'!$I$9:$I$56)","v":0},{"$f":"SUMIF('Concert 2'!$E$9:$E$56,Statistiques!A299,'Concert 2'!$J$9:$J$56)","v":0},{"$f":"SUMIF('Concert 3'!$E$9:$E$56,Statistiques!A299,'Concert 3'!$I$9:$I$56)","v":0},{"$f":"SUMIF('Concert 3'!$E$9:$E$56,Statistiques!A299,'Concert 3'!$J$9:$J$56)","v":0},{"$f":"SUMIF('Concert 4'!$E$9:$E$56,Statistiques!A299,'Concert 4'!$I$9:$I$56)","v":0},{"$f":"SUMIF('Concert 4'!$E$9:$E$56,Statistiques!A299,'Concert 4'!$J$9:$J$56)","v":0},{"$f":"SUMIF('Concert 5'!$E$9:$E$56,Statistiques!A299,'Concert 5'!$I$9:$I$56)","v":0},{"$f":"SUMIF('Concert 5'!$E$9:$E$56,Statistiques!A299,'Concert 5'!$J$9:$J$56)","v":0}]
[{"$f":"Ecoles!A296","v":0},{"$f":"Ecoles!B296","v":0},{"$f":"Ecoles!C296","v":0},null,{"$f":"SUMIF('Concert 1'!$E$9:$E$56,Statistiques!A300,'Concert 1'!$I$9:$I$56)+SUMIF('Concert 2'!$E$9:$E$56,Statistiques!A300,'Concert 2'!$I$9:$I$56)+SUMIF('Concert 3'!$E$9:$E$56,Statistiques!A300,'Concert 3'!$I$9:$I$56)+SUMIF('Concert 4'!$E$9:$E$56,Statistiques!A300,'Concert 4'!$I$9:$I$56)+SUMIF('Concert 5'!$E$9:$E$56,Statistiques!A300,'Concert 5'!$I$9:$I$56)","v":0},{"$f":"SUMIF('Concert 1'!$E$9:$E$56,Statistiques!A300,'Concert 1'!$J$9:$J$56)+SUMIF('Concert 2'!$E$9:$E$56,Statistiques!A300,'Concert 2'!$J$9:$J$56)+SUMIF('Concert 3'!$E$9:$E$56,Statistiques!A300,'Concert 3'!$J$9:$J$56)+SUMIF('Concert 4'!$E$9:$E$56,Statistiques!A300,'Concert 4'!$J$9:$J$56)+SUMIF('Concert 5'!$E$9:$E$56,Statistiques!A300,'Concert 5'!$J$9:$J$56)","v":0},null,null,{"$f":"SUMIF('Concert 1'!$E$9:$E$56,Statistiques!A300,'Concert 1'!$I$9:$I$56)","v":0},{"$f":"SUMIF('Concert 1'!$E$9:$E$56,Statistiques!A300,'Concert 1'!$J$9:$J$56)","v":0},{"$f":"SUMIF('Concert 2'!$E$9:$E$56,Statistiques!A300,'Concert 2'!$I$9:$I$56)","v":0},{"$f":"SUMIF('Concert 2'!$E$9:$E$56,Statistiques!A300,'Concert 2'!$J$9:$J$56)","v":0},{"$f":"SUMIF('Concert 3'!$E$9:$E$56,Statistiques!A300,'Concert 3'!$I$9:$I$56)","v":0},{"$f":"SUMIF('Concert 3'!$E$9:$E$56,Statistiques!A300,'Concert 3'!$J$9:$J$56)","v":0},{"$f":"SUMIF('Concert 4'!$E$9:$E$56,Statistiques!A300,'Concert 4'!$I$9:$I$56)","v":0},{"$f":"SUMIF('Concert 4'!$E$9:$E$56,Statistiques!A300,'Concert 4'!$J$9:$J$56)","v":0},{"$f":"SUMIF('Concert 5'!$E$9:$E$56,Statistiques!A300,'Concert 5'!$I$9:$I$56)","v":0},{"$f":"SUMIF('Concert 5'!$E$9:$E$56,Statistiques!A300,'Concert 5'!$J$9:$J$56)","v":0}]
[{"$f":"Ecoles!A297","v":0},{"$f":"Ecoles!B297","v":0},{"$f":"Ecoles!C297","v":0},null,{"$f":"SUMIF('Concert 1'!$E$9:$E$56,Statistiques!A301,'Concert 1'!$I$9:$I$56)+SUMIF('Concert 2'!$E$9:$E$56,Statistiques!A301,'Concert 2'!$I$9:$I$56)+SUMIF('Concert 3'!$E$9:$E$56,Statistiques!A301,'Concert 3'!$I$9:$I$56)+SUMIF('Concert 4'!$E$9:$E$56,Statistiques!A301,'Concert 4'!$I$9:$I$56)+SUMIF('Concert 5'!$E$9:$E$56,Statistiques!A301,'Concert 5'!$I$9:$I$56)","v":0},{"$f":"SUMIF('Concert 1'!$E$9:$E$56,Statistiques!A301,'Concert 1'!$J$9:$J$56)+SUMIF('Concert 2'!$E$9:$E$56,Statistiques!A301,'Concert 2'!$J$9:$J$56)+SUMIF('Concert 3'!$E$9:$E$56,Statistiques!A301,'Concert 3'!$J$9:$J$56)+SUMIF('Concert 4'!$E$9:$E$56,Statistiques!A301,'Concert 4'!$J$9:$J$56)+SUMIF('Concert 5'!$E$9:$E$56,Statistiques!A301,'Concert 5'!$J$9:$J$56)","v":0},null,null,{"$f":"SUMIF('Concert 1'!$E$9:$E$56,Statistiques!A301,'Concert 1'!$I$9:$I$56)","v":0},{"$f":"SUMIF('Concert 1'!$E$9:$E$56,Statistiques!A301,'Concert 1'!$J$9:$J$56)","v":0},{"$f":"SUMIF('Concert 2'!$E$9:$E$56,Statistiques!A301,'Concert 2'!$I$9:$I$56)","v":0},{"$f":"SUMIF('Concert 2'!$E$9:$E$56,Statistiques!A301,'Concert 2'!$J$9:$J$56)","v":0},{"$f":"SUMIF('Concert 3'!$E$9:$E$56,Statistiques!A301,'Concert 3'!$I$9:$I$56)","v":0},{"$f":"SUMIF('Concert 3'!$E$9:$E$56,Statistiques!A301,'Concert 3'!$J$9:$J$56)","v":0},{"$f":"SUMIF('Concert 4'!$E$9:$E$56,Statistiques!A301,'Concert 4'!$I$9:$I$56)","v":0},{"$f":"SUMIF('Concert 4'!$E$9:$E$56,Statistiques!A301,'Concert 4'!$J$9:$J$56)","v":0},{"$f":"SUMIF('Concert 5'!$E$9:$E$56,Statistiques!A301,'Concert 5'!$I$9:$I$56)","v":0},{"$f":"SUMIF('Concert 5'!$E$9:$E$56,Statistiques!A301,'Concert 5'!$J$9:$J$56)","v":0}]
[{"$f":"Ecoles!A298","v":0},{"$f":"Ecoles!B298","v":0},{"$f":"Ecoles!C298","v":0},null,{"$f":"SUMIF('Concert 1'!$E$9:$E$56,Statistiques!A302,'Concert 1'!$I$9:$I$56)+SUMIF('Concert 2'!$E$9:$E$56,Statistiques!A302,'Concert 2'!$I$9:$I$56)+SUMIF('Concert 3'!$E$9:$E$56,Statistiques!A302,'Concert 3'!$I$9:$I$56)+SUMIF('Concert 4'!$E$9:$E$56,Statistiques!A302,'Concert 4'!$I$9:$I$56)+SUMIF('Concert 5'!$E$9:$E$56,Statistiques!A302,'Concert 5'!$I$9:$I$56)","v":0},{"$f":"SUMIF('Concert 1'!$E$9:$E$56,Statistiques!A302,'Concert 1'!$J$9:$J$56)+SUMIF('Concert 2'!$E$9:$E$56,Statistiques!A302,'Concert 2'!$J$9:$J$56)+SUMIF('Concert 3'!$E$9:$E$56,Statistiques!A302,'Concert 3'!$J$9:$J$56)+SUMIF('Concert 4'!$E$9:$E$56,Statistiques!A302,'Concert 4'!$J$9:$J$56)+SUMIF('Concert 5'!$E$9:$E$56,Statistiques!A302,'Concert 5'!$J$9:$J$56)","v":0},null,null,{"$f":"SUMIF('Concert 1'!$E$9:$E$56,Statistiques!A302,'Concert 1'!$I$9:$I$56)","v":0},{"$f":"SUMIF('Concert 1'!$E$9:$E$56,Statistiques!A302,'Concert 1'!$J$9:$J$56)","v":0},{"$f":"SUMIF('Concert 2'!$E$9:$E$56,Statistiques!A302,'Concert 2'!$I$9:$I$56)","v":0},{"$f":"SUMIF('Concert 2'!$E$9:$E$56,Statistiques!A302,'Concert 2'!$J$9:$J$56)","v":0},{"$f":"SUMIF('Concert 3'!$E$9:$E$56,Statistiques!A302,'Concert 3'!$I$9:$I$56)","v":0},{"$f":"SUMIF('Concert 3'!$E$9:$E$56,Statistiques!A302,'Concert 3'!$J$9:$J$56)","v":0},{"$f":"SUMIF('Concert 4'!$E$9:$E$56,Statistiques!A302,'Concert 4'!$I$9:$I$56)","v":0},{"$f":"SUMIF('Concert 4'!$E$9:$E$56,Statistiques!A302,'Concert 4'!$J$9:$J$56)","v":0},{"$f":"SUMIF('Concert 5'!$E$9:$E$56,Statistiques!A302,'Concert 5'!$I$9:$I$56)","v":0},{"$f":"SUMIF('Concert 5'!$E$9:$E$56,Statistiques!A302,'Concert 5'!$J$9:$J$56)","v":0}]
[{"$f":"Ecoles!A299","v":0},{"$f":"Ecoles!B299","v":0},{"$f":"Ecoles!C299","v":0},null,{"$f":"SUMIF('Concert 1'!$E$9:$E$56,Statistiques!A303,'Concert 1'!$I$9:$I$56)+SUMIF('Concert 2'!$E$9:$E$56,Statistiques!A303,'Concert 2'!$I$9:$I$56)+SUMIF('Concert 3'!$E$9:$E$56,Statistiques!A303,'Concert 3'!$I$9:$I$56)+SUMIF('Concert 4'!$E$9:$E$56,Statistiques!A303,'Concert 4'!$I$9:$I$56)+SUMIF('Concert 5'!$E$9:$E$56,Statistiques!A303,'Concert 5'!$I$9:$I$56)","v":0},{"$f":"SUMIF('Concert 1'!$E$9:$E$56,Statistiques!A303,'Concert 1'!$J$9:$J$56)+SUMIF('Concert 2'!$E$9:$E$56,Statistiques!A303,'Concert 2'!$J$9:$J$56)+SUMIF('Concert 3'!$E$9:$E$56,Statistiques!A303,'Concert 3'!$J$9:$J$56)+SUMIF('Concert 4'!$E$9:$E$56,Statistiques!A303,'Concert 4'!$J$9:$J$56)+SUMIF('Concert 5'!$E$9:$E$56,Statistiques!A303,'Concert 5'!$J$9:$J$56)","v":0},null,null,{"$f":"SUMIF('Concert 1'!$E$9:$E$56,Statistiques!A303,'Concert 1'!$I$9:$I$56)","v":0},{"$f":"SUMIF('Concert 1'!$E$9:$E$56,Statistiques!A303,'Concert 1'!$J$9:$J$56)","v":0},{"$f":"SUMIF('Concert 2'!$E$9:$E$56,Statistiques!A303,'Concert 2'!$I$9:$I$56)","v":0},{"$f":"SUMIF('Concert 2'!$E$9:$E$56,Statistiques!A303,'Concert 2'!$J$9:$J$56)","v":0},{"$f":"SUMIF('Concert 3'!$E$9:$E$56,Statistiques!A303,'Concert 3'!$I$9:$I$56)","v":0},{"$f":"SUMIF('Concert 3'!$E$9:$E$56,Statistiques!A303,'Concert 3'!$J$9:$J$56)","v":0},{"$f":"SUMIF('Concert 4'!$E$9:$E$56,Statistiques!A303,'Concert 4'!$I$9:$I$56)","v":0},{"$f":"SUMIF('Concert 4'!$E$9:$E$56,Statistiques!A303,'Concert 4'!$J$9:$J$56)","v":0},{"$f":"SUMIF('Concert 5'!$E$9:$E$56,Statistiques!A303,'Concert 5'!$I$9:$I$56)","v":0},{"$f":"SUMIF('Concert 5'!$E$9:$E$56,Statistiques!A303,'Concert 5'!$J$9:$J$56)","v":0}]
[{"$f":"Ecoles!A300","v":0},{"$f":"Ecoles!B300","v":0},{"$f":"Ecoles!C300","v":0},null,{"$f":"SUMIF('Concert 1'!$E$9:$E$56,Statistiques!A304,'Concert 1'!$I$9:$I$56)+SUMIF('Concert 2'!$E$9:$E$56,Statistiques!A304,'Concert 2'!$I$9:$I$56)+SUMIF('Concert 3'!$E$9:$E$56,Statistiques!A304,'Concert 3'!$I$9:$I$56)+SUMIF('Concert 4'!$E$9:$E$56,Statistiques!A304,'Concert 4'!$I$9:$I$56)+SUMIF('Concert 5'!$E$9:$E$56,Statistiques!A304,'Concert 5'!$I$9:$I$56)","v":0},{"$f":"SUMIF('Concert 1'!$E$9:$E$56,Statistiques!A304,'Concert 1'!$J$9:$J$56)+SUMIF('Concert 2'!$E$9:$E$56,Statistiques!A304,'Concert 2'!$J$9:$J$56)+SUMIF('Concert 3'!$E$9:$E$56,Statistiques!A304,'Concert 3'!$J$9:$J$56)+SUMIF('Concert 4'!$E$9:$E$56,Statistiques!A304,'Concert 4'!$J$9:$J$56)+SUMIF('Concert 5'!$E$9:$E$56,Statistiques!A304,'Concert 5'!$J$9:$J$56)","v":0},null,null,{"$f":"SUMIF('Concert 1'!$E$9:$E$56,Statistiques!A304,'Concert 1'!$I$9:$I$56)","v":0},{"$f":"SUMIF('Concert 1'!$E$9:$E$56,Statistiques!A304,'Concert 1'!$J$9:$J$56)","v":0},{"$f":"SUMIF('Concert 2'!$E$9:$E$56,Statistiques!A304,'Concert 2'!$I$9:$I$56)","v":0},{"$f":"SUMIF('Concert 2'!$E$9:$E$56,Statistiques!A304,'Concert 2'!$J$9:$J$56)","v":0},{"$f":"SUMIF('Concert 3'!$E$9:$E$56,Statistiques!A304,'Concert 3'!$I$9:$I$56)","v":0},{"$f":"SUMIF('Concert 3'!$E$9:$E$56,Statistiques!A304,'Concert 3'!$J$9:$J$56)","v":0},{"$f":"SUMIF('Concert 4'!$E$9:$E$56,Statistiques!A304,'Concert 4'!$I$9:$I$56)","v":0},{"$f":"SUMIF('Concert 4'!$E$9:$E$56,Statistiques!A304,'Concert 4'!$J$9:$J$56)","v":0},{"$f":"SUMIF('Concert 5'!$E$9:$E$56,Statistiques!A304,'Concert 5'!$I$9:$I$56)","v":0},{"$f":"SUMIF('Concert 5'!$E$9:$E$56,Statistiques!A304,'Concert 5'!$J$9:$J$56)","v":0}]
[{"$f":"Ecoles!A301","v":0},{"$f":"Ecoles!B301","v":0},{"$f":"Ecoles!C301","v":0},null,{"$f":"SUMIF('Concert 1'!$E$9:$E$56,Statistiques!A305,'Concert 1'!$I$9:$I$56)+SUMIF('Concert 2'!$E$9:$E$56,Statistiques!A305,'Concert 2'!$I$9:$I$56)+SUMIF('Concert 3'!$E$9:$E$56,Statistiques!A305,'Concert 3'!$I$9:$I$56)+SUMIF('Concert 4'!$E$9:$E$56,Statistiques!A305,'Concert 4'!$I$9:$I$56)+SUMIF('Concert 5'!$E$9:$E$56,Statistiques!A305,'Concert 5'!$I$9:$I$56)","v":0},{"$f":"SUMIF('Concert 1'!$E$9:$E$56,Statistiques!A305,'Concert 1'!$J$9:$J$56)+SUMIF('Concert 2'!$E$9:$E$56,Statistiques!A305,'Concert 2'!$J$9:$J$56)+SUMIF('Concert 3'!$E$9:$E$56,Statistiques!A305,'Concert 3'!$J$9:$J$56)+SUMIF('Concert 4'!$E$9:$E$56,Statistiques!A305,'Concert 4'!$J$9:$J$56)+SUMIF('Concert 5'!$E$9:$E$56,Statistiques!A305,'Concert 5'!$J$9:$J$56)","v":0},null,null,{"$f":"SUMIF('Concert 1'!$E$9:$E$56,Statistiques!A305,'Concert 1'!$I$9:$I$56)","v":0},{"$f":"SUMIF('Concert 1'!$E$9:$E$56,Statistiques!A305,'Concert 1'!$J$9:$J$56)","v":0},{"$f":"SUMIF('Concert 2'!$E$9:$E$56,Statistiques!A305,'Concert 2'!$I$9:$I$56)","v":0},{"$f":"SUMIF('Concert 2'!$E$9:$E$56,Statistiques!A305,'Concert 2'!$J$9:$J$56)","v":0},{"$f":"SUMIF('Concert 3'!$E$9:$E$56,Statistiques!A305,'Concert 3'!$I$9:$I$56)","v":0},{"$f":"SUMIF('Concert 3'!$E$9:$E$56,Statistiques!A305,'Concert 3'!$J$9:$J$56)","v":0},{"$f":"SUMIF('Concert 4'!$E$9:$E$56,Statistiques!A305,'Concert 4'!$I$9:$I$56)","v":0},{"$f":"SUMIF('Concert 4'!$E$9:$E$56,Statistiques!A305,'Concert 4'!$J$9:$J$56)","v":0},{"$f":"SUMIF('Concert 5'!$E$9:$E$56,Statistiques!A305,'Concert 5'!$I$9:$I$56)","v":0},{"$f":"SUMIF('Concert 5'!$E$9:$E$56,Statistiques!A305,'Concert 5'!$J$9:$J$56)","v":0}]
[{"$f":"Ecoles!A302","v":0},{"$f":"Ecoles!B302","v":0},{"$f":"Ecoles!C302","v":0},null,{"$f":"SUMIF('Concert 1'!$E$9:$E$56,Statistiques!A306,'Concert 1'!$I$9:$I$56)+SUMIF('Concert 2'!$E$9:$E$56,Statistiques!A306,'Concert 2'!$I$9:$I$56)+SUMIF('Concert 3'!$E$9:$E$56,Statistiques!A306,'Concert 3'!$I$9:$I$56)+SUMIF('Concert 4'!$E$9:$E$56,Statistiques!A306,'Concert 4'!$I$9:$I$56)+SUMIF('Concert 5'!$E$9:$E$56,Statistiques!A306,'Concert 5'!$I$9:$I$56)","v":0},{"$f":"SUMIF('Concert 1'!$E$9:$E$56,Statistiques!A306,'Concert 1'!$J$9:$J$56)+SUMIF('Concert 2'!$E$9:$E$56,Statistiques!A306,'Concert 2'!$J$9:$J$56)+SUMIF('Concert 3'!$E$9:$E$56,Statistiques!A306,'Concert 3'!$J$9:$J$56)+SUMIF('Concert 4'!$E$9:$E$56,Statistiques!A306,'Concert 4'!$J$9:$J$56)+SUMIF('Concert 5'!$E$9:$E$56,Statistiques!A306,'Concert 5'!$J$9:$J$56)","v":0},null,null,{"$f":"SUMIF('Concert 1'!$E$9:$E$56,Statistiques!A306,'Concert 1'!$I$9:$I$56)","v":0},{"$f":"SUMIF('Concert 1'!$E$9:$E$56,Statistiques!A306,'Concert 1'!$J$9:$J$56)","v":0},{"$f":"SUMIF('Concert 2'!$E$9:$E$56,Statistiques!A306,'Concert 2'!$I$9:$I$56)","v":0},{"$f":"SUMIF('Concert 2'!$E$9:$E$56,Statistiques!A306,'Concert 2'!$J$9:$J$56)","v":0},{"$f":"SUMIF('Concert 3'!$E$9:$E$56,Statistiques!A306,'Concert 3'!$I$9:$I$56)","v":0},{"$f":"SUMIF('Concert 3'!$E$9:$E$56,Statistiques!A306,'Concert 3'!$J$9:$J$56)","v":0},{"$f":"SUMIF('Concert 4'!$E$9:$E$56,Statistiques!A306,'Concert 4'!$I$9:$I$56)","v":0},{"$f":"SUMIF('Concert 4'!$E$9:$E$56,Statistiques!A306,'Concert 4'!$J$9:$J$56)","v":0},{"$f":"SUMIF('Concert 5'!$E$9:$E$56,Statistiques!A306,'Concert 5'!$I$9:$I$56)","v":0},{"$f":"SUMIF('Concert 5'!$E$9:$E$56,Statistiques!A306,'Concert 5'!$J$9:$J$56)","v":0}]
[{"$f":"Ecoles!A303","v":0},{"$f":"Ecoles!B303","v":0},{"$f":"Ecoles!C303","v":0},null,{"$f":"SUMIF('Concert 1'!$E$9:$E$56,Statistiques!A307,'Concert 1'!$I$9:$I$56)+SUMIF('Concert 2'!$E$9:$E$56,Statistiques!A307,'Concert 2'!$I$9:$I$56)+SUMIF('Concert 3'!$E$9:$E$56,Statistiques!A307,'Concert 3'!$I$9:$I$56)+SUMIF('Concert 4'!$E$9:$E$56,Statistiques!A307,'Concert 4'!$I$9:$I$56)+SUMIF('Concert 5'!$E$9:$E$56,Statistiques!A307,'Concert 5'!$I$9:$I$56)","v":0},{"$f":"SUMIF('Concert 1'!$E$9:$E$56,Statistiques!A307,'Concert 1'!$J$9:$J$56)+SUMIF('Concert 2'!$E$9:$E$56,Statistiques!A307,'Concert 2'!$J$9:$J$56)+SUMIF('Concert 3'!$E$9:$E$56,Statistiques!A307,'Concert 3'!$J$9:$J$56)+SUMIF('Concert 4'!$E$9:$E$56,Statistiques!A307,'Concert 4'!$J$9:$J$56)+SUMIF('Concert 5'!$E$9:$E$56,Statistiques!A307,'Concert 5'!$J$9:$J$56)","v":0},null,null,{"$f":"SUMIF('Concert 1'!$E$9:$E$56,Statistiques!A307,'Concert 1'!$I$9:$I$56)","v":0},{"$f":"SUMIF('Concert 1'!$E$9:$E$56,Statistiques!A307,'Concert 1'!$J$9:$J$56)","v":0},{"$f":"SUMIF('Concert 2'!$E$9:$E$56,Statistiques!A307,'Concert 2'!$I$9:$I$56)","v":0},{"$f":"SUMIF('Concert 2'!$E$9:$E$56,Statistiques!A307,'Concert 2'!$J$9:$J$56)","v":0},{"$f":"SUMIF('Concert 3'!$E$9:$E$56,Statistiques!A307,'Concert 3'!$I$9:$I$56)","v":0},{"$f":"SUMIF('Concert 3'!$E$9:$E$56,Statistiques!A307,'Concert 3'!$J$9:$J$56)","v":0},{"$f":"SUMIF('Concert 4'!$E$9:$E$56,Statistiques!A307,'Concert 4'!$I$9:$I$56)","v":0},{"$f":"SUMIF('Concert 4'!$E$9:$E$56,Statistiques!A307,'Concert 4'!$J$9:$J$56)","v":0},{"$f":"SUMIF('Concert 5'!$E$9:$E$56,Statistiques!A307,'Concert 5'!$I$9:$I$56)","v":0},{"$f":"SUMIF('Concert 5'!$E$9:$E$56,Statistiques!A307,'Concert 5'!$J$9:$J$56)","v":0}]
[{"$f":"Ecoles!A304","v":0},{"$f":"Ecoles!B304","v":0},{"$f":"Ecoles!C304","v":0},null,{"$f":"SUMIF('Concert 1'!$E$9:$E$56,Statistiques!A308,'Concert 1'!$I$9:$I$56)+SUMIF('Concert 2'!$E$9:$E$56,Statistiques!A308,'Concert 2'!$I$9:$I$56)+SUMIF('Concert 3'!$E$9:$E$56,Statistiques!A308,'Concert 3'!$I$9:$I$56)+SUMIF('Concert 4'!$E$9:$E$56,Statistiques!A308,'Concert 4'!$I$9:$I$56)+SUMIF('Concert 5'!$E$9:$E$56,Statistiques!A308,'Concert 5'!$I$9:$I$56)","v":0},{"$f":"SUMIF('Concert 1'!$E$9:$E$56,Statistiques!A308,'Concert 1'!$J$9:$J$56)+SUMIF('Concert 2'!$E$9:$E$56,Statistiques!A308,'Concert 2'!$J$9:$J$56)+SUMIF('Concert 3'!$E$9:$E$56,Statistiques!A308,'Concert 3'!$J$9:$J$56)+SUMIF('Concert 4'!$E$9:$E$56,Statistiques!A308,'Concert 4'!$J$9:$J$56)+SUMIF('Concert 5'!$E$9:$E$56,Statistiques!A308,'Concert 5'!$J$9:$J$56)","v":0},null,null,{"$f":"SUMIF('Concert 1'!$E$9:$E$56,Statistiques!A308,'Concert 1'!$I$9:$I$56)","v":0},{"$f":"SUMIF('Concert 1'!$E$9:$E$56,Statistiques!A308,'Concert 1'!$J$9:$J$56)","v":0},{"$f":"SUMIF('Concert 2'!$E$9:$E$56,Statistiques!A308,'Concert 2'!$I$9:$I$56)","v":0},{"$f":"SUMIF('Concert 2'!$E$9:$E$56,Statistiques!A308,'Concert 2'!$J$9:$J$56)","v":0},{"$f":"SUMIF('Concert 3'!$E$9:$E$56,Statistiques!A308,'Concert 3'!$I$9:$I$56)","v":0},{"$f":"SUMIF('Concert 3'!$E$9:$E$56,Statistiques!A308,'Concert 3'!$J$9:$J$56)","v":0},{"$f":"SUMIF('Concert 4'!$E$9:$E$56,Statistiques!A308,'Concert 4'!$I$9:$I$56)","v":0},{"$f":"SUMIF('Concert 4'!$E$9:$E$56,Statistiques!A308,'Concert 4'!$J$9:$J$56)","v":0},{"$f":"SUMIF('Concert 5'!$E$9:$E$56,Statistiques!A308,'Concert 5'!$I$9:$I$56)","v":0},{"$f":"SUMIF('Concert 5'!$E$9:$E$56,Statistiques!A308,'Concert 5'!$J$9:$J$56)","v":0}]
[{"$f":"Ecoles!A305","v":0},{"$f":"Ecoles!B305","v":0},{"$f":"Ecoles!C305","v":0},null,{"$f":"SUMIF('Concert 1'!$E$9:$E$56,Statistiques!A309,'Concert 1'!$I$9:$I$56)+SUMIF('Concert 2'!$E$9:$E$56,Statistiques!A309,'Concert 2'!$I$9:$I$56)+SUMIF('Concert 3'!$E$9:$E$56,Statistiques!A309,'Concert 3'!$I$9:$I$56)+SUMIF('Concert 4'!$E$9:$E$56,Statistiques!A309,'Concert 4'!$I$9:$I$56)+SUMIF('Concert 5'!$E$9:$E$56,Statistiques!A309,'Concert 5'!$I$9:$I$56)","v":0},{"$f":"SUMIF('Concert 1'!$E$9:$E$56,Statistiques!A309,'Concert 1'!$J$9:$J$56)+SUMIF('Concert 2'!$E$9:$E$56,Statistiques!A309,'Concert 2'!$J$9:$J$56)+SUMIF('Concert 3'!$E$9:$E$56,Statistiques!A309,'Concert 3'!$J$9:$J$56)+SUMIF('Concert 4'!$E$9:$E$56,Statistiques!A309,'Concert 4'!$J$9:$J$56)+SUMIF('Concert 5'!$E$9:$E$56,Statistiques!A309,'Concert 5'!$J$9:$J$56)","v":0},null,null,{"$f":"SUMIF('Concert 1'!$E$9:$E$56,Statistiques!A309,'Concert 1'!$I$9:$I$56)","v":0},{"$f":"SUMIF('Concert 1'!$E$9:$E$56,Statistiques!A309,'Concert 1'!$J$9:$J$56)","v":0},{"$f":"SUMIF('Concert 2'!$E$9:$E$56,Statistiques!A309,'Concert 2'!$I$9:$I$56)","v":0},{"$f":"SUMIF('Concert 2'!$E$9:$E$56,Statistiques!A309,'Concert 2'!$J$9:$J$56)","v":0},{"$f":"SUMIF('Concert 3'!$E$9:$E$56,Statistiques!A309,'Concert 3'!$I$9:$I$56)","v":0},{"$f":"SUMIF('Concert 3'!$E$9:$E$56,Statistiques!A309,'Concert 3'!$J$9:$J$56)","v":0},{"$f":"SUMIF('Concert 4'!$E$9:$E$56,Statistiques!A309,'Concert 4'!$I$9:$I$56)","v":0},{"$f":"SUMIF('Concert 4'!$E$9:$E$56,Statistiques!A309,'Concert 4'!$J$9:$J$56)","v":0},{"$f":"SUMIF('Concert 5'!$E$9:$E$56,Statistiques!A309,'Concert 5'!$I$9:$I$56)","v":0},{"$f":"SUMIF('Concert 5'!$E$9:$E$56,Statistiques!A309,'Concert 5'!$J$9:$J$56)","v":0}]
[{"$f":"Ecoles!A306","v":0},{"$f":"Ecoles!B306","v":0},{"$f":"Ecoles!C306","v":0},null,{"$f":"SUMIF('Concert 1'!$E$9:$E$56,Statistiques!A310,'Concert 1'!$I$9:$I$56)+SUMIF('Concert 2'!$E$9:$E$56,Statistiques!A310,'Concert 2'!$I$9:$I$56)+SUMIF('Concert 3'!$E$9:$E$56,Statistiques!A310,'Concert 3'!$I$9:$I$56)+SUMIF('Concert 4'!$E$9:$E$56,Statistiques!A310,'Concert 4'!$I$9:$I$56)+SUMIF('Concert 5'!$E$9:$E$56,Statistiques!A310,'Concert 5'!$I$9:$I$56)","v":0},{"$f":"SUMIF('Concert 1'!$E$9:$E$56,Statistiques!A310,'Concert 1'!$J$9:$J$56)+SUMIF('Concert 2'!$E$9:$E$56,Statistiques!A310,'Concert 2'!$J$9:$J$56)+SUMIF('Concert 3'!$E$9:$E$56,Statistiques!A310,'Concert 3'!$J$9:$J$56)+SUMIF('Concert 4'!$E$9:$E$56,Statistiques!A310,'Concert 4'!$J$9:$J$56)+SUMIF('Concert 5'!$E$9:$E$56,Statistiques!A310,'Concert 5'!$J$9:$J$56)","v":0},null,null,{"$f":"SUMIF('Concert 1'!$E$9:$E$56,Statistiques!A310,'Concert 1'!$I$9:$I$56)","v":0},{"$f":"SUMIF('Concert 1'!$E$9:$E$56,Statistiques!A310,'Concert 1'!$J$9:$J$56)","v":0},{"$f":"SUMIF('Concert 2'!$E$9:$E$56,Statistiques!A310,'Concert 2'!$I$9:$I$56)","v":0},{"$f":"SUMIF('Concert 2'!$E$9:$E$56,Statistiques!A310,'Concert 2'!$J$9:$J$56)","v":0},{"$f":"SUMIF('Concert 3'!$E$9:$E$56,Statistiques!A310,'Concert 3'!$I$9:$I$56)","v":0},{"$f":"SUMIF('Concert 3'!$E$9:$E$56,Statistiques!A310,'Concert 3'!$J$9:$J$56)","v":0},{"$f":"SUMIF('Concert 4'!$E$9:$E$56,Statistiques!A310,'Concert 4'!$I$9:$I$56)","v":0},{"$f":"SUMIF('Concert 4'!$E$9:$E$56,Statistiques!A310,'Concert 4'!$J$9:$J$56)","v":0},{"$f":"SUMIF('Concert 5'!$E$9:$E$56,Statistiques!A310,'Concert 5'!$I$9:$I$56)","v":0},{"$f":"SUMIF('Concert 5'!$E$9:$E$56,Statistiques!A310,'Concert 5'!$J$9:$J$56)","v":0}]
[{"$f":"Ecoles!A307","v":0},{"$f":"Ecoles!B307","v":0},{"$f":"Ecoles!C307","v":0},null,{"$f":"SUMIF('Concert 1'!$E$9:$E$56,Statistiques!A311,'Concert 1'!$I$9:$I$56)+SUMIF('Concert 2'!$E$9:$E$56,Statistiques!A311,'Concert 2'!$I$9:$I$56)+SUMIF('Concert 3'!$E$9:$E$56,Statistiques!A311,'Concert 3'!$I$9:$I$56)+SUMIF('Concert 4'!$E$9:$E$56,Statistiques!A311,'Concert 4'!$I$9:$I$56)+SUMIF('Concert 5'!$E$9:$E$56,Statistiques!A311,'Concert 5'!$I$9:$I$56)","v":0},{"$f":"SUMIF('Concert 1'!$E$9:$E$56,Statistiques!A311,'Concert 1'!$J$9:$J$56)+SUMIF('Concert 2'!$E$9:$E$56,Statistiques!A311,'Concert 2'!$J$9:$J$56)+SUMIF('Concert 3'!$E$9:$E$56,Statistiques!A311,'Concert 3'!$J$9:$J$56)+SUMIF('Concert 4'!$E$9:$E$56,Statistiques!A311,'Concert 4'!$J$9:$J$56)+SUMIF('Concert 5'!$E$9:$E$56,Statistiques!A311,'Concert 5'!$J$9:$J$56)","v":0},null,null,{"$f":"SUMIF('Concert 1'!$E$9:$E$56,Statistiques!A311,'Concert 1'!$I$9:$I$56)","v":0},{"$f":"SUMIF('Concert 1'!$E$9:$E$56,Statistiques!A311,'Concert 1'!$J$9:$J$56)","v":0},{"$f":"SUMIF('Concert 2'!$E$9:$E$56,Statistiques!A311,'Concert 2'!$I$9:$I$56)","v":0},{"$f":"SUMIF('Concert 2'!$E$9:$E$56,Statistiques!A311,'Concert 2'!$J$9:$J$56)","v":0},{"$f":"SUMIF('Concert 3'!$E$9:$E$56,Statistiques!A311,'Concert 3'!$I$9:$I$56)","v":0},{"$f":"SUMIF('Concert 3'!$E$9:$E$56,Statistiques!A311,'Concert 3'!$J$9:$J$56)","v":0},{"$f":"SUMIF('Concert 4'!$E$9:$E$56,Statistiques!A311,'Concert 4'!$I$9:$I$56)","v":0},{"$f":"SUMIF('Concert 4'!$E$9:$E$56,Statistiques!A311,'Concert 4'!$J$9:$J$56)","v":0},{"$f":"SUMIF('Concert 5'!$E$9:$E$56,Statistiques!A311,'Concert 5'!$I$9:$I$56)","v":0},{"$f":"SUMIF('Concert 5'!$E$9:$E$56,Statistiques!A311,'Concert 5'!$J$9:$J$56)","v":0}]
[{"$f":"Ecoles!A308","v":0},{"$f":"Ecoles!B308","v":0},{"$f":"Ecoles!C308","v":0},null,{"$f":"SUMIF('Concert 1'!$E$9:$E$56,Statistiques!A312,'Concert 1'!$I$9:$I$56)+SUMIF('Concert 2'!$E$9:$E$56,Statistiques!A312,'Concert 2'!$I$9:$I$56)+SUMIF('Concert 3'!$E$9:$E$56,Statistiques!A312,'Concert 3'!$I$9:$I$56)+SUMIF('Concert 4'!$E$9:$E$56,Statistiques!A312,'Concert 4'!$I$9:$I$56)+SUMIF('Concert 5'!$E$9:$E$56,Statistiques!A312,'Concert 5'!$I$9:$I$56)","v":0},{"$f":"SUMIF('Concert 1'!$E$9:$E$56,Statistiques!A312,'Concert 1'!$J$9:$J$56)+SUMIF('Concert 2'!$E$9:$E$56,Statistiques!A312,'Concert 2'!$J$9:$J$56)+SUMIF('Concert 3'!$E$9:$E$56,Statistiques!A312,'Concert 3'!$J$9:$J$56)+SUMIF('Concert 4'!$E$9:$E$56,Statistiques!A312,'Concert 4'!$J$9:$J$56)+SUMIF('Concert 5'!$E$9:$E$56,Statistiques!A312,'Concert 5'!$J$9:$J$56)","v":0},null,null,{"$f":"SUMIF('Concert 1'!$E$9:$E$56,Statistiques!A312,'Concert 1'!$I$9:$I$56)","v":0},{"$f":"SUMIF('Concert 1'!$E$9:$E$56,Statistiques!A312,'Concert 1'!$J$9:$J$56)","v":0},{"$f":"SUMIF('Concert 2'!$E$9:$E$56,Statistiques!A312,'Concert 2'!$I$9:$I$56)","v":0},{"$f":"SUMIF('Concert 2'!$E$9:$E$56,Statistiques!A312,'Concert 2'!$J$9:$J$56)","v":0},{"$f":"SUMIF('Concert 3'!$E$9:$E$56,Statistiques!A312,'Concert 3'!$I$9:$I$56)","v":0},{"$f":"SUMIF('Concert 3'!$E$9:$E$56,Statistiques!A312,'Concert 3'!$J$9:$J$56)","v":0},{"$f":"SUMIF('Concert 4'!$E$9:$E$56,Statistiques!A312,'Concert 4'!$I$9:$I$56)","v":0},{"$f":"SUMIF('Concert 4'!$E$9:$E$56,Statistiques!A312,'Concert 4'!$J$9:$J$56)","v":0},{"$f":"SUMIF('Concert 5'!$E$9:$E$56,Statistiques!A312,'Concert 5'!$I$9:$I$56)","v":0},{"$f":"SUMIF('Concert 5'!$E$9:$E$56,Statistiques!A312,'Concert 5'!$J$9:$J$56)","v":0}]
[{"$f":"Ecoles!A309","v":0},{"$f":"Ecoles!B309","v":0},{"$f":"Ecoles!C309","v":0},null,{"$f":"SUMIF('Concert 1'!$E$9:$E$56,Statistiques!A313,'Concert 1'!$I$9:$I$56)+SUMIF('Concert 2'!$E$9:$E$56,Statistiques!A313,'Concert 2'!$I$9:$I$56)+SUMIF('Concert 3'!$E$9:$E$56,Statistiques!A313,'Concert 3'!$I$9:$I$56)+SUMIF('Concert 4'!$E$9:$E$56,Statistiques!A313,'Concert 4'!$I$9:$I$56)+SUMIF('Concert 5'!$E$9:$E$56,Statistiques!A313,'Concert 5'!$I$9:$I$56)","v":0},{"$f":"SUMIF('Concert 1'!$E$9:$E$56,Statistiques!A313,'Concert 1'!$J$9:$J$56)+SUMIF('Concert 2'!$E$9:$E$56,Statistiques!A313,'Concert 2'!$J$9:$J$56)+SUMIF('Concert 3'!$E$9:$E$56,Statistiques!A313,'Concert 3'!$J$9:$J$56)+SUMIF('Concert 4'!$E$9:$E$56,Statistiques!A313,'Concert 4'!$J$9:$J$56)+SUMIF('Concert 5'!$E$9:$E$56,Statistiques!A313,'Concert 5'!$J$9:$J$56)","v":0},null,null,{"$f":"SUMIF('Concert 1'!$E$9:$E$56,Statistiques!A313,'Concert 1'!$I$9:$I$56)","v":0},{"$f":"SUMIF('Concert 1'!$E$9:$E$56,Statistiques!A313,'Concert 1'!$J$9:$J$56)","v":0},{"$f":"SUMIF('Concert 2'!$E$9:$E$56,Statistiques!A313,'Concert 2'!$I$9:$I$56)","v":0},{"$f":"SUMIF('Concert 2'!$E$9:$E$56,Statistiques!A313,'Concert 2'!$J$9:$J$56)","v":0},{"$f":"SUMIF('Concert 3'!$E$9:$E$56,Statistiques!A313,'Concert 3'!$I$9:$I$56)","v":0},{"$f":"SUMIF('Concert 3'!$E$9:$E$56,Statistiques!A313,'Concert 3'!$J$9:$J$56)","v":0},{"$f":"SUMIF('Concert 4'!$E$9:$E$56,Statistiques!A313,'Concert 4'!$I$9:$I$56)","v":0},{"$f":"SUMIF('Concert 4'!$E$9:$E$56,Statistiques!A313,'Concert 4'!$J$9:$J$56)","v":0},{"$f":"SUMIF('Concert 5'!$E$9:$E$56,Statistiques!A313,'Concert 5'!$I$9:$I$56)","v":0},{"$f":"SUMIF('Concert 5'!$E$9:$E$56,Statistiques!A313,'Concert 5'!$J$9:$J$56)","v":0}]
[{"$f":"Ecoles!A310","v":0},{"$f":"Ecoles!B310","v":0},{"$f":"Ecoles!C310","v":0},null,{"$f":"SUMIF('Concert 1'!$E$9:$E$56,Statistiques!A314,'Concert 1'!$I$9:$I$56)+SUMIF('Concert 2'!$E$9:$E$56,Statistiques!A314,'Concert 2'!$I$9:$I$56)+SUMIF('Concert 3'!$E$9:$E$56,Statistiques!A314,'Concert 3'!$I$9:$I$56)+SUMIF('Concert 4'!$E$9:$E$56,Statistiques!A314,'Concert 4'!$I$9:$I$56)+SUMIF('Concert 5'!$E$9:$E$56,Statistiques!A314,'Concert 5'!$I$9:$I$56)","v":0},{"$f":"SUMIF('Concert 1'!$E$9:$E$56,Statistiques!A314,'Concert 1'!$J$9:$J$56)+SUMIF('Concert 2'!$E$9:$E$56,Statistiques!A314,'Concert 2'!$J$9:$J$56)+SUMIF('Concert 3'!$E$9:$E$56,Statistiques!A314,'Concert 3'!$J$9:$J$56)+SUMIF('Concert 4'!$E$9:$E$56,Statistiques!A314,'Concert 4'!$J$9:$J$56)+SUMIF('Concert 5'!$E$9:$E$56,Statistiques!A314,'Concert 5'!$J$9:$J$56)","v":0},null,null,{"$f":"SUMIF('Concert 1'!$E$9:$E$56,Statistiques!A314,'Concert 1'!$I$9:$I$56)","v":0},{"$f":"SUMIF('Concert 1'!$E$9:$E$56,Statistiques!A314,'Concert 1'!$J$9:$J$56)","v":0},{"$f":"SUMIF('Concert 2'!$E$9:$E$56,Statistiques!A314,'Concert 2'!$I$9:$I$56)","v":0},{"$f":"SUMIF('Concert 2'!$E$9:$E$56,Statistiques!A314,'Concert 2'!$J$9:$J$56)","v":0},{"$f":"SUMIF('Concert 3'!$E$9:$E$56,Statistiques!A314,'Concert 3'!$I$9:$I$56)","v":0},{"$f":"SUMIF('Concert 3'!$E$9:$E$56,Statistiques!A314,'Concert 3'!$J$9:$J$56)","v":0},{"$f":"SUMIF('Concert 4'!$E$9:$E$56,Statistiques!A314,'Concert 4'!$I$9:$I$56)","v":0},{"$f":"SUMIF('Concert 4'!$E$9:$E$56,Statistiques!A314,'Concert 4'!$J$9:$J$56)","v":0},{"$f":"SUMIF('Concert 5'!$E$9:$E$56,Statistiques!A314,'Concert 5'!$I$9:$I$56)","v":0},{"$f":"SUMIF('Concert 5'!$E$9:$E$56,Statistiques!A314,'Concert 5'!$J$9:$J$56)","v":0}]
[{"$f":"Ecoles!A311","v":0},{"$f":"Ecoles!B311","v":0},{"$f":"Ecoles!C311","v":0},null,{"$f":"SUMIF('Concert 1'!$E$9:$E$56,Statistiques!A315,'Concert 1'!$I$9:$I$56)+SUMIF('Concert 2'!$E$9:$E$56,Statistiques!A315,'Concert 2'!$I$9:$I$56)+SUMIF('Concert 3'!$E$9:$E$56,Statistiques!A315,'Concert 3'!$I$9:$I$56)+SUMIF('Concert 4'!$E$9:$E$56,Statistiques!A315,'Concert 4'!$I$9:$I$56)+SUMIF('Concert 5'!$E$9:$E$56,Statistiques!A315,'Concert 5'!$I$9:$I$56)","v":0},{"$f":"SUMIF('Concert 1'!$E$9:$E$56,Statistiques!A315,'Concert 1'!$J$9:$J$56)+SUMIF('Concert 2'!$E$9:$E$56,Statistiques!A315,'Concert 2'!$J$9:$J$56)+SUMIF('Concert 3'!$E$9:$E$56,Statistiques!A315,'Concert 3'!$J$9:$J$56)+SUMIF('Concert 4'!$E$9:$E$56,Statistiques!A315,'Concert 4'!$J$9:$J$56)+SUMIF('Concert 5'!$E$9:$E$56,Statistiques!A315,'Concert 5'!$J$9:$J$56)","v":0},null,null,{"$f":"SUMIF('Concert 1'!$E$9:$E$56,Statistiques!A315,'Concert 1'!$I$9:$I$56)","v":0},{"$f":"SUMIF('Concert 1'!$E$9:$E$56,Statistiques!A315,'Concert 1'!$J$9:$J$56)","v":0},{"$f":"SUMIF('Concert 2'!$E$9:$E$56,Statistiques!A315,'Concert 2'!$I$9:$I$56)","v":0},{"$f":"SUMIF('Concert 2'!$E$9:$E$56,Statistiques!A315,'Concert 2'!$J$9:$J$56)","v":0},{"$f":"SUMIF('Concert 3'!$E$9:$E$56,Statistiques!A315,'Concert 3'!$I$9:$I$56)","v":0},{"$f":"SUMIF('Concert 3'!$E$9:$E$56,Statistiques!A315,'Concert 3'!$J$9:$J$56)","v":0},{"$f":"SUMIF('Concert 4'!$E$9:$E$56,Statistiques!A315,'Concert 4'!$I$9:$I$56)","v":0},{"$f":"SUMIF('Concert 4'!$E$9:$E$56,Statistiques!A315,'Concert 4'!$J$9:$J$56)","v":0},{"$f":"SUMIF('Concert 5'!$E$9:$E$56,Statistiques!A315,'Concert 5'!$I$9:$I$56)","v":0},{"$f":"SUMIF('Concert 5'!$E$9:$E$56,Statistiques!A315,'Concert 5'!$J$9:$J$56)","v":0}]
[{"$f":"Ecoles!A312","v":0},{"$f":"Ecoles!B312","v":0},{"$f":"Ecoles!C312","v":0},null,{"$f":"SUMIF('Concert 1'!$E$9:$E$56,Statistiques!A316,'Concert 1'!$I$9:$I$56)+SUMIF('Concert 2'!$E$9:$E$56,Statistiques!A316,'Concert 2'!$I$9:$I$56)+SUMIF('Concert 3'!$E$9:$E$56,Statistiques!A316,'Concert 3'!$I$9:$I$56)+SUMIF('Concert 4'!$E$9:$E$56,Statistiques!A316,'Concert 4'!$I$9:$I$56)+SUMIF('Concert 5'!$E$9:$E$56,Statistiques!A316,'Concert 5'!$I$9:$I$56)","v":0},{"$f":"SUMIF('Concert 1'!$E$9:$E$56,Statistiques!A316,'Concert 1'!$J$9:$J$56)+SUMIF('Concert 2'!$E$9:$E$56,Statistiques!A316,'Concert 2'!$J$9:$J$56)+SUMIF('Concert 3'!$E$9:$E$56,Statistiques!A316,'Concert 3'!$J$9:$J$56)+SUMIF('Concert 4'!$E$9:$E$56,Statistiques!A316,'Concert 4'!$J$9:$J$56)+SUMIF('Concert 5'!$E$9:$E$56,Statistiques!A316,'Concert 5'!$J$9:$J$56)","v":0},null,null,{"$f":"SUMIF('Concert 1'!$E$9:$E$56,Statistiques!A316,'Concert 1'!$I$9:$I$56)","v":0},{"$f":"SUMIF('Concert 1'!$E$9:$E$56,Statistiques!A316,'Concert 1'!$J$9:$J$56)","v":0},{"$f":"SUMIF('Concert 2'!$E$9:$E$56,Statistiques!A316,'Concert 2'!$I$9:$I$56)","v":0},{"$f":"SUMIF('Concert 2'!$E$9:$E$56,Statistiques!A316,'Concert 2'!$J$9:$J$56)","v":0},{"$f":"SUMIF('Concert 3'!$E$9:$E$56,Statistiques!A316,'Concert 3'!$I$9:$I$56)","v":0},{"$f":"SUMIF('Concert 3'!$E$9:$E$56,Statistiques!A316,'Concert 3'!$J$9:$J$56)","v":0},{"$f":"SUMIF('Concert 4'!$E$9:$E$56,Statistiques!A316,'Concert 4'!$I$9:$I$56)","v":0},{"$f":"SUMIF('Concert 4'!$E$9:$E$56,Statistiques!A316,'Concert 4'!$J$9:$J$56)","v":0},{"$f":"SUMIF('Concert 5'!$E$9:$E$56,Statistiques!A316,'Concert 5'!$I$9:$I$56)","v":0},{"$f":"SUMIF('Concert 5'!$E$9:$E$56,Statistiques!A316,'Concert 5'!$J$9:$J$56)","v":0}]
[{"$f":"Ecoles!A313","v":0},{"$f":"Ecoles!B313","v":0},{"$f":"Ecoles!C313","v":0},null,{"$f":"SUMIF('Concert 1'!$E$9:$E$56,Statistiques!A317,'Concert 1'!$I$9:$I$56)+SUMIF('Concert 2'!$E$9:$E$56,Statistiques!A317,'Concert 2'!$I$9:$I$56)+SUMIF('Concert 3'!$E$9:$E$56,Statistiques!A317,'Concert 3'!$I$9:$I$56)+SUMIF('Concert 4'!$E$9:$E$56,Statistiques!A317,'Concert 4'!$I$9:$I$56)+SUMIF('Concert 5'!$E$9:$E$56,Statistiques!A317,'Concert 5'!$I$9:$I$56)","v":0},{"$f":"SUMIF('Concert 1'!$E$9:$E$56,Statistiques!A317,'Concert 1'!$J$9:$J$56)+SUMIF('Concert 2'!$E$9:$E$56,Statistiques!A317,'Concert 2'!$J$9:$J$56)+SUMIF('Concert 3'!$E$9:$E$56,Statistiques!A317,'Concert 3'!$J$9:$J$56)+SUMIF('Concert 4'!$E$9:$E$56,Statistiques!A317,'Concert 4'!$J$9:$J$56)+SUMIF('Concert 5'!$E$9:$E$56,Statistiques!A317,'Concert 5'!$J$9:$J$56)","v":0},null,null,{"$f":"SUMIF('Concert 1'!$E$9:$E$56,Statistiques!A317,'Concert 1'!$I$9:$I$56)","v":0},{"$f":"SUMIF('Concert 1'!$E$9:$E$56,Statistiques!A317,'Concert 1'!$J$9:$J$56)","v":0},{"$f":"SUMIF('Concert 2'!$E$9:$E$56,Statistiques!A317,'Concert 2'!$I$9:$I$56)","v":0},{"$f":"SUMIF('Concert 2'!$E$9:$E$56,Statistiques!A317,'Concert 2'!$J$9:$J$56)","v":0},{"$f":"SUMIF('Concert 3'!$E$9:$E$56,Statistiques!A317,'Concert 3'!$I$9:$I$56)","v":0},{"$f":"SUMIF('Concert 3'!$E$9:$E$56,Statistiques!A317,'Concert 3'!$J$9:$J$56)","v":0},{"$f":"SUMIF('Concert 4'!$E$9:$E$56,Statistiques!A317,'Concert 4'!$I$9:$I$56)","v":0},{"$f":"SUMIF('Concert 4'!$E$9:$E$56,Statistiques!A317,'Concert 4'!$J$9:$J$56)","v":0},{"$f":"SUMIF('Concert 5'!$E$9:$E$56,Statistiques!A317,'Concert 5'!$I$9:$I$56)","v":0},{"$f":"SUMIF('Concert 5'!$E$9:$E$56,Statistiques!A317,'Concert 5'!$J$9:$J$56)","v":0}]
[{"$f":"Ecoles!A314","v":0},{"$f":"Ecoles!B314","v":0},{"$f":"Ecoles!C314","v":0},null,{"$f":"SUMIF('Concert 1'!$E$9:$E$56,Statistiques!A318,'Concert 1'!$I$9:$I$56)+SUMIF('Concert 2'!$E$9:$E$56,Statistiques!A318,'Concert 2'!$I$9:$I$56)+SUMIF('Concert 3'!$E$9:$E$56,Statistiques!A318,'Concert 3'!$I$9:$I$56)+SUMIF('Concert 4'!$E$9:$E$56,Statistiques!A318,'Concert 4'!$I$9:$I$56)+SUMIF('Concert 5'!$E$9:$E$56,Statistiques!A318,'Concert 5'!$I$9:$I$56)","v":0},{"$f":"SUMIF('Concert 1'!$E$9:$E$56,Statistiques!A318,'Concert 1'!$J$9:$J$56)+SUMIF('Concert 2'!$E$9:$E$56,Statistiques!A318,'Concert 2'!$J$9:$J$56)+SUMIF('Concert 3'!$E$9:$E$56,Statistiques!A318,'Concert 3'!$J$9:$J$56)+SUMIF('Concert 4'!$E$9:$E$56,Statistiques!A318,'Concert 4'!$J$9:$J$56)+SUMIF('Concert 5'!$E$9:$E$56,Statistiques!A318,'Concert 5'!$J$9:$J$56)","v":0},null,null,{"$f":"SUMIF('Concert 1'!$E$9:$E$56,Statistiques!A318,'Concert 1'!$I$9:$I$56)","v":0},{"$f":"SUMIF('Concert 1'!$E$9:$E$56,Statistiques!A318,'Concert 1'!$J$9:$J$56)","v":0},{"$f":"SUMIF('Concert 2'!$E$9:$E$56,Statistiques!A318,'Concert 2'!$I$9:$I$56)","v":0},{"$f":"SUMIF('Concert 2'!$E$9:$E$56,Statistiques!A318,'Concert 2'!$J$9:$J$56)","v":0},{"$f":"SUMIF('Concert 3'!$E$9:$E$56,Statistiques!A318,'Concert 3'!$I$9:$I$56)","v":0},{"$f":"SUMIF('Concert 3'!$E$9:$E$56,Statistiques!A318,'Concert 3'!$J$9:$J$56)","v":0},{"$f":"SUMIF('Concert 4'!$E$9:$E$56,Statistiques!A318,'Concert 4'!$I$9:$I$56)","v":0},{"$f":"SUMIF('Concert 4'!$E$9:$E$56,Statistiques!A318,'Concert 4'!$J$9:$J$56)","v":0},{"$f":"SUMIF('Concert 5'!$E$9:$E$56,Statistiques!A318,'Concert 5'!$I$9:$I$56)","v":0},{"$f":"SUMIF('Concert 5'!$E$9:$E$56,Statistiques!A318,'Concert 5'!$J$9:$J$56)","v":0}]
[{"$f":"Ecoles!A315","v":0},{"$f":"Ecoles!B315","v":0},{"$f":"Ecoles!C315","v":0},null,{"$f":"SUMIF('Concert 1'!$E$9:$E$56,Statistiques!A319,'Concert 1'!$I$9:$I$56)+SUMIF('Concert 2'!$E$9:$E$56,Statistiques!A319,'Concert 2'!$I$9:$I$56)+SUMIF('Concert 3'!$E$9:$E$56,Statistiques!A319,'Concert 3'!$I$9:$I$56)+SUMIF('Concert 4'!$E$9:$E$56,Statistiques!A319,'Concert 4'!$I$9:$I$56)+SUMIF('Concert 5'!$E$9:$E$56,Statistiques!A319,'Concert 5'!$I$9:$I$56)","v":0},{"$f":"SUMIF('Concert 1'!$E$9:$E$56,Statistiques!A319,'Concert 1'!$J$9:$J$56)+SUMIF('Concert 2'!$E$9:$E$56,Statistiques!A319,'Concert 2'!$J$9:$J$56)+SUMIF('Concert 3'!$E$9:$E$56,Statistiques!A319,'Concert 3'!$J$9:$J$56)+SUMIF('Concert 4'!$E$9:$E$56,Statistiques!A319,'Concert 4'!$J$9:$J$56)+SUMIF('Concert 5'!$E$9:$E$56,Statistiques!A319,'Concert 5'!$J$9:$J$56)","v":0},null,null,{"$f":"SUMIF('Concert 1'!$E$9:$E$56,Statistiques!A319,'Concert 1'!$I$9:$I$56)","v":0},{"$f":"SUMIF('Concert 1'!$E$9:$E$56,Statistiques!A319,'Concert 1'!$J$9:$J$56)","v":0},{"$f":"SUMIF('Concert 2'!$E$9:$E$56,Statistiques!A319,'Concert 2'!$I$9:$I$56)","v":0},{"$f":"SUMIF('Concert 2'!$E$9:$E$56,Statistiques!A319,'Concert 2'!$J$9:$J$56)","v":0},{"$f":"SUMIF('Concert 3'!$E$9:$E$56,Statistiques!A319,'Concert 3'!$I$9:$I$56)","v":0},{"$f":"SUMIF('Concert 3'!$E$9:$E$56,Statistiques!A319,'Concert 3'!$J$9:$J$56)","v":0},{"$f":"SUMIF('Concert 4'!$E$9:$E$56,Statistiques!A319,'Concert 4'!$I$9:$I$56)","v":0},{"$f":"SUMIF('Concert 4'!$E$9:$E$56,Statistiques!A319,'Concert 4'!$J$9:$J$56)","v":0},{"$f":"SUMIF('Concert 5'!$E$9:$E$56,Statistiques!A319,'Concert 5'!$I$9:$I$56)","v":0},{"$f":"SUMIF('Concert 5'!$E$9:$E$56,Statistiques!A319,'Concert 5'!$J$9:$J$56)","v":0}]
[{"$f":"Ecoles!A316","v":0},{"$f":"Ecoles!B316","v":0},{"$f":"Ecoles!C316","v":0},null,{"$f":"SUMIF('Concert 1'!$E$9:$E$56,Statistiques!A320,'Concert 1'!$I$9:$I$56)+SUMIF('Concert 2'!$E$9:$E$56,Statistiques!A320,'Concert 2'!$I$9:$I$56)+SUMIF('Concert 3'!$E$9:$E$56,Statistiques!A320,'Concert 3'!$I$9:$I$56)+SUMIF('Concert 4'!$E$9:$E$56,Statistiques!A320,'Concert 4'!$I$9:$I$56)+SUMIF('Concert 5'!$E$9:$E$56,Statistiques!A320,'Concert 5'!$I$9:$I$56)","v":0},{"$f":"SUMIF('Concert 1'!$E$9:$E$56,Statistiques!A320,'Concert 1'!$J$9:$J$56)+SUMIF('Concert 2'!$E$9:$E$56,Statistiques!A320,'Concert 2'!$J$9:$J$56)+SUMIF('Concert 3'!$E$9:$E$56,Statistiques!A320,'Concert 3'!$J$9:$J$56)+SUMIF('Concert 4'!$E$9:$E$56,Statistiques!A320,'Concert 4'!$J$9:$J$56)+SUMIF('Concert 5'!$E$9:$E$56,Statistiques!A320,'Concert 5'!$J$9:$J$56)","v":0},null,null,{"$f":"SUMIF('Concert 1'!$E$9:$E$56,Statistiques!A320,'Concert 1'!$I$9:$I$56)","v":0},{"$f":"SUMIF('Concert 1'!$E$9:$E$56,Statistiques!A320,'Concert 1'!$J$9:$J$56)","v":0},{"$f":"SUMIF('Concert 2'!$E$9:$E$56,Statistiques!A320,'Concert 2'!$I$9:$I$56)","v":0},{"$f":"SUMIF('Concert 2'!$E$9:$E$56,Statistiques!A320,'Concert 2'!$J$9:$J$56)","v":0},{"$f":"SUMIF('Concert 3'!$E$9:$E$56,Statistiques!A320,'Concert 3'!$I$9:$I$56)","v":0},{"$f":"SUMIF('Concert 3'!$E$9:$E$56,Statistiques!A320,'Concert 3'!$J$9:$J$56)","v":0},{"$f":"SUMIF('Concert 4'!$E$9:$E$56,Statistiques!A320,'Concert 4'!$I$9:$I$56)","v":0},{"$f":"SUMIF('Concert 4'!$E$9:$E$56,Statistiques!A320,'Concert 4'!$J$9:$J$56)","v":0},{"$f":"SUMIF('Concert 5'!$E$9:$E$56,Statistiques!A320,'Concert 5'!$I$9:$I$56)","v":0},{"$f":"SUMIF('Concert 5'!$E$9:$E$56,Statistiques!A320,'Concert 5'!$J$9:$J$56)","v":0}]
[{"$f":"Ecoles!A317","v":0},{"$f":"Ecoles!B317","v":0},{"$f":"Ecoles!C317","v":0},null,{"$f":"SUMIF('Concert 1'!$E$9:$E$56,Statistiques!A321,'Concert 1'!$I$9:$I$56)+SUMIF('Concert 2'!$E$9:$E$56,Statistiques!A321,'Concert 2'!$I$9:$I$56)+SUMIF('Concert 3'!$E$9:$E$56,Statistiques!A321,'Concert 3'!$I$9:$I$56)+SUMIF('Concert 4'!$E$9:$E$56,Statistiques!A321,'Concert 4'!$I$9:$I$56)+SUMIF('Concert 5'!$E$9:$E$56,Statistiques!A321,'Concert 5'!$I$9:$I$56)","v":0},{"$f":"SUMIF('Concert 1'!$E$9:$E$56,Statistiques!A321,'Concert 1'!$J$9:$J$56)+SUMIF('Concert 2'!$E$9:$E$56,Statistiques!A321,'Concert 2'!$J$9:$J$56)+SUMIF('Concert 3'!$E$9:$E$56,Statistiques!A321,'Concert 3'!$J$9:$J$56)+SUMIF('Concert 4'!$E$9:$E$56,Statistiques!A321,'Concert 4'!$J$9:$J$56)+SUMIF('Concert 5'!$E$9:$E$56,Statistiques!A321,'Concert 5'!$J$9:$J$56)","v":0},null,null,{"$f":"SUMIF('Concert 1'!$E$9:$E$56,Statistiques!A321,'Concert 1'!$I$9:$I$56)","v":0},{"$f":"SUMIF('Concert 1'!$E$9:$E$56,Statistiques!A321,'Concert 1'!$J$9:$J$56)","v":0},{"$f":"SUMIF('Concert 2'!$E$9:$E$56,Statistiques!A321,'Concert 2'!$I$9:$I$56)","v":0},{"$f":"SUMIF('Concert 2'!$E$9:$E$56,Statistiques!A321,'Concert 2'!$J$9:$J$56)","v":0},{"$f":"SUMIF('Concert 3'!$E$9:$E$56,Statistiques!A321,'Concert 3'!$I$9:$I$56)","v":0},{"$f":"SUMIF('Concert 3'!$E$9:$E$56,Statistiques!A321,'Concert 3'!$J$9:$J$56)","v":0},{"$f":"SUMIF('Concert 4'!$E$9:$E$56,Statistiques!A321,'Concert 4'!$I$9:$I$56)","v":0},{"$f":"SUMIF('Concert 4'!$E$9:$E$56,Statistiques!A321,'Concert 4'!$J$9:$J$56)","v":0},{"$f":"SUMIF('Concert 5'!$E$9:$E$56,Statistiques!A321,'Concert 5'!$I$9:$I$56)","v":0},{"$f":"SUMIF('Concert 5'!$E$9:$E$56,Statistiques!A321,'Concert 5'!$J$9:$J$56)","v":0}]
[{"$f":"Ecoles!A318","v":0},{"$f":"Ecoles!B318","v":0},{"$f":"Ecoles!C318","v":0},null,{"$f":"SUMIF('Concert 1'!$E$9:$E$56,Statistiques!A322,'Concert 1'!$I$9:$I$56)+SUMIF('Concert 2'!$E$9:$E$56,Statistiques!A322,'Concert 2'!$I$9:$I$56)+SUMIF('Concert 3'!$E$9:$E$56,Statistiques!A322,'Concert 3'!$I$9:$I$56)+SUMIF('Concert 4'!$E$9:$E$56,Statistiques!A322,'Concert 4'!$I$9:$I$56)+SUMIF('Concert 5'!$E$9:$E$56,Statistiques!A322,'Concert 5'!$I$9:$I$56)","v":0},{"$f":"SUMIF('Concert 1'!$E$9:$E$56,Statistiques!A322,'Concert 1'!$J$9:$J$56)+SUMIF('Concert 2'!$E$9:$E$56,Statistiques!A322,'Concert 2'!$J$9:$J$56)+SUMIF('Concert 3'!$E$9:$E$56,Statistiques!A322,'Concert 3'!$J$9:$J$56)+SUMIF('Concert 4'!$E$9:$E$56,Statistiques!A322,'Concert 4'!$J$9:$J$56)+SUMIF('Concert 5'!$E$9:$E$56,Statistiques!A322,'Concert 5'!$J$9:$J$56)","v":0},null,null,{"$f":"SUMIF('Concert 1'!$E$9:$E$56,Statistiques!A322,'Concert 1'!$I$9:$I$56)","v":0},{"$f":"SUMIF('Concert 1'!$E$9:$E$56,Statistiques!A322,'Concert 1'!$J$9:$J$56)","v":0},{"$f":"SUMIF('Concert 2'!$E$9:$E$56,Statistiques!A322,'Concert 2'!$I$9:$I$56)","v":0},{"$f":"SUMIF('Concert 2'!$E$9:$E$56,Statistiques!A322,'Concert 2'!$J$9:$J$56)","v":0},{"$f":"SUMIF('Concert 3'!$E$9:$E$56,Statistiques!A322,'Concert 3'!$I$9:$I$56)","v":0},{"$f":"SUMIF('Concert 3'!$E$9:$E$56,Statistiques!A322,'Concert 3'!$J$9:$J$56)","v":0},{"$f":"SUMIF('Concert 4'!$E$9:$E$56,Statistiques!A322,'Concert 4'!$I$9:$I$56)","v":0},{"$f":"SUMIF('Concert 4'!$E$9:$E$56,Statistiques!A322,'Concert 4'!$J$9:$J$56)","v":0},{"$f":"SUMIF('Concert 5'!$E$9:$E$56,Statistiques!A322,'Concert 5'!$I$9:$I$56)","v":0},{"$f":"SUMIF('Concert 5'!$E$9:$E$56,Statistiques!A322,'Concert 5'!$J$9:$J$56)","v":0}]
[{"$f":"Ecoles!A319","v":0},{"$f":"Ecoles!B319","v":0},{"$f":"Ecoles!C319","v":0},null,{"$f":"SUMIF('Concert 1'!$E$9:$E$56,Statistiques!A323,'Concert 1'!$I$9:$I$56)+SUMIF('Concert 2'!$E$9:$E$56,Statistiques!A323,'Concert 2'!$I$9:$I$56)+SUMIF('Concert 3'!$E$9:$E$56,Statistiques!A323,'Concert 3'!$I$9:$I$56)+SUMIF('Concert 4'!$E$9:$E$56,Statistiques!A323,'Concert 4'!$I$9:$I$56)+SUMIF('Concert 5'!$E$9:$E$56,Statistiques!A323,'Concert 5'!$I$9:$I$56)","v":0},{"$f":"SUMIF('Concert 1'!$E$9:$E$56,Statistiques!A323,'Concert 1'!$J$9:$J$56)+SUMIF('Concert 2'!$E$9:$E$56,Statistiques!A323,'Concert 2'!$J$9:$J$56)+SUMIF('Concert 3'!$E$9:$E$56,Statistiques!A323,'Concert 3'!$J$9:$J$56)+SUMIF('Concert 4'!$E$9:$E$56,Statistiques!A323,'Concert 4'!$J$9:$J$56)+SUMIF('Concert 5'!$E$9:$E$56,Statistiques!A323,'Concert 5'!$J$9:$J$56)","v":0},null,null,{"$f":"SUMIF('Concert 1'!$E$9:$E$56,Statistiques!A323,'Concert 1'!$I$9:$I$56)","v":0},{"$f":"SUMIF('Concert 1'!$E$9:$E$56,Statistiques!A323,'Concert 1'!$J$9:$J$56)","v":0},{"$f":"SUMIF('Concert 2'!$E$9:$E$56,Statistiques!A323,'Concert 2'!$I$9:$I$56)","v":0},{"$f":"SUMIF('Concert 2'!$E$9:$E$56,Statistiques!A323,'Concert 2'!$J$9:$J$56)","v":0},{"$f":"SUMIF('Concert 3'!$E$9:$E$56,Statistiques!A323,'Concert 3'!$I$9:$I$56)","v":0},{"$f":"SUMIF('Concert 3'!$E$9:$E$56,Statistiques!A323,'Concert 3'!$J$9:$J$56)","v":0},{"$f":"SUMIF('Concert 4'!$E$9:$E$56,Statistiques!A323,'Concert 4'!$I$9:$I$56)","v":0},{"$f":"SUMIF('Concert 4'!$E$9:$E$56,Statistiques!A323,'Concert 4'!$J$9:$J$56)","v":0},{"$f":"SUMIF('Concert 5'!$E$9:$E$56,Statistiques!A323,'Concert 5'!$I$9:$I$56)","v":0},{"$f":"SUMIF('Concert 5'!$E$9:$E$56,Statistiques!A323,'Concert 5'!$J$9:$J$56)","v":0}]
[{"$f":"Ecoles!A320","v":0},{"$f":"Ecoles!B320","v":0},{"$f":"Ecoles!C320","v":0},null,{"$f":"SUMIF('Concert 1'!$E$9:$E$56,Statistiques!A324,'Concert 1'!$I$9:$I$56)+SUMIF('Concert 2'!$E$9:$E$56,Statistiques!A324,'Concert 2'!$I$9:$I$56)+SUMIF('Concert 3'!$E$9:$E$56,Statistiques!A324,'Concert 3'!$I$9:$I$56)+SUMIF('Concert 4'!$E$9:$E$56,Statistiques!A324,'Concert 4'!$I$9:$I$56)+SUMIF('Concert 5'!$E$9:$E$56,Statistiques!A324,'Concert 5'!$I$9:$I$56)","v":0},{"$f":"SUMIF('Concert 1'!$E$9:$E$56,Statistiques!A324,'Concert 1'!$J$9:$J$56)+SUMIF('Concert 2'!$E$9:$E$56,Statistiques!A324,'Concert 2'!$J$9:$J$56)+SUMIF('Concert 3'!$E$9:$E$56,Statistiques!A324,'Concert 3'!$J$9:$J$56)+SUMIF('Concert 4'!$E$9:$E$56,Statistiques!A324,'Concert 4'!$J$9:$J$56)+SUMIF('Concert 5'!$E$9:$E$56,Statistiques!A324,'Concert 5'!$J$9:$J$56)","v":0},null,null,{"$f":"SUMIF('Concert 1'!$E$9:$E$56,Statistiques!A324,'Concert 1'!$I$9:$I$56)","v":0},{"$f":"SUMIF('Concert 1'!$E$9:$E$56,Statistiques!A324,'Concert 1'!$J$9:$J$56)","v":0},{"$f":"SUMIF('Concert 2'!$E$9:$E$56,Statistiques!A324,'Concert 2'!$I$9:$I$56)","v":0},{"$f":"SUMIF('Concert 2'!$E$9:$E$56,Statistiques!A324,'Concert 2'!$J$9:$J$56)","v":0},{"$f":"SUMIF('Concert 3'!$E$9:$E$56,Statistiques!A324,'Concert 3'!$I$9:$I$56)","v":0},{"$f":"SUMIF('Concert 3'!$E$9:$E$56,Statistiques!A324,'Concert 3'!$J$9:$J$56)","v":0},{"$f":"SUMIF('Concert 4'!$E$9:$E$56,Statistiques!A324,'Concert 4'!$I$9:$I$56)","v":0},{"$f":"SUMIF('Concert 4'!$E$9:$E$56,Statistiques!A324,'Concert 4'!$J$9:$J$56)","v":0},{"$f":"SUMIF('Concert 5'!$E$9:$E$56,Statistiques!A324,'Concert 5'!$I$9:$I$56)","v":0},{"$f":"SUMIF('Concert 5'!$E$9:$E$56,Statistiques!A324,'Concert 5'!$J$9:$J$56)","v":0}]
[{"$f":"Ecoles!A321","v":0},{"$f":"Ecoles!B321","v":0},{"$f":"Ecoles!C321","v":0},null,{"$f":"SUMIF('Concert 1'!$E$9:$E$56,Statistiques!A325,'Concert 1'!$I$9:$I$56)+SUMIF('Concert 2'!$E$9:$E$56,Statistiques!A325,'Concert 2'!$I$9:$I$56)+SUMIF('Concert 3'!$E$9:$E$56,Statistiques!A325,'Concert 3'!$I$9:$I$56)+SUMIF('Concert 4'!$E$9:$E$56,Statistiques!A325,'Concert 4'!$I$9:$I$56)+SUMIF('Concert 5'!$E$9:$E$56,Statistiques!A325,'Concert 5'!$I$9:$I$56)","v":0},{"$f":"SUMIF('Concert 1'!$E$9:$E$56,Statistiques!A325,'Concert 1'!$J$9:$J$56)+SUMIF('Concert 2'!$E$9:$E$56,Statistiques!A325,'Concert 2'!$J$9:$J$56)+SUMIF('Concert 3'!$E$9:$E$56,Statistiques!A325,'Concert 3'!$J$9:$J$56)+SUMIF('Concert 4'!$E$9:$E$56,Statistiques!A325,'Concert 4'!$J$9:$J$56)+SUMIF('Concert 5'!$E$9:$E$56,Statistiques!A325,'Concert 5'!$J$9:$J$56)","v":0},null,null,{"$f":"SUMIF('Concert 1'!$E$9:$E$56,Statistiques!A325,'Concert 1'!$I$9:$I$56)","v":0},{"$f":"SUMIF('Concert 1'!$E$9:$E$56,Statistiques!A325,'Concert 1'!$J$9:$J$56)","v":0},{"$f":"SUMIF('Concert 2'!$E$9:$E$56,Statistiques!A325,'Concert 2'!$I$9:$I$56)","v":0},{"$f":"SUMIF('Concert 2'!$E$9:$E$56,Statistiques!A325,'Concert 2'!$J$9:$J$56)","v":0},{"$f":"SUMIF('Concert 3'!$E$9:$E$56,Statistiques!A325,'Concert 3'!$I$9:$I$56)","v":0},{"$f":"SUMIF('Concert 3'!$E$9:$E$56,Statistiques!A325,'Concert 3'!$J$9:$J$56)","v":0},{"$f":"SUMIF('Concert 4'!$E$9:$E$56,Statistiques!A325,'Concert 4'!$I$9:$I$56)","v":0},{"$f":"SUMIF('Concert 4'!$E$9:$E$56,Statistiques!A325,'Concert 4'!$J$9:$J$56)","v":0},{"$f":"SUMIF('Concert 5'!$E$9:$E$56,Statistiques!A325,'Concert 5'!$I$9:$I$56)","v":0},{"$f":"SUMIF('Concert 5'!$E$9:$E$56,Statistiques!A325,'Concert 5'!$J$9:$J$56)","v":0}]
[{"$f":"Ecoles!A322","v":0},{"$f":"Ecoles!B322","v":0},{"$f":"Ecoles!C322","v":0},null,{"$f":"SUMIF('Concert 1'!$E$9:$E$56,Statistiques!A326,'Concert 1'!$I$9:$I$56)+SUMIF('Concert 2'!$E$9:$E$56,Statistiques!A326,'Concert 2'!$I$9:$I$56)+SUMIF('Concert 3'!$E$9:$E$56,Statistiques!A326,'Concert 3'!$I$9:$I$56)+SUMIF('Concert 4'!$E$9:$E$56,Statistiques!A326,'Concert 4'!$I$9:$I$56)+SUMIF('Concert 5'!$E$9:$E$56,Statistiques!A326,'Concert 5'!$I$9:$I$56)","v":0},{"$f":"SUMIF('Concert 1'!$E$9:$E$56,Statistiques!A326,'Concert 1'!$J$9:$J$56)+SUMIF('Concert 2'!$E$9:$E$56,Statistiques!A326,'Concert 2'!$J$9:$J$56)+SUMIF('Concert 3'!$E$9:$E$56,Statistiques!A326,'Concert 3'!$J$9:$J$56)+SUMIF('Concert 4'!$E$9:$E$56,Statistiques!A326,'Concert 4'!$J$9:$J$56)+SUMIF('Concert 5'!$E$9:$E$56,Statistiques!A326,'Concert 5'!$J$9:$J$56)","v":0},null,null,{"$f":"SUMIF('Concert 1'!$E$9:$E$56,Statistiques!A326,'Concert 1'!$I$9:$I$56)","v":0},{"$f":"SUMIF('Concert 1'!$E$9:$E$56,Statistiques!A326,'Concert 1'!$J$9:$J$56)","v":0},{"$f":"SUMIF('Concert 2'!$E$9:$E$56,Statistiques!A326,'Concert 2'!$I$9:$I$56)","v":0},{"$f":"SUMIF('Concert 2'!$E$9:$E$56,Statistiques!A326,'Concert 2'!$J$9:$J$56)","v":0},{"$f":"SUMIF('Concert 3'!$E$9:$E$56,Statistiques!A326,'Concert 3'!$I$9:$I$56)","v":0},{"$f":"SUMIF('Concert 3'!$E$9:$E$56,Statistiques!A326,'Concert 3'!$J$9:$J$56)","v":0},{"$f":"SUMIF('Concert 4'!$E$9:$E$56,Statistiques!A326,'Concert 4'!$I$9:$I$56)","v":0},{"$f":"SUMIF('Concert 4'!$E$9:$E$56,Statistiques!A326,'Concert 4'!$J$9:$J$56)","v":0},{"$f":"SUMIF('Concert 5'!$E$9:$E$56,Statistiques!A326,'Concert 5'!$I$9:$I$56)","v":0},{"$f":"SUMIF('Concert 5'!$E$9:$E$56,Statistiques!A326,'Concert 5'!$J$9:$J$56)","v":0}]
[{"$f":"Ecoles!A323","v":0},{"$f":"Ecoles!B323","v":0},{"$f":"Ecoles!C323","v":0},null,{"$f":"SUMIF('Concert 1'!$E$9:$E$56,Statistiques!A327,'Concert 1'!$I$9:$I$56)+SUMIF('Concert 2'!$E$9:$E$56,Statistiques!A327,'Concert 2'!$I$9:$I$56)+SUMIF('Concert 3'!$E$9:$E$56,Statistiques!A327,'Concert 3'!$I$9:$I$56)+SUMIF('Concert 4'!$E$9:$E$56,Statistiques!A327,'Concert 4'!$I$9:$I$56)+SUMIF('Concert 5'!$E$9:$E$56,Statistiques!A327,'Concert 5'!$I$9:$I$56)","v":0},{"$f":"SUMIF('Concert 1'!$E$9:$E$56,Statistiques!A327,'Concert 1'!$J$9:$J$56)+SUMIF('Concert 2'!$E$9:$E$56,Statistiques!A327,'Concert 2'!$J$9:$J$56)+SUMIF('Concert 3'!$E$9:$E$56,Statistiques!A327,'Concert 3'!$J$9:$J$56)+SUMIF('Concert 4'!$E$9:$E$56,Statistiques!A327,'Concert 4'!$J$9:$J$56)+SUMIF('Concert 5'!$E$9:$E$56,Statistiques!A327,'Concert 5'!$J$9:$J$56)","v":0},null,null,{"$f":"SUMIF('Concert 1'!$E$9:$E$56,Statistiques!A327,'Concert 1'!$I$9:$I$56)","v":0},{"$f":"SUMIF('Concert 1'!$E$9:$E$56,Statistiques!A327,'Concert 1'!$J$9:$J$56)","v":0},{"$f":"SUMIF('Concert 2'!$E$9:$E$56,Statistiques!A327,'Concert 2'!$I$9:$I$56)","v":0},{"$f":"SUMIF('Concert 2'!$E$9:$E$56,Statistiques!A327,'Concert 2'!$J$9:$J$56)","v":0},{"$f":"SUMIF('Concert 3'!$E$9:$E$56,Statistiques!A327,'Concert 3'!$I$9:$I$56)","v":0},{"$f":"SUMIF('Concert 3'!$E$9:$E$56,Statistiques!A327,'Concert 3'!$J$9:$J$56)","v":0},{"$f":"SUMIF('Concert 4'!$E$9:$E$56,Statistiques!A327,'Concert 4'!$I$9:$I$56)","v":0},{"$f":"SUMIF('Concert 4'!$E$9:$E$56,Statistiques!A327,'Concert 4'!$J$9:$J$56)","v":0},{"$f":"SUMIF('Concert 5'!$E$9:$E$56,Statistiques!A327,'Concert 5'!$I$9:$I$56)","v":0},{"$f":"SUMIF('Concert 5'!$E$9:$E$56,Statistiques!A327,'Concert 5'!$J$9:$J$56)","v":0}]
[{"$f":"Ecoles!A324","v":0},{"$f":"Ecoles!B324","v":0},{"$f":"Ecoles!C324","v":0},null,{"$f":"SUMIF('Concert 1'!$E$9:$E$56,Statistiques!A328,'Concert 1'!$I$9:$I$56)+SUMIF('Concert 2'!$E$9:$E$56,Statistiques!A328,'Concert 2'!$I$9:$I$56)+SUMIF('Concert 3'!$E$9:$E$56,Statistiques!A328,'Concert 3'!$I$9:$I$56)+SUMIF('Concert 4'!$E$9:$E$56,Statistiques!A328,'Concert 4'!$I$9:$I$56)+SUMIF('Concert 5'!$E$9:$E$56,Statistiques!A328,'Concert 5'!$I$9:$I$56)","v":0},{"$f":"SUMIF('Concert 1'!$E$9:$E$56,Statistiques!A328,'Concert 1'!$J$9:$J$56)+SUMIF('Concert 2'!$E$9:$E$56,Statistiques!A328,'Concert 2'!$J$9:$J$56)+SUMIF('Concert 3'!$E$9:$E$56,Statistiques!A328,'Concert 3'!$J$9:$J$56)+SUMIF('Concert 4'!$E$9:$E$56,Statistiques!A328,'Concert 4'!$J$9:$J$56)+SUMIF('Concert 5'!$E$9:$E$56,Statistiques!A328,'Concert 5'!$J$9:$J$56)","v":0},null,null,{"$f":"SUMIF('Concert 1'!$E$9:$E$56,Statistiques!A328,'Concert 1'!$I$9:$I$56)","v":0},{"$f":"SUMIF('Concert 1'!$E$9:$E$56,Statistiques!A328,'Concert 1'!$J$9:$J$56)","v":0},{"$f":"SUMIF('Concert 2'!$E$9:$E$56,Statistiques!A328,'Concert 2'!$I$9:$I$56)","v":0},{"$f":"SUMIF('Concert 2'!$E$9:$E$56,Statistiques!A328,'Concert 2'!$J$9:$J$56)","v":0},{"$f":"SUMIF('Concert 3'!$E$9:$E$56,Statistiques!A328,'Concert 3'!$I$9:$I$56)","v":0},{"$f":"SUMIF('Concert 3'!$E$9:$E$56,Statistiques!A328,'Concert 3'!$J$9:$J$56)","v":0},{"$f":"SUMIF('Concert 4'!$E$9:$E$56,Statistiques!A328,'Concert 4'!$I$9:$I$56)","v":0},{"$f":"SUMIF('Concert 4'!$E$9:$E$56,Statistiques!A328,'Concert 4'!$J$9:$J$56)","v":0},{"$f":"SUMIF('Concert 5'!$E$9:$E$56,Statistiques!A328,'Concert 5'!$I$9:$I$56)","v":0},{"$f":"SUMIF('Concert 5'!$E$9:$E$56,Statistiques!A328,'Concert 5'!$J$9:$J$56)","v":0}]
[{"$f":"Ecoles!A325","v":0},{"$f":"Ecoles!B325","v":0},{"$f":"Ecoles!C325","v":0},null,{"$f":"SUMIF('Concert 1'!$E$9:$E$56,Statistiques!A329,'Concert 1'!$I$9:$I$56)+SUMIF('Concert 2'!$E$9:$E$56,Statistiques!A329,'Concert 2'!$I$9:$I$56)+SUMIF('Concert 3'!$E$9:$E$56,Statistiques!A329,'Concert 3'!$I$9:$I$56)+SUMIF('Concert 4'!$E$9:$E$56,Statistiques!A329,'Concert 4'!$I$9:$I$56)+SUMIF('Concert 5'!$E$9:$E$56,Statistiques!A329,'Concert 5'!$I$9:$I$56)","v":0},{"$f":"SUMIF('Concert 1'!$E$9:$E$56,Statistiques!A329,'Concert 1'!$J$9:$J$56)+SUMIF('Concert 2'!$E$9:$E$56,Statistiques!A329,'Concert 2'!$J$9:$J$56)+SUMIF('Concert 3'!$E$9:$E$56,Statistiques!A329,'Concert 3'!$J$9:$J$56)+SUMIF('Concert 4'!$E$9:$E$56,Statistiques!A329,'Concert 4'!$J$9:$J$56)+SUMIF('Concert 5'!$E$9:$E$56,Statistiques!A329,'Concert 5'!$J$9:$J$56)","v":0},null,null,{"$f":"SUMIF('Concert 1'!$E$9:$E$56,Statistiques!A329,'Concert 1'!$I$9:$I$56)","v":0},{"$f":"SUMIF('Concert 1'!$E$9:$E$56,Statistiques!A329,'Concert 1'!$J$9:$J$56)","v":0},{"$f":"SUMIF('Concert 2'!$E$9:$E$56,Statistiques!A329,'Concert 2'!$I$9:$I$56)","v":0},{"$f":"SUMIF('Concert 2'!$E$9:$E$56,Statistiques!A329,'Concert 2'!$J$9:$J$56)","v":0},{"$f":"SUMIF('Concert 3'!$E$9:$E$56,Statistiques!A329,'Concert 3'!$I$9:$I$56)","v":0},{"$f":"SUMIF('Concert 3'!$E$9:$E$56,Statistiques!A329,'Concert 3'!$J$9:$J$56)","v":0},{"$f":"SUMIF('Concert 4'!$E$9:$E$56,Statistiques!A329,'Concert 4'!$I$9:$I$56)","v":0},{"$f":"SUMIF('Concert 4'!$E$9:$E$56,Statistiques!A329,'Concert 4'!$J$9:$J$56)","v":0},{"$f":"SUMIF('Concert 5'!$E$9:$E$56,Statistiques!A329,'Concert 5'!$I$9:$I$56)","v":0},{"$f":"SUMIF('Concert 5'!$E$9:$E$56,Statistiques!A329,'Concert 5'!$J$9:$J$56)","v":0}]
[{"$f":"Ecoles!A326","v":0},{"$f":"Ecoles!B326","v":0},{"$f":"Ecoles!C326","v":0},null,{"$f":"SUMIF('Concert 1'!$E$9:$E$56,Statistiques!A330,'Concert 1'!$I$9:$I$56)+SUMIF('Concert 2'!$E$9:$E$56,Statistiques!A330,'Concert 2'!$I$9:$I$56)+SUMIF('Concert 3'!$E$9:$E$56,Statistiques!A330,'Concert 3'!$I$9:$I$56)+SUMIF('Concert 4'!$E$9:$E$56,Statistiques!A330,'Concert 4'!$I$9:$I$56)+SUMIF('Concert 5'!$E$9:$E$56,Statistiques!A330,'Concert 5'!$I$9:$I$56)","v":0},{"$f":"SUMIF('Concert 1'!$E$9:$E$56,Statistiques!A330,'Concert 1'!$J$9:$J$56)+SUMIF('Concert 2'!$E$9:$E$56,Statistiques!A330,'Concert 2'!$J$9:$J$56)+SUMIF('Concert 3'!$E$9:$E$56,Statistiques!A330,'Concert 3'!$J$9:$J$56)+SUMIF('Concert 4'!$E$9:$E$56,Statistiques!A330,'Concert 4'!$J$9:$J$56)+SUMIF('Concert 5'!$E$9:$E$56,Statistiques!A330,'Concert 5'!$J$9:$J$56)","v":0},null,null,{"$f":"SUMIF('Concert 1'!$E$9:$E$56,Statistiques!A330,'Concert 1'!$I$9:$I$56)","v":0},{"$f":"SUMIF('Concert 1'!$E$9:$E$56,Statistiques!A330,'Concert 1'!$J$9:$J$56)","v":0},{"$f":"SUMIF('Concert 2'!$E$9:$E$56,Statistiques!A330,'Concert 2'!$I$9:$I$56)","v":0},{"$f":"SUMIF('Concert 2'!$E$9:$E$56,Statistiques!A330,'Concert 2'!$J$9:$J$56)","v":0},{"$f":"SUMIF('Concert 3'!$E$9:$E$56,Statistiques!A330,'Concert 3'!$I$9:$I$56)","v":0},{"$f":"SUMIF('Concert 3'!$E$9:$E$56,Statistiques!A330,'Concert 3'!$J$9:$J$56)","v":0},{"$f":"SUMIF('Concert 4'!$E$9:$E$56,Statistiques!A330,'Concert 4'!$I$9:$I$56)","v":0},{"$f":"SUMIF('Concert 4'!$E$9:$E$56,Statistiques!A330,'Concert 4'!$J$9:$J$56)","v":0},{"$f":"SUMIF('Concert 5'!$E$9:$E$56,Statistiques!A330,'Concert 5'!$I$9:$I$56)","v":0},{"$f":"SUMIF('Concert 5'!$E$9:$E$56,Statistiques!A330,'Concert 5'!$J$9:$J$56)","v":0}]
[{"$f":"Ecoles!A327","v":0},{"$f":"Ecoles!B327","v":0},{"$f":"Ecoles!C327","v":0},null,{"$f":"SUMIF('Concert 1'!$E$9:$E$56,Statistiques!A331,'Concert 1'!$I$9:$I$56)+SUMIF('Concert 2'!$E$9:$E$56,Statistiques!A331,'Concert 2'!$I$9:$I$56)+SUMIF('Concert 3'!$E$9:$E$56,Statistiques!A331,'Concert 3'!$I$9:$I$56)+SUMIF('Concert 4'!$E$9:$E$56,Statistiques!A331,'Concert 4'!$I$9:$I$56)+SUMIF('Concert 5'!$E$9:$E$56,Statistiques!A331,'Concert 5'!$I$9:$I$56)","v":0},{"$f":"SUMIF('Concert 1'!$E$9:$E$56,Statistiques!A331,'Concert 1'!$J$9:$J$56)+SUMIF('Concert 2'!$E$9:$E$56,Statistiques!A331,'Concert 2'!$J$9:$J$56)+SUMIF('Concert 3'!$E$9:$E$56,Statistiques!A331,'Concert 3'!$J$9:$J$56)+SUMIF('Concert 4'!$E$9:$E$56,Statistiques!A331,'Concert 4'!$J$9:$J$56)+SUMIF('Concert 5'!$E$9:$E$56,Statistiques!A331,'Concert 5'!$J$9:$J$56)","v":0},null,null,{"$f":"SUMIF('Concert 1'!$E$9:$E$56,Statistiques!A331,'Concert 1'!$I$9:$I$56)","v":0},{"$f":"SUMIF('Concert 1'!$E$9:$E$56,Statistiques!A331,'Concert 1'!$J$9:$J$56)","v":0},{"$f":"SUMIF('Concert 2'!$E$9:$E$56,Statistiques!A331,'Concert 2'!$I$9:$I$56)","v":0},{"$f":"SUMIF('Concert 2'!$E$9:$E$56,Statistiques!A331,'Concert 2'!$J$9:$J$56)","v":0},{"$f":"SUMIF('Concert 3'!$E$9:$E$56,Statistiques!A331,'Concert 3'!$I$9:$I$56)","v":0},{"$f":"SUMIF('Concert 3'!$E$9:$E$56,Statistiques!A331,'Concert 3'!$J$9:$J$56)","v":0},{"$f":"SUMIF('Concert 4'!$E$9:$E$56,Statistiques!A331,'Concert 4'!$I$9:$I$56)","v":0},{"$f":"SUMIF('Concert 4'!$E$9:$E$56,Statistiques!A331,'Concert 4'!$J$9:$J$56)","v":0},{"$f":"SUMIF('Concert 5'!$E$9:$E$56,Statistiques!A331,'Concert 5'!$I$9:$I$56)","v":0},{"$f":"SUMIF('Concert 5'!$E$9:$E$56,Statistiques!A331,'Concert 5'!$J$9:$J$56)","v":0}]
[{"$f":"Ecoles!A328","v":0},{"$f":"Ecoles!B328","v":0},{"$f":"Ecoles!C328","v":0},null,{"$f":"SUMIF('Concert 1'!$E$9:$E$56,Statistiques!A332,'Concert 1'!$I$9:$I$56)+SUMIF('Concert 2'!$E$9:$E$56,Statistiques!A332,'Concert 2'!$I$9:$I$56)+SUMIF('Concert 3'!$E$9:$E$56,Statistiques!A332,'Concert 3'!$I$9:$I$56)+SUMIF('Concert 4'!$E$9:$E$56,Statistiques!A332,'Concert 4'!$I$9:$I$56)+SUMIF('Concert 5'!$E$9:$E$56,Statistiques!A332,'Concert 5'!$I$9:$I$56)","v":0},{"$f":"SUMIF('Concert 1'!$E$9:$E$56,Statistiques!A332,'Concert 1'!$J$9:$J$56)+SUMIF('Concert 2'!$E$9:$E$56,Statistiques!A332,'Concert 2'!$J$9:$J$56)+SUMIF('Concert 3'!$E$9:$E$56,Statistiques!A332,'Concert 3'!$J$9:$J$56)+SUMIF('Concert 4'!$E$9:$E$56,Statistiques!A332,'Concert 4'!$J$9:$J$56)+SUMIF('Concert 5'!$E$9:$E$56,Statistiques!A332,'Concert 5'!$J$9:$J$56)","v":0},null,null,{"$f":"SUMIF('Concert 1'!$E$9:$E$56,Statistiques!A332,'Concert 1'!$I$9:$I$56)","v":0},{"$f":"SUMIF('Concert 1'!$E$9:$E$56,Statistiques!A332,'Concert 1'!$J$9:$J$56)","v":0},{"$f":"SUMIF('Concert 2'!$E$9:$E$56,Statistiques!A332,'Concert 2'!$I$9:$I$56)","v":0},{"$f":"SUMIF('Concert 2'!$E$9:$E$56,Statistiques!A332,'Concert 2'!$J$9:$J$56)","v":0},{"$f":"SUMIF('Concert 3'!$E$9:$E$56,Statistiques!A332,'Concert 3'!$I$9:$I$56)","v":0},{"$f":"SUMIF('Concert 3'!$E$9:$E$56,Statistiques!A332,'Concert 3'!$J$9:$J$56)","v":0},{"$f":"SUMIF('Concert 4'!$E$9:$E$56,Statistiques!A332,'Concert 4'!$I$9:$I$56)","v":0},{"$f":"SUMIF('Concert 4'!$E$9:$E$56,Statistiques!A332,'Concert 4'!$J$9:$J$56)","v":0},{"$f":"SUMIF('Concert 5'!$E$9:$E$56,Statistiques!A332,'Concert 5'!$I$9:$I$56)","v":0},{"$f":"SUMIF('Concert 5'!$E$9:$E$56,Statistiques!A332,'Concert 5'!$J$9:$J$56)","v":0}]
[{"$f":"Ecoles!A329","v":0},{"$f":"Ecoles!B329","v":0},{"$f":"Ecoles!C329","v":0},null,{"$f":"SUMIF('Concert 1'!$E$9:$E$56,Statistiques!A333,'Concert 1'!$I$9:$I$56)+SUMIF('Concert 2'!$E$9:$E$56,Statistiques!A333,'Concert 2'!$I$9:$I$56)+SUMIF('Concert 3'!$E$9:$E$56,Statistiques!A333,'Concert 3'!$I$9:$I$56)+SUMIF('Concert 4'!$E$9:$E$56,Statistiques!A333,'Concert 4'!$I$9:$I$56)+SUMIF('Concert 5'!$E$9:$E$56,Statistiques!A333,'Concert 5'!$I$9:$I$56)","v":0},{"$f":"SUMIF('Concert 1'!$E$9:$E$56,Statistiques!A333,'Concert 1'!$J$9:$J$56)+SUMIF('Concert 2'!$E$9:$E$56,Statistiques!A333,'Concert 2'!$J$9:$J$56)+SUMIF('Concert 3'!$E$9:$E$56,Statistiques!A333,'Concert 3'!$J$9:$J$56)+SUMIF('Concert 4'!$E$9:$E$56,Statistiques!A333,'Concert 4'!$J$9:$J$56)+SUMIF('Concert 5'!$E$9:$E$56,Statistiques!A333,'Concert 5'!$J$9:$J$56)","v":0},null,null,{"$f":"SUMIF('Concert 1'!$E$9:$E$56,Statistiques!A333,'Concert 1'!$I$9:$I$56)","v":0},{"$f":"SUMIF('Concert 1'!$E$9:$E$56,Statistiques!A333,'Concert 1'!$J$9:$J$56)","v":0},{"$f":"SUMIF('Concert 2'!$E$9:$E$56,Statistiques!A333,'Concert 2'!$I$9:$I$56)","v":0},{"$f":"SUMIF('Concert 2'!$E$9:$E$56,Statistiques!A333,'Concert 2'!$J$9:$J$56)","v":0},{"$f":"SUMIF('Concert 3'!$E$9:$E$56,Statistiques!A333,'Concert 3'!$I$9:$I$56)","v":0},{"$f":"SUMIF('Concert 3'!$E$9:$E$56,Statistiques!A333,'Concert 3'!$J$9:$J$56)","v":0},{"$f":"SUMIF('Concert 4'!$E$9:$E$56,Statistiques!A333,'Concert 4'!$I$9:$I$56)","v":0},{"$f":"SUMIF('Concert 4'!$E$9:$E$56,Statistiques!A333,'Concert 4'!$J$9:$J$56)","v":0},{"$f":"SUMIF('Concert 5'!$E$9:$E$56,Statistiques!A333,'Concert 5'!$I$9:$I$56)","v":0},{"$f":"SUMIF('Concert 5'!$E$9:$E$56,Statistiques!A333,'Concert 5'!$J$9:$J$56)","v":0}]
[{"$f":"Ecoles!A330","v":0},{"$f":"Ecoles!B330","v":0},{"$f":"Ecoles!C330","v":0},null,{"$f":"SUMIF('Concert 1'!$E$9:$E$56,Statistiques!A334,'Concert 1'!$I$9:$I$56)+SUMIF('Concert 2'!$E$9:$E$56,Statistiques!A334,'Concert 2'!$I$9:$I$56)+SUMIF('Concert 3'!$E$9:$E$56,Statistiques!A334,'Concert 3'!$I$9:$I$56)+SUMIF('Concert 4'!$E$9:$E$56,Statistiques!A334,'Concert 4'!$I$9:$I$56)+SUMIF('Concert 5'!$E$9:$E$56,Statistiques!A334,'Concert 5'!$I$9:$I$56)","v":0},{"$f":"SUMIF('Concert 1'!$E$9:$E$56,Statistiques!A334,'Concert 1'!$J$9:$J$56)+SUMIF('Concert 2'!$E$9:$E$56,Statistiques!A334,'Concert 2'!$J$9:$J$56)+SUMIF('Concert 3'!$E$9:$E$56,Statistiques!A334,'Concert 3'!$J$9:$J$56)+SUMIF('Concert 4'!$E$9:$E$56,Statistiques!A334,'Concert 4'!$J$9:$J$56)+SUMIF('Concert 5'!$E$9:$E$56,Statistiques!A334,'Concert 5'!$J$9:$J$56)","v":0},null,null,{"$f":"SUMIF('Concert 1'!$E$9:$E$56,Statistiques!A334,'Concert 1'!$I$9:$I$56)","v":0},{"$f":"SUMIF('Concert 1'!$E$9:$E$56,Statistiques!A334,'Concert 1'!$J$9:$J$56)","v":0},{"$f":"SUMIF('Concert 2'!$E$9:$E$56,Statistiques!A334,'Concert 2'!$I$9:$I$56)","v":0},{"$f":"SUMIF('Concert 2'!$E$9:$E$56,Statistiques!A334,'Concert 2'!$J$9:$J$56)","v":0},{"$f":"SUMIF('Concert 3'!$E$9:$E$56,Statistiques!A334,'Concert 3'!$I$9:$I$56)","v":0},{"$f":"SUMIF('Concert 3'!$E$9:$E$56,Statistiques!A334,'Concert 3'!$J$9:$J$56)","v":0},{"$f":"SUMIF('Concert 4'!$E$9:$E$56,Statistiques!A334,'Concert 4'!$I$9:$I$56)","v":0},{"$f":"SUMIF('Concert 4'!$E$9:$E$56,Statistiques!A334,'Concert 4'!$J$9:$J$56)","v":0},{"$f":"SUMIF('Concert 5'!$E$9:$E$56,Statistiques!A334,'Concert 5'!$I$9:$I$56)","v":0},{"$f":"SUMIF('Concert 5'!$E$9:$E$56,Statistiques!A334,'Concert 5'!$J$9:$J$56)","v":0}]
[{"$f":"Ecoles!A331","v":0},{"$f":"Ecoles!B331","v":0},{"$f":"Ecoles!C331","v":0},null,{"$f":"SUMIF('Concert 1'!$E$9:$E$56,Statistiques!A335,'Concert 1'!$I$9:$I$56)+SUMIF('Concert 2'!$E$9:$E$56,Statistiques!A335,'Concert 2'!$I$9:$I$56)+SUMIF('Concert 3'!$E$9:$E$56,Statistiques!A335,'Concert 3'!$I$9:$I$56)+SUMIF('Concert 4'!$E$9:$E$56,Statistiques!A335,'Concert 4'!$I$9:$I$56)+SUMIF('Concert 5'!$E$9:$E$56,Statistiques!A335,'Concert 5'!$I$9:$I$56)","v":0},{"$f":"SUMIF('Concert 1'!$E$9:$E$56,Statistiques!A335,'Concert 1'!$J$9:$J$56)+SUMIF('Concert 2'!$E$9:$E$56,Statistiques!A335,'Concert 2'!$J$9:$J$56)+SUMIF('Concert 3'!$E$9:$E$56,Statistiques!A335,'Concert 3'!$J$9:$J$56)+SUMIF('Concert 4'!$E$9:$E$56,Statistiques!A335,'Concert 4'!$J$9:$J$56)+SUMIF('Concert 5'!$E$9:$E$56,Statistiques!A335,'Concert 5'!$J$9:$J$56)","v":0},null,null,{"$f":"SUMIF('Concert 1'!$E$9:$E$56,Statistiques!A335,'Concert 1'!$I$9:$I$56)","v":0},{"$f":"SUMIF('Concert 1'!$E$9:$E$56,Statistiques!A335,'Concert 1'!$J$9:$J$56)","v":0},{"$f":"SUMIF('Concert 2'!$E$9:$E$56,Statistiques!A335,'Concert 2'!$I$9:$I$56)","v":0},{"$f":"SUMIF('Concert 2'!$E$9:$E$56,Statistiques!A335,'Concert 2'!$J$9:$J$56)","v":0},{"$f":"SUMIF('Concert 3'!$E$9:$E$56,Statistiques!A335,'Concert 3'!$I$9:$I$56)","v":0},{"$f":"SUMIF('Concert 3'!$E$9:$E$56,Statistiques!A335,'Concert 3'!$J$9:$J$56)","v":0},{"$f":"SUMIF('Concert 4'!$E$9:$E$56,Statistiques!A335,'Concert 4'!$I$9:$I$56)","v":0},{"$f":"SUMIF('Concert 4'!$E$9:$E$56,Statistiques!A335,'Concert 4'!$J$9:$J$56)","v":0},{"$f":"SUMIF('Concert 5'!$E$9:$E$56,Statistiques!A335,'Concert 5'!$I$9:$I$56)","v":0},{"$f":"SUMIF('Concert 5'!$E$9:$E$56,Statistiques!A335,'Concert 5'!$J$9:$J$56)","v":0}]
[{"$f":"Ecoles!A332","v":0},{"$f":"Ecoles!B332","v":0},{"$f":"Ecoles!C332","v":0},null,{"$f":"SUMIF('Concert 1'!$E$9:$E$56,Statistiques!A336,'Concert 1'!$I$9:$I$56)+SUMIF('Concert 2'!$E$9:$E$56,Statistiques!A336,'Concert 2'!$I$9:$I$56)+SUMIF('Concert 3'!$E$9:$E$56,Statistiques!A336,'Concert 3'!$I$9:$I$56)+SUMIF('Concert 4'!$E$9:$E$56,Statistiques!A336,'Concert 4'!$I$9:$I$56)+SUMIF('Concert 5'!$E$9:$E$56,Statistiques!A336,'Concert 5'!$I$9:$I$56)","v":0},{"$f":"SUMIF('Concert 1'!$E$9:$E$56,Statistiques!A336,'Concert 1'!$J$9:$J$56)+SUMIF('Concert 2'!$E$9:$E$56,Statistiques!A336,'Concert 2'!$J$9:$J$56)+SUMIF('Concert 3'!$E$9:$E$56,Statistiques!A336,'Concert 3'!$J$9:$J$56)+SUMIF('Concert 4'!$E$9:$E$56,Statistiques!A336,'Concert 4'!$J$9:$J$56)+SUMIF('Concert 5'!$E$9:$E$56,Statistiques!A336,'Concert 5'!$J$9:$J$56)","v":0},null,null,{"$f":"SUMIF('Concert 1'!$E$9:$E$56,Statistiques!A336,'Concert 1'!$I$9:$I$56)","v":0},{"$f":"SUMIF('Concert 1'!$E$9:$E$56,Statistiques!A336,'Concert 1'!$J$9:$J$56)","v":0},{"$f":"SUMIF('Concert 2'!$E$9:$E$56,Statistiques!A336,'Concert 2'!$I$9:$I$56)","v":0},{"$f":"SUMIF('Concert 2'!$E$9:$E$56,Statistiques!A336,'Concert 2'!$J$9:$J$56)","v":0},{"$f":"SUMIF('Concert 3'!$E$9:$E$56,Statistiques!A336,'Concert 3'!$I$9:$I$56)","v":0},{"$f":"SUMIF('Concert 3'!$E$9:$E$56,Statistiques!A336,'Concert 3'!$J$9:$J$56)","v":0},{"$f":"SUMIF('Concert 4'!$E$9:$E$56,Statistiques!A336,'Concert 4'!$I$9:$I$56)","v":0},{"$f":"SUMIF('Concert 4'!$E$9:$E$56,Statistiques!A336,'Concert 4'!$J$9:$J$56)","v":0},{"$f":"SUMIF('Concert 5'!$E$9:$E$56,Statistiques!A336,'Concert 5'!$I$9:$I$56)","v":0},{"$f":"SUMIF('Concert 5'!$E$9:$E$56,Statistiques!A336,'Concert 5'!$J$9:$J$56)","v":0}]
[{"$f":"Ecoles!A333","v":0},{"$f":"Ecoles!B333","v":0},{"$f":"Ecoles!C333","v":0},null,{"$f":"SUMIF('Concert 1'!$E$9:$E$56,Statistiques!A337,'Concert 1'!$I$9:$I$56)+SUMIF('Concert 2'!$E$9:$E$56,Statistiques!A337,'Concert 2'!$I$9:$I$56)+SUMIF('Concert 3'!$E$9:$E$56,Statistiques!A337,'Concert 3'!$I$9:$I$56)+SUMIF('Concert 4'!$E$9:$E$56,Statistiques!A337,'Concert 4'!$I$9:$I$56)+SUMIF('Concert 5'!$E$9:$E$56,Statistiques!A337,'Concert 5'!$I$9:$I$56)","v":0},{"$f":"SUMIF('Concert 1'!$E$9:$E$56,Statistiques!A337,'Concert 1'!$J$9:$J$56)+SUMIF('Concert 2'!$E$9:$E$56,Statistiques!A337,'Concert 2'!$J$9:$J$56)+SUMIF('Concert 3'!$E$9:$E$56,Statistiques!A337,'Concert 3'!$J$9:$J$56)+SUMIF('Concert 4'!$E$9:$E$56,Statistiques!A337,'Concert 4'!$J$9:$J$56)+SUMIF('Concert 5'!$E$9:$E$56,Statistiques!A337,'Concert 5'!$J$9:$J$56)","v":0},null,null,{"$f":"SUMIF('Concert 1'!$E$9:$E$56,Statistiques!A337,'Concert 1'!$I$9:$I$56)","v":0},{"$f":"SUMIF('Concert 1'!$E$9:$E$56,Statistiques!A337,'Concert 1'!$J$9:$J$56)","v":0},{"$f":"SUMIF('Concert 2'!$E$9:$E$56,Statistiques!A337,'Concert 2'!$I$9:$I$56)","v":0},{"$f":"SUMIF('Concert 2'!$E$9:$E$56,Statistiques!A337,'Concert 2'!$J$9:$J$56)","v":0},{"$f":"SUMIF('Concert 3'!$E$9:$E$56,Statistiques!A337,'Concert 3'!$I$9:$I$56)","v":0},{"$f":"SUMIF('Concert 3'!$E$9:$E$56,Statistiques!A337,'Concert 3'!$J$9:$J$56)","v":0},{"$f":"SUMIF('Concert 4'!$E$9:$E$56,Statistiques!A337,'Concert 4'!$I$9:$I$56)","v":0},{"$f":"SUMIF('Concert 4'!$E$9:$E$56,Statistiques!A337,'Concert 4'!$J$9:$J$56)","v":0},{"$f":"SUMIF('Concert 5'!$E$9:$E$56,Statistiques!A337,'Concert 5'!$I$9:$I$56)","v":0},{"$f":"SUMIF('Concert 5'!$E$9:$E$56,Statistiques!A337,'Concert 5'!$J$9:$J$56)","v":0}]
[{"$f":"Ecoles!A334","v":0},{"$f":"Ecoles!B334","v":0},{"$f":"Ecoles!C334","v":0},null,{"$f":"SUMIF('Concert 1'!$E$9:$E$56,Statistiques!A338,'Concert 1'!$I$9:$I$56)+SUMIF('Concert 2'!$E$9:$E$56,Statistiques!A338,'Concert 2'!$I$9:$I$56)+SUMIF('Concert 3'!$E$9:$E$56,Statistiques!A338,'Concert 3'!$I$9:$I$56)+SUMIF('Concert 4'!$E$9:$E$56,Statistiques!A338,'Concert 4'!$I$9:$I$56)+SUMIF('Concert 5'!$E$9:$E$56,Statistiques!A338,'Concert 5'!$I$9:$I$56)","v":0},{"$f":"SUMIF('Concert 1'!$E$9:$E$56,Statistiques!A338,'Concert 1'!$J$9:$J$56)+SUMIF('Concert 2'!$E$9:$E$56,Statistiques!A338,'Concert 2'!$J$9:$J$56)+SUMIF('Concert 3'!$E$9:$E$56,Statistiques!A338,'Concert 3'!$J$9:$J$56)+SUMIF('Concert 4'!$E$9:$E$56,Statistiques!A338,'Concert 4'!$J$9:$J$56)+SUMIF('Concert 5'!$E$9:$E$56,Statistiques!A338,'Concert 5'!$J$9:$J$56)","v":0},null,null,{"$f":"SUMIF('Concert 1'!$E$9:$E$56,Statistiques!A338,'Concert 1'!$I$9:$I$56)","v":0},{"$f":"SUMIF('Concert 1'!$E$9:$E$56,Statistiques!A338,'Concert 1'!$J$9:$J$56)","v":0},{"$f":"SUMIF('Concert 2'!$E$9:$E$56,Statistiques!A338,'Concert 2'!$I$9:$I$56)","v":0},{"$f":"SUMIF('Concert 2'!$E$9:$E$56,Statistiques!A338,'Concert 2'!$J$9:$J$56)","v":0},{"$f":"SUMIF('Concert 3'!$E$9:$E$56,Statistiques!A338,'Concert 3'!$I$9:$I$56)","v":0},{"$f":"SUMIF('Concert 3'!$E$9:$E$56,Statistiques!A338,'Concert 3'!$J$9:$J$56)","v":0},{"$f":"SUMIF('Concert 4'!$E$9:$E$56,Statistiques!A338,'Concert 4'!$I$9:$I$56)","v":0},{"$f":"SUMIF('Concert 4'!$E$9:$E$56,Statistiques!A338,'Concert 4'!$J$9:$J$56)","v":0},{"$f":"SUMIF('Concert 5'!$E$9:$E$56,Statistiques!A338,'Concert 5'!$I$9:$I$56)","v":0},{"$f":"SUMIF('Concert 5'!$E$9:$E$56,Statistiques!A338,'Concert 5'!$J$9:$J$56)","v":0}]
[{"$f":"Ecoles!A335","v":0},{"$f":"Ecoles!B335","v":0},{"$f":"Ecoles!C335","v":0},null,{"$f":"SUMIF('Concert 1'!$E$9:$E$56,Statistiques!A339,'Concert 1'!$I$9:$I$56)+SUMIF('Concert 2'!$E$9:$E$56,Statistiques!A339,'Concert 2'!$I$9:$I$56)+SUMIF('Concert 3'!$E$9:$E$56,Statistiques!A339,'Concert 3'!$I$9:$I$56)+SUMIF('Concert 4'!$E$9:$E$56,Statistiques!A339,'Concert 4'!$I$9:$I$56)+SUMIF('Concert 5'!$E$9:$E$56,Statistiques!A339,'Concert 5'!$I$9:$I$56)","v":0},{"$f":"SUMIF('Concert 1'!$E$9:$E$56,Statistiques!A339,'Concert 1'!$J$9:$J$56)+SUMIF('Concert 2'!$E$9:$E$56,Statistiques!A339,'Concert 2'!$J$9:$J$56)+SUMIF('Concert 3'!$E$9:$E$56,Statistiques!A339,'Concert 3'!$J$9:$J$56)+SUMIF('Concert 4'!$E$9:$E$56,Statistiques!A339,'Concert 4'!$J$9:$J$56)+SUMIF('Concert 5'!$E$9:$E$56,Statistiques!A339,'Concert 5'!$J$9:$J$56)","v":0},null,null,{"$f":"SUMIF('Concert 1'!$E$9:$E$56,Statistiques!A339,'Concert 1'!$I$9:$I$56)","v":0},{"$f":"SUMIF('Concert 1'!$E$9:$E$56,Statistiques!A339,'Concert 1'!$J$9:$J$56)","v":0},{"$f":"SUMIF('Concert 2'!$E$9:$E$56,Statistiques!A339,'Concert 2'!$I$9:$I$56)","v":0},{"$f":"SUMIF('Concert 2'!$E$9:$E$56,Statistiques!A339,'Concert 2'!$J$9:$J$56)","v":0},{"$f":"SUMIF('Concert 3'!$E$9:$E$56,Statistiques!A339,'Concert 3'!$I$9:$I$56)","v":0},{"$f":"SUMIF('Concert 3'!$E$9:$E$56,Statistiques!A339,'Concert 3'!$J$9:$J$56)","v":0},{"$f":"SUMIF('Concert 4'!$E$9:$E$56,Statistiques!A339,'Concert 4'!$I$9:$I$56)","v":0},{"$f":"SUMIF('Concert 4'!$E$9:$E$56,Statistiques!A339,'Concert 4'!$J$9:$J$56)","v":0},{"$f":"SUMIF('Concert 5'!$E$9:$E$56,Statistiques!A339,'Concert 5'!$I$9:$I$56)","v":0},{"$f":"SUMIF('Concert 5'!$E$9:$E$56,Statistiques!A339,'Concert 5'!$J$9:$J$56)","v":0}]
[{"$f":"Ecoles!A336","v":0},{"$f":"Ecoles!B336","v":0},{"$f":"Ecoles!C336","v":0},null,{"$f":"SUMIF('Concert 1'!$E$9:$E$56,Statistiques!A340,'Concert 1'!$I$9:$I$56)+SUMIF('Concert 2'!$E$9:$E$56,Statistiques!A340,'Concert 2'!$I$9:$I$56)+SUMIF('Concert 3'!$E$9:$E$56,Statistiques!A340,'Concert 3'!$I$9:$I$56)+SUMIF('Concert 4'!$E$9:$E$56,Statistiques!A340,'Concert 4'!$I$9:$I$56)+SUMIF('Concert 5'!$E$9:$E$56,Statistiques!A340,'Concert 5'!$I$9:$I$56)","v":0},{"$f":"SUMIF('Concert 1'!$E$9:$E$56,Statistiques!A340,'Concert 1'!$J$9:$J$56)+SUMIF('Concert 2'!$E$9:$E$56,Statistiques!A340,'Concert 2'!$J$9:$J$56)+SUMIF('Concert 3'!$E$9:$E$56,Statistiques!A340,'Concert 3'!$J$9:$J$56)+SUMIF('Concert 4'!$E$9:$E$56,Statistiques!A340,'Concert 4'!$J$9:$J$56)+SUMIF('Concert 5'!$E$9:$E$56,Statistiques!A340,'Concert 5'!$J$9:$J$56)","v":0},null,null,{"$f":"SUMIF('Concert 1'!$E$9:$E$56,Statistiques!A340,'Concert 1'!$I$9:$I$56)","v":0},{"$f":"SUMIF('Concert 1'!$E$9:$E$56,Statistiques!A340,'Concert 1'!$J$9:$J$56)","v":0},{"$f":"SUMIF('Concert 2'!$E$9:$E$56,Statistiques!A340,'Concert 2'!$I$9:$I$56)","v":0},{"$f":"SUMIF('Concert 2'!$E$9:$E$56,Statistiques!A340,'Concert 2'!$J$9:$J$56)","v":0},{"$f":"SUMIF('Concert 3'!$E$9:$E$56,Statistiques!A340,'Concert 3'!$I$9:$I$56)","v":0},{"$f":"SUMIF('Concert 3'!$E$9:$E$56,Statistiques!A340,'Concert 3'!$J$9:$J$56)","v":0},{"$f":"SUMIF('Concert 4'!$E$9:$E$56,Statistiques!A340,'Concert 4'!$I$9:$I$56)","v":0},{"$f":"SUMIF('Concert 4'!$E$9:$E$56,Statistiques!A340,'Concert 4'!$J$9:$J$56)","v":0},{"$f":"SUMIF('Concert 5'!$E$9:$E$56,Statistiques!A340,'Concert 5'!$I$9:$I$56)","v":0},{"$f":"SUMIF('Concert 5'!$E$9:$E$56,Statistiques!A340,'Concert 5'!$J$9:$J$56)","v":0}]
[{"$f":"Ecoles!A337","v":0},{"$f":"Ecoles!B337","v":0},{"$f":"Ecoles!C337","v":0},null,{"$f":"SUMIF('Concert 1'!$E$9:$E$56,Statistiques!A341,'Concert 1'!$I$9:$I$56)+SUMIF('Concert 2'!$E$9:$E$56,Statistiques!A341,'Concert 2'!$I$9:$I$56)+SUMIF('Concert 3'!$E$9:$E$56,Statistiques!A341,'Concert 3'!$I$9:$I$56)+SUMIF('Concert 4'!$E$9:$E$56,Statistiques!A341,'Concert 4'!$I$9:$I$56)+SUMIF('Concert 5'!$E$9:$E$56,Statistiques!A341,'Concert 5'!$I$9:$I$56)","v":0},{"$f":"SUMIF('Concert 1'!$E$9:$E$56,Statistiques!A341,'Concert 1'!$J$9:$J$56)+SUMIF('Concert 2'!$E$9:$E$56,Statistiques!A341,'Concert 2'!$J$9:$J$56)+SUMIF('Concert 3'!$E$9:$E$56,Statistiques!A341,'Concert 3'!$J$9:$J$56)+SUMIF('Concert 4'!$E$9:$E$56,Statistiques!A341,'Concert 4'!$J$9:$J$56)+SUMIF('Concert 5'!$E$9:$E$56,Statistiques!A341,'Concert 5'!$J$9:$J$56)","v":0},null,null,{"$f":"SUMIF('Concert 1'!$E$9:$E$56,Statistiques!A341,'Concert 1'!$I$9:$I$56)","v":0},{"$f":"SUMIF('Concert 1'!$E$9:$E$56,Statistiques!A341,'Concert 1'!$J$9:$J$56)","v":0},{"$f":"SUMIF('Concert 2'!$E$9:$E$56,Statistiques!A341,'Concert 2'!$I$9:$I$56)","v":0},{"$f":"SUMIF('Concert 2'!$E$9:$E$56,Statistiques!A341,'Concert 2'!$J$9:$J$56)","v":0},{"$f":"SUMIF('Concert 3'!$E$9:$E$56,Statistiques!A341,'Concert 3'!$I$9:$I$56)","v":0},{"$f":"SUMIF('Concert 3'!$E$9:$E$56,Statistiques!A341,'Concert 3'!$J$9:$J$56)","v":0},{"$f":"SUMIF('Concert 4'!$E$9:$E$56,Statistiques!A341,'Concert 4'!$I$9:$I$56)","v":0},{"$f":"SUMIF('Concert 4'!$E$9:$E$56,Statistiques!A341,'Concert 4'!$J$9:$J$56)","v":0},{"$f":"SUMIF('Concert 5'!$E$9:$E$56,Statistiques!A341,'Concert 5'!$I$9:$I$56)","v":0},{"$f":"SUMIF('Concert 5'!$E$9:$E$56,Statistiques!A341,'Concert 5'!$J$9:$J$56)","v":0}]
[{"$f":"Ecoles!A338","v":0},{"$f":"Ecoles!B338","v":0},{"$f":"Ecoles!C338","v":0},null,{"$f":"SUMIF('Concert 1'!$E$9:$E$56,Statistiques!A342,'Concert 1'!$I$9:$I$56)+SUMIF('Concert 2'!$E$9:$E$56,Statistiques!A342,'Concert 2'!$I$9:$I$56)+SUMIF('Concert 3'!$E$9:$E$56,Statistiques!A342,'Concert 3'!$I$9:$I$56)+SUMIF('Concert 4'!$E$9:$E$56,Statistiques!A342,'Concert 4'!$I$9:$I$56)+SUMIF('Concert 5'!$E$9:$E$56,Statistiques!A342,'Concert 5'!$I$9:$I$56)","v":0},{"$f":"SUMIF('Concert 1'!$E$9:$E$56,Statistiques!A342,'Concert 1'!$J$9:$J$56)+SUMIF('Concert 2'!$E$9:$E$56,Statistiques!A342,'Concert 2'!$J$9:$J$56)+SUMIF('Concert 3'!$E$9:$E$56,Statistiques!A342,'Concert 3'!$J$9:$J$56)+SUMIF('Concert 4'!$E$9:$E$56,Statistiques!A342,'Concert 4'!$J$9:$J$56)+SUMIF('Concert 5'!$E$9:$E$56,Statistiques!A342,'Concert 5'!$J$9:$J$56)","v":0},null,null,{"$f":"SUMIF('Concert 1'!$E$9:$E$56,Statistiques!A342,'Concert 1'!$I$9:$I$56)","v":0},{"$f":"SUMIF('Concert 1'!$E$9:$E$56,Statistiques!A342,'Concert 1'!$J$9:$J$56)","v":0},{"$f":"SUMIF('Concert 2'!$E$9:$E$56,Statistiques!A342,'Concert 2'!$I$9:$I$56)","v":0},{"$f":"SUMIF('Concert 2'!$E$9:$E$56,Statistiques!A342,'Concert 2'!$J$9:$J$56)","v":0},{"$f":"SUMIF('Concert 3'!$E$9:$E$56,Statistiques!A342,'Concert 3'!$I$9:$I$56)","v":0},{"$f":"SUMIF('Concert 3'!$E$9:$E$56,Statistiques!A342,'Concert 3'!$J$9:$J$56)","v":0},{"$f":"SUMIF('Concert 4'!$E$9:$E$56,Statistiques!A342,'Concert 4'!$I$9:$I$56)","v":0},{"$f":"SUMIF('Concert 4'!$E$9:$E$56,Statistiques!A342,'Concert 4'!$J$9:$J$56)","v":0},{"$f":"SUMIF('Concert 5'!$E$9:$E$56,Statistiques!A342,'Concert 5'!$I$9:$I$56)","v":0},{"$f":"SUMIF('Concert 5'!$E$9:$E$56,Statistiques!A342,'Concert 5'!$J$9:$J$56)","v":0}]
[{"$f":"Ecoles!A339","v":0},{"$f":"Ecoles!B339","v":0},{"$f":"Ecoles!C339","v":0},null,{"$f":"SUMIF('Concert 1'!$E$9:$E$56,Statistiques!A343,'Concert 1'!$I$9:$I$56)+SUMIF('Concert 2'!$E$9:$E$56,Statistiques!A343,'Concert 2'!$I$9:$I$56)+SUMIF('Concert 3'!$E$9:$E$56,Statistiques!A343,'Concert 3'!$I$9:$I$56)+SUMIF('Concert 4'!$E$9:$E$56,Statistiques!A343,'Concert 4'!$I$9:$I$56)+SUMIF('Concert 5'!$E$9:$E$56,Statistiques!A343,'Concert 5'!$I$9:$I$56)","v":0},{"$f":"SUMIF('Concert 1'!$E$9:$E$56,Statistiques!A343,'Concert 1'!$J$9:$J$56)+SUMIF('Concert 2'!$E$9:$E$56,Statistiques!A343,'Concert 2'!$J$9:$J$56)+SUMIF('Concert 3'!$E$9:$E$56,Statistiques!A343,'Concert 3'!$J$9:$J$56)+SUMIF('Concert 4'!$E$9:$E$56,Statistiques!A343,'Concert 4'!$J$9:$J$56)+SUMIF('Concert 5'!$E$9:$E$56,Statistiques!A343,'Concert 5'!$J$9:$J$56)","v":0},null,null,{"$f":"SUMIF('Concert 1'!$E$9:$E$56,Statistiques!A343,'Concert 1'!$I$9:$I$56)","v":0},{"$f":"SUMIF('Concert 1'!$E$9:$E$56,Statistiques!A343,'Concert 1'!$J$9:$J$56)","v":0},{"$f":"SUMIF('Concert 2'!$E$9:$E$56,Statistiques!A343,'Concert 2'!$I$9:$I$56)","v":0},{"$f":"SUMIF('Concert 2'!$E$9:$E$56,Statistiques!A343,'Concert 2'!$J$9:$J$56)","v":0},{"$f":"SUMIF('Concert 3'!$E$9:$E$56,Statistiques!A343,'Concert 3'!$I$9:$I$56)","v":0},{"$f":"SUMIF('Concert 3'!$E$9:$E$56,Statistiques!A343,'Concert 3'!$J$9:$J$56)","v":0},{"$f":"SUMIF('Concert 4'!$E$9:$E$56,Statistiques!A343,'Concert 4'!$I$9:$I$56)","v":0},{"$f":"SUMIF('Concert 4'!$E$9:$E$56,Statistiques!A343,'Concert 4'!$J$9:$J$56)","v":0},{"$f":"SUMIF('Concert 5'!$E$9:$E$56,Statistiques!A343,'Concert 5'!$I$9:$I$56)","v":0},{"$f":"SUMIF('Concert 5'!$E$9:$E$56,Statistiques!A343,'Concert 5'!$J$9:$J$56)","v":0}]
[{"$f":"Ecoles!A340","v":0},{"$f":"Ecoles!B340","v":0},{"$f":"Ecoles!C340","v":0},null,{"$f":"SUMIF('Concert 1'!$E$9:$E$56,Statistiques!A344,'Concert 1'!$I$9:$I$56)+SUMIF('Concert 2'!$E$9:$E$56,Statistiques!A344,'Concert 2'!$I$9:$I$56)+SUMIF('Concert 3'!$E$9:$E$56,Statistiques!A344,'Concert 3'!$I$9:$I$56)+SUMIF('Concert 4'!$E$9:$E$56,Statistiques!A344,'Concert 4'!$I$9:$I$56)+SUMIF('Concert 5'!$E$9:$E$56,Statistiques!A344,'Concert 5'!$I$9:$I$56)","v":0},{"$f":"SUMIF('Concert 1'!$E$9:$E$56,Statistiques!A344,'Concert 1'!$J$9:$J$56)+SUMIF('Concert 2'!$E$9:$E$56,Statistiques!A344,'Concert 2'!$J$9:$J$56)+SUMIF('Concert 3'!$E$9:$E$56,Statistiques!A344,'Concert 3'!$J$9:$J$56)+SUMIF('Concert 4'!$E$9:$E$56,Statistiques!A344,'Concert 4'!$J$9:$J$56)+SUMIF('Concert 5'!$E$9:$E$56,Statistiques!A344,'Concert 5'!$J$9:$J$56)","v":0},null,null,{"$f":"SUMIF('Concert 1'!$E$9:$E$56,Statistiques!A344,'Concert 1'!$I$9:$I$56)","v":0},{"$f":"SUMIF('Concert 1'!$E$9:$E$56,Statistiques!A344,'Concert 1'!$J$9:$J$56)","v":0},{"$f":"SUMIF('Concert 2'!$E$9:$E$56,Statistiques!A344,'Concert 2'!$I$9:$I$56)","v":0},{"$f":"SUMIF('Concert 2'!$E$9:$E$56,Statistiques!A344,'Concert 2'!$J$9:$J$56)","v":0},{"$f":"SUMIF('Concert 3'!$E$9:$E$56,Statistiques!A344,'Concert 3'!$I$9:$I$56)","v":0},{"$f":"SUMIF('Concert 3'!$E$9:$E$56,Statistiques!A344,'Concert 3'!$J$9:$J$56)","v":0},{"$f":"SUMIF('Concert 4'!$E$9:$E$56,Statistiques!A344,'Concert 4'!$I$9:$I$56)","v":0},{"$f":"SUMIF('Concert 4'!$E$9:$E$56,Statistiques!A344,'Concert 4'!$J$9:$J$56)","v":0},{"$f":"SUMIF('Concert 5'!$E$9:$E$56,Statistiques!A344,'Concert 5'!$I$9:$I$56)","v":0},{"$f":"SUMIF('Concert 5'!$E$9:$E$56,Statistiques!A344,'Concert 5'!$J$9:$J$56)","v":0}]
[{"$f":"Ecoles!A341","v":0},{"$f":"Ecoles!B341","v":0},{"$f":"Ecoles!C341","v":0},null,{"$f":"SUMIF('Concert 1'!$E$9:$E$56,Statistiques!A345,'Concert 1'!$I$9:$I$56)+SUMIF('Concert 2'!$E$9:$E$56,Statistiques!A345,'Concert 2'!$I$9:$I$56)+SUMIF('Concert 3'!$E$9:$E$56,Statistiques!A345,'Concert 3'!$I$9:$I$56)+SUMIF('Concert 4'!$E$9:$E$56,Statistiques!A345,'Concert 4'!$I$9:$I$56)+SUMIF('Concert 5'!$E$9:$E$56,Statistiques!A345,'Concert 5'!$I$9:$I$56)","v":0},{"$f":"SUMIF('Concert 1'!$E$9:$E$56,Statistiques!A345,'Concert 1'!$J$9:$J$56)+SUMIF('Concert 2'!$E$9:$E$56,Statistiques!A345,'Concert 2'!$J$9:$J$56)+SUMIF('Concert 3'!$E$9:$E$56,Statistiques!A345,'Concert 3'!$J$9:$J$56)+SUMIF('Concert 4'!$E$9:$E$56,Statistiques!A345,'Concert 4'!$J$9:$J$56)+SUMIF('Concert 5'!$E$9:$E$56,Statistiques!A345,'Concert 5'!$J$9:$J$56)","v":0},null,null,{"$f":"SUMIF('Concert 1'!$E$9:$E$56,Statistiques!A345,'Concert 1'!$I$9:$I$56)","v":0},{"$f":"SUMIF('Concert 1'!$E$9:$E$56,Statistiques!A345,'Concert 1'!$J$9:$J$56)","v":0},{"$f":"SUMIF('Concert 2'!$E$9:$E$56,Statistiques!A345,'Concert 2'!$I$9:$I$56)","v":0},{"$f":"SUMIF('Concert 2'!$E$9:$E$56,Statistiques!A345,'Concert 2'!$J$9:$J$56)","v":0},{"$f":"SUMIF('Concert 3'!$E$9:$E$56,Statistiques!A345,'Concert 3'!$I$9:$I$56)","v":0},{"$f":"SUMIF('Concert 3'!$E$9:$E$56,Statistiques!A345,'Concert 3'!$J$9:$J$56)","v":0},{"$f":"SUMIF('Concert 4'!$E$9:$E$56,Statistiques!A345,'Concert 4'!$I$9:$I$56)","v":0},{"$f":"SUMIF('Concert 4'!$E$9:$E$56,Statistiques!A345,'Concert 4'!$J$9:$J$56)","v":0},{"$f":"SUMIF('Concert 5'!$E$9:$E$56,Statistiques!A345,'Concert 5'!$I$9:$I$56)","v":0},{"$f":"SUMIF('Concert 5'!$E$9:$E$56,Statistiques!A345,'Concert 5'!$J$9:$J$56)","v":0}]
[{"$f":"Ecoles!A342","v":0},{"$f":"Ecoles!B342","v":0},{"$f":"Ecoles!C342","v":0},null,{"$f":"SUMIF('Concert 1'!$E$9:$E$56,Statistiques!A346,'Concert 1'!$I$9:$I$56)+SUMIF('Concert 2'!$E$9:$E$56,Statistiques!A346,'Concert 2'!$I$9:$I$56)+SUMIF('Concert 3'!$E$9:$E$56,Statistiques!A346,'Concert 3'!$I$9:$I$56)+SUMIF('Concert 4'!$E$9:$E$56,Statistiques!A346,'Concert 4'!$I$9:$I$56)+SUMIF('Concert 5'!$E$9:$E$56,Statistiques!A346,'Concert 5'!$I$9:$I$56)","v":0},{"$f":"SUMIF('Concert 1'!$E$9:$E$56,Statistiques!A346,'Concert 1'!$J$9:$J$56)+SUMIF('Concert 2'!$E$9:$E$56,Statistiques!A346,'Concert 2'!$J$9:$J$56)+SUMIF('Concert 3'!$E$9:$E$56,Statistiques!A346,'Concert 3'!$J$9:$J$56)+SUMIF('Concert 4'!$E$9:$E$56,Statistiques!A346,'Concert 4'!$J$9:$J$56)+SUMIF('Concert 5'!$E$9:$E$56,Statistiques!A346,'Concert 5'!$J$9:$J$56)","v":0},null,null,{"$f":"SUMIF('Concert 1'!$E$9:$E$56,Statistiques!A346,'Concert 1'!$I$9:$I$56)","v":0},{"$f":"SUMIF('Concert 1'!$E$9:$E$56,Statistiques!A346,'Concert 1'!$J$9:$J$56)","v":0},{"$f":"SUMIF('Concert 2'!$E$9:$E$56,Statistiques!A346,'Concert 2'!$I$9:$I$56)","v":0},{"$f":"SUMIF('Concert 2'!$E$9:$E$56,Statistiques!A346,'Concert 2'!$J$9:$J$56)","v":0},{"$f":"SUMIF('Concert 3'!$E$9:$E$56,Statistiques!A346,'Concert 3'!$I$9:$I$56)","v":0},{"$f":"SUMIF('Concert 3'!$E$9:$E$56,Statistiques!A346,'Concert 3'!$J$9:$J$56)","v":0},{"$f":"SUMIF('Concert 4'!$E$9:$E$56,Statistiques!A346,'Concert 4'!$I$9:$I$56)","v":0},{"$f":"SUMIF('Concert 4'!$E$9:$E$56,Statistiques!A346,'Concert 4'!$J$9:$J$56)","v":0},{"$f":"SUMIF('Concert 5'!$E$9:$E$56,Statistiques!A346,'Concert 5'!$I$9:$I$56)","v":0},{"$f":"SUMIF('Concert 5'!$E$9:$E$56,Statistiques!A346,'Concert 5'!$J$9:$J$56)","v":0}]
[{"$f":"Ecoles!A343","v":0},{"$f":"Ecoles!B343","v":0},{"$f":"Ecoles!C343","v":0},null,{"$f":"SUMIF('Concert 1'!$E$9:$E$56,Statistiques!A347,'Concert 1'!$I$9:$I$56)+SUMIF('Concert 2'!$E$9:$E$56,Statistiques!A347,'Concert 2'!$I$9:$I$56)+SUMIF('Concert 3'!$E$9:$E$56,Statistiques!A347,'Concert 3'!$I$9:$I$56)+SUMIF('Concert 4'!$E$9:$E$56,Statistiques!A347,'Concert 4'!$I$9:$I$56)+SUMIF('Concert 5'!$E$9:$E$56,Statistiques!A347,'Concert 5'!$I$9:$I$56)","v":0},{"$f":"SUMIF('Concert 1'!$E$9:$E$56,Statistiques!A347,'Concert 1'!$J$9:$J$56)+SUMIF('Concert 2'!$E$9:$E$56,Statistiques!A347,'Concert 2'!$J$9:$J$56)+SUMIF('Concert 3'!$E$9:$E$56,Statistiques!A347,'Concert 3'!$J$9:$J$56)+SUMIF('Concert 4'!$E$9:$E$56,Statistiques!A347,'Concert 4'!$J$9:$J$56)+SUMIF('Concert 5'!$E$9:$E$56,Statistiques!A347,'Concert 5'!$J$9:$J$56)","v":0},null,null,{"$f":"SUMIF('Concert 1'!$E$9:$E$56,Statistiques!A347,'Concert 1'!$I$9:$I$56)","v":0},{"$f":"SUMIF('Concert 1'!$E$9:$E$56,Statistiques!A347,'Concert 1'!$J$9:$J$56)","v":0},{"$f":"SUMIF('Concert 2'!$E$9:$E$56,Statistiques!A347,'Concert 2'!$I$9:$I$56)","v":0},{"$f":"SUMIF('Concert 2'!$E$9:$E$56,Statistiques!A347,'Concert 2'!$J$9:$J$56)","v":0},{"$f":"SUMIF('Concert 3'!$E$9:$E$56,Statistiques!A347,'Concert 3'!$I$9:$I$56)","v":0},{"$f":"SUMIF('Concert 3'!$E$9:$E$56,Statistiques!A347,'Concert 3'!$J$9:$J$56)","v":0},{"$f":"SUMIF('Concert 4'!$E$9:$E$56,Statistiques!A347,'Concert 4'!$I$9:$I$56)","v":0},{"$f":"SUMIF('Concert 4'!$E$9:$E$56,Statistiques!A347,'Concert 4'!$J$9:$J$56)","v":0},{"$f":"SUMIF('Concert 5'!$E$9:$E$56,Statistiques!A347,'Concert 5'!$I$9:$I$56)","v":0},{"$f":"SUMIF('Concert 5'!$E$9:$E$56,Statistiques!A347,'Concert 5'!$J$9:$J$56)","v":0}]
[{"$f":"Ecoles!A344","v":0},{"$f":"Ecoles!B344","v":0},{"$f":"Ecoles!C344","v":0},null,{"$f":"SUMIF('Concert 1'!$E$9:$E$56,Statistiques!A348,'Concert 1'!$I$9:$I$56)+SUMIF('Concert 2'!$E$9:$E$56,Statistiques!A348,'Concert 2'!$I$9:$I$56)+SUMIF('Concert 3'!$E$9:$E$56,Statistiques!A348,'Concert 3'!$I$9:$I$56)+SUMIF('Concert 4'!$E$9:$E$56,Statistiques!A348,'Concert 4'!$I$9:$I$56)+SUMIF('Concert 5'!$E$9:$E$56,Statistiques!A348,'Concert 5'!$I$9:$I$56)","v":0},{"$f":"SUMIF('Concert 1'!$E$9:$E$56,Statistiques!A348,'Concert 1'!$J$9:$J$56)+SUMIF('Concert 2'!$E$9:$E$56,Statistiques!A348,'Concert 2'!$J$9:$J$56)+SUMIF('Concert 3'!$E$9:$E$56,Statistiques!A348,'Concert 3'!$J$9:$J$56)+SUMIF('Concert 4'!$E$9:$E$56,Statistiques!A348,'Concert 4'!$J$9:$J$56)+SUMIF('Concert 5'!$E$9:$E$56,Statistiques!A348,'Concert 5'!$J$9:$J$56)","v":0},null,null,{"$f":"SUMIF('Concert 1'!$E$9:$E$56,Statistiques!A348,'Concert 1'!$I$9:$I$56)","v":0},{"$f":"SUMIF('Concert 1'!$E$9:$E$56,Statistiques!A348,'Concert 1'!$J$9:$J$56)","v":0},{"$f":"SUMIF('Concert 2'!$E$9:$E$56,Statistiques!A348,'Concert 2'!$I$9:$I$56)","v":0},{"$f":"SUMIF('Concert 2'!$E$9:$E$56,Statistiques!A348,'Concert 2'!$J$9:$J$56)","v":0},{"$f":"SUMIF('Concert 3'!$E$9:$E$56,Statistiques!A348,'Concert 3'!$I$9:$I$56)","v":0},{"$f":"SUMIF('Concert 3'!$E$9:$E$56,Statistiques!A348,'Concert 3'!$J$9:$J$56)","v":0},{"$f":"SUMIF('Concert 4'!$E$9:$E$56,Statistiques!A348,'Concert 4'!$I$9:$I$56)","v":0},{"$f":"SUMIF('Concert 4'!$E$9:$E$56,Statistiques!A348,'Concert 4'!$J$9:$J$56)","v":0},{"$f":"SUMIF('Concert 5'!$E$9:$E$56,Statistiques!A348,'Concert 5'!$I$9:$I$56)","v":0},{"$f":"SUMIF('Concert 5'!$E$9:$E$56,Statistiques!A348,'Concert 5'!$J$9:$J$56)","v":0}]
[{"$f":"Ecoles!A345","v":0},{"$f":"Ecoles!B345","v":0},{"$f":"Ecoles!C345","v":0},null,{"$f":"SUMIF('Concert 1'!$E$9:$E$56,Statistiques!A349,'Concert 1'!$I$9:$I$56)+SUMIF('Concert 2'!$E$9:$E$56,Statistiques!A349,'Concert 2'!$I$9:$I$56)+SUMIF('Concert 3'!$E$9:$E$56,Statistiques!A349,'Concert 3'!$I$9:$I$56)+SUMIF('Concert 4'!$E$9:$E$56,Statistiques!A349,'Concert 4'!$I$9:$I$56)+SUMIF('Concert 5'!$E$9:$E$56,Statistiques!A349,'Concert 5'!$I$9:$I$56)","v":0},{"$f":"SUMIF('Concert 1'!$E$9:$E$56,Statistiques!A349,'Concert 1'!$J$9:$J$56)+SUMIF('Concert 2'!$E$9:$E$56,Statistiques!A349,'Concert 2'!$J$9:$J$56)+SUMIF('Concert 3'!$E$9:$E$56,Statistiques!A349,'Concert 3'!$J$9:$J$56)+SUMIF('Concert 4'!$E$9:$E$56,Statistiques!A349,'Concert 4'!$J$9:$J$56)+SUMIF('Concert 5'!$E$9:$E$56,Statistiques!A349,'Concert 5'!$J$9:$J$56)","v":0},null,null,{"$f":"SUMIF('Concert 1'!$E$9:$E$56,Statistiques!A349,'Concert 1'!$I$9:$I$56)","v":0},{"$f":"SUMIF('Concert 1'!$E$9:$E$56,Statistiques!A349,'Concert 1'!$J$9:$J$56)","v":0},{"$f":"SUMIF('Concert 2'!$E$9:$E$56,Statistiques!A349,'Concert 2'!$I$9:$I$56)","v":0},{"$f":"SUMIF('Concert 2'!$E$9:$E$56,Statistiques!A349,'Concert 2'!$J$9:$J$56)","v":0},{"$f":"SUMIF('Concert 3'!$E$9:$E$56,Statistiques!A349,'Concert 3'!$I$9:$I$56)","v":0},{"$f":"SUMIF('Concert 3'!$E$9:$E$56,Statistiques!A349,'Concert 3'!$J$9:$J$56)","v":0},{"$f":"SUMIF('Concert 4'!$E$9:$E$56,Statistiques!A349,'Concert 4'!$I$9:$I$56)","v":0},{"$f":"SUMIF('Concert 4'!$E$9:$E$56,Statistiques!A349,'Concert 4'!$J$9:$J$56)","v":0},{"$f":"SUMIF('Concert 5'!$E$9:$E$56,Statistiques!A349,'Concert 5'!$I$9:$I$56)","v":0},{"$f":"SUMIF('Concert 5'!$E$9:$E$56,Statistiques!A349,'Concert 5'!$J$9:$J$56)","v":0}]
[{"$f":"Ecoles!A346","v":0},{"$f":"Ecoles!B346","v":0},{"$f":"Ecoles!C346","v":0},null,{"$f":"SUMIF('Concert 1'!$E$9:$E$56,Statistiques!A350,'Concert 1'!$I$9:$I$56)+SUMIF('Concert 2'!$E$9:$E$56,Statistiques!A350,'Concert 2'!$I$9:$I$56)+SUMIF('Concert 3'!$E$9:$E$56,Statistiques!A350,'Concert 3'!$I$9:$I$56)+SUMIF('Concert 4'!$E$9:$E$56,Statistiques!A350,'Concert 4'!$I$9:$I$56)+SUMIF('Concert 5'!$E$9:$E$56,Statistiques!A350,'Concert 5'!$I$9:$I$56)","v":0},{"$f":"SUMIF('Concert 1'!$E$9:$E$56,Statistiques!A350,'Concert 1'!$J$9:$J$56)+SUMIF('Concert 2'!$E$9:$E$56,Statistiques!A350,'Concert 2'!$J$9:$J$56)+SUMIF('Concert 3'!$E$9:$E$56,Statistiques!A350,'Concert 3'!$J$9:$J$56)+SUMIF('Concert 4'!$E$9:$E$56,Statistiques!A350,'Concert 4'!$J$9:$J$56)+SUMIF('Concert 5'!$E$9:$E$56,Statistiques!A350,'Concert 5'!$J$9:$J$56)","v":0},null,null,{"$f":"SUMIF('Concert 1'!$E$9:$E$56,Statistiques!A350,'Concert 1'!$I$9:$I$56)","v":0},{"$f":"SUMIF('Concert 1'!$E$9:$E$56,Statistiques!A350,'Concert 1'!$J$9:$J$56)","v":0},{"$f":"SUMIF('Concert 2'!$E$9:$E$56,Statistiques!A350,'Concert 2'!$I$9:$I$56)","v":0},{"$f":"SUMIF('Concert 2'!$E$9:$E$56,Statistiques!A350,'Concert 2'!$J$9:$J$56)","v":0},{"$f":"SUMIF('Concert 3'!$E$9:$E$56,Statistiques!A350,'Concert 3'!$I$9:$I$56)","v":0},{"$f":"SUMIF('Concert 3'!$E$9:$E$56,Statistiques!A350,'Concert 3'!$J$9:$J$56)","v":0},{"$f":"SUMIF('Concert 4'!$E$9:$E$56,Statistiques!A350,'Concert 4'!$I$9:$I$56)","v":0},{"$f":"SUMIF('Concert 4'!$E$9:$E$56,Statistiques!A350,'Concert 4'!$J$9:$J$56)","v":0},{"$f":"SUMIF('Concert 5'!$E$9:$E$56,Statistiques!A350,'Concert 5'!$I$9:$I$56)","v":0},{"$f":"SUMIF('Concert 5'!$E$9:$E$56,Statistiques!A350,'Concert 5'!$J$9:$J$56)","v":0}]
[{"$f":"Ecoles!A347","v":0},{"$f":"Ecoles!B347","v":0},{"$f":"Ecoles!C347","v":0},null,{"$f":"SUMIF('Concert 1'!$E$9:$E$56,Statistiques!A351,'Concert 1'!$I$9:$I$56)+SUMIF('Concert 2'!$E$9:$E$56,Statistiques!A351,'Concert 2'!$I$9:$I$56)+SUMIF('Concert 3'!$E$9:$E$56,Statistiques!A351,'Concert 3'!$I$9:$I$56)+SUMIF('Concert 4'!$E$9:$E$56,Statistiques!A351,'Concert 4'!$I$9:$I$56)+SUMIF('Concert 5'!$E$9:$E$56,Statistiques!A351,'Concert 5'!$I$9:$I$56)","v":0},{"$f":"SUMIF('Concert 1'!$E$9:$E$56,Statistiques!A351,'Concert 1'!$J$9:$J$56)+SUMIF('Concert 2'!$E$9:$E$56,Statistiques!A351,'Concert 2'!$J$9:$J$56)+SUMIF('Concert 3'!$E$9:$E$56,Statistiques!A351,'Concert 3'!$J$9:$J$56)+SUMIF('Concert 4'!$E$9:$E$56,Statistiques!A351,'Concert 4'!$J$9:$J$56)+SUMIF('Concert 5'!$E$9:$E$56,Statistiques!A351,'Concert 5'!$J$9:$J$56)","v":0},null,null,{"$f":"SUMIF('Concert 1'!$E$9:$E$56,Statistiques!A351,'Concert 1'!$I$9:$I$56)","v":0},{"$f":"SUMIF('Concert 1'!$E$9:$E$56,Statistiques!A351,'Concert 1'!$J$9:$J$56)","v":0},{"$f":"SUMIF('Concert 2'!$E$9:$E$56,Statistiques!A351,'Concert 2'!$I$9:$I$56)","v":0},{"$f":"SUMIF('Concert 2'!$E$9:$E$56,Statistiques!A351,'Concert 2'!$J$9:$J$56)","v":0},{"$f":"SUMIF('Concert 3'!$E$9:$E$56,Statistiques!A351,'Concert 3'!$I$9:$I$56)","v":0},{"$f":"SUMIF('Concert 3'!$E$9:$E$56,Statistiques!A351,'Concert 3'!$J$9:$J$56)","v":0},{"$f":"SUMIF('Concert 4'!$E$9:$E$56,Statistiques!A351,'Concert 4'!$I$9:$I$56)","v":0},{"$f":"SUMIF('Concert 4'!$E$9:$E$56,Statistiques!A351,'Concert 4'!$J$9:$J$56)","v":0},{"$f":"SUMIF('Concert 5'!$E$9:$E$56,Statistiques!A351,'Concert 5'!$I$9:$I$56)","v":0},{"$f":"SUMIF('Concert 5'!$E$9:$E$56,Statistiques!A351,'Concert 5'!$J$9:$J$56)","v":0}]
[{"$f":"Ecoles!A348","v":0},{"$f":"Ecoles!B348","v":0},{"$f":"Ecoles!C348","v":0},null,{"$f":"SUMIF('Concert 1'!$E$9:$E$56,Statistiques!A352,'Concert 1'!$I$9:$I$56)+SUMIF('Concert 2'!$E$9:$E$56,Statistiques!A352,'Concert 2'!$I$9:$I$56)+SUMIF('Concert 3'!$E$9:$E$56,Statistiques!A352,'Concert 3'!$I$9:$I$56)+SUMIF('Concert 4'!$E$9:$E$56,Statistiques!A352,'Concert 4'!$I$9:$I$56)+SUMIF('Concert 5'!$E$9:$E$56,Statistiques!A352,'Concert 5'!$I$9:$I$56)","v":0},{"$f":"SUMIF('Concert 1'!$E$9:$E$56,Statistiques!A352,'Concert 1'!$J$9:$J$56)+SUMIF('Concert 2'!$E$9:$E$56,Statistiques!A352,'Concert 2'!$J$9:$J$56)+SUMIF('Concert 3'!$E$9:$E$56,Statistiques!A352,'Concert 3'!$J$9:$J$56)+SUMIF('Concert 4'!$E$9:$E$56,Statistiques!A352,'Concert 4'!$J$9:$J$56)+SUMIF('Concert 5'!$E$9:$E$56,Statistiques!A352,'Concert 5'!$J$9:$J$56)","v":0},null,null,{"$f":"SUMIF('Concert 1'!$E$9:$E$56,Statistiques!A352,'Concert 1'!$I$9:$I$56)","v":0},{"$f":"SUMIF('Concert 1'!$E$9:$E$56,Statistiques!A352,'Concert 1'!$J$9:$J$56)","v":0},{"$f":"SUMIF('Concert 2'!$E$9:$E$56,Statistiques!A352,'Concert 2'!$I$9:$I$56)","v":0},{"$f":"SUMIF('Concert 2'!$E$9:$E$56,Statistiques!A352,'Concert 2'!$J$9:$J$56)","v":0},{"$f":"SUMIF('Concert 3'!$E$9:$E$56,Statistiques!A352,'Concert 3'!$I$9:$I$56)","v":0},{"$f":"SUMIF('Concert 3'!$E$9:$E$56,Statistiques!A352,'Concert 3'!$J$9:$J$56)","v":0},{"$f":"SUMIF('Concert 4'!$E$9:$E$56,Statistiques!A352,'Concert 4'!$I$9:$I$56)","v":0},{"$f":"SUMIF('Concert 4'!$E$9:$E$56,Statistiques!A352,'Concert 4'!$J$9:$J$56)","v":0},{"$f":"SUMIF('Concert 5'!$E$9:$E$56,Statistiques!A352,'Concert 5'!$I$9:$I$56)","v":0},{"$f":"SUMIF('Concert 5'!$E$9:$E$56,Statistiques!A352,'Concert 5'!$J$9:$J$56)","v":0}]
[{"$f":"Ecoles!A349","v":0},{"$f":"Ecoles!B349","v":0},{"$f":"Ecoles!C349","v":0},null,{"$f":"SUMIF('Concert 1'!$E$9:$E$56,Statistiques!A353,'Concert 1'!$I$9:$I$56)+SUMIF('Concert 2'!$E$9:$E$56,Statistiques!A353,'Concert 2'!$I$9:$I$56)+SUMIF('Concert 3'!$E$9:$E$56,Statistiques!A353,'Concert 3'!$I$9:$I$56)+SUMIF('Concert 4'!$E$9:$E$56,Statistiques!A353,'Concert 4'!$I$9:$I$56)+SUMIF('Concert 5'!$E$9:$E$56,Statistiques!A353,'Concert 5'!$I$9:$I$56)","v":0},{"$f":"SUMIF('Concert 1'!$E$9:$E$56,Statistiques!A353,'Concert 1'!$J$9:$J$56)+SUMIF('Concert 2'!$E$9:$E$56,Statistiques!A353,'Concert 2'!$J$9:$J$56)+SUMIF('Concert 3'!$E$9:$E$56,Statistiques!A353,'Concert 3'!$J$9:$J$56)+SUMIF('Concert 4'!$E$9:$E$56,Statistiques!A353,'Concert 4'!$J$9:$J$56)+SUMIF('Concert 5'!$E$9:$E$56,Statistiques!A353,'Concert 5'!$J$9:$J$56)","v":0},null,null,{"$f":"SUMIF('Concert 1'!$E$9:$E$56,Statistiques!A353,'Concert 1'!$I$9:$I$56)","v":0},{"$f":"SUMIF('Concert 1'!$E$9:$E$56,Statistiques!A353,'Concert 1'!$J$9:$J$56)","v":0},{"$f":"SUMIF('Concert 2'!$E$9:$E$56,Statistiques!A353,'Concert 2'!$I$9:$I$56)","v":0},{"$f":"SUMIF('Concert 2'!$E$9:$E$56,Statistiques!A353,'Concert 2'!$J$9:$J$56)","v":0},{"$f":"SUMIF('Concert 3'!$E$9:$E$56,Statistiques!A353,'Concert 3'!$I$9:$I$56)","v":0},{"$f":"SUMIF('Concert 3'!$E$9:$E$56,Statistiques!A353,'Concert 3'!$J$9:$J$56)","v":0},{"$f":"SUMIF('Concert 4'!$E$9:$E$56,Statistiques!A353,'Concert 4'!$I$9:$I$56)","v":0},{"$f":"SUMIF('Concert 4'!$E$9:$E$56,Statistiques!A353,'Concert 4'!$J$9:$J$56)","v":0},{"$f":"SUMIF('Concert 5'!$E$9:$E$56,Statistiques!A353,'Concert 5'!$I$9:$I$56)","v":0},{"$f":"SUMIF('Concert 5'!$E$9:$E$56,Statistiques!A353,'Concert 5'!$J$9:$J$56)","v":0}]
[{"$f":"Ecoles!A350","v":0},{"$f":"Ecoles!B350","v":0},{"$f":"Ecoles!C350","v":0},null,{"$f":"SUMIF('Concert 1'!$E$9:$E$56,Statistiques!A354,'Concert 1'!$I$9:$I$56)+SUMIF('Concert 2'!$E$9:$E$56,Statistiques!A354,'Concert 2'!$I$9:$I$56)+SUMIF('Concert 3'!$E$9:$E$56,Statistiques!A354,'Concert 3'!$I$9:$I$56)+SUMIF('Concert 4'!$E$9:$E$56,Statistiques!A354,'Concert 4'!$I$9:$I$56)+SUMIF('Concert 5'!$E$9:$E$56,Statistiques!A354,'Concert 5'!$I$9:$I$56)","v":0},{"$f":"SUMIF('Concert 1'!$E$9:$E$56,Statistiques!A354,'Concert 1'!$J$9:$J$56)+SUMIF('Concert 2'!$E$9:$E$56,Statistiques!A354,'Concert 2'!$J$9:$J$56)+SUMIF('Concert 3'!$E$9:$E$56,Statistiques!A354,'Concert 3'!$J$9:$J$56)+SUMIF('Concert 4'!$E$9:$E$56,Statistiques!A354,'Concert 4'!$J$9:$J$56)+SUMIF('Concert 5'!$E$9:$E$56,Statistiques!A354,'Concert 5'!$J$9:$J$56)","v":0},null,null,{"$f":"SUMIF('Concert 1'!$E$9:$E$56,Statistiques!A354,'Concert 1'!$I$9:$I$56)","v":0},{"$f":"SUMIF('Concert 1'!$E$9:$E$56,Statistiques!A354,'Concert 1'!$J$9:$J$56)","v":0},{"$f":"SUMIF('Concert 2'!$E$9:$E$56,Statistiques!A354,'Concert 2'!$I$9:$I$56)","v":0},{"$f":"SUMIF('Concert 2'!$E$9:$E$56,Statistiques!A354,'Concert 2'!$J$9:$J$56)","v":0},{"$f":"SUMIF('Concert 3'!$E$9:$E$56,Statistiques!A354,'Concert 3'!$I$9:$I$56)","v":0},{"$f":"SUMIF('Concert 3'!$E$9:$E$56,Statistiques!A354,'Concert 3'!$J$9:$J$56)","v":0},{"$f":"SUMIF('Concert 4'!$E$9:$E$56,Statistiques!A354,'Concert 4'!$I$9:$I$56)","v":0},{"$f":"SUMIF('Concert 4'!$E$9:$E$56,Statistiques!A354,'Concert 4'!$J$9:$J$56)","v":0},{"$f":"SUMIF('Concert 5'!$E$9:$E$56,Statistiques!A354,'Concert 5'!$I$9:$I$56)","v":0},{"$f":"SUMIF('Concert 5'!$E$9:$E$56,Statistiques!A354,'Concert 5'!$J$9:$J$56)","v":0}]
[{"$f":"Ecoles!A351","v":0},{"$f":"Ecoles!B351","v":0},{"$f":"Ecoles!C351","v":0},null,{"$f":"SUMIF('Concert 1'!$E$9:$E$56,Statistiques!A355,'Concert 1'!$I$9:$I$56)+SUMIF('Concert 2'!$E$9:$E$56,Statistiques!A355,'Concert 2'!$I$9:$I$56)+SUMIF('Concert 3'!$E$9:$E$56,Statistiques!A355,'Concert 3'!$I$9:$I$56)+SUMIF('Concert 4'!$E$9:$E$56,Statistiques!A355,'Concert 4'!$I$9:$I$56)+SUMIF('Concert 5'!$E$9:$E$56,Statistiques!A355,'Concert 5'!$I$9:$I$56)","v":0},{"$f":"SUMIF('Concert 1'!$E$9:$E$56,Statistiques!A355,'Concert 1'!$J$9:$J$56)+SUMIF('Concert 2'!$E$9:$E$56,Statistiques!A355,'Concert 2'!$J$9:$J$56)+SUMIF('Concert 3'!$E$9:$E$56,Statistiques!A355,'Concert 3'!$J$9:$J$56)+SUMIF('Concert 4'!$E$9:$E$56,Statistiques!A355,'Concert 4'!$J$9:$J$56)+SUMIF('Concert 5'!$E$9:$E$56,Statistiques!A355,'Concert 5'!$J$9:$J$56)","v":0},null,null,{"$f":"SUMIF('Concert 1'!$E$9:$E$56,Statistiques!A355,'Concert 1'!$I$9:$I$56)","v":0},{"$f":"SUMIF('Concert 1'!$E$9:$E$56,Statistiques!A355,'Concert 1'!$J$9:$J$56)","v":0},{"$f":"SUMIF('Concert 2'!$E$9:$E$56,Statistiques!A355,'Concert 2'!$I$9:$I$56)","v":0},{"$f":"SUMIF('Concert 2'!$E$9:$E$56,Statistiques!A355,'Concert 2'!$J$9:$J$56)","v":0},{"$f":"SUMIF('Concert 3'!$E$9:$E$56,Statistiques!A355,'Concert 3'!$I$9:$I$56)","v":0},{"$f":"SUMIF('Concert 3'!$E$9:$E$56,Statistiques!A355,'Concert 3'!$J$9:$J$56)","v":0},{"$f":"SUMIF('Concert 4'!$E$9:$E$56,Statistiques!A355,'Concert 4'!$I$9:$I$56)","v":0},{"$f":"SUMIF('Concert 4'!$E$9:$E$56,Statistiques!A355,'Concert 4'!$J$9:$J$56)","v":0},{"$f":"SUMIF('Concert 5'!$E$9:$E$56,Statistiques!A355,'Concert 5'!$I$9:$I$56)","v":0},{"$f":"SUMIF('Concert 5'!$E$9:$E$56,Statistiques!A355,'Concert 5'!$J$9:$J$56)","v":0}]
[{"$f":"Ecoles!A352","v":0},{"$f":"Ecoles!B352","v":0},{"$f":"Ecoles!C352","v":0},null,{"$f":"SUMIF('Concert 1'!$E$9:$E$56,Statistiques!A356,'Concert 1'!$I$9:$I$56)+SUMIF('Concert 2'!$E$9:$E$56,Statistiques!A356,'Concert 2'!$I$9:$I$56)+SUMIF('Concert 3'!$E$9:$E$56,Statistiques!A356,'Concert 3'!$I$9:$I$56)+SUMIF('Concert 4'!$E$9:$E$56,Statistiques!A356,'Concert 4'!$I$9:$I$56)+SUMIF('Concert 5'!$E$9:$E$56,Statistiques!A356,'Concert 5'!$I$9:$I$56)","v":0},{"$f":"SUMIF('Concert 1'!$E$9:$E$56,Statistiques!A356,'Concert 1'!$J$9:$J$56)+SUMIF('Concert 2'!$E$9:$E$56,Statistiques!A356,'Concert 2'!$J$9:$J$56)+SUMIF('Concert 3'!$E$9:$E$56,Statistiques!A356,'Concert 3'!$J$9:$J$56)+SUMIF('Concert 4'!$E$9:$E$56,Statistiques!A356,'Concert 4'!$J$9:$J$56)+SUMIF('Concert 5'!$E$9:$E$56,Statistiques!A356,'Concert 5'!$J$9:$J$56)","v":0},null,null,{"$f":"SUMIF('Concert 1'!$E$9:$E$56,Statistiques!A356,'Concert 1'!$I$9:$I$56)","v":0},{"$f":"SUMIF('Concert 1'!$E$9:$E$56,Statistiques!A356,'Concert 1'!$J$9:$J$56)","v":0},{"$f":"SUMIF('Concert 2'!$E$9:$E$56,Statistiques!A356,'Concert 2'!$I$9:$I$56)","v":0},{"$f":"SUMIF('Concert 2'!$E$9:$E$56,Statistiques!A356,'Concert 2'!$J$9:$J$56)","v":0},{"$f":"SUMIF('Concert 3'!$E$9:$E$56,Statistiques!A356,'Concert 3'!$I$9:$I$56)","v":0},{"$f":"SUMIF('Concert 3'!$E$9:$E$56,Statistiques!A356,'Concert 3'!$J$9:$J$56)","v":0},{"$f":"SUMIF('Concert 4'!$E$9:$E$56,Statistiques!A356,'Concert 4'!$I$9:$I$56)","v":0},{"$f":"SUMIF('Concert 4'!$E$9:$E$56,Statistiques!A356,'Concert 4'!$J$9:$J$56)","v":0},{"$f":"SUMIF('Concert 5'!$E$9:$E$56,Statistiques!A356,'Concert 5'!$I$9:$I$56)","v":0},{"$f":"SUMIF('Concert 5'!$E$9:$E$56,Statistiques!A356,'Concert 5'!$J$9:$J$56)","v":0}]
[{"$f":"Ecoles!A353","v":0},{"$f":"Ecoles!B353","v":0},{"$f":"Ecoles!C353","v":0},null,{"$f":"SUMIF('Concert 1'!$E$9:$E$56,Statistiques!A357,'Concert 1'!$I$9:$I$56)+SUMIF('Concert 2'!$E$9:$E$56,Statistiques!A357,'Concert 2'!$I$9:$I$56)+SUMIF('Concert 3'!$E$9:$E$56,Statistiques!A357,'Concert 3'!$I$9:$I$56)+SUMIF('Concert 4'!$E$9:$E$56,Statistiques!A357,'Concert 4'!$I$9:$I$56)+SUMIF('Concert 5'!$E$9:$E$56,Statistiques!A357,'Concert 5'!$I$9:$I$56)","v":0},{"$f":"SUMIF('Concert 1'!$E$9:$E$56,Statistiques!A357,'Concert 1'!$J$9:$J$56)+SUMIF('Concert 2'!$E$9:$E$56,Statistiques!A357,'Concert 2'!$J$9:$J$56)+SUMIF('Concert 3'!$E$9:$E$56,Statistiques!A357,'Concert 3'!$J$9:$J$56)+SUMIF('Concert 4'!$E$9:$E$56,Statistiques!A357,'Concert 4'!$J$9:$J$56)+SUMIF('Concert 5'!$E$9:$E$56,Statistiques!A357,'Concert 5'!$J$9:$J$56)","v":0},null,null,{"$f":"SUMIF('Concert 1'!$E$9:$E$56,Statistiques!A357,'Concert 1'!$I$9:$I$56)","v":0},{"$f":"SUMIF('Concert 1'!$E$9:$E$56,Statistiques!A357,'Concert 1'!$J$9:$J$56)","v":0},{"$f":"SUMIF('Concert 2'!$E$9:$E$56,Statistiques!A357,'Concert 2'!$I$9:$I$56)","v":0},{"$f":"SUMIF('Concert 2'!$E$9:$E$56,Statistiques!A357,'Concert 2'!$J$9:$J$56)","v":0},{"$f":"SUMIF('Concert 3'!$E$9:$E$56,Statistiques!A357,'Concert 3'!$I$9:$I$56)","v":0},{"$f":"SUMIF('Concert 3'!$E$9:$E$56,Statistiques!A357,'Concert 3'!$J$9:$J$56)","v":0},{"$f":"SUMIF('Concert 4'!$E$9:$E$56,Statistiques!A357,'Concert 4'!$I$9:$I$56)","v":0},{"$f":"SUMIF('Concert 4'!$E$9:$E$56,Statistiques!A357,'Concert 4'!$J$9:$J$56)","v":0},{"$f":"SUMIF('Concert 5'!$E$9:$E$56,Statistiques!A357,'Concert 5'!$I$9:$I$56)","v":0},{"$f":"SUMIF('Concert 5'!$E$9:$E$56,Statistiques!A357,'Concert 5'!$J$9:$J$56)","v":0}]
[{"$f":"Ecoles!A354","v":0},{"$f":"Ecoles!B354","v":0},{"$f":"Ecoles!C354","v":0},null,{"$f":"SUMIF('Concert 1'!$E$9:$E$56,Statistiques!A358,'Concert 1'!$I$9:$I$56)+SUMIF('Concert 2'!$E$9:$E$56,Statistiques!A358,'Concert 2'!$I$9:$I$56)+SUMIF('Concert 3'!$E$9:$E$56,Statistiques!A358,'Concert 3'!$I$9:$I$56)+SUMIF('Concert 4'!$E$9:$E$56,Statistiques!A358,'Concert 4'!$I$9:$I$56)+SUMIF('Concert 5'!$E$9:$E$56,Statistiques!A358,'Concert 5'!$I$9:$I$56)","v":0},{"$f":"SUMIF('Concert 1'!$E$9:$E$56,Statistiques!A358,'Concert 1'!$J$9:$J$56)+SUMIF('Concert 2'!$E$9:$E$56,Statistiques!A358,'Concert 2'!$J$9:$J$56)+SUMIF('Concert 3'!$E$9:$E$56,Statistiques!A358,'Concert 3'!$J$9:$J$56)+SUMIF('Concert 4'!$E$9:$E$56,Statistiques!A358,'Concert 4'!$J$9:$J$56)+SUMIF('Concert 5'!$E$9:$E$56,Statistiques!A358,'Concert 5'!$J$9:$J$56)","v":0},null,null,{"$f":"SUMIF('Concert 1'!$E$9:$E$56,Statistiques!A358,'Concert 1'!$I$9:$I$56)","v":0},{"$f":"SUMIF('Concert 1'!$E$9:$E$56,Statistiques!A358,'Concert 1'!$J$9:$J$56)","v":0},{"$f":"SUMIF('Concert 2'!$E$9:$E$56,Statistiques!A358,'Concert 2'!$I$9:$I$56)","v":0},{"$f":"SUMIF('Concert 2'!$E$9:$E$56,Statistiques!A358,'Concert 2'!$J$9:$J$56)","v":0},{"$f":"SUMIF('Concert 3'!$E$9:$E$56,Statistiques!A358,'Concert 3'!$I$9:$I$56)","v":0},{"$f":"SUMIF('Concert 3'!$E$9:$E$56,Statistiques!A358,'Concert 3'!$J$9:$J$56)","v":0},{"$f":"SUMIF('Concert 4'!$E$9:$E$56,Statistiques!A358,'Concert 4'!$I$9:$I$56)","v":0},{"$f":"SUMIF('Concert 4'!$E$9:$E$56,Statistiques!A358,'Concert 4'!$J$9:$J$56)","v":0},{"$f":"SUMIF('Concert 5'!$E$9:$E$56,Statistiques!A358,'Concert 5'!$I$9:$I$56)","v":0},{"$f":"SUMIF('Concert 5'!$E$9:$E$56,Statistiques!A358,'Concert 5'!$J$9:$J$56)","v":0}]
[{"$f":"Ecoles!A355","v":0},{"$f":"Ecoles!B355","v":0},{"$f":"Ecoles!C355","v":0},null,{"$f":"SUMIF('Concert 1'!$E$9:$E$56,Statistiques!A359,'Concert 1'!$I$9:$I$56)+SUMIF('Concert 2'!$E$9:$E$56,Statistiques!A359,'Concert 2'!$I$9:$I$56)+SUMIF('Concert 3'!$E$9:$E$56,Statistiques!A359,'Concert 3'!$I$9:$I$56)+SUMIF('Concert 4'!$E$9:$E$56,Statistiques!A359,'Concert 4'!$I$9:$I$56)+SUMIF('Concert 5'!$E$9:$E$56,Statistiques!A359,'Concert 5'!$I$9:$I$56)","v":0},{"$f":"SUMIF('Concert 1'!$E$9:$E$56,Statistiques!A359,'Concert 1'!$J$9:$J$56)+SUMIF('Concert 2'!$E$9:$E$56,Statistiques!A359,'Concert 2'!$J$9:$J$56)+SUMIF('Concert 3'!$E$9:$E$56,Statistiques!A359,'Concert 3'!$J$9:$J$56)+SUMIF('Concert 4'!$E$9:$E$56,Statistiques!A359,'Concert 4'!$J$9:$J$56)+SUMIF('Concert 5'!$E$9:$E$56,Statistiques!A359,'Concert 5'!$J$9:$J$56)","v":0},null,null,{"$f":"SUMIF('Concert 1'!$E$9:$E$56,Statistiques!A359,'Concert 1'!$I$9:$I$56)","v":0},{"$f":"SUMIF('Concert 1'!$E$9:$E$56,Statistiques!A359,'Concert 1'!$J$9:$J$56)","v":0},{"$f":"SUMIF('Concert 2'!$E$9:$E$56,Statistiques!A359,'Concert 2'!$I$9:$I$56)","v":0},{"$f":"SUMIF('Concert 2'!$E$9:$E$56,Statistiques!A359,'Concert 2'!$J$9:$J$56)","v":0},{"$f":"SUMIF('Concert 3'!$E$9:$E$56,Statistiques!A359,'Concert 3'!$I$9:$I$56)","v":0},{"$f":"SUMIF('Concert 3'!$E$9:$E$56,Statistiques!A359,'Concert 3'!$J$9:$J$56)","v":0},{"$f":"SUMIF('Concert 4'!$E$9:$E$56,Statistiques!A359,'Concert 4'!$I$9:$I$56)","v":0},{"$f":"SUMIF('Concert 4'!$E$9:$E$56,Statistiques!A359,'Concert 4'!$J$9:$J$56)","v":0},{"$f":"SUMIF('Concert 5'!$E$9:$E$56,Statistiques!A359,'Concert 5'!$I$9:$I$56)","v":0},{"$f":"SUMIF('Concert 5'!$E$9:$E$56,Statistiques!A359,'Concert 5'!$J$9:$J$56)","v":0}]
[{"$f":"Ecoles!A356","v":0},{"$f":"Ecoles!B356","v":0},{"$f":"Ecoles!C356","v":0},null,{"$f":"SUMIF('Concert 1'!$E$9:$E$56,Statistiques!A360,'Concert 1'!$I$9:$I$56)+SUMIF('Concert 2'!$E$9:$E$56,Statistiques!A360,'Concert 2'!$I$9:$I$56)+SUMIF('Concert 3'!$E$9:$E$56,Statistiques!A360,'Concert 3'!$I$9:$I$56)+SUMIF('Concert 4'!$E$9:$E$56,Statistiques!A360,'Concert 4'!$I$9:$I$56)+SUMIF('Concert 5'!$E$9:$E$56,Statistiques!A360,'Concert 5'!$I$9:$I$56)","v":0},{"$f":"SUMIF('Concert 1'!$E$9:$E$56,Statistiques!A360,'Concert 1'!$J$9:$J$56)+SUMIF('Concert 2'!$E$9:$E$56,Statistiques!A360,'Concert 2'!$J$9:$J$56)+SUMIF('Concert 3'!$E$9:$E$56,Statistiques!A360,'Concert 3'!$J$9:$J$56)+SUMIF('Concert 4'!$E$9:$E$56,Statistiques!A360,'Concert 4'!$J$9:$J$56)+SUMIF('Concert 5'!$E$9:$E$56,Statistiques!A360,'Concert 5'!$J$9:$J$56)","v":0},null,null,{"$f":"SUMIF('Concert 1'!$E$9:$E$56,Statistiques!A360,'Concert 1'!$I$9:$I$56)","v":0},{"$f":"SUMIF('Concert 1'!$E$9:$E$56,Statistiques!A360,'Concert 1'!$J$9:$J$56)","v":0},{"$f":"SUMIF('Concert 2'!$E$9:$E$56,Statistiques!A360,'Concert 2'!$I$9:$I$56)","v":0},{"$f":"SUMIF('Concert 2'!$E$9:$E$56,Statistiques!A360,'Concert 2'!$J$9:$J$56)","v":0},{"$f":"SUMIF('Concert 3'!$E$9:$E$56,Statistiques!A360,'Concert 3'!$I$9:$I$56)","v":0},{"$f":"SUMIF('Concert 3'!$E$9:$E$56,Statistiques!A360,'Concert 3'!$J$9:$J$56)","v":0},{"$f":"SUMIF('Concert 4'!$E$9:$E$56,Statistiques!A360,'Concert 4'!$I$9:$I$56)","v":0},{"$f":"SUMIF('Concert 4'!$E$9:$E$56,Statistiques!A360,'Concert 4'!$J$9:$J$56)","v":0},{"$f":"SUMIF('Concert 5'!$E$9:$E$56,Statistiques!A360,'Concert 5'!$I$9:$I$56)","v":0},{"$f":"SUMIF('Concert 5'!$E$9:$E$56,Statistiques!A360,'Concert 5'!$J$9:$J$56)","v":0}]
[{"$f":"Ecoles!A357","v":0},{"$f":"Ecoles!B357","v":0},{"$f":"Ecoles!C357","v":0},null,{"$f":"SUMIF('Concert 1'!$E$9:$E$56,Statistiques!A361,'Concert 1'!$I$9:$I$56)+SUMIF('Concert 2'!$E$9:$E$56,Statistiques!A361,'Concert 2'!$I$9:$I$56)+SUMIF('Concert 3'!$E$9:$E$56,Statistiques!A361,'Concert 3'!$I$9:$I$56)+SUMIF('Concert 4'!$E$9:$E$56,Statistiques!A361,'Concert 4'!$I$9:$I$56)+SUMIF('Concert 5'!$E$9:$E$56,Statistiques!A361,'Concert 5'!$I$9:$I$56)","v":0},{"$f":"SUMIF('Concert 1'!$E$9:$E$56,Statistiques!A361,'Concert 1'!$J$9:$J$56)+SUMIF('Concert 2'!$E$9:$E$56,Statistiques!A361,'Concert 2'!$J$9:$J$56)+SUMIF('Concert 3'!$E$9:$E$56,Statistiques!A361,'Concert 3'!$J$9:$J$56)+SUMIF('Concert 4'!$E$9:$E$56,Statistiques!A361,'Concert 4'!$J$9:$J$56)+SUMIF('Concert 5'!$E$9:$E$56,Statistiques!A361,'Concert 5'!$J$9:$J$56)","v":0},null,null,{"$f":"SUMIF('Concert 1'!$E$9:$E$56,Statistiques!A361,'Concert 1'!$I$9:$I$56)","v":0},{"$f":"SUMIF('Concert 1'!$E$9:$E$56,Statistiques!A361,'Concert 1'!$J$9:$J$56)","v":0},{"$f":"SUMIF('Concert 2'!$E$9:$E$56,Statistiques!A361,'Concert 2'!$I$9:$I$56)","v":0},{"$f":"SUMIF('Concert 2'!$E$9:$E$56,Statistiques!A361,'Concert 2'!$J$9:$J$56)","v":0},{"$f":"SUMIF('Concert 3'!$E$9:$E$56,Statistiques!A361,'Concert 3'!$I$9:$I$56)","v":0},{"$f":"SUMIF('Concert 3'!$E$9:$E$56,Statistiques!A361,'Concert 3'!$J$9:$J$56)","v":0},{"$f":"SUMIF('Concert 4'!$E$9:$E$56,Statistiques!A361,'Concert 4'!$I$9:$I$56)","v":0},{"$f":"SUMIF('Concert 4'!$E$9:$E$56,Statistiques!A361,'Concert 4'!$J$9:$J$56)","v":0},{"$f":"SUMIF('Concert 5'!$E$9:$E$56,Statistiques!A361,'Concert 5'!$I$9:$I$56)","v":0},{"$f":"SUMIF('Concert 5'!$E$9:$E$56,Statistiques!A361,'Concert 5'!$J$9:$J$56)","v":0}]
[{"$f":"Ecoles!A358","v":0},{"$f":"Ecoles!B358","v":0},{"$f":"Ecoles!C358","v":0},null,{"$f":"SUMIF('Concert 1'!$E$9:$E$56,Statistiques!A362,'Concert 1'!$I$9:$I$56)+SUMIF('Concert 2'!$E$9:$E$56,Statistiques!A362,'Concert 2'!$I$9:$I$56)+SUMIF('Concert 3'!$E$9:$E$56,Statistiques!A362,'Concert 3'!$I$9:$I$56)+SUMIF('Concert 4'!$E$9:$E$56,Statistiques!A362,'Concert 4'!$I$9:$I$56)+SUMIF('Concert 5'!$E$9:$E$56,Statistiques!A362,'Concert 5'!$I$9:$I$56)","v":0},{"$f":"SUMIF('Concert 1'!$E$9:$E$56,Statistiques!A362,'Concert 1'!$J$9:$J$56)+SUMIF('Concert 2'!$E$9:$E$56,Statistiques!A362,'Concert 2'!$J$9:$J$56)+SUMIF('Concert 3'!$E$9:$E$56,Statistiques!A362,'Concert 3'!$J$9:$J$56)+SUMIF('Concert 4'!$E$9:$E$56,Statistiques!A362,'Concert 4'!$J$9:$J$56)+SUMIF('Concert 5'!$E$9:$E$56,Statistiques!A362,'Concert 5'!$J$9:$J$56)","v":0},null,null,{"$f":"SUMIF('Concert 1'!$E$9:$E$56,Statistiques!A362,'Concert 1'!$I$9:$I$56)","v":0},{"$f":"SUMIF('Concert 1'!$E$9:$E$56,Statistiques!A362,'Concert 1'!$J$9:$J$56)","v":0},{"$f":"SUMIF('Concert 2'!$E$9:$E$56,Statistiques!A362,'Concert 2'!$I$9:$I$56)","v":0},{"$f":"SUMIF('Concert 2'!$E$9:$E$56,Statistiques!A362,'Concert 2'!$J$9:$J$56)","v":0},{"$f":"SUMIF('Concert 3'!$E$9:$E$56,Statistiques!A362,'Concert 3'!$I$9:$I$56)","v":0},{"$f":"SUMIF('Concert 3'!$E$9:$E$56,Statistiques!A362,'Concert 3'!$J$9:$J$56)","v":0},{"$f":"SUMIF('Concert 4'!$E$9:$E$56,Statistiques!A362,'Concert 4'!$I$9:$I$56)","v":0},{"$f":"SUMIF('Concert 4'!$E$9:$E$56,Statistiques!A362,'Concert 4'!$J$9:$J$56)","v":0},{"$f":"SUMIF('Concert 5'!$E$9:$E$56,Statistiques!A362,'Concert 5'!$I$9:$I$56)","v":0},{"$f":"SUMIF('Concert 5'!$E$9:$E$56,Statistiques!A362,'Concert 5'!$J$9:$J$56)","v":0}]
[{"$f":"Ecoles!A359","v":0},{"$f":"Ecoles!B359","v":0},{"$f":"Ecoles!C359","v":0},null,{"$f":"SUMIF('Concert 1'!$E$9:$E$56,Statistiques!A363,'Concert 1'!$I$9:$I$56)+SUMIF('Concert 2'!$E$9:$E$56,Statistiques!A363,'Concert 2'!$I$9:$I$56)+SUMIF('Concert 3'!$E$9:$E$56,Statistiques!A363,'Concert 3'!$I$9:$I$56)+SUMIF('Concert 4'!$E$9:$E$56,Statistiques!A363,'Concert 4'!$I$9:$I$56)+SUMIF('Concert 5'!$E$9:$E$56,Statistiques!A363,'Concert 5'!$I$9:$I$56)","v":0},{"$f":"SUMIF('Concert 1'!$E$9:$E$56,Statistiques!A363,'Concert 1'!$J$9:$J$56)+SUMIF('Concert 2'!$E$9:$E$56,Statistiques!A363,'Concert 2'!$J$9:$J$56)+SUMIF('Concert 3'!$E$9:$E$56,Statistiques!A363,'Concert 3'!$J$9:$J$56)+SUMIF('Concert 4'!$E$9:$E$56,Statistiques!A363,'Concert 4'!$J$9:$J$56)+SUMIF('Concert 5'!$E$9:$E$56,Statistiques!A363,'Concert 5'!$J$9:$J$56)","v":0},null,null,{"$f":"SUMIF('Concert 1'!$E$9:$E$56,Statistiques!A363,'Concert 1'!$I$9:$I$56)","v":0},{"$f":"SUMIF('Concert 1'!$E$9:$E$56,Statistiques!A363,'Concert 1'!$J$9:$J$56)","v":0},{"$f":"SUMIF('Concert 2'!$E$9:$E$56,Statistiques!A363,'Concert 2'!$I$9:$I$56)","v":0},{"$f":"SUMIF('Concert 2'!$E$9:$E$56,Statistiques!A363,'Concert 2'!$J$9:$J$56)","v":0},{"$f":"SUMIF('Concert 3'!$E$9:$E$56,Statistiques!A363,'Concert 3'!$I$9:$I$56)","v":0},{"$f":"SUMIF('Concert 3'!$E$9:$E$56,Statistiques!A363,'Concert 3'!$J$9:$J$56)","v":0},{"$f":"SUMIF('Concert 4'!$E$9:$E$56,Statistiques!A363,'Concert 4'!$I$9:$I$56)","v":0},{"$f":"SUMIF('Concert 4'!$E$9:$E$56,Statistiques!A363,'Concert 4'!$J$9:$J$56)","v":0},{"$f":"SUMIF('Concert 5'!$E$9:$E$56,Statistiques!A363,'Concert 5'!$I$9:$I$56)","v":0},{"$f":"SUMIF('Concert 5'!$E$9:$E$56,Statistiques!A363,'Concert 5'!$J$9:$J$56)","v":0}]
[{"$f":"Ecoles!A360","v":0},{"$f":"Ecoles!B360","v":0},{"$f":"Ecoles!C360","v":0},null,{"$f":"SUMIF('Concert 1'!$E$9:$E$56,Statistiques!A364,'Concert 1'!$I$9:$I$56)+SUMIF('Concert 2'!$E$9:$E$56,Statistiques!A364,'Concert 2'!$I$9:$I$56)+SUMIF('Concert 3'!$E$9:$E$56,Statistiques!A364,'Concert 3'!$I$9:$I$56)+SUMIF('Concert 4'!$E$9:$E$56,Statistiques!A364,'Concert 4'!$I$9:$I$56)+SUMIF('Concert 5'!$E$9:$E$56,Statistiques!A364,'Concert 5'!$I$9:$I$56)","v":0},{"$f":"SUMIF('Concert 1'!$E$9:$E$56,Statistiques!A364,'Concert 1'!$J$9:$J$56)+SUMIF('Concert 2'!$E$9:$E$56,Statistiques!A364,'Concert 2'!$J$9:$J$56)+SUMIF('Concert 3'!$E$9:$E$56,Statistiques!A364,'Concert 3'!$J$9:$J$56)+SUMIF('Concert 4'!$E$9:$E$56,Statistiques!A364,'Concert 4'!$J$9:$J$56)+SUMIF('Concert 5'!$E$9:$E$56,Statistiques!A364,'Concert 5'!$J$9:$J$56)","v":0},null,null,{"$f":"SUMIF('Concert 1'!$E$9:$E$56,Statistiques!A364,'Concert 1'!$I$9:$I$56)","v":0},{"$f":"SUMIF('Concert 1'!$E$9:$E$56,Statistiques!A364,'Concert 1'!$J$9:$J$56)","v":0},{"$f":"SUMIF('Concert 2'!$E$9:$E$56,Statistiques!A364,'Concert 2'!$I$9:$I$56)","v":0},{"$f":"SUMIF('Concert 2'!$E$9:$E$56,Statistiques!A364,'Concert 2'!$J$9:$J$56)","v":0},{"$f":"SUMIF('Concert 3'!$E$9:$E$56,Statistiques!A364,'Concert 3'!$I$9:$I$56)","v":0},{"$f":"SUMIF('Concert 3'!$E$9:$E$56,Statistiques!A364,'Concert 3'!$J$9:$J$56)","v":0},{"$f":"SUMIF('Concert 4'!$E$9:$E$56,Statistiques!A364,'Concert 4'!$I$9:$I$56)","v":0},{"$f":"SUMIF('Concert 4'!$E$9:$E$56,Statistiques!A364,'Concert 4'!$J$9:$J$56)","v":0},{"$f":"SUMIF('Concert 5'!$E$9:$E$56,Statistiques!A364,'Concert 5'!$I$9:$I$56)","v":0},{"$f":"SUMIF('Concert 5'!$E$9:$E$56,Statistiques!A364,'Concert 5'!$J$9:$J$56)","v":0}]
[{"$f":"Ecoles!A361","v":0},{"$f":"Ecoles!B361","v":0},{"$f":"Ecoles!C361","v":0},null,{"$f":"SUMIF('Concert 1'!$E$9:$E$56,Statistiques!A365,'Concert 1'!$I$9:$I$56)+SUMIF('Concert 2'!$E$9:$E$56,Statistiques!A365,'Concert 2'!$I$9:$I$56)+SUMIF('Concert 3'!$E$9:$E$56,Statistiques!A365,'Concert 3'!$I$9:$I$56)+SUMIF('Concert 4'!$E$9:$E$56,Statistiques!A365,'Concert 4'!$I$9:$I$56)+SUMIF('Concert 5'!$E$9:$E$56,Statistiques!A365,'Concert 5'!$I$9:$I$56)","v":0},{"$f":"SUMIF('Concert 1'!$E$9:$E$56,Statistiques!A365,'Concert 1'!$J$9:$J$56)+SUMIF('Concert 2'!$E$9:$E$56,Statistiques!A365,'Concert 2'!$J$9:$J$56)+SUMIF('Concert 3'!$E$9:$E$56,Statistiques!A365,'Concert 3'!$J$9:$J$56)+SUMIF('Concert 4'!$E$9:$E$56,Statistiques!A365,'Concert 4'!$J$9:$J$56)+SUMIF('Concert 5'!$E$9:$E$56,Statistiques!A365,'Concert 5'!$J$9:$J$56)","v":0},null,null,{"$f":"SUMIF('Concert 1'!$E$9:$E$56,Statistiques!A365,'Concert 1'!$I$9:$I$56)","v":0},{"$f":"SUMIF('Concert 1'!$E$9:$E$56,Statistiques!A365,'Concert 1'!$J$9:$J$56)","v":0},{"$f":"SUMIF('Concert 2'!$E$9:$E$56,Statistiques!A365,'Concert 2'!$I$9:$I$56)","v":0},{"$f":"SUMIF('Concert 2'!$E$9:$E$56,Statistiques!A365,'Concert 2'!$J$9:$J$56)","v":0},{"$f":"SUMIF('Concert 3'!$E$9:$E$56,Statistiques!A365,'Concert 3'!$I$9:$I$56)","v":0},{"$f":"SUMIF('Concert 3'!$E$9:$E$56,Statistiques!A365,'Concert 3'!$J$9:$J$56)","v":0},{"$f":"SUMIF('Concert 4'!$E$9:$E$56,Statistiques!A365,'Concert 4'!$I$9:$I$56)","v":0},{"$f":"SUMIF('Concert 4'!$E$9:$E$56,Statistiques!A365,'Concert 4'!$J$9:$J$56)","v":0},{"$f":"SUMIF('Concert 5'!$E$9:$E$56,Statistiques!A365,'Concert 5'!$I$9:$I$56)","v":0},{"$f":"SUMIF('Concert 5'!$E$9:$E$56,Statistiques!A365,'Concert 5'!$J$9:$J$56)","v":0}]
[{"$f":"Ecoles!A362","v":0},{"$f":"Ecoles!B362","v":0},{"$f":"Ecoles!C362","v":0},null,{"$f":"SUMIF('Concert 1'!$E$9:$E$56,Statistiques!A366,'Concert 1'!$I$9:$I$56)+SUMIF('Concert 2'!$E$9:$E$56,Statistiques!A366,'Concert 2'!$I$9:$I$56)+SUMIF('Concert 3'!$E$9:$E$56,Statistiques!A366,'Concert 3'!$I$9:$I$56)+SUMIF('Concert 4'!$E$9:$E$56,Statistiques!A366,'Concert 4'!$I$9:$I$56)+SUMIF('Concert 5'!$E$9:$E$56,Statistiques!A366,'Concert 5'!$I$9:$I$56)","v":0},{"$f":"SUMIF('Concert 1'!$E$9:$E$56,Statistiques!A366,'Concert 1'!$J$9:$J$56)+SUMIF('Concert 2'!$E$9:$E$56,Statistiques!A366,'Concert 2'!$J$9:$J$56)+SUMIF('Concert 3'!$E$9:$E$56,Statistiques!A366,'Concert 3'!$J$9:$J$56)+SUMIF('Concert 4'!$E$9:$E$56,Statistiques!A366,'Concert 4'!$J$9:$J$56)+SUMIF('Concert 5'!$E$9:$E$56,Statistiques!A366,'Concert 5'!$J$9:$J$56)","v":0},null,null,{"$f":"SUMIF('Concert 1'!$E$9:$E$56,Statistiques!A366,'Concert 1'!$I$9:$I$56)","v":0},{"$f":"SUMIF('Concert 1'!$E$9:$E$56,Statistiques!A366,'Concert 1'!$J$9:$J$56)","v":0},{"$f":"SUMIF('Concert 2'!$E$9:$E$56,Statistiques!A366,'Concert 2'!$I$9:$I$56)","v":0},{"$f":"SUMIF('Concert 2'!$E$9:$E$56,Statistiques!A366,'Concert 2'!$J$9:$J$56)","v":0},{"$f":"SUMIF('Concert 3'!$E$9:$E$56,Statistiques!A366,'Concert 3'!$I$9:$I$56)","v":0},{"$f":"SUMIF('Concert 3'!$E$9:$E$56,Statistiques!A366,'Concert 3'!$J$9:$J$56)","v":0},{"$f":"SUMIF('Concert 4'!$E$9:$E$56,Statistiques!A366,'Concert 4'!$I$9:$I$56)","v":0},{"$f":"SUMIF('Concert 4'!$E$9:$E$56,Statistiques!A366,'Concert 4'!$J$9:$J$56)","v":0},{"$f":"SUMIF('Concert 5'!$E$9:$E$56,Statistiques!A366,'Concert 5'!$I$9:$I$56)","v":0},{"$f":"SUMIF('Concert 5'!$E$9:$E$56,Statistiques!A366,'Concert 5'!$J$9:$J$56)","v":0}]
[{"$f":"Ecoles!A363","v":0},{"$f":"Ecoles!B363","v":0},{"$f":"Ecoles!C363","v":0},null,{"$f":"SUMIF('Concert 1'!$E$9:$E$56,Statistiques!A367,'Concert 1'!$I$9:$I$56)+SUMIF('Concert 2'!$E$9:$E$56,Statistiques!A367,'Concert 2'!$I$9:$I$56)+SUMIF('Concert 3'!$E$9:$E$56,Statistiques!A367,'Concert 3'!$I$9:$I$56)+SUMIF('Concert 4'!$E$9:$E$56,Statistiques!A367,'Concert 4'!$I$9:$I$56)+SUMIF('Concert 5'!$E$9:$E$56,Statistiques!A367,'Concert 5'!$I$9:$I$56)","v":0},{"$f":"SUMIF('Concert 1'!$E$9:$E$56,Statistiques!A367,'Concert 1'!$J$9:$J$56)+SUMIF('Concert 2'!$E$9:$E$56,Statistiques!A367,'Concert 2'!$J$9:$J$56)+SUMIF('Concert 3'!$E$9:$E$56,Statistiques!A367,'Concert 3'!$J$9:$J$56)+SUMIF('Concert 4'!$E$9:$E$56,Statistiques!A367,'Concert 4'!$J$9:$J$56)+SUMIF('Concert 5'!$E$9:$E$56,Statistiques!A367,'Concert 5'!$J$9:$J$56)","v":0},null,null,{"$f":"SUMIF('Concert 1'!$E$9:$E$56,Statistiques!A367,'Concert 1'!$I$9:$I$56)","v":0},{"$f":"SUMIF('Concert 1'!$E$9:$E$56,Statistiques!A367,'Concert 1'!$J$9:$J$56)","v":0},{"$f":"SUMIF('Concert 2'!$E$9:$E$56,Statistiques!A367,'Concert 2'!$I$9:$I$56)","v":0},{"$f":"SUMIF('Concert 2'!$E$9:$E$56,Statistiques!A367,'Concert 2'!$J$9:$J$56)","v":0},{"$f":"SUMIF('Concert 3'!$E$9:$E$56,Statistiques!A367,'Concert 3'!$I$9:$I$56)","v":0},{"$f":"SUMIF('Concert 3'!$E$9:$E$56,Statistiques!A367,'Concert 3'!$J$9:$J$56)","v":0},{"$f":"SUMIF('Concert 4'!$E$9:$E$56,Statistiques!A367,'Concert 4'!$I$9:$I$56)","v":0},{"$f":"SUMIF('Concert 4'!$E$9:$E$56,Statistiques!A367,'Concert 4'!$J$9:$J$56)","v":0},{"$f":"SUMIF('Concert 5'!$E$9:$E$56,Statistiques!A367,'Concert 5'!$I$9:$I$56)","v":0},{"$f":"SUMIF('Concert 5'!$E$9:$E$56,Statistiques!A367,'Concert 5'!$J$9:$J$56)","v":0}]
[{"$f":"Ecoles!A364","v":0},{"$f":"Ecoles!B364","v":0},{"$f":"Ecoles!C364","v":0},null,{"$f":"SUMIF('Concert 1'!$E$9:$E$56,Statistiques!A368,'Concert 1'!$I$9:$I$56)+SUMIF('Concert 2'!$E$9:$E$56,Statistiques!A368,'Concert 2'!$I$9:$I$56)+SUMIF('Concert 3'!$E$9:$E$56,Statistiques!A368,'Concert 3'!$I$9:$I$56)+SUMIF('Concert 4'!$E$9:$E$56,Statistiques!A368,'Concert 4'!$I$9:$I$56)+SUMIF('Concert 5'!$E$9:$E$56,Statistiques!A368,'Concert 5'!$I$9:$I$56)","v":0},{"$f":"SUMIF('Concert 1'!$E$9:$E$56,Statistiques!A368,'Concert 1'!$J$9:$J$56)+SUMIF('Concert 2'!$E$9:$E$56,Statistiques!A368,'Concert 2'!$J$9:$J$56)+SUMIF('Concert 3'!$E$9:$E$56,Statistiques!A368,'Concert 3'!$J$9:$J$56)+SUMIF('Concert 4'!$E$9:$E$56,Statistiques!A368,'Concert 4'!$J$9:$J$56)+SUMIF('Concert 5'!$E$9:$E$56,Statistiques!A368,'Concert 5'!$J$9:$J$56)","v":0},null,null,{"$f":"SUMIF('Concert 1'!$E$9:$E$56,Statistiques!A368,'Concert 1'!$I$9:$I$56)","v":0},{"$f":"SUMIF('Concert 1'!$E$9:$E$56,Statistiques!A368,'Concert 1'!$J$9:$J$56)","v":0},{"$f":"SUMIF('Concert 2'!$E$9:$E$56,Statistiques!A368,'Concert 2'!$I$9:$I$56)","v":0},{"$f":"SUMIF('Concert 2'!$E$9:$E$56,Statistiques!A368,'Concert 2'!$J$9:$J$56)","v":0},{"$f":"SUMIF('Concert 3'!$E$9:$E$56,Statistiques!A368,'Concert 3'!$I$9:$I$56)","v":0},{"$f":"SUMIF('Concert 3'!$E$9:$E$56,Statistiques!A368,'Concert 3'!$J$9:$J$56)","v":0},{"$f":"SUMIF('Concert 4'!$E$9:$E$56,Statistiques!A368,'Concert 4'!$I$9:$I$56)","v":0},{"$f":"SUMIF('Concert 4'!$E$9:$E$56,Statistiques!A368,'Concert 4'!$J$9:$J$56)","v":0},{"$f":"SUMIF('Concert 5'!$E$9:$E$56,Statistiques!A368,'Concert 5'!$I$9:$I$56)","v":0},{"$f":"SUMIF('Concert 5'!$E$9:$E$56,Statistiques!A368,'Concert 5'!$J$9:$J$56)","v":0}]
[{"$f":"Ecoles!A365","v":0},{"$f":"Ecoles!B365","v":0},{"$f":"Ecoles!C365","v":0},null,{"$f":"SUMIF('Concert 1'!$E$9:$E$56,Statistiques!A369,'Concert 1'!$I$9:$I$56)+SUMIF('Concert 2'!$E$9:$E$56,Statistiques!A369,'Concert 2'!$I$9:$I$56)+SUMIF('Concert 3'!$E$9:$E$56,Statistiques!A369,'Concert 3'!$I$9:$I$56)+SUMIF('Concert 4'!$E$9:$E$56,Statistiques!A369,'Concert 4'!$I$9:$I$56)+SUMIF('Concert 5'!$E$9:$E$56,Statistiques!A369,'Concert 5'!$I$9:$I$56)","v":0},{"$f":"SUMIF('Concert 1'!$E$9:$E$56,Statistiques!A369,'Concert 1'!$J$9:$J$56)+SUMIF('Concert 2'!$E$9:$E$56,Statistiques!A369,'Concert 2'!$J$9:$J$56)+SUMIF('Concert 3'!$E$9:$E$56,Statistiques!A369,'Concert 3'!$J$9:$J$56)+SUMIF('Concert 4'!$E$9:$E$56,Statistiques!A369,'Concert 4'!$J$9:$J$56)+SUMIF('Concert 5'!$E$9:$E$56,Statistiques!A369,'Concert 5'!$J$9:$J$56)","v":0},null,null,{"$f":"SUMIF('Concert 1'!$E$9:$E$56,Statistiques!A369,'Concert 1'!$I$9:$I$56)","v":0},{"$f":"SUMIF('Concert 1'!$E$9:$E$56,Statistiques!A369,'Concert 1'!$J$9:$J$56)","v":0},{"$f":"SUMIF('Concert 2'!$E$9:$E$56,Statistiques!A369,'Concert 2'!$I$9:$I$56)","v":0},{"$f":"SUMIF('Concert 2'!$E$9:$E$56,Statistiques!A369,'Concert 2'!$J$9:$J$56)","v":0},{"$f":"SUMIF('Concert 3'!$E$9:$E$56,Statistiques!A369,'Concert 3'!$I$9:$I$56)","v":0},{"$f":"SUMIF('Concert 3'!$E$9:$E$56,Statistiques!A369,'Concert 3'!$J$9:$J$56)","v":0},{"$f":"SUMIF('Concert 4'!$E$9:$E$56,Statistiques!A369,'Concert 4'!$I$9:$I$56)","v":0},{"$f":"SUMIF('Concert 4'!$E$9:$E$56,Statistiques!A369,'Concert 4'!$J$9:$J$56)","v":0},{"$f":"SUMIF('Concert 5'!$E$9:$E$56,Statistiques!A369,'Concert 5'!$I$9:$I$56)","v":0},{"$f":"SUMIF('Concert 5'!$E$9:$E$56,Statistiques!A369,'Concert 5'!$J$9:$J$56)","v":0}]
[{"$f":"Ecoles!A366","v":0},{"$f":"Ecoles!B366","v":0},{"$f":"Ecoles!C366","v":0},null,{"$f":"SUMIF('Concert 1'!$E$9:$E$56,Statistiques!A370,'Concert 1'!$I$9:$I$56)+SUMIF('Concert 2'!$E$9:$E$56,Statistiques!A370,'Concert 2'!$I$9:$I$56)+SUMIF('Concert 3'!$E$9:$E$56,Statistiques!A370,'Concert 3'!$I$9:$I$56)+SUMIF('Concert 4'!$E$9:$E$56,Statistiques!A370,'Concert 4'!$I$9:$I$56)+SUMIF('Concert 5'!$E$9:$E$56,Statistiques!A370,'Concert 5'!$I$9:$I$56)","v":0},{"$f":"SUMIF('Concert 1'!$E$9:$E$56,Statistiques!A370,'Concert 1'!$J$9:$J$56)+SUMIF('Concert 2'!$E$9:$E$56,Statistiques!A370,'Concert 2'!$J$9:$J$56)+SUMIF('Concert 3'!$E$9:$E$56,Statistiques!A370,'Concert 3'!$J$9:$J$56)+SUMIF('Concert 4'!$E$9:$E$56,Statistiques!A370,'Concert 4'!$J$9:$J$56)+SUMIF('Concert 5'!$E$9:$E$56,Statistiques!A370,'Concert 5'!$J$9:$J$56)","v":0},null,null,{"$f":"SUMIF('Concert 1'!$E$9:$E$56,Statistiques!A370,'Concert 1'!$I$9:$I$56)","v":0},{"$f":"SUMIF('Concert 1'!$E$9:$E$56,Statistiques!A370,'Concert 1'!$J$9:$J$56)","v":0},{"$f":"SUMIF('Concert 2'!$E$9:$E$56,Statistiques!A370,'Concert 2'!$I$9:$I$56)","v":0},{"$f":"SUMIF('Concert 2'!$E$9:$E$56,Statistiques!A370,'Concert 2'!$J$9:$J$56)","v":0},{"$f":"SUMIF('Concert 3'!$E$9:$E$56,Statistiques!A370,'Concert 3'!$I$9:$I$56)","v":0},{"$f":"SUMIF('Concert 3'!$E$9:$E$56,Statistiques!A370,'Concert 3'!$J$9:$J$56)","v":0},{"$f":"SUMIF('Concert 4'!$E$9:$E$56,Statistiques!A370,'Concert 4'!$I$9:$I$56)","v":0},{"$f":"SUMIF('Concert 4'!$E$9:$E$56,Statistiques!A370,'Concert 4'!$J$9:$J$56)","v":0},{"$f":"SUMIF('Concert 5'!$E$9:$E$56,Statistiques!A370,'Concert 5'!$I$9:$I$56)","v":0},{"$f":"SUMIF('Concert 5'!$E$9:$E$56,Statistiques!A370,'Concert 5'!$J$9:$J$56)","v":0}]
[{"$f":"Ecoles!A367","v":0},{"$f":"Ecoles!B367","v":0},{"$f":"Ecoles!C367","v":0},null,{"$f":"SUMIF('Concert 1'!$E$9:$E$56,Statistiques!A371,'Concert 1'!$I$9:$I$56)+SUMIF('Concert 2'!$E$9:$E$56,Statistiques!A371,'Concert 2'!$I$9:$I$56)+SUMIF('Concert 3'!$E$9:$E$56,Statistiques!A371,'Concert 3'!$I$9:$I$56)+SUMIF('Concert 4'!$E$9:$E$56,Statistiques!A371,'Concert 4'!$I$9:$I$56)+SUMIF('Concert 5'!$E$9:$E$56,Statistiques!A371,'Concert 5'!$I$9:$I$56)","v":0},{"$f":"SUMIF('Concert 1'!$E$9:$E$56,Statistiques!A371,'Concert 1'!$J$9:$J$56)+SUMIF('Concert 2'!$E$9:$E$56,Statistiques!A371,'Concert 2'!$J$9:$J$56)+SUMIF('Concert 3'!$E$9:$E$56,Statistiques!A371,'Concert 3'!$J$9:$J$56)+SUMIF('Concert 4'!$E$9:$E$56,Statistiques!A371,'Concert 4'!$J$9:$J$56)+SUMIF('Concert 5'!$E$9:$E$56,Statistiques!A371,'Concert 5'!$J$9:$J$56)","v":0},null,null,{"$f":"SUMIF('Concert 1'!$E$9:$E$56,Statistiques!A371,'Concert 1'!$I$9:$I$56)","v":0},{"$f":"SUMIF('Concert 1'!$E$9:$E$56,Statistiques!A371,'Concert 1'!$J$9:$J$56)","v":0},{"$f":"SUMIF('Concert 2'!$E$9:$E$56,Statistiques!A371,'Concert 2'!$I$9:$I$56)","v":0},{"$f":"SUMIF('Concert 2'!$E$9:$E$56,Statistiques!A371,'Concert 2'!$J$9:$J$56)","v":0},{"$f":"SUMIF('Concert 3'!$E$9:$E$56,Statistiques!A371,'Concert 3'!$I$9:$I$56)","v":0},{"$f":"SUMIF('Concert 3'!$E$9:$E$56,Statistiques!A371,'Concert 3'!$J$9:$J$56)","v":0},{"$f":"SUMIF('Concert 4'!$E$9:$E$56,Statistiques!A371,'Concert 4'!$I$9:$I$56)","v":0},{"$f":"SUMIF('Concert 4'!$E$9:$E$56,Statistiques!A371,'Concert 4'!$J$9:$J$56)","v":0},{"$f":"SUMIF('Concert 5'!$E$9:$E$56,Statistiques!A371,'Concert 5'!$I$9:$I$56)","v":0},{"$f":"SUMIF('Concert 5'!$E$9:$E$56,Statistiques!A371,'Concert 5'!$J$9:$J$56)","v":0}]
[{"$f":"Ecoles!A368","v":0},{"$f":"Ecoles!B368","v":0},{"$f":"Ecoles!C368","v":0},null,{"$f":"SUMIF('Concert 1'!$E$9:$E$56,Statistiques!A372,'Concert 1'!$I$9:$I$56)+SUMIF('Concert 2'!$E$9:$E$56,Statistiques!A372,'Concert 2'!$I$9:$I$56)+SUMIF('Concert 3'!$E$9:$E$56,Statistiques!A372,'Concert 3'!$I$9:$I$56)+SUMIF('Concert 4'!$E$9:$E$56,Statistiques!A372,'Concert 4'!$I$9:$I$56)+SUMIF('Concert 5'!$E$9:$E$56,Statistiques!A372,'Concert 5'!$I$9:$I$56)","v":0},{"$f":"SUMIF('Concert 1'!$E$9:$E$56,Statistiques!A372,'Concert 1'!$J$9:$J$56)+SUMIF('Concert 2'!$E$9:$E$56,Statistiques!A372,'Concert 2'!$J$9:$J$56)+SUMIF('Concert 3'!$E$9:$E$56,Statistiques!A372,'Concert 3'!$J$9:$J$56)+SUMIF('Concert 4'!$E$9:$E$56,Statistiques!A372,'Concert 4'!$J$9:$J$56)+SUMIF('Concert 5'!$E$9:$E$56,Statistiques!A372,'Concert 5'!$J$9:$J$56)","v":0},null,null,{"$f":"SUMIF('Concert 1'!$E$9:$E$56,Statistiques!A372,'Concert 1'!$I$9:$I$56)","v":0},{"$f":"SUMIF('Concert 1'!$E$9:$E$56,Statistiques!A372,'Concert 1'!$J$9:$J$56)","v":0},{"$f":"SUMIF('Concert 2'!$E$9:$E$56,Statistiques!A372,'Concert 2'!$I$9:$I$56)","v":0},{"$f":"SUMIF('Concert 2'!$E$9:$E$56,Statistiques!A372,'Concert 2'!$J$9:$J$56)","v":0},{"$f":"SUMIF('Concert 3'!$E$9:$E$56,Statistiques!A372,'Concert 3'!$I$9:$I$56)","v":0},{"$f":"SUMIF('Concert 3'!$E$9:$E$56,Statistiques!A372,'Concert 3'!$J$9:$J$56)","v":0},{"$f":"SUMIF('Concert 4'!$E$9:$E$56,Statistiques!A372,'Concert 4'!$I$9:$I$56)","v":0},{"$f":"SUMIF('Concert 4'!$E$9:$E$56,Statistiques!A372,'Concert 4'!$J$9:$J$56)","v":0},{"$f":"SUMIF('Concert 5'!$E$9:$E$56,Statistiques!A372,'Concert 5'!$I$9:$I$56)","v":0},{"$f":"SUMIF('Concert 5'!$E$9:$E$56,Statistiques!A372,'Concert 5'!$J$9:$J$56)","v":0}]
[{"$f":"Ecoles!A369","v":0},{"$f":"Ecoles!B369","v":0},{"$f":"Ecoles!C369","v":0},null,{"$f":"SUMIF('Concert 1'!$E$9:$E$56,Statistiques!A373,'Concert 1'!$I$9:$I$56)+SUMIF('Concert 2'!$E$9:$E$56,Statistiques!A373,'Concert 2'!$I$9:$I$56)+SUMIF('Concert 3'!$E$9:$E$56,Statistiques!A373,'Concert 3'!$I$9:$I$56)+SUMIF('Concert 4'!$E$9:$E$56,Statistiques!A373,'Concert 4'!$I$9:$I$56)+SUMIF('Concert 5'!$E$9:$E$56,Statistiques!A373,'Concert 5'!$I$9:$I$56)","v":0},{"$f":"SUMIF('Concert 1'!$E$9:$E$56,Statistiques!A373,'Concert 1'!$J$9:$J$56)+SUMIF('Concert 2'!$E$9:$E$56,Statistiques!A373,'Concert 2'!$J$9:$J$56)+SUMIF('Concert 3'!$E$9:$E$56,Statistiques!A373,'Concert 3'!$J$9:$J$56)+SUMIF('Concert 4'!$E$9:$E$56,Statistiques!A373,'Concert 4'!$J$9:$J$56)+SUMIF('Concert 5'!$E$9:$E$56,Statistiques!A373,'Concert 5'!$J$9:$J$56)","v":0},null,null,{"$f":"SUMIF('Concert 1'!$E$9:$E$56,Statistiques!A373,'Concert 1'!$I$9:$I$56)","v":0},{"$f":"SUMIF('Concert 1'!$E$9:$E$56,Statistiques!A373,'Concert 1'!$J$9:$J$56)","v":0},{"$f":"SUMIF('Concert 2'!$E$9:$E$56,Statistiques!A373,'Concert 2'!$I$9:$I$56)","v":0},{"$f":"SUMIF('Concert 2'!$E$9:$E$56,Statistiques!A373,'Concert 2'!$J$9:$J$56)","v":0},{"$f":"SUMIF('Concert 3'!$E$9:$E$56,Statistiques!A373,'Concert 3'!$I$9:$I$56)","v":0},{"$f":"SUMIF('Concert 3'!$E$9:$E$56,Statistiques!A373,'Concert 3'!$J$9:$J$56)","v":0},{"$f":"SUMIF('Concert 4'!$E$9:$E$56,Statistiques!A373,'Concert 4'!$I$9:$I$56)","v":0},{"$f":"SUMIF('Concert 4'!$E$9:$E$56,Statistiques!A373,'Concert 4'!$J$9:$J$56)","v":0},{"$f":"SUMIF('Concert 5'!$E$9:$E$56,Statistiques!A373,'Concert 5'!$I$9:$I$56)","v":0},{"$f":"SUMIF('Concert 5'!$E$9:$E$56,Statistiques!A373,'Concert 5'!$J$9:$J$56)","v":0}]
[{"$f":"Ecoles!A370","v":0},{"$f":"Ecoles!B370","v":0},{"$f":"Ecoles!C370","v":0},null,{"$f":"SUMIF('Concert 1'!$E$9:$E$56,Statistiques!A374,'Concert 1'!$I$9:$I$56)+SUMIF('Concert 2'!$E$9:$E$56,Statistiques!A374,'Concert 2'!$I$9:$I$56)+SUMIF('Concert 3'!$E$9:$E$56,Statistiques!A374,'Concert 3'!$I$9:$I$56)+SUMIF('Concert 4'!$E$9:$E$56,Statistiques!A374,'Concert 4'!$I$9:$I$56)+SUMIF('Concert 5'!$E$9:$E$56,Statistiques!A374,'Concert 5'!$I$9:$I$56)","v":0},{"$f":"SUMIF('Concert 1'!$E$9:$E$56,Statistiques!A374,'Concert 1'!$J$9:$J$56)+SUMIF('Concert 2'!$E$9:$E$56,Statistiques!A374,'Concert 2'!$J$9:$J$56)+SUMIF('Concert 3'!$E$9:$E$56,Statistiques!A374,'Concert 3'!$J$9:$J$56)+SUMIF('Concert 4'!$E$9:$E$56,Statistiques!A374,'Concert 4'!$J$9:$J$56)+SUMIF('Concert 5'!$E$9:$E$56,Statistiques!A374,'Concert 5'!$J$9:$J$56)","v":0},null,null,{"$f":"SUMIF('Concert 1'!$E$9:$E$56,Statistiques!A374,'Concert 1'!$I$9:$I$56)","v":0},{"$f":"SUMIF('Concert 1'!$E$9:$E$56,Statistiques!A374,'Concert 1'!$J$9:$J$56)","v":0},{"$f":"SUMIF('Concert 2'!$E$9:$E$56,Statistiques!A374,'Concert 2'!$I$9:$I$56)","v":0},{"$f":"SUMIF('Concert 2'!$E$9:$E$56,Statistiques!A374,'Concert 2'!$J$9:$J$56)","v":0},{"$f":"SUMIF('Concert 3'!$E$9:$E$56,Statistiques!A374,'Concert 3'!$I$9:$I$56)","v":0},{"$f":"SUMIF('Concert 3'!$E$9:$E$56,Statistiques!A374,'Concert 3'!$J$9:$J$56)","v":0},{"$f":"SUMIF('Concert 4'!$E$9:$E$56,Statistiques!A374,'Concert 4'!$I$9:$I$56)","v":0},{"$f":"SUMIF('Concert 4'!$E$9:$E$56,Statistiques!A374,'Concert 4'!$J$9:$J$56)","v":0},{"$f":"SUMIF('Concert 5'!$E$9:$E$56,Statistiques!A374,'Concert 5'!$I$9:$I$56)","v":0},{"$f":"SUMIF('Concert 5'!$E$9:$E$56,Statistiques!A374,'Concert 5'!$J$9:$J$56)","v":0}]
[{"$f":"Ecoles!A371","v":0},{"$f":"Ecoles!B371","v":0},{"$f":"Ecoles!C371","v":0},null,{"$f":"SUMIF('Concert 1'!$E$9:$E$56,Statistiques!A375,'Concert 1'!$I$9:$I$56)+SUMIF('Concert 2'!$E$9:$E$56,Statistiques!A375,'Concert 2'!$I$9:$I$56)+SUMIF('Concert 3'!$E$9:$E$56,Statistiques!A375,'Concert 3'!$I$9:$I$56)+SUMIF('Concert 4'!$E$9:$E$56,Statistiques!A375,'Concert 4'!$I$9:$I$56)+SUMIF('Concert 5'!$E$9:$E$56,Statistiques!A375,'Concert 5'!$I$9:$I$56)","v":0},{"$f":"SUMIF('Concert 1'!$E$9:$E$56,Statistiques!A375,'Concert 1'!$J$9:$J$56)+SUMIF('Concert 2'!$E$9:$E$56,Statistiques!A375,'Concert 2'!$J$9:$J$56)+SUMIF('Concert 3'!$E$9:$E$56,Statistiques!A375,'Concert 3'!$J$9:$J$56)+SUMIF('Concert 4'!$E$9:$E$56,Statistiques!A375,'Concert 4'!$J$9:$J$56)+SUMIF('Concert 5'!$E$9:$E$56,Statistiques!A375,'Concert 5'!$J$9:$J$56)","v":0},null,null,{"$f":"SUMIF('Concert 1'!$E$9:$E$56,Statistiques!A375,'Concert 1'!$I$9:$I$56)","v":0},{"$f":"SUMIF('Concert 1'!$E$9:$E$56,Statistiques!A375,'Concert 1'!$J$9:$J$56)","v":0},{"$f":"SUMIF('Concert 2'!$E$9:$E$56,Statistiques!A375,'Concert 2'!$I$9:$I$56)","v":0},{"$f":"SUMIF('Concert 2'!$E$9:$E$56,Statistiques!A375,'Concert 2'!$J$9:$J$56)","v":0},{"$f":"SUMIF('Concert 3'!$E$9:$E$56,Statistiques!A375,'Concert 3'!$I$9:$I$56)","v":0},{"$f":"SUMIF('Concert 3'!$E$9:$E$56,Statistiques!A375,'Concert 3'!$J$9:$J$56)","v":0},{"$f":"SUMIF('Concert 4'!$E$9:$E$56,Statistiques!A375,'Concert 4'!$I$9:$I$56)","v":0},{"$f":"SUMIF('Concert 4'!$E$9:$E$56,Statistiques!A375,'Concert 4'!$J$9:$J$56)","v":0},{"$f":"SUMIF('Concert 5'!$E$9:$E$56,Statistiques!A375,'Concert 5'!$I$9:$I$56)","v":0},{"$f":"SUMIF('Concert 5'!$E$9:$E$56,Statistiques!A375,'Concert 5'!$J$9:$J$56)","v":0}]
[{"$f":"Ecoles!A372","v":0},{"$f":"Ecoles!B372","v":0},{"$f":"Ecoles!C372","v":0},null,{"$f":"SUMIF('Concert 1'!$E$9:$E$56,Statistiques!A376,'Concert 1'!$I$9:$I$56)+SUMIF('Concert 2'!$E$9:$E$56,Statistiques!A376,'Concert 2'!$I$9:$I$56)+SUMIF('Concert 3'!$E$9:$E$56,Statistiques!A376,'Concert 3'!$I$9:$I$56)+SUMIF('Concert 4'!$E$9:$E$56,Statistiques!A376,'Concert 4'!$I$9:$I$56)+SUMIF('Concert 5'!$E$9:$E$56,Statistiques!A376,'Concert 5'!$I$9:$I$56)","v":0},{"$f":"SUMIF('Concert 1'!$E$9:$E$56,Statistiques!A376,'Concert 1'!$J$9:$J$56)+SUMIF('Concert 2'!$E$9:$E$56,Statistiques!A376,'Concert 2'!$J$9:$J$56)+SUMIF('Concert 3'!$E$9:$E$56,Statistiques!A376,'Concert 3'!$J$9:$J$56)+SUMIF('Concert 4'!$E$9:$E$56,Statistiques!A376,'Concert 4'!$J$9:$J$56)+SUMIF('Concert 5'!$E$9:$E$56,Statistiques!A376,'Concert 5'!$J$9:$J$56)","v":0},null,null,{"$f":"SUMIF('Concert 1'!$E$9:$E$56,Statistiques!A376,'Concert 1'!$I$9:$I$56)","v":0},{"$f":"SUMIF('Concert 1'!$E$9:$E$56,Statistiques!A376,'Concert 1'!$J$9:$J$56)","v":0},{"$f":"SUMIF('Concert 2'!$E$9:$E$56,Statistiques!A376,'Concert 2'!$I$9:$I$56)","v":0},{"$f":"SUMIF('Concert 2'!$E$9:$E$56,Statistiques!A376,'Concert 2'!$J$9:$J$56)","v":0},{"$f":"SUMIF('Concert 3'!$E$9:$E$56,Statistiques!A376,'Concert 3'!$I$9:$I$56)","v":0},{"$f":"SUMIF('Concert 3'!$E$9:$E$56,Statistiques!A376,'Concert 3'!$J$9:$J$56)","v":0},{"$f":"SUMIF('Concert 4'!$E$9:$E$56,Statistiques!A376,'Concert 4'!$I$9:$I$56)","v":0},{"$f":"SUMIF('Concert 4'!$E$9:$E$56,Statistiques!A376,'Concert 4'!$J$9:$J$56)","v":0},{"$f":"SUMIF('Concert 5'!$E$9:$E$56,Statistiques!A376,'Concert 5'!$I$9:$I$56)","v":0},{"$f":"SUMIF('Concert 5'!$E$9:$E$56,Statistiques!A376,'Concert 5'!$J$9:$J$56)","v":0}]
[{"$f":"Ecoles!A373","v":0},{"$f":"Ecoles!B373","v":0},{"$f":"Ecoles!C373","v":0},null,{"$f":"SUMIF('Concert 1'!$E$9:$E$56,Statistiques!A377,'Concert 1'!$I$9:$I$56)+SUMIF('Concert 2'!$E$9:$E$56,Statistiques!A377,'Concert 2'!$I$9:$I$56)+SUMIF('Concert 3'!$E$9:$E$56,Statistiques!A377,'Concert 3'!$I$9:$I$56)+SUMIF('Concert 4'!$E$9:$E$56,Statistiques!A377,'Concert 4'!$I$9:$I$56)+SUMIF('Concert 5'!$E$9:$E$56,Statistiques!A377,'Concert 5'!$I$9:$I$56)","v":0},{"$f":"SUMIF('Concert 1'!$E$9:$E$56,Statistiques!A377,'Concert 1'!$J$9:$J$56)+SUMIF('Concert 2'!$E$9:$E$56,Statistiques!A377,'Concert 2'!$J$9:$J$56)+SUMIF('Concert 3'!$E$9:$E$56,Statistiques!A377,'Concert 3'!$J$9:$J$56)+SUMIF('Concert 4'!$E$9:$E$56,Statistiques!A377,'Concert 4'!$J$9:$J$56)+SUMIF('Concert 5'!$E$9:$E$56,Statistiques!A377,'Concert 5'!$J$9:$J$56)","v":0},null,null,{"$f":"SUMIF('Concert 1'!$E$9:$E$56,Statistiques!A377,'Concert 1'!$I$9:$I$56)","v":0},{"$f":"SUMIF('Concert 1'!$E$9:$E$56,Statistiques!A377,'Concert 1'!$J$9:$J$56)","v":0},{"$f":"SUMIF('Concert 2'!$E$9:$E$56,Statistiques!A377,'Concert 2'!$I$9:$I$56)","v":0},{"$f":"SUMIF('Concert 2'!$E$9:$E$56,Statistiques!A377,'Concert 2'!$J$9:$J$56)","v":0},{"$f":"SUMIF('Concert 3'!$E$9:$E$56,Statistiques!A377,'Concert 3'!$I$9:$I$56)","v":0},{"$f":"SUMIF('Concert 3'!$E$9:$E$56,Statistiques!A377,'Concert 3'!$J$9:$J$56)","v":0},{"$f":"SUMIF('Concert 4'!$E$9:$E$56,Statistiques!A377,'Concert 4'!$I$9:$I$56)","v":0},{"$f":"SUMIF('Concert 4'!$E$9:$E$56,Statistiques!A377,'Concert 4'!$J$9:$J$56)","v":0},{"$f":"SUMIF('Concert 5'!$E$9:$E$56,Statistiques!A377,'Concert 5'!$I$9:$I$56)","v":0},{"$f":"SUMIF('Concert 5'!$E$9:$E$56,Statistiques!A377,'Concert 5'!$J$9:$J$56)","v":0}]
[{"$f":"Ecoles!A374","v":0},{"$f":"Ecoles!B374","v":0},{"$f":"Ecoles!C374","v":0},null,{"$f":"SUMIF('Concert 1'!$E$9:$E$56,Statistiques!A378,'Concert 1'!$I$9:$I$56)+SUMIF('Concert 2'!$E$9:$E$56,Statistiques!A378,'Concert 2'!$I$9:$I$56)+SUMIF('Concert 3'!$E$9:$E$56,Statistiques!A378,'Concert 3'!$I$9:$I$56)+SUMIF('Concert 4'!$E$9:$E$56,Statistiques!A378,'Concert 4'!$I$9:$I$56)+SUMIF('Concert 5'!$E$9:$E$56,Statistiques!A378,'Concert 5'!$I$9:$I$56)","v":0},{"$f":"SUMIF('Concert 1'!$E$9:$E$56,Statistiques!A378,'Concert 1'!$J$9:$J$56)+SUMIF('Concert 2'!$E$9:$E$56,Statistiques!A378,'Concert 2'!$J$9:$J$56)+SUMIF('Concert 3'!$E$9:$E$56,Statistiques!A378,'Concert 3'!$J$9:$J$56)+SUMIF('Concert 4'!$E$9:$E$56,Statistiques!A378,'Concert 4'!$J$9:$J$56)+SUMIF('Concert 5'!$E$9:$E$56,Statistiques!A378,'Concert 5'!$J$9:$J$56)","v":0},null,null,{"$f":"SUMIF('Concert 1'!$E$9:$E$56,Statistiques!A378,'Concert 1'!$I$9:$I$56)","v":0},{"$f":"SUMIF('Concert 1'!$E$9:$E$56,Statistiques!A378,'Concert 1'!$J$9:$J$56)","v":0},{"$f":"SUMIF('Concert 2'!$E$9:$E$56,Statistiques!A378,'Concert 2'!$I$9:$I$56)","v":0},{"$f":"SUMIF('Concert 2'!$E$9:$E$56,Statistiques!A378,'Concert 2'!$J$9:$J$56)","v":0},{"$f":"SUMIF('Concert 3'!$E$9:$E$56,Statistiques!A378,'Concert 3'!$I$9:$I$56)","v":0},{"$f":"SUMIF('Concert 3'!$E$9:$E$56,Statistiques!A378,'Concert 3'!$J$9:$J$56)","v":0},{"$f":"SUMIF('Concert 4'!$E$9:$E$56,Statistiques!A378,'Concert 4'!$I$9:$I$56)","v":0},{"$f":"SUMIF('Concert 4'!$E$9:$E$56,Statistiques!A378,'Concert 4'!$J$9:$J$56)","v":0},{"$f":"SUMIF('Concert 5'!$E$9:$E$56,Statistiques!A378,'Concert 5'!$I$9:$I$56)","v":0},{"$f":"SUMIF('Concert 5'!$E$9:$E$56,Statistiques!A378,'Concert 5'!$J$9:$J$56)","v":0}]
[{"$f":"Ecoles!A375","v":0},{"$f":"Ecoles!B375","v":0},{"$f":"Ecoles!C375","v":0},null,{"$f":"SUMIF('Concert 1'!$E$9:$E$56,Statistiques!A379,'Concert 1'!$I$9:$I$56)+SUMIF('Concert 2'!$E$9:$E$56,Statistiques!A379,'Concert 2'!$I$9:$I$56)+SUMIF('Concert 3'!$E$9:$E$56,Statistiques!A379,'Concert 3'!$I$9:$I$56)+SUMIF('Concert 4'!$E$9:$E$56,Statistiques!A379,'Concert 4'!$I$9:$I$56)+SUMIF('Concert 5'!$E$9:$E$56,Statistiques!A379,'Concert 5'!$I$9:$I$56)","v":0},{"$f":"SUMIF('Concert 1'!$E$9:$E$56,Statistiques!A379,'Concert 1'!$J$9:$J$56)+SUMIF('Concert 2'!$E$9:$E$56,Statistiques!A379,'Concert 2'!$J$9:$J$56)+SUMIF('Concert 3'!$E$9:$E$56,Statistiques!A379,'Concert 3'!$J$9:$J$56)+SUMIF('Concert 4'!$E$9:$E$56,Statistiques!A379,'Concert 4'!$J$9:$J$56)+SUMIF('Concert 5'!$E$9:$E$56,Statistiques!A379,'Concert 5'!$J$9:$J$56)","v":0},null,null,{"$f":"SUMIF('Concert 1'!$E$9:$E$56,Statistiques!A379,'Concert 1'!$I$9:$I$56)","v":0},{"$f":"SUMIF('Concert 1'!$E$9:$E$56,Statistiques!A379,'Concert 1'!$J$9:$J$56)","v":0},{"$f":"SUMIF('Concert 2'!$E$9:$E$56,Statistiques!A379,'Concert 2'!$I$9:$I$56)","v":0},{"$f":"SUMIF('Concert 2'!$E$9:$E$56,Statistiques!A379,'Concert 2'!$J$9:$J$56)","v":0},{"$f":"SUMIF('Concert 3'!$E$9:$E$56,Statistiques!A379,'Concert 3'!$I$9:$I$56)","v":0},{"$f":"SUMIF('Concert 3'!$E$9:$E$56,Statistiques!A379,'Concert 3'!$J$9:$J$56)","v":0},{"$f":"SUMIF('Concert 4'!$E$9:$E$56,Statistiques!A379,'Concert 4'!$I$9:$I$56)","v":0},{"$f":"SUMIF('Concert 4'!$E$9:$E$56,Statistiques!A379,'Concert 4'!$J$9:$J$56)","v":0},{"$f":"SUMIF('Concert 5'!$E$9:$E$56,Statistiques!A379,'Concert 5'!$I$9:$I$56)","v":0},{"$f":"SUMIF('Concert 5'!$E$9:$E$56,Statistiques!A379,'Concert 5'!$J$9:$J$56)","v":0}]
[{"$f":"Ecoles!A376","v":0},{"$f":"Ecoles!B376","v":0},{"$f":"Ecoles!C376","v":0},null,{"$f":"SUMIF('Concert 1'!$E$9:$E$56,Statistiques!A380,'Concert 1'!$I$9:$I$56)+SUMIF('Concert 2'!$E$9:$E$56,Statistiques!A380,'Concert 2'!$I$9:$I$56)+SUMIF('Concert 3'!$E$9:$E$56,Statistiques!A380,'Concert 3'!$I$9:$I$56)+SUMIF('Concert 4'!$E$9:$E$56,Statistiques!A380,'Concert 4'!$I$9:$I$56)+SUMIF('Concert 5'!$E$9:$E$56,Statistiques!A380,'Concert 5'!$I$9:$I$56)","v":0},{"$f":"SUMIF('Concert 1'!$E$9:$E$56,Statistiques!A380,'Concert 1'!$J$9:$J$56)+SUMIF('Concert 2'!$E$9:$E$56,Statistiques!A380,'Concert 2'!$J$9:$J$56)+SUMIF('Concert 3'!$E$9:$E$56,Statistiques!A380,'Concert 3'!$J$9:$J$56)+SUMIF('Concert 4'!$E$9:$E$56,Statistiques!A380,'Concert 4'!$J$9:$J$56)+SUMIF('Concert 5'!$E$9:$E$56,Statistiques!A380,'Concert 5'!$J$9:$J$56)","v":0},null,null,{"$f":"SUMIF('Concert 1'!$E$9:$E$56,Statistiques!A380,'Concert 1'!$I$9:$I$56)","v":0},{"$f":"SUMIF('Concert 1'!$E$9:$E$56,Statistiques!A380,'Concert 1'!$J$9:$J$56)","v":0},{"$f":"SUMIF('Concert 2'!$E$9:$E$56,Statistiques!A380,'Concert 2'!$I$9:$I$56)","v":0},{"$f":"SUMIF('Concert 2'!$E$9:$E$56,Statistiques!A380,'Concert 2'!$J$9:$J$56)","v":0},{"$f":"SUMIF('Concert 3'!$E$9:$E$56,Statistiques!A380,'Concert 3'!$I$9:$I$56)","v":0},{"$f":"SUMIF('Concert 3'!$E$9:$E$56,Statistiques!A380,'Concert 3'!$J$9:$J$56)","v":0},{"$f":"SUMIF('Concert 4'!$E$9:$E$56,Statistiques!A380,'Concert 4'!$I$9:$I$56)","v":0},{"$f":"SUMIF('Concert 4'!$E$9:$E$56,Statistiques!A380,'Concert 4'!$J$9:$J$56)","v":0},{"$f":"SUMIF('Concert 5'!$E$9:$E$56,Statistiques!A380,'Concert 5'!$I$9:$I$56)","v":0},{"$f":"SUMIF('Concert 5'!$E$9:$E$56,Statistiques!A380,'Concert 5'!$J$9:$J$56)","v":0}]
[{"$f":"Ecoles!A377","v":0},{"$f":"Ecoles!B377","v":0},{"$f":"Ecoles!C377","v":0},null,{"$f":"SUMIF('Concert 1'!$E$9:$E$56,Statistiques!A381,'Concert 1'!$I$9:$I$56)+SUMIF('Concert 2'!$E$9:$E$56,Statistiques!A381,'Concert 2'!$I$9:$I$56)+SUMIF('Concert 3'!$E$9:$E$56,Statistiques!A381,'Concert 3'!$I$9:$I$56)+SUMIF('Concert 4'!$E$9:$E$56,Statistiques!A381,'Concert 4'!$I$9:$I$56)+SUMIF('Concert 5'!$E$9:$E$56,Statistiques!A381,'Concert 5'!$I$9:$I$56)","v":0},{"$f":"SUMIF('Concert 1'!$E$9:$E$56,Statistiques!A381,'Concert 1'!$J$9:$J$56)+SUMIF('Concert 2'!$E$9:$E$56,Statistiques!A381,'Concert 2'!$J$9:$J$56)+SUMIF('Concert 3'!$E$9:$E$56,Statistiques!A381,'Concert 3'!$J$9:$J$56)+SUMIF('Concert 4'!$E$9:$E$56,Statistiques!A381,'Concert 4'!$J$9:$J$56)+SUMIF('Concert 5'!$E$9:$E$56,Statistiques!A381,'Concert 5'!$J$9:$J$56)","v":0},null,null,{"$f":"SUMIF('Concert 1'!$E$9:$E$56,Statistiques!A381,'Concert 1'!$I$9:$I$56)","v":0},{"$f":"SUMIF('Concert 1'!$E$9:$E$56,Statistiques!A381,'Concert 1'!$J$9:$J$56)","v":0},{"$f":"SUMIF('Concert 2'!$E$9:$E$56,Statistiques!A381,'Concert 2'!$I$9:$I$56)","v":0},{"$f":"SUMIF('Concert 2'!$E$9:$E$56,Statistiques!A381,'Concert 2'!$J$9:$J$56)","v":0},{"$f":"SUMIF('Concert 3'!$E$9:$E$56,Statistiques!A381,'Concert 3'!$I$9:$I$56)","v":0},{"$f":"SUMIF('Concert 3'!$E$9:$E$56,Statistiques!A381,'Concert 3'!$J$9:$J$56)","v":0},{"$f":"SUMIF('Concert 4'!$E$9:$E$56,Statistiques!A381,'Concert 4'!$I$9:$I$56)","v":0},{"$f":"SUMIF('Concert 4'!$E$9:$E$56,Statistiques!A381,'Concert 4'!$J$9:$J$56)","v":0},{"$f":"SUMIF('Concert 5'!$E$9:$E$56,Statistiques!A381,'Concert 5'!$I$9:$I$56)","v":0},{"$f":"SUMIF('Concert 5'!$E$9:$E$56,Statistiques!A381,'Concert 5'!$J$9:$J$56)","v":0}]
[{"$f":"Ecoles!A378","v":0},{"$f":"Ecoles!B378","v":0},{"$f":"Ecoles!C378","v":0},null,{"$f":"SUMIF('Concert 1'!$E$9:$E$56,Statistiques!A382,'Concert 1'!$I$9:$I$56)+SUMIF('Concert 2'!$E$9:$E$56,Statistiques!A382,'Concert 2'!$I$9:$I$56)+SUMIF('Concert 3'!$E$9:$E$56,Statistiques!A382,'Concert 3'!$I$9:$I$56)+SUMIF('Concert 4'!$E$9:$E$56,Statistiques!A382,'Concert 4'!$I$9:$I$56)+SUMIF('Concert 5'!$E$9:$E$56,Statistiques!A382,'Concert 5'!$I$9:$I$56)","v":0},{"$f":"SUMIF('Concert 1'!$E$9:$E$56,Statistiques!A382,'Concert 1'!$J$9:$J$56)+SUMIF('Concert 2'!$E$9:$E$56,Statistiques!A382,'Concert 2'!$J$9:$J$56)+SUMIF('Concert 3'!$E$9:$E$56,Statistiques!A382,'Concert 3'!$J$9:$J$56)+SUMIF('Concert 4'!$E$9:$E$56,Statistiques!A382,'Concert 4'!$J$9:$J$56)+SUMIF('Concert 5'!$E$9:$E$56,Statistiques!A382,'Concert 5'!$J$9:$J$56)","v":0},null,null,{"$f":"SUMIF('Concert 1'!$E$9:$E$56,Statistiques!A382,'Concert 1'!$I$9:$I$56)","v":0},{"$f":"SUMIF('Concert 1'!$E$9:$E$56,Statistiques!A382,'Concert 1'!$J$9:$J$56)","v":0},{"$f":"SUMIF('Concert 2'!$E$9:$E$56,Statistiques!A382,'Concert 2'!$I$9:$I$56)","v":0},{"$f":"SUMIF('Concert 2'!$E$9:$E$56,Statistiques!A382,'Concert 2'!$J$9:$J$56)","v":0},{"$f":"SUMIF('Concert 3'!$E$9:$E$56,Statistiques!A382,'Concert 3'!$I$9:$I$56)","v":0},{"$f":"SUMIF('Concert 3'!$E$9:$E$56,Statistiques!A382,'Concert 3'!$J$9:$J$56)","v":0},{"$f":"SUMIF('Concert 4'!$E$9:$E$56,Statistiques!A382,'Concert 4'!$I$9:$I$56)","v":0},{"$f":"SUMIF('Concert 4'!$E$9:$E$56,Statistiques!A382,'Concert 4'!$J$9:$J$56)","v":0},{"$f":"SUMIF('Concert 5'!$E$9:$E$56,Statistiques!A382,'Concert 5'!$I$9:$I$56)","v":0},{"$f":"SUMIF('Concert 5'!$E$9:$E$56,Statistiques!A382,'Concert 5'!$J$9:$J$56)","v":0}]
[{"$f":"Ecoles!A379","v":0},{"$f":"Ecoles!B379","v":0},{"$f":"Ecoles!C379","v":0},null,{"$f":"SUMIF('Concert 1'!$E$9:$E$56,Statistiques!A383,'Concert 1'!$I$9:$I$56)+SUMIF('Concert 2'!$E$9:$E$56,Statistiques!A383,'Concert 2'!$I$9:$I$56)+SUMIF('Concert 3'!$E$9:$E$56,Statistiques!A383,'Concert 3'!$I$9:$I$56)+SUMIF('Concert 4'!$E$9:$E$56,Statistiques!A383,'Concert 4'!$I$9:$I$56)+SUMIF('Concert 5'!$E$9:$E$56,Statistiques!A383,'Concert 5'!$I$9:$I$56)","v":0},{"$f":"SUMIF('Concert 1'!$E$9:$E$56,Statistiques!A383,'Concert 1'!$J$9:$J$56)+SUMIF('Concert 2'!$E$9:$E$56,Statistiques!A383,'Concert 2'!$J$9:$J$56)+SUMIF('Concert 3'!$E$9:$E$56,Statistiques!A383,'Concert 3'!$J$9:$J$56)+SUMIF('Concert 4'!$E$9:$E$56,Statistiques!A383,'Concert 4'!$J$9:$J$56)+SUMIF('Concert 5'!$E$9:$E$56,Statistiques!A383,'Concert 5'!$J$9:$J$56)","v":0},null,null,{"$f":"SUMIF('Concert 1'!$E$9:$E$56,Statistiques!A383,'Concert 1'!$I$9:$I$56)","v":0},{"$f":"SUMIF('Concert 1'!$E$9:$E$56,Statistiques!A383,'Concert 1'!$J$9:$J$56)","v":0},{"$f":"SUMIF('Concert 2'!$E$9:$E$56,Statistiques!A383,'Concert 2'!$I$9:$I$56)","v":0},{"$f":"SUMIF('Concert 2'!$E$9:$E$56,Statistiques!A383,'Concert 2'!$J$9:$J$56)","v":0},{"$f":"SUMIF('Concert 3'!$E$9:$E$56,Statistiques!A383,'Concert 3'!$I$9:$I$56)","v":0},{"$f":"SUMIF('Concert 3'!$E$9:$E$56,Statistiques!A383,'Concert 3'!$J$9:$J$56)","v":0},{"$f":"SUMIF('Concert 4'!$E$9:$E$56,Statistiques!A383,'Concert 4'!$I$9:$I$56)","v":0},{"$f":"SUMIF('Concert 4'!$E$9:$E$56,Statistiques!A383,'Concert 4'!$J$9:$J$56)","v":0},{"$f":"SUMIF('Concert 5'!$E$9:$E$56,Statistiques!A383,'Concert 5'!$I$9:$I$56)","v":0},{"$f":"SUMIF('Concert 5'!$E$9:$E$56,Statistiques!A383,'Concert 5'!$J$9:$J$56)","v":0}]
[{"$f":"Ecoles!A380","v":0},{"$f":"Ecoles!B380","v":0},{"$f":"Ecoles!C380","v":0},null,{"$f":"SUMIF('Concert 1'!$E$9:$E$56,Statistiques!A384,'Concert 1'!$I$9:$I$56)+SUMIF('Concert 2'!$E$9:$E$56,Statistiques!A384,'Concert 2'!$I$9:$I$56)+SUMIF('Concert 3'!$E$9:$E$56,Statistiques!A384,'Concert 3'!$I$9:$I$56)+SUMIF('Concert 4'!$E$9:$E$56,Statistiques!A384,'Concert 4'!$I$9:$I$56)+SUMIF('Concert 5'!$E$9:$E$56,Statistiques!A384,'Concert 5'!$I$9:$I$56)","v":0},{"$f":"SUMIF('Concert 1'!$E$9:$E$56,Statistiques!A384,'Concert 1'!$J$9:$J$56)+SUMIF('Concert 2'!$E$9:$E$56,Statistiques!A384,'Concert 2'!$J$9:$J$56)+SUMIF('Concert 3'!$E$9:$E$56,Statistiques!A384,'Concert 3'!$J$9:$J$56)+SUMIF('Concert 4'!$E$9:$E$56,Statistiques!A384,'Concert 4'!$J$9:$J$56)+SUMIF('Concert 5'!$E$9:$E$56,Statistiques!A384,'Concert 5'!$J$9:$J$56)","v":0},null,null,{"$f":"SUMIF('Concert 1'!$E$9:$E$56,Statistiques!A384,'Concert 1'!$I$9:$I$56)","v":0},{"$f":"SUMIF('Concert 1'!$E$9:$E$56,Statistiques!A384,'Concert 1'!$J$9:$J$56)","v":0},{"$f":"SUMIF('Concert 2'!$E$9:$E$56,Statistiques!A384,'Concert 2'!$I$9:$I$56)","v":0},{"$f":"SUMIF('Concert 2'!$E$9:$E$56,Statistiques!A384,'Concert 2'!$J$9:$J$56)","v":0},{"$f":"SUMIF('Concert 3'!$E$9:$E$56,Statistiques!A384,'Concert 3'!$I$9:$I$56)","v":0},{"$f":"SUMIF('Concert 3'!$E$9:$E$56,Statistiques!A384,'Concert 3'!$J$9:$J$56)","v":0},{"$f":"SUMIF('Concert 4'!$E$9:$E$56,Statistiques!A384,'Concert 4'!$I$9:$I$56)","v":0},{"$f":"SUMIF('Concert 4'!$E$9:$E$56,Statistiques!A384,'Concert 4'!$J$9:$J$56)","v":0},{"$f":"SUMIF('Concert 5'!$E$9:$E$56,Statistiques!A384,'Concert 5'!$I$9:$I$56)","v":0},{"$f":"SUMIF('Concert 5'!$E$9:$E$56,Statistiques!A384,'Concert 5'!$J$9:$J$56)","v":0}]
[{"$f":"Ecoles!A381","v":0},{"$f":"Ecoles!B381","v":0},{"$f":"Ecoles!C381","v":0},null,{"$f":"SUMIF('Concert 1'!$E$9:$E$56,Statistiques!A385,'Concert 1'!$I$9:$I$56)+SUMIF('Concert 2'!$E$9:$E$56,Statistiques!A385,'Concert 2'!$I$9:$I$56)+SUMIF('Concert 3'!$E$9:$E$56,Statistiques!A385,'Concert 3'!$I$9:$I$56)+SUMIF('Concert 4'!$E$9:$E$56,Statistiques!A385,'Concert 4'!$I$9:$I$56)+SUMIF('Concert 5'!$E$9:$E$56,Statistiques!A385,'Concert 5'!$I$9:$I$56)","v":0},{"$f":"SUMIF('Concert 1'!$E$9:$E$56,Statistiques!A385,'Concert 1'!$J$9:$J$56)+SUMIF('Concert 2'!$E$9:$E$56,Statistiques!A385,'Concert 2'!$J$9:$J$56)+SUMIF('Concert 3'!$E$9:$E$56,Statistiques!A385,'Concert 3'!$J$9:$J$56)+SUMIF('Concert 4'!$E$9:$E$56,Statistiques!A385,'Concert 4'!$J$9:$J$56)+SUMIF('Concert 5'!$E$9:$E$56,Statistiques!A385,'Concert 5'!$J$9:$J$56)","v":0},null,null,{"$f":"SUMIF('Concert 1'!$E$9:$E$56,Statistiques!A385,'Concert 1'!$I$9:$I$56)","v":0},{"$f":"SUMIF('Concert 1'!$E$9:$E$56,Statistiques!A385,'Concert 1'!$J$9:$J$56)","v":0},{"$f":"SUMIF('Concert 2'!$E$9:$E$56,Statistiques!A385,'Concert 2'!$I$9:$I$56)","v":0},{"$f":"SUMIF('Concert 2'!$E$9:$E$56,Statistiques!A385,'Concert 2'!$J$9:$J$56)","v":0},{"$f":"SUMIF('Concert 3'!$E$9:$E$56,Statistiques!A385,'Concert 3'!$I$9:$I$56)","v":0},{"$f":"SUMIF('Concert 3'!$E$9:$E$56,Statistiques!A385,'Concert 3'!$J$9:$J$56)","v":0},{"$f":"SUMIF('Concert 4'!$E$9:$E$56,Statistiques!A385,'Concert 4'!$I$9:$I$56)","v":0},{"$f":"SUMIF('Concert 4'!$E$9:$E$56,Statistiques!A385,'Concert 4'!$J$9:$J$56)","v":0},{"$f":"SUMIF('Concert 5'!$E$9:$E$56,Statistiques!A385,'Concert 5'!$I$9:$I$56)","v":0},{"$f":"SUMIF('Concert 5'!$E$9:$E$56,Statistiques!A385,'Concert 5'!$J$9:$J$56)","v":0}]
[{"$f":"Ecoles!A382","v":0},{"$f":"Ecoles!B382","v":0},{"$f":"Ecoles!C382","v":0},null,{"$f":"SUMIF('Concert 1'!$E$9:$E$56,Statistiques!A386,'Concert 1'!$I$9:$I$56)+SUMIF('Concert 2'!$E$9:$E$56,Statistiques!A386,'Concert 2'!$I$9:$I$56)+SUMIF('Concert 3'!$E$9:$E$56,Statistiques!A386,'Concert 3'!$I$9:$I$56)+SUMIF('Concert 4'!$E$9:$E$56,Statistiques!A386,'Concert 4'!$I$9:$I$56)+SUMIF('Concert 5'!$E$9:$E$56,Statistiques!A386,'Concert 5'!$I$9:$I$56)","v":0},{"$f":"SUMIF('Concert 1'!$E$9:$E$56,Statistiques!A386,'Concert 1'!$J$9:$J$56)+SUMIF('Concert 2'!$E$9:$E$56,Statistiques!A386,'Concert 2'!$J$9:$J$56)+SUMIF('Concert 3'!$E$9:$E$56,Statistiques!A386,'Concert 3'!$J$9:$J$56)+SUMIF('Concert 4'!$E$9:$E$56,Statistiques!A386,'Concert 4'!$J$9:$J$56)+SUMIF('Concert 5'!$E$9:$E$56,Statistiques!A386,'Concert 5'!$J$9:$J$56)","v":0},null,null,{"$f":"SUMIF('Concert 1'!$E$9:$E$56,Statistiques!A386,'Concert 1'!$I$9:$I$56)","v":0},{"$f":"SUMIF('Concert 1'!$E$9:$E$56,Statistiques!A386,'Concert 1'!$J$9:$J$56)","v":0},{"$f":"SUMIF('Concert 2'!$E$9:$E$56,Statistiques!A386,'Concert 2'!$I$9:$I$56)","v":0},{"$f":"SUMIF('Concert 2'!$E$9:$E$56,Statistiques!A386,'Concert 2'!$J$9:$J$56)","v":0},{"$f":"SUMIF('Concert 3'!$E$9:$E$56,Statistiques!A386,'Concert 3'!$I$9:$I$56)","v":0},{"$f":"SUMIF('Concert 3'!$E$9:$E$56,Statistiques!A386,'Concert 3'!$J$9:$J$56)","v":0},{"$f":"SUMIF('Concert 4'!$E$9:$E$56,Statistiques!A386,'Concert 4'!$I$9:$I$56)","v":0},{"$f":"SUMIF('Concert 4'!$E$9:$E$56,Statistiques!A386,'Concert 4'!$J$9:$J$56)","v":0},{"$f":"SUMIF('Concert 5'!$E$9:$E$56,Statistiques!A386,'Concert 5'!$I$9:$I$56)","v":0},{"$f":"SUMIF('Concert 5'!$E$9:$E$56,Statistiques!A386,'Concert 5'!$J$9:$J$56)","v":0}]
[{"$f":"Ecoles!A383","v":0},{"$f":"Ecoles!B383","v":0},{"$f":"Ecoles!C383","v":0},null,{"$f":"SUMIF('Concert 1'!$E$9:$E$56,Statistiques!A387,'Concert 1'!$I$9:$I$56)+SUMIF('Concert 2'!$E$9:$E$56,Statistiques!A387,'Concert 2'!$I$9:$I$56)+SUMIF('Concert 3'!$E$9:$E$56,Statistiques!A387,'Concert 3'!$I$9:$I$56)+SUMIF('Concert 4'!$E$9:$E$56,Statistiques!A387,'Concert 4'!$I$9:$I$56)+SUMIF('Concert 5'!$E$9:$E$56,Statistiques!A387,'Concert 5'!$I$9:$I$56)","v":0},{"$f":"SUMIF('Concert 1'!$E$9:$E$56,Statistiques!A387,'Concert 1'!$J$9:$J$56)+SUMIF('Concert 2'!$E$9:$E$56,Statistiques!A387,'Concert 2'!$J$9:$J$56)+SUMIF('Concert 3'!$E$9:$E$56,Statistiques!A387,'Concert 3'!$J$9:$J$56)+SUMIF('Concert 4'!$E$9:$E$56,Statistiques!A387,'Concert 4'!$J$9:$J$56)+SUMIF('Concert 5'!$E$9:$E$56,Statistiques!A387,'Concert 5'!$J$9:$J$56)","v":0},null,null,{"$f":"SUMIF('Concert 1'!$E$9:$E$56,Statistiques!A387,'Concert 1'!$I$9:$I$56)","v":0},{"$f":"SUMIF('Concert 1'!$E$9:$E$56,Statistiques!A387,'Concert 1'!$J$9:$J$56)","v":0},{"$f":"SUMIF('Concert 2'!$E$9:$E$56,Statistiques!A387,'Concert 2'!$I$9:$I$56)","v":0},{"$f":"SUMIF('Concert 2'!$E$9:$E$56,Statistiques!A387,'Concert 2'!$J$9:$J$56)","v":0},{"$f":"SUMIF('Concert 3'!$E$9:$E$56,Statistiques!A387,'Concert 3'!$I$9:$I$56)","v":0},{"$f":"SUMIF('Concert 3'!$E$9:$E$56,Statistiques!A387,'Concert 3'!$J$9:$J$56)","v":0},{"$f":"SUMIF('Concert 4'!$E$9:$E$56,Statistiques!A387,'Concert 4'!$I$9:$I$56)","v":0},{"$f":"SUMIF('Concert 4'!$E$9:$E$56,Statistiques!A387,'Concert 4'!$J$9:$J$56)","v":0},{"$f":"SUMIF('Concert 5'!$E$9:$E$56,Statistiques!A387,'Concert 5'!$I$9:$I$56)","v":0},{"$f":"SUMIF('Concert 5'!$E$9:$E$56,Statistiques!A387,'Concert 5'!$J$9:$J$56)","v":0}]
[{"$f":"Ecoles!A384","v":0},{"$f":"Ecoles!B384","v":0},{"$f":"Ecoles!C384","v":0},null,{"$f":"SUMIF('Concert 1'!$E$9:$E$56,Statistiques!A388,'Concert 1'!$I$9:$I$56)+SUMIF('Concert 2'!$E$9:$E$56,Statistiques!A388,'Concert 2'!$I$9:$I$56)+SUMIF('Concert 3'!$E$9:$E$56,Statistiques!A388,'Concert 3'!$I$9:$I$56)+SUMIF('Concert 4'!$E$9:$E$56,Statistiques!A388,'Concert 4'!$I$9:$I$56)+SUMIF('Concert 5'!$E$9:$E$56,Statistiques!A388,'Concert 5'!$I$9:$I$56)","v":0},{"$f":"SUMIF('Concert 1'!$E$9:$E$56,Statistiques!A388,'Concert 1'!$J$9:$J$56)+SUMIF('Concert 2'!$E$9:$E$56,Statistiques!A388,'Concert 2'!$J$9:$J$56)+SUMIF('Concert 3'!$E$9:$E$56,Statistiques!A388,'Concert 3'!$J$9:$J$56)+SUMIF('Concert 4'!$E$9:$E$56,Statistiques!A388,'Concert 4'!$J$9:$J$56)+SUMIF('Concert 5'!$E$9:$E$56,Statistiques!A388,'Concert 5'!$J$9:$J$56)","v":0},null,null,{"$f":"SUMIF('Concert 1'!$E$9:$E$56,Statistiques!A388,'Concert 1'!$I$9:$I$56)","v":0},{"$f":"SUMIF('Concert 1'!$E$9:$E$56,Statistiques!A388,'Concert 1'!$J$9:$J$56)","v":0},{"$f":"SUMIF('Concert 2'!$E$9:$E$56,Statistiques!A388,'Concert 2'!$I$9:$I$56)","v":0},{"$f":"SUMIF('Concert 2'!$E$9:$E$56,Statistiques!A388,'Concert 2'!$J$9:$J$56)","v":0},{"$f":"SUMIF('Concert 3'!$E$9:$E$56,Statistiques!A388,'Concert 3'!$I$9:$I$56)","v":0},{"$f":"SUMIF('Concert 3'!$E$9:$E$56,Statistiques!A388,'Concert 3'!$J$9:$J$56)","v":0},{"$f":"SUMIF('Concert 4'!$E$9:$E$56,Statistiques!A388,'Concert 4'!$I$9:$I$56)","v":0},{"$f":"SUMIF('Concert 4'!$E$9:$E$56,Statistiques!A388,'Concert 4'!$J$9:$J$56)","v":0},{"$f":"SUMIF('Concert 5'!$E$9:$E$56,Statistiques!A388,'Concert 5'!$I$9:$I$56)","v":0},{"$f":"SUMIF('Concert 5'!$E$9:$E$56,Statistiques!A388,'Concert 5'!$J$9:$J$56)","v":0}]
[{"$f":"Ecoles!A385","v":0},{"$f":"Ecoles!B385","v":0},{"$f":"Ecoles!C385","v":0},null,{"$f":"SUMIF('Concert 1'!$E$9:$E$56,Statistiques!A389,'Concert 1'!$I$9:$I$56)+SUMIF('Concert 2'!$E$9:$E$56,Statistiques!A389,'Concert 2'!$I$9:$I$56)+SUMIF('Concert 3'!$E$9:$E$56,Statistiques!A389,'Concert 3'!$I$9:$I$56)+SUMIF('Concert 4'!$E$9:$E$56,Statistiques!A389,'Concert 4'!$I$9:$I$56)+SUMIF('Concert 5'!$E$9:$E$56,Statistiques!A389,'Concert 5'!$I$9:$I$56)","v":0},{"$f":"SUMIF('Concert 1'!$E$9:$E$56,Statistiques!A389,'Concert 1'!$J$9:$J$56)+SUMIF('Concert 2'!$E$9:$E$56,Statistiques!A389,'Concert 2'!$J$9:$J$56)+SUMIF('Concert 3'!$E$9:$E$56,Statistiques!A389,'Concert 3'!$J$9:$J$56)+SUMIF('Concert 4'!$E$9:$E$56,Statistiques!A389,'Concert 4'!$J$9:$J$56)+SUMIF('Concert 5'!$E$9:$E$56,Statistiques!A389,'Concert 5'!$J$9:$J$56)","v":0},null,null,{"$f":"SUMIF('Concert 1'!$E$9:$E$56,Statistiques!A389,'Concert 1'!$I$9:$I$56)","v":0},{"$f":"SUMIF('Concert 1'!$E$9:$E$56,Statistiques!A389,'Concert 1'!$J$9:$J$56)","v":0},{"$f":"SUMIF('Concert 2'!$E$9:$E$56,Statistiques!A389,'Concert 2'!$I$9:$I$56)","v":0},{"$f":"SUMIF('Concert 2'!$E$9:$E$56,Statistiques!A389,'Concert 2'!$J$9:$J$56)","v":0},{"$f":"SUMIF('Concert 3'!$E$9:$E$56,Statistiques!A389,'Concert 3'!$I$9:$I$56)","v":0},{"$f":"SUMIF('Concert 3'!$E$9:$E$56,Statistiques!A389,'Concert 3'!$J$9:$J$56)","v":0},{"$f":"SUMIF('Concert 4'!$E$9:$E$56,Statistiques!A389,'Concert 4'!$I$9:$I$56)","v":0},{"$f":"SUMIF('Concert 4'!$E$9:$E$56,Statistiques!A389,'Concert 4'!$J$9:$J$56)","v":0},{"$f":"SUMIF('Concert 5'!$E$9:$E$56,Statistiques!A389,'Concert 5'!$I$9:$I$56)","v":0},{"$f":"SUMIF('Concert 5'!$E$9:$E$56,Statistiques!A389,'Concert 5'!$J$9:$J$56)","v":0}]
[{"$f":"Ecoles!A386","v":0},{"$f":"Ecoles!B386","v":0},{"$f":"Ecoles!C386","v":0},null,{"$f":"SUMIF('Concert 1'!$E$9:$E$56,Statistiques!A390,'Concert 1'!$I$9:$I$56)+SUMIF('Concert 2'!$E$9:$E$56,Statistiques!A390,'Concert 2'!$I$9:$I$56)+SUMIF('Concert 3'!$E$9:$E$56,Statistiques!A390,'Concert 3'!$I$9:$I$56)+SUMIF('Concert 4'!$E$9:$E$56,Statistiques!A390,'Concert 4'!$I$9:$I$56)+SUMIF('Concert 5'!$E$9:$E$56,Statistiques!A390,'Concert 5'!$I$9:$I$56)","v":0},{"$f":"SUMIF('Concert 1'!$E$9:$E$56,Statistiques!A390,'Concert 1'!$J$9:$J$56)+SUMIF('Concert 2'!$E$9:$E$56,Statistiques!A390,'Concert 2'!$J$9:$J$56)+SUMIF('Concert 3'!$E$9:$E$56,Statistiques!A390,'Concert 3'!$J$9:$J$56)+SUMIF('Concert 4'!$E$9:$E$56,Statistiques!A390,'Concert 4'!$J$9:$J$56)+SUMIF('Concert 5'!$E$9:$E$56,Statistiques!A390,'Concert 5'!$J$9:$J$56)","v":0},null,null,{"$f":"SUMIF('Concert 1'!$E$9:$E$56,Statistiques!A390,'Concert 1'!$I$9:$I$56)","v":0},{"$f":"SUMIF('Concert 1'!$E$9:$E$56,Statistiques!A390,'Concert 1'!$J$9:$J$56)","v":0},{"$f":"SUMIF('Concert 2'!$E$9:$E$56,Statistiques!A390,'Concert 2'!$I$9:$I$56)","v":0},{"$f":"SUMIF('Concert 2'!$E$9:$E$56,Statistiques!A390,'Concert 2'!$J$9:$J$56)","v":0},{"$f":"SUMIF('Concert 3'!$E$9:$E$56,Statistiques!A390,'Concert 3'!$I$9:$I$56)","v":0},{"$f":"SUMIF('Concert 3'!$E$9:$E$56,Statistiques!A390,'Concert 3'!$J$9:$J$56)","v":0},{"$f":"SUMIF('Concert 4'!$E$9:$E$56,Statistiques!A390,'Concert 4'!$I$9:$I$56)","v":0},{"$f":"SUMIF('Concert 4'!$E$9:$E$56,Statistiques!A390,'Concert 4'!$J$9:$J$56)","v":0},{"$f":"SUMIF('Concert 5'!$E$9:$E$56,Statistiques!A390,'Concert 5'!$I$9:$I$56)","v":0},{"$f":"SUMIF('Concert 5'!$E$9:$E$56,Statistiques!A390,'Concert 5'!$J$9:$J$56)","v":0}]
[{"$f":"Ecoles!A387","v":0},{"$f":"Ecoles!B387","v":0},{"$f":"Ecoles!C387","v":0},null,{"$f":"SUMIF('Concert 1'!$E$9:$E$56,Statistiques!A391,'Concert 1'!$I$9:$I$56)+SUMIF('Concert 2'!$E$9:$E$56,Statistiques!A391,'Concert 2'!$I$9:$I$56)+SUMIF('Concert 3'!$E$9:$E$56,Statistiques!A391,'Concert 3'!$I$9:$I$56)+SUMIF('Concert 4'!$E$9:$E$56,Statistiques!A391,'Concert 4'!$I$9:$I$56)+SUMIF('Concert 5'!$E$9:$E$56,Statistiques!A391,'Concert 5'!$I$9:$I$56)","v":0},{"$f":"SUMIF('Concert 1'!$E$9:$E$56,Statistiques!A391,'Concert 1'!$J$9:$J$56)+SUMIF('Concert 2'!$E$9:$E$56,Statistiques!A391,'Concert 2'!$J$9:$J$56)+SUMIF('Concert 3'!$E$9:$E$56,Statistiques!A391,'Concert 3'!$J$9:$J$56)+SUMIF('Concert 4'!$E$9:$E$56,Statistiques!A391,'Concert 4'!$J$9:$J$56)+SUMIF('Concert 5'!$E$9:$E$56,Statistiques!A391,'Concert 5'!$J$9:$J$56)","v":0},null,null,{"$f":"SUMIF('Concert 1'!$E$9:$E$56,Statistiques!A391,'Concert 1'!$I$9:$I$56)","v":0},{"$f":"SUMIF('Concert 1'!$E$9:$E$56,Statistiques!A391,'Concert 1'!$J$9:$J$56)","v":0},{"$f":"SUMIF('Concert 2'!$E$9:$E$56,Statistiques!A391,'Concert 2'!$I$9:$I$56)","v":0},{"$f":"SUMIF('Concert 2'!$E$9:$E$56,Statistiques!A391,'Concert 2'!$J$9:$J$56)","v":0},{"$f":"SUMIF('Concert 3'!$E$9:$E$56,Statistiques!A391,'Concert 3'!$I$9:$I$56)","v":0},{"$f":"SUMIF('Concert 3'!$E$9:$E$56,Statistiques!A391,'Concert 3'!$J$9:$J$56)","v":0},{"$f":"SUMIF('Concert 4'!$E$9:$E$56,Statistiques!A391,'Concert 4'!$I$9:$I$56)","v":0},{"$f":"SUMIF('Concert 4'!$E$9:$E$56,Statistiques!A391,'Concert 4'!$J$9:$J$56)","v":0},{"$f":"SUMIF('Concert 5'!$E$9:$E$56,Statistiques!A391,'Concert 5'!$I$9:$I$56)","v":0},{"$f":"SUMIF('Concert 5'!$E$9:$E$56,Statistiques!A391,'Concert 5'!$J$9:$J$56)","v":0}]
[{"$f":"Ecoles!A388","v":0},{"$f":"Ecoles!B388","v":0},{"$f":"Ecoles!C388","v":0},null,{"$f":"SUMIF('Concert 1'!$E$9:$E$56,Statistiques!A392,'Concert 1'!$I$9:$I$56)+SUMIF('Concert 2'!$E$9:$E$56,Statistiques!A392,'Concert 2'!$I$9:$I$56)+SUMIF('Concert 3'!$E$9:$E$56,Statistiques!A392,'Concert 3'!$I$9:$I$56)+SUMIF('Concert 4'!$E$9:$E$56,Statistiques!A392,'Concert 4'!$I$9:$I$56)+SUMIF('Concert 5'!$E$9:$E$56,Statistiques!A392,'Concert 5'!$I$9:$I$56)","v":0},{"$f":"SUMIF('Concert 1'!$E$9:$E$56,Statistiques!A392,'Concert 1'!$J$9:$J$56)+SUMIF('Concert 2'!$E$9:$E$56,Statistiques!A392,'Concert 2'!$J$9:$J$56)+SUMIF('Concert 3'!$E$9:$E$56,Statistiques!A392,'Concert 3'!$J$9:$J$56)+SUMIF('Concert 4'!$E$9:$E$56,Statistiques!A392,'Concert 4'!$J$9:$J$56)+SUMIF('Concert 5'!$E$9:$E$56,Statistiques!A392,'Concert 5'!$J$9:$J$56)","v":0},null,null,{"$f":"SUMIF('Concert 1'!$E$9:$E$56,Statistiques!A392,'Concert 1'!$I$9:$I$56)","v":0},{"$f":"SUMIF('Concert 1'!$E$9:$E$56,Statistiques!A392,'Concert 1'!$J$9:$J$56)","v":0},{"$f":"SUMIF('Concert 2'!$E$9:$E$56,Statistiques!A392,'Concert 2'!$I$9:$I$56)","v":0},{"$f":"SUMIF('Concert 2'!$E$9:$E$56,Statistiques!A392,'Concert 2'!$J$9:$J$56)","v":0},{"$f":"SUMIF('Concert 3'!$E$9:$E$56,Statistiques!A392,'Concert 3'!$I$9:$I$56)","v":0},{"$f":"SUMIF('Concert 3'!$E$9:$E$56,Statistiques!A392,'Concert 3'!$J$9:$J$56)","v":0},{"$f":"SUMIF('Concert 4'!$E$9:$E$56,Statistiques!A392,'Concert 4'!$I$9:$I$56)","v":0},{"$f":"SUMIF('Concert 4'!$E$9:$E$56,Statistiques!A392,'Concert 4'!$J$9:$J$56)","v":0},{"$f":"SUMIF('Concert 5'!$E$9:$E$56,Statistiques!A392,'Concert 5'!$I$9:$I$56)","v":0},{"$f":"SUMIF('Concert 5'!$E$9:$E$56,Statistiques!A392,'Concert 5'!$J$9:$J$56)","v":0}]
[{"$f":"Ecoles!A389","v":0},{"$f":"Ecoles!B389","v":0},{"$f":"Ecoles!C389","v":0},null,{"$f":"SUMIF('Concert 1'!$E$9:$E$56,Statistiques!A393,'Concert 1'!$I$9:$I$56)+SUMIF('Concert 2'!$E$9:$E$56,Statistiques!A393,'Concert 2'!$I$9:$I$56)+SUMIF('Concert 3'!$E$9:$E$56,Statistiques!A393,'Concert 3'!$I$9:$I$56)+SUMIF('Concert 4'!$E$9:$E$56,Statistiques!A393,'Concert 4'!$I$9:$I$56)+SUMIF('Concert 5'!$E$9:$E$56,Statistiques!A393,'Concert 5'!$I$9:$I$56)","v":0},{"$f":"SUMIF('Concert 1'!$E$9:$E$56,Statistiques!A393,'Concert 1'!$J$9:$J$56)+SUMIF('Concert 2'!$E$9:$E$56,Statistiques!A393,'Concert 2'!$J$9:$J$56)+SUMIF('Concert 3'!$E$9:$E$56,Statistiques!A393,'Concert 3'!$J$9:$J$56)+SUMIF('Concert 4'!$E$9:$E$56,Statistiques!A393,'Concert 4'!$J$9:$J$56)+SUMIF('Concert 5'!$E$9:$E$56,Statistiques!A393,'Concert 5'!$J$9:$J$56)","v":0},null,null,{"$f":"SUMIF('Concert 1'!$E$9:$E$56,Statistiques!A393,'Concert 1'!$I$9:$I$56)","v":0},{"$f":"SUMIF('Concert 1'!$E$9:$E$56,Statistiques!A393,'Concert 1'!$J$9:$J$56)","v":0},{"$f":"SUMIF('Concert 2'!$E$9:$E$56,Statistiques!A393,'Concert 2'!$I$9:$I$56)","v":0},{"$f":"SUMIF('Concert 2'!$E$9:$E$56,Statistiques!A393,'Concert 2'!$J$9:$J$56)","v":0},{"$f":"SUMIF('Concert 3'!$E$9:$E$56,Statistiques!A393,'Concert 3'!$I$9:$I$56)","v":0},{"$f":"SUMIF('Concert 3'!$E$9:$E$56,Statistiques!A393,'Concert 3'!$J$9:$J$56)","v":0},{"$f":"SUMIF('Concert 4'!$E$9:$E$56,Statistiques!A393,'Concert 4'!$I$9:$I$56)","v":0},{"$f":"SUMIF('Concert 4'!$E$9:$E$56,Statistiques!A393,'Concert 4'!$J$9:$J$56)","v":0},{"$f":"SUMIF('Concert 5'!$E$9:$E$56,Statistiques!A393,'Concert 5'!$I$9:$I$56)","v":0},{"$f":"SUMIF('Concert 5'!$E$9:$E$56,Statistiques!A393,'Concert 5'!$J$9:$J$56)","v":0}]
[{"$f":"Ecoles!A390","v":0},{"$f":"Ecoles!B390","v":0},{"$f":"Ecoles!C390","v":0},null,{"$f":"SUMIF('Concert 1'!$E$9:$E$56,Statistiques!A394,'Concert 1'!$I$9:$I$56)+SUMIF('Concert 2'!$E$9:$E$56,Statistiques!A394,'Concert 2'!$I$9:$I$56)+SUMIF('Concert 3'!$E$9:$E$56,Statistiques!A394,'Concert 3'!$I$9:$I$56)+SUMIF('Concert 4'!$E$9:$E$56,Statistiques!A394,'Concert 4'!$I$9:$I$56)+SUMIF('Concert 5'!$E$9:$E$56,Statistiques!A394,'Concert 5'!$I$9:$I$56)","v":0},{"$f":"SUMIF('Concert 1'!$E$9:$E$56,Statistiques!A394,'Concert 1'!$J$9:$J$56)+SUMIF('Concert 2'!$E$9:$E$56,Statistiques!A394,'Concert 2'!$J$9:$J$56)+SUMIF('Concert 3'!$E$9:$E$56,Statistiques!A394,'Concert 3'!$J$9:$J$56)+SUMIF('Concert 4'!$E$9:$E$56,Statistiques!A394,'Concert 4'!$J$9:$J$56)+SUMIF('Concert 5'!$E$9:$E$56,Statistiques!A394,'Concert 5'!$J$9:$J$56)","v":0},null,null,{"$f":"SUMIF('Concert 1'!$E$9:$E$56,Statistiques!A394,'Concert 1'!$I$9:$I$56)","v":0},{"$f":"SUMIF('Concert 1'!$E$9:$E$56,Statistiques!A394,'Concert 1'!$J$9:$J$56)","v":0},{"$f":"SUMIF('Concert 2'!$E$9:$E$56,Statistiques!A394,'Concert 2'!$I$9:$I$56)","v":0},{"$f":"SUMIF('Concert 2'!$E$9:$E$56,Statistiques!A394,'Concert 2'!$J$9:$J$56)","v":0},{"$f":"SUMIF('Concert 3'!$E$9:$E$56,Statistiques!A394,'Concert 3'!$I$9:$I$56)","v":0},{"$f":"SUMIF('Concert 3'!$E$9:$E$56,Statistiques!A394,'Concert 3'!$J$9:$J$56)","v":0},{"$f":"SUMIF('Concert 4'!$E$9:$E$56,Statistiques!A394,'Concert 4'!$I$9:$I$56)","v":0},{"$f":"SUMIF('Concert 4'!$E$9:$E$56,Statistiques!A394,'Concert 4'!$J$9:$J$56)","v":0},{"$f":"SUMIF('Concert 5'!$E$9:$E$56,Statistiques!A394,'Concert 5'!$I$9:$I$56)","v":0},{"$f":"SUMIF('Concert 5'!$E$9:$E$56,Statistiques!A394,'Concert 5'!$J$9:$J$56)","v":0}]
[{"$f":"Ecoles!A391","v":0},{"$f":"Ecoles!B391","v":0},{"$f":"Ecoles!C391","v":0},null,{"$f":"SUMIF('Concert 1'!$E$9:$E$56,Statistiques!A395,'Concert 1'!$I$9:$I$56)+SUMIF('Concert 2'!$E$9:$E$56,Statistiques!A395,'Concert 2'!$I$9:$I$56)+SUMIF('Concert 3'!$E$9:$E$56,Statistiques!A395,'Concert 3'!$I$9:$I$56)+SUMIF('Concert 4'!$E$9:$E$56,Statistiques!A395,'Concert 4'!$I$9:$I$56)+SUMIF('Concert 5'!$E$9:$E$56,Statistiques!A395,'Concert 5'!$I$9:$I$56)","v":0},{"$f":"SUMIF('Concert 1'!$E$9:$E$56,Statistiques!A395,'Concert 1'!$J$9:$J$56)+SUMIF('Concert 2'!$E$9:$E$56,Statistiques!A395,'Concert 2'!$J$9:$J$56)+SUMIF('Concert 3'!$E$9:$E$56,Statistiques!A395,'Concert 3'!$J$9:$J$56)+SUMIF('Concert 4'!$E$9:$E$56,Statistiques!A395,'Concert 4'!$J$9:$J$56)+SUMIF('Concert 5'!$E$9:$E$56,Statistiques!A395,'Concert 5'!$J$9:$J$56)","v":0},null,null,{"$f":"SUMIF('Concert 1'!$E$9:$E$56,Statistiques!A395,'Concert 1'!$I$9:$I$56)","v":0},{"$f":"SUMIF('Concert 1'!$E$9:$E$56,Statistiques!A395,'Concert 1'!$J$9:$J$56)","v":0},{"$f":"SUMIF('Concert 2'!$E$9:$E$56,Statistiques!A395,'Concert 2'!$I$9:$I$56)","v":0},{"$f":"SUMIF('Concert 2'!$E$9:$E$56,Statistiques!A395,'Concert 2'!$J$9:$J$56)","v":0},{"$f":"SUMIF('Concert 3'!$E$9:$E$56,Statistiques!A395,'Concert 3'!$I$9:$I$56)","v":0},{"$f":"SUMIF('Concert 3'!$E$9:$E$56,Statistiques!A395,'Concert 3'!$J$9:$J$56)","v":0},{"$f":"SUMIF('Concert 4'!$E$9:$E$56,Statistiques!A395,'Concert 4'!$I$9:$I$56)","v":0},{"$f":"SUMIF('Concert 4'!$E$9:$E$56,Statistiques!A395,'Concert 4'!$J$9:$J$56)","v":0},{"$f":"SUMIF('Concert 5'!$E$9:$E$56,Statistiques!A395,'Concert 5'!$I$9:$I$56)","v":0},{"$f":"SUMIF('Concert 5'!$E$9:$E$56,Statistiques!A395,'Concert 5'!$J$9:$J$56)","v":0}]
[{"$f":"Ecoles!A392","v":0},{"$f":"Ecoles!B392","v":0},{"$f":"Ecoles!C392","v":0},null,{"$f":"SUMIF('Concert 1'!$E$9:$E$56,Statistiques!A396,'Concert 1'!$I$9:$I$56)+SUMIF('Concert 2'!$E$9:$E$56,Statistiques!A396,'Concert 2'!$I$9:$I$56)+SUMIF('Concert 3'!$E$9:$E$56,Statistiques!A396,'Concert 3'!$I$9:$I$56)+SUMIF('Concert 4'!$E$9:$E$56,Statistiques!A396,'Concert 4'!$I$9:$I$56)+SUMIF('Concert 5'!$E$9:$E$56,Statistiques!A396,'Concert 5'!$I$9:$I$56)","v":0},{"$f":"SUMIF('Concert 1'!$E$9:$E$56,Statistiques!A396,'Concert 1'!$J$9:$J$56)+SUMIF('Concert 2'!$E$9:$E$56,Statistiques!A396,'Concert 2'!$J$9:$J$56)+SUMIF('Concert 3'!$E$9:$E$56,Statistiques!A396,'Concert 3'!$J$9:$J$56)+SUMIF('Concert 4'!$E$9:$E$56,Statistiques!A396,'Concert 4'!$J$9:$J$56)+SUMIF('Concert 5'!$E$9:$E$56,Statistiques!A396,'Concert 5'!$J$9:$J$56)","v":0},null,null,{"$f":"SUMIF('Concert 1'!$E$9:$E$56,Statistiques!A396,'Concert 1'!$I$9:$I$56)","v":0},{"$f":"SUMIF('Concert 1'!$E$9:$E$56,Statistiques!A396,'Concert 1'!$J$9:$J$56)","v":0},{"$f":"SUMIF('Concert 2'!$E$9:$E$56,Statistiques!A396,'Concert 2'!$I$9:$I$56)","v":0},{"$f":"SUMIF('Concert 2'!$E$9:$E$56,Statistiques!A396,'Concert 2'!$J$9:$J$56)","v":0},{"$f":"SUMIF('Concert 3'!$E$9:$E$56,Statistiques!A396,'Concert 3'!$I$9:$I$56)","v":0},{"$f":"SUMIF('Concert 3'!$E$9:$E$56,Statistiques!A396,'Concert 3'!$J$9:$J$56)","v":0},{"$f":"SUMIF('Concert 4'!$E$9:$E$56,Statistiques!A396,'Concert 4'!$I$9:$I$56)","v":0},{"$f":"SUMIF('Concert 4'!$E$9:$E$56,Statistiques!A396,'Concert 4'!$J$9:$J$56)","v":0},{"$f":"SUMIF('Concert 5'!$E$9:$E$56,Statistiques!A396,'Concert 5'!$I$9:$I$56)","v":0},{"$f":"SUMIF('Concert 5'!$E$9:$E$56,Statistiques!A396,'Concert 5'!$J$9:$J$56)","v":0}]
[{"$f":"Ecoles!A393","v":0},{"$f":"Ecoles!B393","v":0},{"$f":"Ecoles!C393","v":0},null,{"$f":"SUMIF('Concert 1'!$E$9:$E$56,Statistiques!A397,'Concert 1'!$I$9:$I$56)+SUMIF('Concert 2'!$E$9:$E$56,Statistiques!A397,'Concert 2'!$I$9:$I$56)+SUMIF('Concert 3'!$E$9:$E$56,Statistiques!A397,'Concert 3'!$I$9:$I$56)+SUMIF('Concert 4'!$E$9:$E$56,Statistiques!A397,'Concert 4'!$I$9:$I$56)+SUMIF('Concert 5'!$E$9:$E$56,Statistiques!A397,'Concert 5'!$I$9:$I$56)","v":0},{"$f":"SUMIF('Concert 1'!$E$9:$E$56,Statistiques!A397,'Concert 1'!$J$9:$J$56)+SUMIF('Concert 2'!$E$9:$E$56,Statistiques!A397,'Concert 2'!$J$9:$J$56)+SUMIF('Concert 3'!$E$9:$E$56,Statistiques!A397,'Concert 3'!$J$9:$J$56)+SUMIF('Concert 4'!$E$9:$E$56,Statistiques!A397,'Concert 4'!$J$9:$J$56)+SUMIF('Concert 5'!$E$9:$E$56,Statistiques!A397,'Concert 5'!$J$9:$J$56)","v":0},null,null,{"$f":"SUMIF('Concert 1'!$E$9:$E$56,Statistiques!A397,'Concert 1'!$I$9:$I$56)","v":0},{"$f":"SUMIF('Concert 1'!$E$9:$E$56,Statistiques!A397,'Concert 1'!$J$9:$J$56)","v":0},{"$f":"SUMIF('Concert 2'!$E$9:$E$56,Statistiques!A397,'Concert 2'!$I$9:$I$56)","v":0},{"$f":"SUMIF('Concert 2'!$E$9:$E$56,Statistiques!A397,'Concert 2'!$J$9:$J$56)","v":0},{"$f":"SUMIF('Concert 3'!$E$9:$E$56,Statistiques!A397,'Concert 3'!$I$9:$I$56)","v":0},{"$f":"SUMIF('Concert 3'!$E$9:$E$56,Statistiques!A397,'Concert 3'!$J$9:$J$56)","v":0},{"$f":"SUMIF('Concert 4'!$E$9:$E$56,Statistiques!A397,'Concert 4'!$I$9:$I$56)","v":0},{"$f":"SUMIF('Concert 4'!$E$9:$E$56,Statistiques!A397,'Concert 4'!$J$9:$J$56)","v":0},{"$f":"SUMIF('Concert 5'!$E$9:$E$56,Statistiques!A397,'Concert 5'!$I$9:$I$56)","v":0},{"$f":"SUMIF('Concert 5'!$E$9:$E$56,Statistiques!A397,'Concert 5'!$J$9:$J$56)","v":0}]
[{"$f":"Ecoles!A394","v":0},{"$f":"Ecoles!B394","v":0},{"$f":"Ecoles!C394","v":0},null,{"$f":"SUMIF('Concert 1'!$E$9:$E$56,Statistiques!A398,'Concert 1'!$I$9:$I$56)+SUMIF('Concert 2'!$E$9:$E$56,Statistiques!A398,'Concert 2'!$I$9:$I$56)+SUMIF('Concert 3'!$E$9:$E$56,Statistiques!A398,'Concert 3'!$I$9:$I$56)+SUMIF('Concert 4'!$E$9:$E$56,Statistiques!A398,'Concert 4'!$I$9:$I$56)+SUMIF('Concert 5'!$E$9:$E$56,Statistiques!A398,'Concert 5'!$I$9:$I$56)","v":0},{"$f":"SUMIF('Concert 1'!$E$9:$E$56,Statistiques!A398,'Concert 1'!$J$9:$J$56)+SUMIF('Concert 2'!$E$9:$E$56,Statistiques!A398,'Concert 2'!$J$9:$J$56)+SUMIF('Concert 3'!$E$9:$E$56,Statistiques!A398,'Concert 3'!$J$9:$J$56)+SUMIF('Concert 4'!$E$9:$E$56,Statistiques!A398,'Concert 4'!$J$9:$J$56)+SUMIF('Concert 5'!$E$9:$E$56,Statistiques!A398,'Concert 5'!$J$9:$J$56)","v":0},null,null,{"$f":"SUMIF('Concert 1'!$E$9:$E$56,Statistiques!A398,'Concert 1'!$I$9:$I$56)","v":0},{"$f":"SUMIF('Concert 1'!$E$9:$E$56,Statistiques!A398,'Concert 1'!$J$9:$J$56)","v":0},{"$f":"SUMIF('Concert 2'!$E$9:$E$56,Statistiques!A398,'Concert 2'!$I$9:$I$56)","v":0},{"$f":"SUMIF('Concert 2'!$E$9:$E$56,Statistiques!A398,'Concert 2'!$J$9:$J$56)","v":0},{"$f":"SUMIF('Concert 3'!$E$9:$E$56,Statistiques!A398,'Concert 3'!$I$9:$I$56)","v":0},{"$f":"SUMIF('Concert 3'!$E$9:$E$56,Statistiques!A398,'Concert 3'!$J$9:$J$56)","v":0},{"$f":"SUMIF('Concert 4'!$E$9:$E$56,Statistiques!A398,'Concert 4'!$I$9:$I$56)","v":0},{"$f":"SUMIF('Concert 4'!$E$9:$E$56,Statistiques!A398,'Concert 4'!$J$9:$J$56)","v":0},{"$f":"SUMIF('Concert 5'!$E$9:$E$56,Statistiques!A398,'Concert 5'!$I$9:$I$56)","v":0},{"$f":"SUMIF('Concert 5'!$E$9:$E$56,Statistiques!A398,'Concert 5'!$J$9:$J$56)","v":0}]
[{"$f":"Ecoles!A395","v":0},{"$f":"Ecoles!B395","v":0},{"$f":"Ecoles!C395","v":0},null,{"$f":"SUMIF('Concert 1'!$E$9:$E$56,Statistiques!A399,'Concert 1'!$I$9:$I$56)+SUMIF('Concert 2'!$E$9:$E$56,Statistiques!A399,'Concert 2'!$I$9:$I$56)+SUMIF('Concert 3'!$E$9:$E$56,Statistiques!A399,'Concert 3'!$I$9:$I$56)+SUMIF('Concert 4'!$E$9:$E$56,Statistiques!A399,'Concert 4'!$I$9:$I$56)+SUMIF('Concert 5'!$E$9:$E$56,Statistiques!A399,'Concert 5'!$I$9:$I$56)","v":0},{"$f":"SUMIF('Concert 1'!$E$9:$E$56,Statistiques!A399,'Concert 1'!$J$9:$J$56)+SUMIF('Concert 2'!$E$9:$E$56,Statistiques!A399,'Concert 2'!$J$9:$J$56)+SUMIF('Concert 3'!$E$9:$E$56,Statistiques!A399,'Concert 3'!$J$9:$J$56)+SUMIF('Concert 4'!$E$9:$E$56,Statistiques!A399,'Concert 4'!$J$9:$J$56)+SUMIF('Concert 5'!$E$9:$E$56,Statistiques!A399,'Concert 5'!$J$9:$J$56)","v":0},null,null,{"$f":"SUMIF('Concert 1'!$E$9:$E$56,Statistiques!A399,'Concert 1'!$I$9:$I$56)","v":0},{"$f":"SUMIF('Concert 1'!$E$9:$E$56,Statistiques!A399,'Concert 1'!$J$9:$J$56)","v":0},{"$f":"SUMIF('Concert 2'!$E$9:$E$56,Statistiques!A399,'Concert 2'!$I$9:$I$56)","v":0},{"$f":"SUMIF('Concert 2'!$E$9:$E$56,Statistiques!A399,'Concert 2'!$J$9:$J$56)","v":0},{"$f":"SUMIF('Concert 3'!$E$9:$E$56,Statistiques!A399,'Concert 3'!$I$9:$I$56)","v":0},{"$f":"SUMIF('Concert 3'!$E$9:$E$56,Statistiques!A399,'Concert 3'!$J$9:$J$56)","v":0},{"$f":"SUMIF('Concert 4'!$E$9:$E$56,Statistiques!A399,'Concert 4'!$I$9:$I$56)","v":0},{"$f":"SUMIF('Concert 4'!$E$9:$E$56,Statistiques!A399,'Concert 4'!$J$9:$J$56)","v":0},{"$f":"SUMIF('Concert 5'!$E$9:$E$56,Statistiques!A399,'Concert 5'!$I$9:$I$56)","v":0},{"$f":"SUMIF('Concert 5'!$E$9:$E$56,Statistiques!A399,'Concert 5'!$J$9:$J$56)","v":0}]
[{"$f":"Ecoles!A396","v":0},{"$f":"Ecoles!B396","v":0},{"$f":"Ecoles!C396","v":0},null,{"$f":"SUMIF('Concert 1'!$E$9:$E$56,Statistiques!A400,'Concert 1'!$I$9:$I$56)+SUMIF('Concert 2'!$E$9:$E$56,Statistiques!A400,'Concert 2'!$I$9:$I$56)+SUMIF('Concert 3'!$E$9:$E$56,Statistiques!A400,'Concert 3'!$I$9:$I$56)+SUMIF('Concert 4'!$E$9:$E$56,Statistiques!A400,'Concert 4'!$I$9:$I$56)+SUMIF('Concert 5'!$E$9:$E$56,Statistiques!A400,'Concert 5'!$I$9:$I$56)","v":0},{"$f":"SUMIF('Concert 1'!$E$9:$E$56,Statistiques!A400,'Concert 1'!$J$9:$J$56)+SUMIF('Concert 2'!$E$9:$E$56,Statistiques!A400,'Concert 2'!$J$9:$J$56)+SUMIF('Concert 3'!$E$9:$E$56,Statistiques!A400,'Concert 3'!$J$9:$J$56)+SUMIF('Concert 4'!$E$9:$E$56,Statistiques!A400,'Concert 4'!$J$9:$J$56)+SUMIF('Concert 5'!$E$9:$E$56,Statistiques!A400,'Concert 5'!$J$9:$J$56)","v":0},null,null,{"$f":"SUMIF('Concert 1'!$E$9:$E$56,Statistiques!A400,'Concert 1'!$I$9:$I$56)","v":0},{"$f":"SUMIF('Concert 1'!$E$9:$E$56,Statistiques!A400,'Concert 1'!$J$9:$J$56)","v":0},{"$f":"SUMIF('Concert 2'!$E$9:$E$56,Statistiques!A400,'Concert 2'!$I$9:$I$56)","v":0},{"$f":"SUMIF('Concert 2'!$E$9:$E$56,Statistiques!A400,'Concert 2'!$J$9:$J$56)","v":0},{"$f":"SUMIF('Concert 3'!$E$9:$E$56,Statistiques!A400,'Concert 3'!$I$9:$I$56)","v":0},{"$f":"SUMIF('Concert 3'!$E$9:$E$56,Statistiques!A400,'Concert 3'!$J$9:$J$56)","v":0},{"$f":"SUMIF('Concert 4'!$E$9:$E$56,Statistiques!A400,'Concert 4'!$I$9:$I$56)","v":0},{"$f":"SUMIF('Concert 4'!$E$9:$E$56,Statistiques!A400,'Concert 4'!$J$9:$J$56)","v":0},{"$f":"SUMIF('Concert 5'!$E$9:$E$56,Statistiques!A400,'Concert 5'!$I$9:$I$56)","v":0},{"$f":"SUMIF('Concert 5'!$E$9:$E$56,Statistiques!A400,'Concert 5'!$J$9:$J$56)","v":0}]
[{"$f":"Ecoles!A397","v":0},{"$f":"Ecoles!B397","v":0},{"$f":"Ecoles!C397","v":0},null,{"$f":"SUMIF('Concert 1'!$E$9:$E$56,Statistiques!A401,'Concert 1'!$I$9:$I$56)+SUMIF('Concert 2'!$E$9:$E$56,Statistiques!A401,'Concert 2'!$I$9:$I$56)+SUMIF('Concert 3'!$E$9:$E$56,Statistiques!A401,'Concert 3'!$I$9:$I$56)+SUMIF('Concert 4'!$E$9:$E$56,Statistiques!A401,'Concert 4'!$I$9:$I$56)+SUMIF('Concert 5'!$E$9:$E$56,Statistiques!A401,'Concert 5'!$I$9:$I$56)","v":0},{"$f":"SUMIF('Concert 1'!$E$9:$E$56,Statistiques!A401,'Concert 1'!$J$9:$J$56)+SUMIF('Concert 2'!$E$9:$E$56,Statistiques!A401,'Concert 2'!$J$9:$J$56)+SUMIF('Concert 3'!$E$9:$E$56,Statistiques!A401,'Concert 3'!$J$9:$J$56)+SUMIF('Concert 4'!$E$9:$E$56,Statistiques!A401,'Concert 4'!$J$9:$J$56)+SUMIF('Concert 5'!$E$9:$E$56,Statistiques!A401,'Concert 5'!$J$9:$J$56)","v":0},null,null,{"$f":"SUMIF('Concert 1'!$E$9:$E$56,Statistiques!A401,'Concert 1'!$I$9:$I$56)","v":0},{"$f":"SUMIF('Concert 1'!$E$9:$E$56,Statistiques!A401,'Concert 1'!$J$9:$J$56)","v":0},{"$f":"SUMIF('Concert 2'!$E$9:$E$56,Statistiques!A401,'Concert 2'!$I$9:$I$56)","v":0},{"$f":"SUMIF('Concert 2'!$E$9:$E$56,Statistiques!A401,'Concert 2'!$J$9:$J$56)","v":0},{"$f":"SUMIF('Concert 3'!$E$9:$E$56,Statistiques!A401,'Concert 3'!$I$9:$I$56)","v":0},{"$f":"SUMIF('Concert 3'!$E$9:$E$56,Statistiques!A401,'Concert 3'!$J$9:$J$56)","v":0},{"$f":"SUMIF('Concert 4'!$E$9:$E$56,Statistiques!A401,'Concert 4'!$I$9:$I$56)","v":0},{"$f":"SUMIF('Concert 4'!$E$9:$E$56,Statistiques!A401,'Concert 4'!$J$9:$J$56)","v":0},{"$f":"SUMIF('Concert 5'!$E$9:$E$56,Statistiques!A401,'Concert 5'!$I$9:$I$56)","v":0},{"$f":"SUMIF('Concert 5'!$E$9:$E$56,Statistiques!A401,'Concert 5'!$J$9:$J$56)","v":0}]
[{"$f":"Ecoles!A398","v":0},{"$f":"Ecoles!B398","v":0},{"$f":"Ecoles!C398","v":0},null,{"$f":"SUMIF('Concert 1'!$E$9:$E$56,Statistiques!A402,'Concert 1'!$I$9:$I$56)+SUMIF('Concert 2'!$E$9:$E$56,Statistiques!A402,'Concert 2'!$I$9:$I$56)+SUMIF('Concert 3'!$E$9:$E$56,Statistiques!A402,'Concert 3'!$I$9:$I$56)+SUMIF('Concert 4'!$E$9:$E$56,Statistiques!A402,'Concert 4'!$I$9:$I$56)+SUMIF('Concert 5'!$E$9:$E$56,Statistiques!A402,'Concert 5'!$I$9:$I$56)","v":0},{"$f":"SUMIF('Concert 1'!$E$9:$E$56,Statistiques!A402,'Concert 1'!$J$9:$J$56)+SUMIF('Concert 2'!$E$9:$E$56,Statistiques!A402,'Concert 2'!$J$9:$J$56)+SUMIF('Concert 3'!$E$9:$E$56,Statistiques!A402,'Concert 3'!$J$9:$J$56)+SUMIF('Concert 4'!$E$9:$E$56,Statistiques!A402,'Concert 4'!$J$9:$J$56)+SUMIF('Concert 5'!$E$9:$E$56,Statistiques!A402,'Concert 5'!$J$9:$J$56)","v":0},null,null,{"$f":"SUMIF('Concert 1'!$E$9:$E$56,Statistiques!A402,'Concert 1'!$I$9:$I$56)","v":0},{"$f":"SUMIF('Concert 1'!$E$9:$E$56,Statistiques!A402,'Concert 1'!$J$9:$J$56)","v":0},{"$f":"SUMIF('Concert 2'!$E$9:$E$56,Statistiques!A402,'Concert 2'!$I$9:$I$56)","v":0},{"$f":"SUMIF('Concert 2'!$E$9:$E$56,Statistiques!A402,'Concert 2'!$J$9:$J$56)","v":0},{"$f":"SUMIF('Concert 3'!$E$9:$E$56,Statistiques!A402,'Concert 3'!$I$9:$I$56)","v":0},{"$f":"SUMIF('Concert 3'!$E$9:$E$56,Statistiques!A402,'Concert 3'!$J$9:$J$56)","v":0},{"$f":"SUMIF('Concert 4'!$E$9:$E$56,Statistiques!A402,'Concert 4'!$I$9:$I$56)","v":0},{"$f":"SUMIF('Concert 4'!$E$9:$E$56,Statistiques!A402,'Concert 4'!$J$9:$J$56)","v":0},{"$f":"SUMIF('Concert 5'!$E$9:$E$56,Statistiques!A402,'Concert 5'!$I$9:$I$56)","v":0},{"$f":"SUMIF('Concert 5'!$E$9:$E$56,Statistiques!A402,'Concert 5'!$J$9:$J$56)","v":0}]
[{"$f":"Ecoles!A399","v":0},{"$f":"Ecoles!B399","v":0},{"$f":"Ecoles!C399","v":0},null,{"$f":"SUMIF('Concert 1'!$E$9:$E$56,Statistiques!A403,'Concert 1'!$I$9:$I$56)+SUMIF('Concert 2'!$E$9:$E$56,Statistiques!A403,'Concert 2'!$I$9:$I$56)+SUMIF('Concert 3'!$E$9:$E$56,Statistiques!A403,'Concert 3'!$I$9:$I$56)+SUMIF('Concert 4'!$E$9:$E$56,Statistiques!A403,'Concert 4'!$I$9:$I$56)+SUMIF('Concert 5'!$E$9:$E$56,Statistiques!A403,'Concert 5'!$I$9:$I$56)","v":0},{"$f":"SUMIF('Concert 1'!$E$9:$E$56,Statistiques!A403,'Concert 1'!$J$9:$J$56)+SUMIF('Concert 2'!$E$9:$E$56,Statistiques!A403,'Concert 2'!$J$9:$J$56)+SUMIF('Concert 3'!$E$9:$E$56,Statistiques!A403,'Concert 3'!$J$9:$J$56)+SUMIF('Concert 4'!$E$9:$E$56,Statistiques!A403,'Concert 4'!$J$9:$J$56)+SUMIF('Concert 5'!$E$9:$E$56,Statistiques!A403,'Concert 5'!$J$9:$J$56)","v":0},null,null,{"$f":"SUMIF('Concert 1'!$E$9:$E$56,Statistiques!A403,'Concert 1'!$I$9:$I$56)","v":0},{"$f":"SUMIF('Concert 1'!$E$9:$E$56,Statistiques!A403,'Concert 1'!$J$9:$J$56)","v":0},{"$f":"SUMIF('Concert 2'!$E$9:$E$56,Statistiques!A403,'Concert 2'!$I$9:$I$56)","v":0},{"$f":"SUMIF('Concert 2'!$E$9:$E$56,Statistiques!A403,'Concert 2'!$J$9:$J$56)","v":0},{"$f":"SUMIF('Concert 3'!$E$9:$E$56,Statistiques!A403,'Concert 3'!$I$9:$I$56)","v":0},{"$f":"SUMIF('Concert 3'!$E$9:$E$56,Statistiques!A403,'Concert 3'!$J$9:$J$56)","v":0},{"$f":"SUMIF('Concert 4'!$E$9:$E$56,Statistiques!A403,'Concert 4'!$I$9:$I$56)","v":0},{"$f":"SUMIF('Concert 4'!$E$9:$E$56,Statistiques!A403,'Concert 4'!$J$9:$J$56)","v":0},{"$f":"SUMIF('Concert 5'!$E$9:$E$56,Statistiques!A403,'Concert 5'!$I$9:$I$56)","v":0},{"$f":"SUMIF('Concert 5'!$E$9:$E$56,Statistiques!A403,'Concert 5'!$J$9:$J$56)","v":0}]
[{"$f":"Ecoles!A400","v":0},{"$f":"Ecoles!B400","v":0},{"$f":"Ecoles!C400","v":0},null,{"$f":"SUMIF('Concert 1'!$E$9:$E$56,Statistiques!A404,'Concert 1'!$I$9:$I$56)+SUMIF('Concert 2'!$E$9:$E$56,Statistiques!A404,'Concert 2'!$I$9:$I$56)+SUMIF('Concert 3'!$E$9:$E$56,Statistiques!A404,'Concert 3'!$I$9:$I$56)+SUMIF('Concert 4'!$E$9:$E$56,Statistiques!A404,'Concert 4'!$I$9:$I$56)+SUMIF('Concert 5'!$E$9:$E$56,Statistiques!A404,'Concert 5'!$I$9:$I$56)","v":0},{"$f":"SUMIF('Concert 1'!$E$9:$E$56,Statistiques!A404,'Concert 1'!$J$9:$J$56)+SUMIF('Concert 2'!$E$9:$E$56,Statistiques!A404,'Concert 2'!$J$9:$J$56)+SUMIF('Concert 3'!$E$9:$E$56,Statistiques!A404,'Concert 3'!$J$9:$J$56)+SUMIF('Concert 4'!$E$9:$E$56,Statistiques!A404,'Concert 4'!$J$9:$J$56)+SUMIF('Concert 5'!$E$9:$E$56,Statistiques!A404,'Concert 5'!$J$9:$J$56)","v":0},null,null,{"$f":"SUMIF('Concert 1'!$E$9:$E$56,Statistiques!A404,'Concert 1'!$I$9:$I$56)","v":0},{"$f":"SUMIF('Concert 1'!$E$9:$E$56,Statistiques!A404,'Concert 1'!$J$9:$J$56)","v":0},{"$f":"SUMIF('Concert 2'!$E$9:$E$56,Statistiques!A404,'Concert 2'!$I$9:$I$56)","v":0},{"$f":"SUMIF('Concert 2'!$E$9:$E$56,Statistiques!A404,'Concert 2'!$J$9:$J$56)","v":0},{"$f":"SUMIF('Concert 3'!$E$9:$E$56,Statistiques!A404,'Concert 3'!$I$9:$I$56)","v":0},{"$f":"SUMIF('Concert 3'!$E$9:$E$56,Statistiques!A404,'Concert 3'!$J$9:$J$56)","v":0},{"$f":"SUMIF('Concert 4'!$E$9:$E$56,Statistiques!A404,'Concert 4'!$I$9:$I$56)","v":0},{"$f":"SUMIF('Concert 4'!$E$9:$E$56,Statistiques!A404,'Concert 4'!$J$9:$J$56)","v":0},{"$f":"SUMIF('Concert 5'!$E$9:$E$56,Statistiques!A404,'Concert 5'!$I$9:$I$56)","v":0},{"$f":"SUMIF('Concert 5'!$E$9:$E$56,Statistiques!A404,'Concert 5'!$J$9:$J$56)","v":0}]
[{"$f":"Ecoles!A401","v":0},{"$f":"Ecoles!B401","v":0},{"$f":"Ecoles!C401","v":0},null,{"$f":"SUMIF('Concert 1'!$E$9:$E$56,Statistiques!A405,'Concert 1'!$I$9:$I$56)+SUMIF('Concert 2'!$E$9:$E$56,Statistiques!A405,'Concert 2'!$I$9:$I$56)+SUMIF('Concert 3'!$E$9:$E$56,Statistiques!A405,'Concert 3'!$I$9:$I$56)+SUMIF('Concert 4'!$E$9:$E$56,Statistiques!A405,'Concert 4'!$I$9:$I$56)+SUMIF('Concert 5'!$E$9:$E$56,Statistiques!A405,'Concert 5'!$I$9:$I$56)","v":0},{"$f":"SUMIF('Concert 1'!$E$9:$E$56,Statistiques!A405,'Concert 1'!$J$9:$J$56)+SUMIF('Concert 2'!$E$9:$E$56,Statistiques!A405,'Concert 2'!$J$9:$J$56)+SUMIF('Concert 3'!$E$9:$E$56,Statistiques!A405,'Concert 3'!$J$9:$J$56)+SUMIF('Concert 4'!$E$9:$E$56,Statistiques!A405,'Concert 4'!$J$9:$J$56)+SUMIF('Concert 5'!$E$9:$E$56,Statistiques!A405,'Concert 5'!$J$9:$J$56)","v":0},null,null,{"$f":"SUMIF('Concert 1'!$E$9:$E$56,Statistiques!A405,'Concert 1'!$I$9:$I$56)","v":0},{"$f":"SUMIF('Concert 1'!$E$9:$E$56,Statistiques!A405,'Concert 1'!$J$9:$J$56)","v":0},{"$f":"SUMIF('Concert 2'!$E$9:$E$56,Statistiques!A405,'Concert 2'!$I$9:$I$56)","v":0},{"$f":"SUMIF('Concert 2'!$E$9:$E$56,Statistiques!A405,'Concert 2'!$J$9:$J$56)","v":0},{"$f":"SUMIF('Concert 3'!$E$9:$E$56,Statistiques!A405,'Concert 3'!$I$9:$I$56)","v":0},{"$f":"SUMIF('Concert 3'!$E$9:$E$56,Statistiques!A405,'Concert 3'!$J$9:$J$56)","v":0},{"$f":"SUMIF('Concert 4'!$E$9:$E$56,Statistiques!A405,'Concert 4'!$I$9:$I$56)","v":0},{"$f":"SUMIF('Concert 4'!$E$9:$E$56,Statistiques!A405,'Concert 4'!$J$9:$J$56)","v":0},{"$f":"SUMIF('Concert 5'!$E$9:$E$56,Statistiques!A405,'Concert 5'!$I$9:$I$56)","v":0},{"$f":"SUMIF('Concert 5'!$E$9:$E$56,Statistiques!A405,'Concert 5'!$J$9:$J$56)","v":0}]
[{"$f":"Ecoles!A402","v":0},{"$f":"Ecoles!B402","v":0},{"$f":"Ecoles!C402","v":0},null,{"$f":"SUMIF('Concert 1'!$E$9:$E$56,Statistiques!A406,'Concert 1'!$I$9:$I$56)+SUMIF('Concert 2'!$E$9:$E$56,Statistiques!A406,'Concert 2'!$I$9:$I$56)+SUMIF('Concert 3'!$E$9:$E$56,Statistiques!A406,'Concert 3'!$I$9:$I$56)+SUMIF('Concert 4'!$E$9:$E$56,Statistiques!A406,'Concert 4'!$I$9:$I$56)+SUMIF('Concert 5'!$E$9:$E$56,Statistiques!A406,'Concert 5'!$I$9:$I$56)","v":0},{"$f":"SUMIF('Concert 1'!$E$9:$E$56,Statistiques!A406,'Concert 1'!$J$9:$J$56)+SUMIF('Concert 2'!$E$9:$E$56,Statistiques!A406,'Concert 2'!$J$9:$J$56)+SUMIF('Concert 3'!$E$9:$E$56,Statistiques!A406,'Concert 3'!$J$9:$J$56)+SUMIF('Concert 4'!$E$9:$E$56,Statistiques!A406,'Concert 4'!$J$9:$J$56)+SUMIF('Concert 5'!$E$9:$E$56,Statistiques!A406,'Concert 5'!$J$9:$J$56)","v":0},null,null,{"$f":"SUMIF('Concert 1'!$E$9:$E$56,Statistiques!A406,'Concert 1'!$I$9:$I$56)","v":0},{"$f":"SUMIF('Concert 1'!$E$9:$E$56,Statistiques!A406,'Concert 1'!$J$9:$J$56)","v":0},{"$f":"SUMIF('Concert 2'!$E$9:$E$56,Statistiques!A406,'Concert 2'!$I$9:$I$56)","v":0},{"$f":"SUMIF('Concert 2'!$E$9:$E$56,Statistiques!A406,'Concert 2'!$J$9:$J$56)","v":0},{"$f":"SUMIF('Concert 3'!$E$9:$E$56,Statistiques!A406,'Concert 3'!$I$9:$I$56)","v":0},{"$f":"SUMIF('Concert 3'!$E$9:$E$56,Statistiques!A406,'Concert 3'!$J$9:$J$56)","v":0},{"$f":"SUMIF('Concert 4'!$E$9:$E$56,Statistiques!A406,'Concert 4'!$I$9:$I$56)","v":0},{"$f":"SUMIF('Concert 4'!$E$9:$E$56,Statistiques!A406,'Concert 4'!$J$9:$J$56)","v":0},{"$f":"SUMIF('Concert 5'!$E$9:$E$56,Statistiques!A406,'Concert 5'!$I$9:$I$56)","v":0},{"$f":"SUMIF('Concert 5'!$E$9:$E$56,Statistiques!A406,'Concert 5'!$J$9:$J$56)","v":0}]
[{"$f":"Ecoles!A403","v":0},{"$f":"Ecoles!B403","v":0},{"$f":"Ecoles!C403","v":0},null,{"$f":"SUMIF('Concert 1'!$E$9:$E$56,Statistiques!A407,'Concert 1'!$I$9:$I$56)+SUMIF('Concert 2'!$E$9:$E$56,Statistiques!A407,'Concert 2'!$I$9:$I$56)+SUMIF('Concert 3'!$E$9:$E$56,Statistiques!A407,'Concert 3'!$I$9:$I$56)+SUMIF('Concert 4'!$E$9:$E$56,Statistiques!A407,'Concert 4'!$I$9:$I$56)+SUMIF('Concert 5'!$E$9:$E$56,Statistiques!A407,'Concert 5'!$I$9:$I$56)","v":0},{"$f":"SUMIF('Concert 1'!$E$9:$E$56,Statistiques!A407,'Concert 1'!$J$9:$J$56)+SUMIF('Concert 2'!$E$9:$E$56,Statistiques!A407,'Concert 2'!$J$9:$J$56)+SUMIF('Concert 3'!$E$9:$E$56,Statistiques!A407,'Concert 3'!$J$9:$J$56)+SUMIF('Concert 4'!$E$9:$E$56,Statistiques!A407,'Concert 4'!$J$9:$J$56)+SUMIF('Concert 5'!$E$9:$E$56,Statistiques!A407,'Concert 5'!$J$9:$J$56)","v":0},null,null,{"$f":"SUMIF('Concert 1'!$E$9:$E$56,Statistiques!A407,'Concert 1'!$I$9:$I$56)","v":0},{"$f":"SUMIF('Concert 1'!$E$9:$E$56,Statistiques!A407,'Concert 1'!$J$9:$J$56)","v":0},{"$f":"SUMIF('Concert 2'!$E$9:$E$56,Statistiques!A407,'Concert 2'!$I$9:$I$56)","v":0},{"$f":"SUMIF('Concert 2'!$E$9:$E$56,Statistiques!A407,'Concert 2'!$J$9:$J$56)","v":0},{"$f":"SUMIF('Concert 3'!$E$9:$E$56,Statistiques!A407,'Concert 3'!$I$9:$I$56)","v":0},{"$f":"SUMIF('Concert 3'!$E$9:$E$56,Statistiques!A407,'Concert 3'!$J$9:$J$56)","v":0},{"$f":"SUMIF('Concert 4'!$E$9:$E$56,Statistiques!A407,'Concert 4'!$I$9:$I$56)","v":0},{"$f":"SUMIF('Concert 4'!$E$9:$E$56,Statistiques!A407,'Concert 4'!$J$9:$J$56)","v":0},{"$f":"SUMIF('Concert 5'!$E$9:$E$56,Statistiques!A407,'Concert 5'!$I$9:$I$56)","v":0},{"$f":"SUMIF('Concert 5'!$E$9:$E$56,Statistiques!A407,'Concert 5'!$J$9:$J$56)","v":0}]
[{"$f":"Ecoles!A404","v":0},{"$f":"Ecoles!B404","v":0},{"$f":"Ecoles!C404","v":0},null,{"$f":"SUMIF('Concert 1'!$E$9:$E$56,Statistiques!A408,'Concert 1'!$I$9:$I$56)+SUMIF('Concert 2'!$E$9:$E$56,Statistiques!A408,'Concert 2'!$I$9:$I$56)+SUMIF('Concert 3'!$E$9:$E$56,Statistiques!A408,'Concert 3'!$I$9:$I$56)+SUMIF('Concert 4'!$E$9:$E$56,Statistiques!A408,'Concert 4'!$I$9:$I$56)+SUMIF('Concert 5'!$E$9:$E$56,Statistiques!A408,'Concert 5'!$I$9:$I$56)","v":0},{"$f":"SUMIF('Concert 1'!$E$9:$E$56,Statistiques!A408,'Concert 1'!$J$9:$J$56)+SUMIF('Concert 2'!$E$9:$E$56,Statistiques!A408,'Concert 2'!$J$9:$J$56)+SUMIF('Concert 3'!$E$9:$E$56,Statistiques!A408,'Concert 3'!$J$9:$J$56)+SUMIF('Concert 4'!$E$9:$E$56,Statistiques!A408,'Concert 4'!$J$9:$J$56)+SUMIF('Concert 5'!$E$9:$E$56,Statistiques!A408,'Concert 5'!$J$9:$J$56)","v":0},null,null,{"$f":"SUMIF('Concert 1'!$E$9:$E$56,Statistiques!A408,'Concert 1'!$I$9:$I$56)","v":0},{"$f":"SUMIF('Concert 1'!$E$9:$E$56,Statistiques!A408,'Concert 1'!$J$9:$J$56)","v":0},{"$f":"SUMIF('Concert 2'!$E$9:$E$56,Statistiques!A408,'Concert 2'!$I$9:$I$56)","v":0},{"$f":"SUMIF('Concert 2'!$E$9:$E$56,Statistiques!A408,'Concert 2'!$J$9:$J$56)","v":0},{"$f":"SUMIF('Concert 3'!$E$9:$E$56,Statistiques!A408,'Concert 3'!$I$9:$I$56)","v":0},{"$f":"SUMIF('Concert 3'!$E$9:$E$56,Statistiques!A408,'Concert 3'!$J$9:$J$56)","v":0},{"$f":"SUMIF('Concert 4'!$E$9:$E$56,Statistiques!A408,'Concert 4'!$I$9:$I$56)","v":0},{"$f":"SUMIF('Concert 4'!$E$9:$E$56,Statistiques!A408,'Concert 4'!$J$9:$J$56)","v":0},{"$f":"SUMIF('Concert 5'!$E$9:$E$56,Statistiques!A408,'Concert 5'!$I$9:$I$56)","v":0},{"$f":"SUMIF('Concert 5'!$E$9:$E$56,Statistiques!A408,'Concert 5'!$J$9:$J$56)","v":0}]
[{"$f":"Ecoles!A405","v":0},{"$f":"Ecoles!B405","v":0},{"$f":"Ecoles!C405","v":0},null,{"$f":"SUMIF('Concert 1'!$E$9:$E$56,Statistiques!A409,'Concert 1'!$I$9:$I$56)+SUMIF('Concert 2'!$E$9:$E$56,Statistiques!A409,'Concert 2'!$I$9:$I$56)+SUMIF('Concert 3'!$E$9:$E$56,Statistiques!A409,'Concert 3'!$I$9:$I$56)+SUMIF('Concert 4'!$E$9:$E$56,Statistiques!A409,'Concert 4'!$I$9:$I$56)+SUMIF('Concert 5'!$E$9:$E$56,Statistiques!A409,'Concert 5'!$I$9:$I$56)","v":0},{"$f":"SUMIF('Concert 1'!$E$9:$E$56,Statistiques!A409,'Concert 1'!$J$9:$J$56)+SUMIF('Concert 2'!$E$9:$E$56,Statistiques!A409,'Concert 2'!$J$9:$J$56)+SUMIF('Concert 3'!$E$9:$E$56,Statistiques!A409,'Concert 3'!$J$9:$J$56)+SUMIF('Concert 4'!$E$9:$E$56,Statistiques!A409,'Concert 4'!$J$9:$J$56)+SUMIF('Concert 5'!$E$9:$E$56,Statistiques!A409,'Concert 5'!$J$9:$J$56)","v":0},null,null,{"$f":"SUMIF('Concert 1'!$E$9:$E$56,Statistiques!A409,'Concert 1'!$I$9:$I$56)","v":0},{"$f":"SUMIF('Concert 1'!$E$9:$E$56,Statistiques!A409,'Concert 1'!$J$9:$J$56)","v":0},{"$f":"SUMIF('Concert 2'!$E$9:$E$56,Statistiques!A409,'Concert 2'!$I$9:$I$56)","v":0},{"$f":"SUMIF('Concert 2'!$E$9:$E$56,Statistiques!A409,'Concert 2'!$J$9:$J$56)","v":0},{"$f":"SUMIF('Concert 3'!$E$9:$E$56,Statistiques!A409,'Concert 3'!$I$9:$I$56)","v":0},{"$f":"SUMIF('Concert 3'!$E$9:$E$56,Statistiques!A409,'Concert 3'!$J$9:$J$56)","v":0},{"$f":"SUMIF('Concert 4'!$E$9:$E$56,Statistiques!A409,'Concert 4'!$I$9:$I$56)","v":0},{"$f":"SUMIF('Concert 4'!$E$9:$E$56,Statistiques!A409,'Concert 4'!$J$9:$J$56)","v":0},{"$f":"SUMIF('Concert 5'!$E$9:$E$56,Statistiques!A409,'Concert 5'!$I$9:$I$56)","v":0},{"$f":"SUMIF('Concert 5'!$E$9:$E$56,Statistiques!A409,'Concert 5'!$J$9:$J$56)","v":0}]
[{"$f":"Ecoles!A406","v":0},{"$f":"Ecoles!B406","v":0},{"$f":"Ecoles!C406","v":0},null,{"$f":"SUMIF('Concert 1'!$E$9:$E$56,Statistiques!A410,'Concert 1'!$I$9:$I$56)+SUMIF('Concert 2'!$E$9:$E$56,Statistiques!A410,'Concert 2'!$I$9:$I$56)+SUMIF('Concert 3'!$E$9:$E$56,Statistiques!A410,'Concert 3'!$I$9:$I$56)+SUMIF('Concert 4'!$E$9:$E$56,Statistiques!A410,'Concert 4'!$I$9:$I$56)+SUMIF('Concert 5'!$E$9:$E$56,Statistiques!A410,'Concert 5'!$I$9:$I$56)","v":0},{"$f":"SUMIF('Concert 1'!$E$9:$E$56,Statistiques!A410,'Concert 1'!$J$9:$J$56)+SUMIF('Concert 2'!$E$9:$E$56,Statistiques!A410,'Concert 2'!$J$9:$J$56)+SUMIF('Concert 3'!$E$9:$E$56,Statistiques!A410,'Concert 3'!$J$9:$J$56)+SUMIF('Concert 4'!$E$9:$E$56,Statistiques!A410,'Concert 4'!$J$9:$J$56)+SUMIF('Concert 5'!$E$9:$E$56,Statistiques!A410,'Concert 5'!$J$9:$J$56)","v":0},null,null,{"$f":"SUMIF('Concert 1'!$E$9:$E$56,Statistiques!A410,'Concert 1'!$I$9:$I$56)","v":0},{"$f":"SUMIF('Concert 1'!$E$9:$E$56,Statistiques!A410,'Concert 1'!$J$9:$J$56)","v":0},{"$f":"SUMIF('Concert 2'!$E$9:$E$56,Statistiques!A410,'Concert 2'!$I$9:$I$56)","v":0},{"$f":"SUMIF('Concert 2'!$E$9:$E$56,Statistiques!A410,'Concert 2'!$J$9:$J$56)","v":0},{"$f":"SUMIF('Concert 3'!$E$9:$E$56,Statistiques!A410,'Concert 3'!$I$9:$I$56)","v":0},{"$f":"SUMIF('Concert 3'!$E$9:$E$56,Statistiques!A410,'Concert 3'!$J$9:$J$56)","v":0},{"$f":"SUMIF('Concert 4'!$E$9:$E$56,Statistiques!A410,'Concert 4'!$I$9:$I$56)","v":0},{"$f":"SUMIF('Concert 4'!$E$9:$E$56,Statistiques!A410,'Concert 4'!$J$9:$J$56)","v":0},{"$f":"SUMIF('Concert 5'!$E$9:$E$56,Statistiques!A410,'Concert 5'!$I$9:$I$56)","v":0},{"$f":"SUMIF('Concert 5'!$E$9:$E$56,Statistiques!A410,'Concert 5'!$J$9:$J$56)","v":0}]
[{"$f":"Ecoles!A407","v":0},{"$f":"Ecoles!B407","v":0},{"$f":"Ecoles!C407","v":0},null,{"$f":"SUMIF('Concert 1'!$E$9:$E$56,Statistiques!A411,'Concert 1'!$I$9:$I$56)+SUMIF('Concert 2'!$E$9:$E$56,Statistiques!A411,'Concert 2'!$I$9:$I$56)+SUMIF('Concert 3'!$E$9:$E$56,Statistiques!A411,'Concert 3'!$I$9:$I$56)+SUMIF('Concert 4'!$E$9:$E$56,Statistiques!A411,'Concert 4'!$I$9:$I$56)+SUMIF('Concert 5'!$E$9:$E$56,Statistiques!A411,'Concert 5'!$I$9:$I$56)","v":0},{"$f":"SUMIF('Concert 1'!$E$9:$E$56,Statistiques!A411,'Concert 1'!$J$9:$J$56)+SUMIF('Concert 2'!$E$9:$E$56,Statistiques!A411,'Concert 2'!$J$9:$J$56)+SUMIF('Concert 3'!$E$9:$E$56,Statistiques!A411,'Concert 3'!$J$9:$J$56)+SUMIF('Concert 4'!$E$9:$E$56,Statistiques!A411,'Concert 4'!$J$9:$J$56)+SUMIF('Concert 5'!$E$9:$E$56,Statistiques!A411,'Concert 5'!$J$9:$J$56)","v":0},null,null,{"$f":"SUMIF('Concert 1'!$E$9:$E$56,Statistiques!A411,'Concert 1'!$I$9:$I$56)","v":0},{"$f":"SUMIF('Concert 1'!$E$9:$E$56,Statistiques!A411,'Concert 1'!$J$9:$J$56)","v":0},{"$f":"SUMIF('Concert 2'!$E$9:$E$56,Statistiques!A411,'Concert 2'!$I$9:$I$56)","v":0},{"$f":"SUMIF('Concert 2'!$E$9:$E$56,Statistiques!A411,'Concert 2'!$J$9:$J$56)","v":0},{"$f":"SUMIF('Concert 3'!$E$9:$E$56,Statistiques!A411,'Concert 3'!$I$9:$I$56)","v":0},{"$f":"SUMIF('Concert 3'!$E$9:$E$56,Statistiques!A411,'Concert 3'!$J$9:$J$56)","v":0},{"$f":"SUMIF('Concert 4'!$E$9:$E$56,Statistiques!A411,'Concert 4'!$I$9:$I$56)","v":0},{"$f":"SUMIF('Concert 4'!$E$9:$E$56,Statistiques!A411,'Concert 4'!$J$9:$J$56)","v":0},{"$f":"SUMIF('Concert 5'!$E$9:$E$56,Statistiques!A411,'Concert 5'!$I$9:$I$56)","v":0},{"$f":"SUMIF('Concert 5'!$E$9:$E$56,Statistiques!A411,'Concert 5'!$J$9:$J$56)","v":0}]
[{"$f":"Ecoles!A408","v":0},{"$f":"Ecoles!B408","v":0},{"$f":"Ecoles!C408","v":0},null,{"$f":"SUMIF('Concert 1'!$E$9:$E$56,Statistiques!A412,'Concert 1'!$I$9:$I$56)+SUMIF('Concert 2'!$E$9:$E$56,Statistiques!A412,'Concert 2'!$I$9:$I$56)+SUMIF('Concert 3'!$E$9:$E$56,Statistiques!A412,'Concert 3'!$I$9:$I$56)+SUMIF('Concert 4'!$E$9:$E$56,Statistiques!A412,'Concert 4'!$I$9:$I$56)+SUMIF('Concert 5'!$E$9:$E$56,Statistiques!A412,'Concert 5'!$I$9:$I$56)","v":0},{"$f":"SUMIF('Concert 1'!$E$9:$E$56,Statistiques!A412,'Concert 1'!$J$9:$J$56)+SUMIF('Concert 2'!$E$9:$E$56,Statistiques!A412,'Concert 2'!$J$9:$J$56)+SUMIF('Concert 3'!$E$9:$E$56,Statistiques!A412,'Concert 3'!$J$9:$J$56)+SUMIF('Concert 4'!$E$9:$E$56,Statistiques!A412,'Concert 4'!$J$9:$J$56)+SUMIF('Concert 5'!$E$9:$E$56,Statistiques!A412,'Concert 5'!$J$9:$J$56)","v":0},null,null,{"$f":"SUMIF('Concert 1'!$E$9:$E$56,Statistiques!A412,'Concert 1'!$I$9:$I$56)","v":0},{"$f":"SUMIF('Concert 1'!$E$9:$E$56,Statistiques!A412,'Concert 1'!$J$9:$J$56)","v":0},{"$f":"SUMIF('Concert 2'!$E$9:$E$56,Statistiques!A412,'Concert 2'!$I$9:$I$56)","v":0},{"$f":"SUMIF('Concert 2'!$E$9:$E$56,Statistiques!A412,'Concert 2'!$J$9:$J$56)","v":0},{"$f":"SUMIF('Concert 3'!$E$9:$E$56,Statistiques!A412,'Concert 3'!$I$9:$I$56)","v":0},{"$f":"SUMIF('Concert 3'!$E$9:$E$56,Statistiques!A412,'Concert 3'!$J$9:$J$56)","v":0},{"$f":"SUMIF('Concert 4'!$E$9:$E$56,Statistiques!A412,'Concert 4'!$I$9:$I$56)","v":0},{"$f":"SUMIF('Concert 4'!$E$9:$E$56,Statistiques!A412,'Concert 4'!$J$9:$J$56)","v":0},{"$f":"SUMIF('Concert 5'!$E$9:$E$56,Statistiques!A412,'Concert 5'!$I$9:$I$56)","v":0},{"$f":"SUMIF('Concert 5'!$E$9:$E$56,Statistiques!A412,'Concert 5'!$J$9:$J$56)","v":0}]
[{"$f":"Ecoles!A409","v":0},{"$f":"Ecoles!B409","v":0},{"$f":"Ecoles!C409","v":0},null,{"$f":"SUMIF('Concert 1'!$E$9:$E$56,Statistiques!A413,'Concert 1'!$I$9:$I$56)+SUMIF('Concert 2'!$E$9:$E$56,Statistiques!A413,'Concert 2'!$I$9:$I$56)+SUMIF('Concert 3'!$E$9:$E$56,Statistiques!A413,'Concert 3'!$I$9:$I$56)+SUMIF('Concert 4'!$E$9:$E$56,Statistiques!A413,'Concert 4'!$I$9:$I$56)+SUMIF('Concert 5'!$E$9:$E$56,Statistiques!A413,'Concert 5'!$I$9:$I$56)","v":0},{"$f":"SUMIF('Concert 1'!$E$9:$E$56,Statistiques!A413,'Concert 1'!$J$9:$J$56)+SUMIF('Concert 2'!$E$9:$E$56,Statistiques!A413,'Concert 2'!$J$9:$J$56)+SUMIF('Concert 3'!$E$9:$E$56,Statistiques!A413,'Concert 3'!$J$9:$J$56)+SUMIF('Concert 4'!$E$9:$E$56,Statistiques!A413,'Concert 4'!$J$9:$J$56)+SUMIF('Concert 5'!$E$9:$E$56,Statistiques!A413,'Concert 5'!$J$9:$J$56)","v":0},null,null,{"$f":"SUMIF('Concert 1'!$E$9:$E$56,Statistiques!A413,'Concert 1'!$I$9:$I$56)","v":0},{"$f":"SUMIF('Concert 1'!$E$9:$E$56,Statistiques!A413,'Concert 1'!$J$9:$J$56)","v":0},{"$f":"SUMIF('Concert 2'!$E$9:$E$56,Statistiques!A413,'Concert 2'!$I$9:$I$56)","v":0},{"$f":"SUMIF('Concert 2'!$E$9:$E$56,Statistiques!A413,'Concert 2'!$J$9:$J$56)","v":0},{"$f":"SUMIF('Concert 3'!$E$9:$E$56,Statistiques!A413,'Concert 3'!$I$9:$I$56)","v":0},{"$f":"SUMIF('Concert 3'!$E$9:$E$56,Statistiques!A413,'Concert 3'!$J$9:$J$56)","v":0},{"$f":"SUMIF('Concert 4'!$E$9:$E$56,Statistiques!A413,'Concert 4'!$I$9:$I$56)","v":0},{"$f":"SUMIF('Concert 4'!$E$9:$E$56,Statistiques!A413,'Concert 4'!$J$9:$J$56)","v":0},{"$f":"SUMIF('Concert 5'!$E$9:$E$56,Statistiques!A413,'Concert 5'!$I$9:$I$56)","v":0},{"$f":"SUMIF('Concert 5'!$E$9:$E$56,Statistiques!A413,'Concert 5'!$J$9:$J$56)","v":0}]
[{"$f":"Ecoles!A410","v":0},{"$f":"Ecoles!B410","v":0},{"$f":"Ecoles!C410","v":0},null,{"$f":"SUMIF('Concert 1'!$E$9:$E$56,Statistiques!A414,'Concert 1'!$I$9:$I$56)+SUMIF('Concert 2'!$E$9:$E$56,Statistiques!A414,'Concert 2'!$I$9:$I$56)+SUMIF('Concert 3'!$E$9:$E$56,Statistiques!A414,'Concert 3'!$I$9:$I$56)+SUMIF('Concert 4'!$E$9:$E$56,Statistiques!A414,'Concert 4'!$I$9:$I$56)+SUMIF('Concert 5'!$E$9:$E$56,Statistiques!A414,'Concert 5'!$I$9:$I$56)","v":0},{"$f":"SUMIF('Concert 1'!$E$9:$E$56,Statistiques!A414,'Concert 1'!$J$9:$J$56)+SUMIF('Concert 2'!$E$9:$E$56,Statistiques!A414,'Concert 2'!$J$9:$J$56)+SUMIF('Concert 3'!$E$9:$E$56,Statistiques!A414,'Concert 3'!$J$9:$J$56)+SUMIF('Concert 4'!$E$9:$E$56,Statistiques!A414,'Concert 4'!$J$9:$J$56)+SUMIF('Concert 5'!$E$9:$E$56,Statistiques!A414,'Concert 5'!$J$9:$J$56)","v":0},null,null,{"$f":"SUMIF('Concert 1'!$E$9:$E$56,Statistiques!A414,'Concert 1'!$I$9:$I$56)","v":0},{"$f":"SUMIF('Concert 1'!$E$9:$E$56,Statistiques!A414,'Concert 1'!$J$9:$J$56)","v":0},{"$f":"SUMIF('Concert 2'!$E$9:$E$56,Statistiques!A414,'Concert 2'!$I$9:$I$56)","v":0},{"$f":"SUMIF('Concert 2'!$E$9:$E$56,Statistiques!A414,'Concert 2'!$J$9:$J$56)","v":0},{"$f":"SUMIF('Concert 3'!$E$9:$E$56,Statistiques!A414,'Concert 3'!$I$9:$I$56)","v":0},{"$f":"SUMIF('Concert 3'!$E$9:$E$56,Statistiques!A414,'Concert 3'!$J$9:$J$56)","v":0},{"$f":"SUMIF('Concert 4'!$E$9:$E$56,Statistiques!A414,'Concert 4'!$I$9:$I$56)","v":0},{"$f":"SUMIF('Concert 4'!$E$9:$E$56,Statistiques!A414,'Concert 4'!$J$9:$J$56)","v":0},{"$f":"SUMIF('Concert 5'!$E$9:$E$56,Statistiques!A414,'Concert 5'!$I$9:$I$56)","v":0},{"$f":"SUMIF('Concert 5'!$E$9:$E$56,Statistiques!A414,'Concert 5'!$J$9:$J$56)","v":0}]
[{"$f":"Ecoles!A411","v":0},{"$f":"Ecoles!B411","v":0},{"$f":"Ecoles!C411","v":0},null,{"$f":"SUMIF('Concert 1'!$E$9:$E$56,Statistiques!A415,'Concert 1'!$I$9:$I$56)+SUMIF('Concert 2'!$E$9:$E$56,Statistiques!A415,'Concert 2'!$I$9:$I$56)+SUMIF('Concert 3'!$E$9:$E$56,Statistiques!A415,'Concert 3'!$I$9:$I$56)+SUMIF('Concert 4'!$E$9:$E$56,Statistiques!A415,'Concert 4'!$I$9:$I$56)+SUMIF('Concert 5'!$E$9:$E$56,Statistiques!A415,'Concert 5'!$I$9:$I$56)","v":0},{"$f":"SUMIF('Concert 1'!$E$9:$E$56,Statistiques!A415,'Concert 1'!$J$9:$J$56)+SUMIF('Concert 2'!$E$9:$E$56,Statistiques!A415,'Concert 2'!$J$9:$J$56)+SUMIF('Concert 3'!$E$9:$E$56,Statistiques!A415,'Concert 3'!$J$9:$J$56)+SUMIF('Concert 4'!$E$9:$E$56,Statistiques!A415,'Concert 4'!$J$9:$J$56)+SUMIF('Concert 5'!$E$9:$E$56,Statistiques!A415,'Concert 5'!$J$9:$J$56)","v":0},null,null,{"$f":"SUMIF('Concert 1'!$E$9:$E$56,Statistiques!A415,'Concert 1'!$I$9:$I$56)","v":0},{"$f":"SUMIF('Concert 1'!$E$9:$E$56,Statistiques!A415,'Concert 1'!$J$9:$J$56)","v":0},{"$f":"SUMIF('Concert 2'!$E$9:$E$56,Statistiques!A415,'Concert 2'!$I$9:$I$56)","v":0},{"$f":"SUMIF('Concert 2'!$E$9:$E$56,Statistiques!A415,'Concert 2'!$J$9:$J$56)","v":0},{"$f":"SUMIF('Concert 3'!$E$9:$E$56,Statistiques!A415,'Concert 3'!$I$9:$I$56)","v":0},{"$f":"SUMIF('Concert 3'!$E$9:$E$56,Statistiques!A415,'Concert 3'!$J$9:$J$56)","v":0},{"$f":"SUMIF('Concert 4'!$E$9:$E$56,Statistiques!A415,'Concert 4'!$I$9:$I$56)","v":0},{"$f":"SUMIF('Concert 4'!$E$9:$E$56,Statistiques!A415,'Concert 4'!$J$9:$J$56)","v":0},{"$f":"SUMIF('Concert 5'!$E$9:$E$56,Statistiques!A415,'Concert 5'!$I$9:$I$56)","v":0},{"$f":"SUMIF('Concert 5'!$E$9:$E$56,Statistiques!A415,'Concert 5'!$J$9:$J$56)","v":0}]
[{"$f":"Ecoles!A412","v":0},{"$f":"Ecoles!B412","v":0},{"$f":"Ecoles!C412","v":0},null,{"$f":"SUMIF('Concert 1'!$E$9:$E$56,Statistiques!A416,'Concert 1'!$I$9:$I$56)+SUMIF('Concert 2'!$E$9:$E$56,Statistiques!A416,'Concert 2'!$I$9:$I$56)+SUMIF('Concert 3'!$E$9:$E$56,Statistiques!A416,'Concert 3'!$I$9:$I$56)+SUMIF('Concert 4'!$E$9:$E$56,Statistiques!A416,'Concert 4'!$I$9:$I$56)+SUMIF('Concert 5'!$E$9:$E$56,Statistiques!A416,'Concert 5'!$I$9:$I$56)","v":0},{"$f":"SUMIF('Concert 1'!$E$9:$E$56,Statistiques!A416,'Concert 1'!$J$9:$J$56)+SUMIF('Concert 2'!$E$9:$E$56,Statistiques!A416,'Concert 2'!$J$9:$J$56)+SUMIF('Concert 3'!$E$9:$E$56,Statistiques!A416,'Concert 3'!$J$9:$J$56)+SUMIF('Concert 4'!$E$9:$E$56,Statistiques!A416,'Concert 4'!$J$9:$J$56)+SUMIF('Concert 5'!$E$9:$E$56,Statistiques!A416,'Concert 5'!$J$9:$J$56)","v":0},null,null,{"$f":"SUMIF('Concert 1'!$E$9:$E$56,Statistiques!A416,'Concert 1'!$I$9:$I$56)","v":0},{"$f":"SUMIF('Concert 1'!$E$9:$E$56,Statistiques!A416,'Concert 1'!$J$9:$J$56)","v":0},{"$f":"SUMIF('Concert 2'!$E$9:$E$56,Statistiques!A416,'Concert 2'!$I$9:$I$56)","v":0},{"$f":"SUMIF('Concert 2'!$E$9:$E$56,Statistiques!A416,'Concert 2'!$J$9:$J$56)","v":0},{"$f":"SUMIF('Concert 3'!$E$9:$E$56,Statistiques!A416,'Concert 3'!$I$9:$I$56)","v":0},{"$f":"SUMIF('Concert 3'!$E$9:$E$56,Statistiques!A416,'Concert 3'!$J$9:$J$56)","v":0},{"$f":"SUMIF('Concert 4'!$E$9:$E$56,Statistiques!A416,'Concert 4'!$I$9:$I$56)","v":0},{"$f":"SUMIF('Concert 4'!$E$9:$E$56,Statistiques!A416,'Concert 4'!$J$9:$J$56)","v":0},{"$f":"SUMIF('Concert 5'!$E$9:$E$56,Statistiques!A416,'Concert 5'!$I$9:$I$56)","v":0},{"$f":"SUMIF('Concert 5'!$E$9:$E$56,Statistiques!A416,'Concert 5'!$J$9:$J$56)","v":0}]
[{"$f":"Ecoles!A413","v":0},{"$f":"Ecoles!B413","v":0},{"$f":"Ecoles!C413","v":0},null,{"$f":"SUMIF('Concert 1'!$E$9:$E$56,Statistiques!A417,'Concert 1'!$I$9:$I$56)+SUMIF('Concert 2'!$E$9:$E$56,Statistiques!A417,'Concert 2'!$I$9:$I$56)+SUMIF('Concert 3'!$E$9:$E$56,Statistiques!A417,'Concert 3'!$I$9:$I$56)+SUMIF('Concert 4'!$E$9:$E$56,Statistiques!A417,'Concert 4'!$I$9:$I$56)+SUMIF('Concert 5'!$E$9:$E$56,Statistiques!A417,'Concert 5'!$I$9:$I$56)","v":0},{"$f":"SUMIF('Concert 1'!$E$9:$E$56,Statistiques!A417,'Concert 1'!$J$9:$J$56)+SUMIF('Concert 2'!$E$9:$E$56,Statistiques!A417,'Concert 2'!$J$9:$J$56)+SUMIF('Concert 3'!$E$9:$E$56,Statistiques!A417,'Concert 3'!$J$9:$J$56)+SUMIF('Concert 4'!$E$9:$E$56,Statistiques!A417,'Concert 4'!$J$9:$J$56)+SUMIF('Concert 5'!$E$9:$E$56,Statistiques!A417,'Concert 5'!$J$9:$J$56)","v":0},null,null,{"$f":"SUMIF('Concert 1'!$E$9:$E$56,Statistiques!A417,'Concert 1'!$I$9:$I$56)","v":0},{"$f":"SUMIF('Concert 1'!$E$9:$E$56,Statistiques!A417,'Concert 1'!$J$9:$J$56)","v":0},{"$f":"SUMIF('Concert 2'!$E$9:$E$56,Statistiques!A417,'Concert 2'!$I$9:$I$56)","v":0},{"$f":"SUMIF('Concert 2'!$E$9:$E$56,Statistiques!A417,'Concert 2'!$J$9:$J$56)","v":0},{"$f":"SUMIF('Concert 3'!$E$9:$E$56,Statistiques!A417,'Concert 3'!$I$9:$I$56)","v":0},{"$f":"SUMIF('Concert 3'!$E$9:$E$56,Statistiques!A417,'Concert 3'!$J$9:$J$56)","v":0},{"$f":"SUMIF('Concert 4'!$E$9:$E$56,Statistiques!A417,'Concert 4'!$I$9:$I$56)","v":0},{"$f":"SUMIF('Concert 4'!$E$9:$E$56,Statistiques!A417,'Concert 4'!$J$9:$J$56)","v":0},{"$f":"SUMIF('Concert 5'!$E$9:$E$56,Statistiques!A417,'Concert 5'!$I$9:$I$56)","v":0},{"$f":"SUMIF('Concert 5'!$E$9:$E$56,Statistiques!A417,'Concert 5'!$J$9:$J$56)","v":0}]
[{"$f":"Ecoles!A414","v":0},{"$f":"Ecoles!B414","v":0},{"$f":"Ecoles!C414","v":0},null,{"$f":"SUMIF('Concert 1'!$E$9:$E$56,Statistiques!A418,'Concert 1'!$I$9:$I$56)+SUMIF('Concert 2'!$E$9:$E$56,Statistiques!A418,'Concert 2'!$I$9:$I$56)+SUMIF('Concert 3'!$E$9:$E$56,Statistiques!A418,'Concert 3'!$I$9:$I$56)+SUMIF('Concert 4'!$E$9:$E$56,Statistiques!A418,'Concert 4'!$I$9:$I$56)+SUMIF('Concert 5'!$E$9:$E$56,Statistiques!A418,'Concert 5'!$I$9:$I$56)","v":0},{"$f":"SUMIF('Concert 1'!$E$9:$E$56,Statistiques!A418,'Concert 1'!$J$9:$J$56)+SUMIF('Concert 2'!$E$9:$E$56,Statistiques!A418,'Concert 2'!$J$9:$J$56)+SUMIF('Concert 3'!$E$9:$E$56,Statistiques!A418,'Concert 3'!$J$9:$J$56)+SUMIF('Concert 4'!$E$9:$E$56,Statistiques!A418,'Concert 4'!$J$9:$J$56)+SUMIF('Concert 5'!$E$9:$E$56,Statistiques!A418,'Concert 5'!$J$9:$J$56)","v":0},null,null,{"$f":"SUMIF('Concert 1'!$E$9:$E$56,Statistiques!A418,'Concert 1'!$I$9:$I$56)","v":0},{"$f":"SUMIF('Concert 1'!$E$9:$E$56,Statistiques!A418,'Concert 1'!$J$9:$J$56)","v":0},{"$f":"SUMIF('Concert 2'!$E$9:$E$56,Statistiques!A418,'Concert 2'!$I$9:$I$56)","v":0},{"$f":"SUMIF('Concert 2'!$E$9:$E$56,Statistiques!A418,'Concert 2'!$J$9:$J$56)","v":0},{"$f":"SUMIF('Concert 3'!$E$9:$E$56,Statistiques!A418,'Concert 3'!$I$9:$I$56)","v":0},{"$f":"SUMIF('Concert 3'!$E$9:$E$56,Statistiques!A418,'Concert 3'!$J$9:$J$56)","v":0},{"$f":"SUMIF('Concert 4'!$E$9:$E$56,Statistiques!A418,'Concert 4'!$I$9:$I$56)","v":0},{"$f":"SUMIF('Concert 4'!$E$9:$E$56,Statistiques!A418,'Concert 4'!$J$9:$J$56)","v":0},{"$f":"SUMIF('Concert 5'!$E$9:$E$56,Statistiques!A418,'Concert 5'!$I$9:$I$56)","v":0},{"$f":"SUMIF('Concert 5'!$E$9:$E$56,Statistiques!A418,'Concert 5'!$J$9:$J$56)","v":0}]
[{"$f":"Ecoles!A415","v":0},{"$f":"Ecoles!B415","v":0},{"$f":"Ecoles!C415","v":0},null,{"$f":"SUMIF('Concert 1'!$E$9:$E$56,Statistiques!A419,'Concert 1'!$I$9:$I$56)+SUMIF('Concert 2'!$E$9:$E$56,Statistiques!A419,'Concert 2'!$I$9:$I$56)+SUMIF('Concert 3'!$E$9:$E$56,Statistiques!A419,'Concert 3'!$I$9:$I$56)+SUMIF('Concert 4'!$E$9:$E$56,Statistiques!A419,'Concert 4'!$I$9:$I$56)+SUMIF('Concert 5'!$E$9:$E$56,Statistiques!A419,'Concert 5'!$I$9:$I$56)","v":0},{"$f":"SUMIF('Concert 1'!$E$9:$E$56,Statistiques!A419,'Concert 1'!$J$9:$J$56)+SUMIF('Concert 2'!$E$9:$E$56,Statistiques!A419,'Concert 2'!$J$9:$J$56)+SUMIF('Concert 3'!$E$9:$E$56,Statistiques!A419,'Concert 3'!$J$9:$J$56)+SUMIF('Concert 4'!$E$9:$E$56,Statistiques!A419,'Concert 4'!$J$9:$J$56)+SUMIF('Concert 5'!$E$9:$E$56,Statistiques!A419,'Concert 5'!$J$9:$J$56)","v":0},null,null,{"$f":"SUMIF('Concert 1'!$E$9:$E$56,Statistiques!A419,'Concert 1'!$I$9:$I$56)","v":0},{"$f":"SUMIF('Concert 1'!$E$9:$E$56,Statistiques!A419,'Concert 1'!$J$9:$J$56)","v":0},{"$f":"SUMIF('Concert 2'!$E$9:$E$56,Statistiques!A419,'Concert 2'!$I$9:$I$56)","v":0},{"$f":"SUMIF('Concert 2'!$E$9:$E$56,Statistiques!A419,'Concert 2'!$J$9:$J$56)","v":0},{"$f":"SUMIF('Concert 3'!$E$9:$E$56,Statistiques!A419,'Concert 3'!$I$9:$I$56)","v":0},{"$f":"SUMIF('Concert 3'!$E$9:$E$56,Statistiques!A419,'Concert 3'!$J$9:$J$56)","v":0},{"$f":"SUMIF('Concert 4'!$E$9:$E$56,Statistiques!A419,'Concert 4'!$I$9:$I$56)","v":0},{"$f":"SUMIF('Concert 4'!$E$9:$E$56,Statistiques!A419,'Concert 4'!$J$9:$J$56)","v":0},{"$f":"SUMIF('Concert 5'!$E$9:$E$56,Statistiques!A419,'Concert 5'!$I$9:$I$56)","v":0},{"$f":"SUMIF('Concert 5'!$E$9:$E$56,Statistiques!A419,'Concert 5'!$J$9:$J$56)","v":0}]
[{"$f":"Ecoles!A416","v":0},{"$f":"Ecoles!B416","v":0},{"$f":"Ecoles!C416","v":0},null,{"$f":"SUMIF('Concert 1'!$E$9:$E$56,Statistiques!A420,'Concert 1'!$I$9:$I$56)+SUMIF('Concert 2'!$E$9:$E$56,Statistiques!A420,'Concert 2'!$I$9:$I$56)+SUMIF('Concert 3'!$E$9:$E$56,Statistiques!A420,'Concert 3'!$I$9:$I$56)+SUMIF('Concert 4'!$E$9:$E$56,Statistiques!A420,'Concert 4'!$I$9:$I$56)+SUMIF('Concert 5'!$E$9:$E$56,Statistiques!A420,'Concert 5'!$I$9:$I$56)","v":0},{"$f":"SUMIF('Concert 1'!$E$9:$E$56,Statistiques!A420,'Concert 1'!$J$9:$J$56)+SUMIF('Concert 2'!$E$9:$E$56,Statistiques!A420,'Concert 2'!$J$9:$J$56)+SUMIF('Concert 3'!$E$9:$E$56,Statistiques!A420,'Concert 3'!$J$9:$J$56)+SUMIF('Concert 4'!$E$9:$E$56,Statistiques!A420,'Concert 4'!$J$9:$J$56)+SUMIF('Concert 5'!$E$9:$E$56,Statistiques!A420,'Concert 5'!$J$9:$J$56)","v":0},null,null,{"$f":"SUMIF('Concert 1'!$E$9:$E$56,Statistiques!A420,'Concert 1'!$I$9:$I$56)","v":0},{"$f":"SUMIF('Concert 1'!$E$9:$E$56,Statistiques!A420,'Concert 1'!$J$9:$J$56)","v":0},{"$f":"SUMIF('Concert 2'!$E$9:$E$56,Statistiques!A420,'Concert 2'!$I$9:$I$56)","v":0},{"$f":"SUMIF('Concert 2'!$E$9:$E$56,Statistiques!A420,'Concert 2'!$J$9:$J$56)","v":0},{"$f":"SUMIF('Concert 3'!$E$9:$E$56,Statistiques!A420,'Concert 3'!$I$9:$I$56)","v":0},{"$f":"SUMIF('Concert 3'!$E$9:$E$56,Statistiques!A420,'Concert 3'!$J$9:$J$56)","v":0},{"$f":"SUMIF('Concert 4'!$E$9:$E$56,Statistiques!A420,'Concert 4'!$I$9:$I$56)","v":0},{"$f":"SUMIF('Concert 4'!$E$9:$E$56,Statistiques!A420,'Concert 4'!$J$9:$J$56)","v":0},{"$f":"SUMIF('Concert 5'!$E$9:$E$56,Statistiques!A420,'Concert 5'!$I$9:$I$56)","v":0},{"$f":"SUMIF('Concert 5'!$E$9:$E$56,Statistiques!A420,'Concert 5'!$J$9:$J$56)","v":0}]
[{"$f":"Ecoles!A417","v":0},{"$f":"Ecoles!B417","v":0},{"$f":"Ecoles!C417","v":0},null,{"$f":"SUMIF('Concert 1'!$E$9:$E$56,Statistiques!A421,'Concert 1'!$I$9:$I$56)+SUMIF('Concert 2'!$E$9:$E$56,Statistiques!A421,'Concert 2'!$I$9:$I$56)+SUMIF('Concert 3'!$E$9:$E$56,Statistiques!A421,'Concert 3'!$I$9:$I$56)+SUMIF('Concert 4'!$E$9:$E$56,Statistiques!A421,'Concert 4'!$I$9:$I$56)+SUMIF('Concert 5'!$E$9:$E$56,Statistiques!A421,'Concert 5'!$I$9:$I$56)","v":0},{"$f":"SUMIF('Concert 1'!$E$9:$E$56,Statistiques!A421,'Concert 1'!$J$9:$J$56)+SUMIF('Concert 2'!$E$9:$E$56,Statistiques!A421,'Concert 2'!$J$9:$J$56)+SUMIF('Concert 3'!$E$9:$E$56,Statistiques!A421,'Concert 3'!$J$9:$J$56)+SUMIF('Concert 4'!$E$9:$E$56,Statistiques!A421,'Concert 4'!$J$9:$J$56)+SUMIF('Concert 5'!$E$9:$E$56,Statistiques!A421,'Concert 5'!$J$9:$J$56)","v":0},null,null,{"$f":"SUMIF('Concert 1'!$E$9:$E$56,Statistiques!A421,'Concert 1'!$I$9:$I$56)","v":0},{"$f":"SUMIF('Concert 1'!$E$9:$E$56,Statistiques!A421,'Concert 1'!$J$9:$J$56)","v":0},{"$f":"SUMIF('Concert 2'!$E$9:$E$56,Statistiques!A421,'Concert 2'!$I$9:$I$56)","v":0},{"$f":"SUMIF('Concert 2'!$E$9:$E$56,Statistiques!A421,'Concert 2'!$J$9:$J$56)","v":0},{"$f":"SUMIF('Concert 3'!$E$9:$E$56,Statistiques!A421,'Concert 3'!$I$9:$I$56)","v":0},{"$f":"SUMIF('Concert 3'!$E$9:$E$56,Statistiques!A421,'Concert 3'!$J$9:$J$56)","v":0},{"$f":"SUMIF('Concert 4'!$E$9:$E$56,Statistiques!A421,'Concert 4'!$I$9:$I$56)","v":0},{"$f":"SUMIF('Concert 4'!$E$9:$E$56,Statistiques!A421,'Concert 4'!$J$9:$J$56)","v":0},{"$f":"SUMIF('Concert 5'!$E$9:$E$56,Statistiques!A421,'Concert 5'!$I$9:$I$56)","v":0},{"$f":"SUMIF('Concert 5'!$E$9:$E$56,Statistiques!A421,'Concert 5'!$J$9:$J$56)","v":0}]
[{"$f":"Ecoles!A418","v":0},{"$f":"Ecoles!B418","v":0},{"$f":"Ecoles!C418","v":0},null,{"$f":"SUMIF('Concert 1'!$E$9:$E$56,Statistiques!A422,'Concert 1'!$I$9:$I$56)+SUMIF('Concert 2'!$E$9:$E$56,Statistiques!A422,'Concert 2'!$I$9:$I$56)+SUMIF('Concert 3'!$E$9:$E$56,Statistiques!A422,'Concert 3'!$I$9:$I$56)+SUMIF('Concert 4'!$E$9:$E$56,Statistiques!A422,'Concert 4'!$I$9:$I$56)+SUMIF('Concert 5'!$E$9:$E$56,Statistiques!A422,'Concert 5'!$I$9:$I$56)","v":0},{"$f":"SUMIF('Concert 1'!$E$9:$E$56,Statistiques!A422,'Concert 1'!$J$9:$J$56)+SUMIF('Concert 2'!$E$9:$E$56,Statistiques!A422,'Concert 2'!$J$9:$J$56)+SUMIF('Concert 3'!$E$9:$E$56,Statistiques!A422,'Concert 3'!$J$9:$J$56)+SUMIF('Concert 4'!$E$9:$E$56,Statistiques!A422,'Concert 4'!$J$9:$J$56)+SUMIF('Concert 5'!$E$9:$E$56,Statistiques!A422,'Concert 5'!$J$9:$J$56)","v":0},null,null,{"$f":"SUMIF('Concert 1'!$E$9:$E$56,Statistiques!A422,'Concert 1'!$I$9:$I$56)","v":0},{"$f":"SUMIF('Concert 1'!$E$9:$E$56,Statistiques!A422,'Concert 1'!$J$9:$J$56)","v":0},{"$f":"SUMIF('Concert 2'!$E$9:$E$56,Statistiques!A422,'Concert 2'!$I$9:$I$56)","v":0},{"$f":"SUMIF('Concert 2'!$E$9:$E$56,Statistiques!A422,'Concert 2'!$J$9:$J$56)","v":0},{"$f":"SUMIF('Concert 3'!$E$9:$E$56,Statistiques!A422,'Concert 3'!$I$9:$I$56)","v":0},{"$f":"SUMIF('Concert 3'!$E$9:$E$56,Statistiques!A422,'Concert 3'!$J$9:$J$56)","v":0},{"$f":"SUMIF('Concert 4'!$E$9:$E$56,Statistiques!A422,'Concert 4'!$I$9:$I$56)","v":0},{"$f":"SUMIF('Concert 4'!$E$9:$E$56,Statistiques!A422,'Concert 4'!$J$9:$J$56)","v":0},{"$f":"SUMIF('Concert 5'!$E$9:$E$56,Statistiques!A422,'Concert 5'!$I$9:$I$56)","v":0},{"$f":"SUMIF('Concert 5'!$E$9:$E$56,Statistiques!A422,'Concert 5'!$J$9:$J$56)","v":0}]
[{"$f":"Ecoles!A419","v":0},{"$f":"Ecoles!B419","v":0},{"$f":"Ecoles!C419","v":0},null,{"$f":"SUMIF('Concert 1'!$E$9:$E$56,Statistiques!A423,'Concert 1'!$I$9:$I$56)+SUMIF('Concert 2'!$E$9:$E$56,Statistiques!A423,'Concert 2'!$I$9:$I$56)+SUMIF('Concert 3'!$E$9:$E$56,Statistiques!A423,'Concert 3'!$I$9:$I$56)+SUMIF('Concert 4'!$E$9:$E$56,Statistiques!A423,'Concert 4'!$I$9:$I$56)+SUMIF('Concert 5'!$E$9:$E$56,Statistiques!A423,'Concert 5'!$I$9:$I$56)","v":0},{"$f":"SUMIF('Concert 1'!$E$9:$E$56,Statistiques!A423,'Concert 1'!$J$9:$J$56)+SUMIF('Concert 2'!$E$9:$E$56,Statistiques!A423,'Concert 2'!$J$9:$J$56)+SUMIF('Concert 3'!$E$9:$E$56,Statistiques!A423,'Concert 3'!$J$9:$J$56)+SUMIF('Concert 4'!$E$9:$E$56,Statistiques!A423,'Concert 4'!$J$9:$J$56)+SUMIF('Concert 5'!$E$9:$E$56,Statistiques!A423,'Concert 5'!$J$9:$J$56)","v":0},null,null,{"$f":"SUMIF('Concert 1'!$E$9:$E$56,Statistiques!A423,'Concert 1'!$I$9:$I$56)","v":0},{"$f":"SUMIF('Concert 1'!$E$9:$E$56,Statistiques!A423,'Concert 1'!$J$9:$J$56)","v":0},{"$f":"SUMIF('Concert 2'!$E$9:$E$56,Statistiques!A423,'Concert 2'!$I$9:$I$56)","v":0},{"$f":"SUMIF('Concert 2'!$E$9:$E$56,Statistiques!A423,'Concert 2'!$J$9:$J$56)","v":0},{"$f":"SUMIF('Concert 3'!$E$9:$E$56,Statistiques!A423,'Concert 3'!$I$9:$I$56)","v":0},{"$f":"SUMIF('Concert 3'!$E$9:$E$56,Statistiques!A423,'Concert 3'!$J$9:$J$56)","v":0},{"$f":"SUMIF('Concert 4'!$E$9:$E$56,Statistiques!A423,'Concert 4'!$I$9:$I$56)","v":0},{"$f":"SUMIF('Concert 4'!$E$9:$E$56,Statistiques!A423,'Concert 4'!$J$9:$J$56)","v":0},{"$f":"SUMIF('Concert 5'!$E$9:$E$56,Statistiques!A423,'Concert 5'!$I$9:$I$56)","v":0},{"$f":"SUMIF('Concert 5'!$E$9:$E$56,Statistiques!A423,'Concert 5'!$J$9:$J$56)","v":0}]
[{"$f":"Ecoles!A420","v":0},{"$f":"Ecoles!B420","v":0},{"$f":"Ecoles!C420","v":0},null,{"$f":"SUMIF('Concert 1'!$E$9:$E$56,Statistiques!A424,'Concert 1'!$I$9:$I$56)+SUMIF('Concert 2'!$E$9:$E$56,Statistiques!A424,'Concert 2'!$I$9:$I$56)+SUMIF('Concert 3'!$E$9:$E$56,Statistiques!A424,'Concert 3'!$I$9:$I$56)+SUMIF('Concert 4'!$E$9:$E$56,Statistiques!A424,'Concert 4'!$I$9:$I$56)+SUMIF('Concert 5'!$E$9:$E$56,Statistiques!A424,'Concert 5'!$I$9:$I$56)","v":0},{"$f":"SUMIF('Concert 1'!$E$9:$E$56,Statistiques!A424,'Concert 1'!$J$9:$J$56)+SUMIF('Concert 2'!$E$9:$E$56,Statistiques!A424,'Concert 2'!$J$9:$J$56)+SUMIF('Concert 3'!$E$9:$E$56,Statistiques!A424,'Concert 3'!$J$9:$J$56)+SUMIF('Concert 4'!$E$9:$E$56,Statistiques!A424,'Concert 4'!$J$9:$J$56)+SUMIF('Concert 5'!$E$9:$E$56,Statistiques!A424,'Concert 5'!$J$9:$J$56)","v":0},null,null,{"$f":"SUMIF('Concert 1'!$E$9:$E$56,Statistiques!A424,'Concert 1'!$I$9:$I$56)","v":0},{"$f":"SUMIF('Concert 1'!$E$9:$E$56,Statistiques!A424,'Concert 1'!$J$9:$J$56)","v":0},{"$f":"SUMIF('Concert 2'!$E$9:$E$56,Statistiques!A424,'Concert 2'!$I$9:$I$56)","v":0},{"$f":"SUMIF('Concert 2'!$E$9:$E$56,Statistiques!A424,'Concert 2'!$J$9:$J$56)","v":0},{"$f":"SUMIF('Concert 3'!$E$9:$E$56,Statistiques!A424,'Concert 3'!$I$9:$I$56)","v":0},{"$f":"SUMIF('Concert 3'!$E$9:$E$56,Statistiques!A424,'Concert 3'!$J$9:$J$56)","v":0},{"$f":"SUMIF('Concert 4'!$E$9:$E$56,Statistiques!A424,'Concert 4'!$I$9:$I$56)","v":0},{"$f":"SUMIF('Concert 4'!$E$9:$E$56,Statistiques!A424,'Concert 4'!$J$9:$J$56)","v":0},{"$f":"SUMIF('Concert 5'!$E$9:$E$56,Statistiques!A424,'Concert 5'!$I$9:$I$56)","v":0},{"$f":"SUMIF('Concert 5'!$E$9:$E$56,Statistiques!A424,'Concert 5'!$J$9:$J$56)","v":0}]
[{"$f":"Ecoles!A421","v":0},{"$f":"Ecoles!B421","v":0},{"$f":"Ecoles!C421","v":0},null,{"$f":"SUMIF('Concert 1'!$E$9:$E$56,Statistiques!A425,'Concert 1'!$I$9:$I$56)+SUMIF('Concert 2'!$E$9:$E$56,Statistiques!A425,'Concert 2'!$I$9:$I$56)+SUMIF('Concert 3'!$E$9:$E$56,Statistiques!A425,'Concert 3'!$I$9:$I$56)+SUMIF('Concert 4'!$E$9:$E$56,Statistiques!A425,'Concert 4'!$I$9:$I$56)+SUMIF('Concert 5'!$E$9:$E$56,Statistiques!A425,'Concert 5'!$I$9:$I$56)","v":0},{"$f":"SUMIF('Concert 1'!$E$9:$E$56,Statistiques!A425,'Concert 1'!$J$9:$J$56)+SUMIF('Concert 2'!$E$9:$E$56,Statistiques!A425,'Concert 2'!$J$9:$J$56)+SUMIF('Concert 3'!$E$9:$E$56,Statistiques!A425,'Concert 3'!$J$9:$J$56)+SUMIF('Concert 4'!$E$9:$E$56,Statistiques!A425,'Concert 4'!$J$9:$J$56)+SUMIF('Concert 5'!$E$9:$E$56,Statistiques!A425,'Concert 5'!$J$9:$J$56)","v":0},null,null,{"$f":"SUMIF('Concert 1'!$E$9:$E$56,Statistiques!A425,'Concert 1'!$I$9:$I$56)","v":0},{"$f":"SUMIF('Concert 1'!$E$9:$E$56,Statistiques!A425,'Concert 1'!$J$9:$J$56)","v":0},{"$f":"SUMIF('Concert 2'!$E$9:$E$56,Statistiques!A425,'Concert 2'!$I$9:$I$56)","v":0},{"$f":"SUMIF('Concert 2'!$E$9:$E$56,Statistiques!A425,'Concert 2'!$J$9:$J$56)","v":0},{"$f":"SUMIF('Concert 3'!$E$9:$E$56,Statistiques!A425,'Concert 3'!$I$9:$I$56)","v":0},{"$f":"SUMIF('Concert 3'!$E$9:$E$56,Statistiques!A425,'Concert 3'!$J$9:$J$56)","v":0},{"$f":"SUMIF('Concert 4'!$E$9:$E$56,Statistiques!A425,'Concert 4'!$I$9:$I$56)","v":0},{"$f":"SUMIF('Concert 4'!$E$9:$E$56,Statistiques!A425,'Concert 4'!$J$9:$J$56)","v":0},{"$f":"SUMIF('Concert 5'!$E$9:$E$56,Statistiques!A425,'Concert 5'!$I$9:$I$56)","v":0},{"$f":"SUMIF('Concert 5'!$E$9:$E$56,Statistiques!A425,'Concert 5'!$J$9:$J$56)","v":0}]
[{"$f":"Ecoles!A422","v":0},{"$f":"Ecoles!B422","v":0},{"$f":"Ecoles!C422","v":0},null,{"$f":"SUMIF('Concert 1'!$E$9:$E$56,Statistiques!A426,'Concert 1'!$I$9:$I$56)+SUMIF('Concert 2'!$E$9:$E$56,Statistiques!A426,'Concert 2'!$I$9:$I$56)+SUMIF('Concert 3'!$E$9:$E$56,Statistiques!A426,'Concert 3'!$I$9:$I$56)+SUMIF('Concert 4'!$E$9:$E$56,Statistiques!A426,'Concert 4'!$I$9:$I$56)+SUMIF('Concert 5'!$E$9:$E$56,Statistiques!A426,'Concert 5'!$I$9:$I$56)","v":0},{"$f":"SUMIF('Concert 1'!$E$9:$E$56,Statistiques!A426,'Concert 1'!$J$9:$J$56)+SUMIF('Concert 2'!$E$9:$E$56,Statistiques!A426,'Concert 2'!$J$9:$J$56)+SUMIF('Concert 3'!$E$9:$E$56,Statistiques!A426,'Concert 3'!$J$9:$J$56)+SUMIF('Concert 4'!$E$9:$E$56,Statistiques!A426,'Concert 4'!$J$9:$J$56)+SUMIF('Concert 5'!$E$9:$E$56,Statistiques!A426,'Concert 5'!$J$9:$J$56)","v":0},null,null,{"$f":"SUMIF('Concert 1'!$E$9:$E$56,Statistiques!A426,'Concert 1'!$I$9:$I$56)","v":0},{"$f":"SUMIF('Concert 1'!$E$9:$E$56,Statistiques!A426,'Concert 1'!$J$9:$J$56)","v":0},{"$f":"SUMIF('Concert 2'!$E$9:$E$56,Statistiques!A426,'Concert 2'!$I$9:$I$56)","v":0},{"$f":"SUMIF('Concert 2'!$E$9:$E$56,Statistiques!A426,'Concert 2'!$J$9:$J$56)","v":0},{"$f":"SUMIF('Concert 3'!$E$9:$E$56,Statistiques!A426,'Concert 3'!$I$9:$I$56)","v":0},{"$f":"SUMIF('Concert 3'!$E$9:$E$56,Statistiques!A426,'Concert 3'!$J$9:$J$56)","v":0},{"$f":"SUMIF('Concert 4'!$E$9:$E$56,Statistiques!A426,'Concert 4'!$I$9:$I$56)","v":0},{"$f":"SUMIF('Concert 4'!$E$9:$E$56,Statistiques!A426,'Concert 4'!$J$9:$J$56)","v":0},{"$f":"SUMIF('Concert 5'!$E$9:$E$56,Statistiques!A426,'Concert 5'!$I$9:$I$56)","v":0},{"$f":"SUMIF('Concert 5'!$E$9:$E$56,Statistiques!A426,'Concert 5'!$J$9:$J$56)","v":0}]
[{"$f":"Ecoles!A423","v":0},{"$f":"Ecoles!B423","v":0},{"$f":"Ecoles!C423","v":0},null,{"$f":"SUMIF('Concert 1'!$E$9:$E$56,Statistiques!A427,'Concert 1'!$I$9:$I$56)+SUMIF('Concert 2'!$E$9:$E$56,Statistiques!A427,'Concert 2'!$I$9:$I$56)+SUMIF('Concert 3'!$E$9:$E$56,Statistiques!A427,'Concert 3'!$I$9:$I$56)+SUMIF('Concert 4'!$E$9:$E$56,Statistiques!A427,'Concert 4'!$I$9:$I$56)+SUMIF('Concert 5'!$E$9:$E$56,Statistiques!A427,'Concert 5'!$I$9:$I$56)","v":0},{"$f":"SUMIF('Concert 1'!$E$9:$E$56,Statistiques!A427,'Concert 1'!$J$9:$J$56)+SUMIF('Concert 2'!$E$9:$E$56,Statistiques!A427,'Concert 2'!$J$9:$J$56)+SUMIF('Concert 3'!$E$9:$E$56,Statistiques!A427,'Concert 3'!$J$9:$J$56)+SUMIF('Concert 4'!$E$9:$E$56,Statistiques!A427,'Concert 4'!$J$9:$J$56)+SUMIF('Concert 5'!$E$9:$E$56,Statistiques!A427,'Concert 5'!$J$9:$J$56)","v":0},null,null,{"$f":"SUMIF('Concert 1'!$E$9:$E$56,Statistiques!A427,'Concert 1'!$I$9:$I$56)","v":0},{"$f":"SUMIF('Concert 1'!$E$9:$E$56,Statistiques!A427,'Concert 1'!$J$9:$J$56)","v":0},{"$f":"SUMIF('Concert 2'!$E$9:$E$56,Statistiques!A427,'Concert 2'!$I$9:$I$56)","v":0},{"$f":"SUMIF('Concert 2'!$E$9:$E$56,Statistiques!A427,'Concert 2'!$J$9:$J$56)","v":0},{"$f":"SUMIF('Concert 3'!$E$9:$E$56,Statistiques!A427,'Concert 3'!$I$9:$I$56)","v":0},{"$f":"SUMIF('Concert 3'!$E$9:$E$56,Statistiques!A427,'Concert 3'!$J$9:$J$56)","v":0},{"$f":"SUMIF('Concert 4'!$E$9:$E$56,Statistiques!A427,'Concert 4'!$I$9:$I$56)","v":0},{"$f":"SUMIF('Concert 4'!$E$9:$E$56,Statistiques!A427,'Concert 4'!$J$9:$J$56)","v":0},{"$f":"SUMIF('Concert 5'!$E$9:$E$56,Statistiques!A427,'Concert 5'!$I$9:$I$56)","v":0},{"$f":"SUMIF('Concert 5'!$E$9:$E$56,Statistiques!A427,'Concert 5'!$J$9:$J$56)","v":0}]
[{"$f":"Ecoles!A424","v":0},{"$f":"Ecoles!B424","v":0},{"$f":"Ecoles!C424","v":0},null,{"$f":"SUMIF('Concert 1'!$E$9:$E$56,Statistiques!A428,'Concert 1'!$I$9:$I$56)+SUMIF('Concert 2'!$E$9:$E$56,Statistiques!A428,'Concert 2'!$I$9:$I$56)+SUMIF('Concert 3'!$E$9:$E$56,Statistiques!A428,'Concert 3'!$I$9:$I$56)+SUMIF('Concert 4'!$E$9:$E$56,Statistiques!A428,'Concert 4'!$I$9:$I$56)+SUMIF('Concert 5'!$E$9:$E$56,Statistiques!A428,'Concert 5'!$I$9:$I$56)","v":0},{"$f":"SUMIF('Concert 1'!$E$9:$E$56,Statistiques!A428,'Concert 1'!$J$9:$J$56)+SUMIF('Concert 2'!$E$9:$E$56,Statistiques!A428,'Concert 2'!$J$9:$J$56)+SUMIF('Concert 3'!$E$9:$E$56,Statistiques!A428,'Concert 3'!$J$9:$J$56)+SUMIF('Concert 4'!$E$9:$E$56,Statistiques!A428,'Concert 4'!$J$9:$J$56)+SUMIF('Concert 5'!$E$9:$E$56,Statistiques!A428,'Concert 5'!$J$9:$J$56)","v":0},null,null,{"$f":"SUMIF('Concert 1'!$E$9:$E$56,Statistiques!A428,'Concert 1'!$I$9:$I$56)","v":0},{"$f":"SUMIF('Concert 1'!$E$9:$E$56,Statistiques!A428,'Concert 1'!$J$9:$J$56)","v":0},{"$f":"SUMIF('Concert 2'!$E$9:$E$56,Statistiques!A428,'Concert 2'!$I$9:$I$56)","v":0},{"$f":"SUMIF('Concert 2'!$E$9:$E$56,Statistiques!A428,'Concert 2'!$J$9:$J$56)","v":0},{"$f":"SUMIF('Concert 3'!$E$9:$E$56,Statistiques!A428,'Concert 3'!$I$9:$I$56)","v":0},{"$f":"SUMIF('Concert 3'!$E$9:$E$56,Statistiques!A428,'Concert 3'!$J$9:$J$56)","v":0},{"$f":"SUMIF('Concert 4'!$E$9:$E$56,Statistiques!A428,'Concert 4'!$I$9:$I$56)","v":0},{"$f":"SUMIF('Concert 4'!$E$9:$E$56,Statistiques!A428,'Concert 4'!$J$9:$J$56)","v":0},{"$f":"SUMIF('Concert 5'!$E$9:$E$56,Statistiques!A428,'Concert 5'!$I$9:$I$56)","v":0},{"$f":"SUMIF('Concert 5'!$E$9:$E$56,Statistiques!A428,'Concert 5'!$J$9:$J$56)","v":0}]
[{"$f":"Ecoles!A425","v":0},{"$f":"Ecoles!B425","v":0},{"$f":"Ecoles!C425","v":0},null,{"$f":"SUMIF('Concert 1'!$E$9:$E$56,Statistiques!A429,'Concert 1'!$I$9:$I$56)+SUMIF('Concert 2'!$E$9:$E$56,Statistiques!A429,'Concert 2'!$I$9:$I$56)+SUMIF('Concert 3'!$E$9:$E$56,Statistiques!A429,'Concert 3'!$I$9:$I$56)+SUMIF('Concert 4'!$E$9:$E$56,Statistiques!A429,'Concert 4'!$I$9:$I$56)+SUMIF('Concert 5'!$E$9:$E$56,Statistiques!A429,'Concert 5'!$I$9:$I$56)","v":0},{"$f":"SUMIF('Concert 1'!$E$9:$E$56,Statistiques!A429,'Concert 1'!$J$9:$J$56)+SUMIF('Concert 2'!$E$9:$E$56,Statistiques!A429,'Concert 2'!$J$9:$J$56)+SUMIF('Concert 3'!$E$9:$E$56,Statistiques!A429,'Concert 3'!$J$9:$J$56)+SUMIF('Concert 4'!$E$9:$E$56,Statistiques!A429,'Concert 4'!$J$9:$J$56)+SUMIF('Concert 5'!$E$9:$E$56,Statistiques!A429,'Concert 5'!$J$9:$J$56)","v":0},null,null,{"$f":"SUMIF('Concert 1'!$E$9:$E$56,Statistiques!A429,'Concert 1'!$I$9:$I$56)","v":0},{"$f":"SUMIF('Concert 1'!$E$9:$E$56,Statistiques!A429,'Concert 1'!$J$9:$J$56)","v":0},{"$f":"SUMIF('Concert 2'!$E$9:$E$56,Statistiques!A429,'Concert 2'!$I$9:$I$56)","v":0},{"$f":"SUMIF('Concert 2'!$E$9:$E$56,Statistiques!A429,'Concert 2'!$J$9:$J$56)","v":0},{"$f":"SUMIF('Concert 3'!$E$9:$E$56,Statistiques!A429,'Concert 3'!$I$9:$I$56)","v":0},{"$f":"SUMIF('Concert 3'!$E$9:$E$56,Statistiques!A429,'Concert 3'!$J$9:$J$56)","v":0},{"$f":"SUMIF('Concert 4'!$E$9:$E$56,Statistiques!A429,'Concert 4'!$I$9:$I$56)","v":0},{"$f":"SUMIF('Concert 4'!$E$9:$E$56,Statistiques!A429,'Concert 4'!$J$9:$J$56)","v":0},{"$f":"SUMIF('Concert 5'!$E$9:$E$56,Statistiques!A429,'Concert 5'!$I$9:$I$56)","v":0},{"$f":"SUMIF('Concert 5'!$E$9:$E$56,Statistiques!A429,'Concert 5'!$J$9:$J$56)","v":0}]
[{"$f":"Ecoles!A426","v":0},{"$f":"Ecoles!B426","v":0},{"$f":"Ecoles!C426","v":0},null,{"$f":"SUMIF('Concert 1'!$E$9:$E$56,Statistiques!A430,'Concert 1'!$I$9:$I$56)+SUMIF('Concert 2'!$E$9:$E$56,Statistiques!A430,'Concert 2'!$I$9:$I$56)+SUMIF('Concert 3'!$E$9:$E$56,Statistiques!A430,'Concert 3'!$I$9:$I$56)+SUMIF('Concert 4'!$E$9:$E$56,Statistiques!A430,'Concert 4'!$I$9:$I$56)+SUMIF('Concert 5'!$E$9:$E$56,Statistiques!A430,'Concert 5'!$I$9:$I$56)","v":0},{"$f":"SUMIF('Concert 1'!$E$9:$E$56,Statistiques!A430,'Concert 1'!$J$9:$J$56)+SUMIF('Concert 2'!$E$9:$E$56,Statistiques!A430,'Concert 2'!$J$9:$J$56)+SUMIF('Concert 3'!$E$9:$E$56,Statistiques!A430,'Concert 3'!$J$9:$J$56)+SUMIF('Concert 4'!$E$9:$E$56,Statistiques!A430,'Concert 4'!$J$9:$J$56)+SUMIF('Concert 5'!$E$9:$E$56,Statistiques!A430,'Concert 5'!$J$9:$J$56)","v":0},null,null,{"$f":"SUMIF('Concert 1'!$E$9:$E$56,Statistiques!A430,'Concert 1'!$I$9:$I$56)","v":0},{"$f":"SUMIF('Concert 1'!$E$9:$E$56,Statistiques!A430,'Concert 1'!$J$9:$J$56)","v":0},{"$f":"SUMIF('Concert 2'!$E$9:$E$56,Statistiques!A430,'Concert 2'!$I$9:$I$56)","v":0},{"$f":"SUMIF('Concert 2'!$E$9:$E$56,Statistiques!A430,'Concert 2'!$J$9:$J$56)","v":0},{"$f":"SUMIF('Concert 3'!$E$9:$E$56,Statistiques!A430,'Concert 3'!$I$9:$I$56)","v":0},{"$f":"SUMIF('Concert 3'!$E$9:$E$56,Statistiques!A430,'Concert 3'!$J$9:$J$56)","v":0},{"$f":"SUMIF('Concert 4'!$E$9:$E$56,Statistiques!A430,'Concert 4'!$I$9:$I$56)","v":0},{"$f":"SUMIF('Concert 4'!$E$9:$E$56,Statistiques!A430,'Concert 4'!$J$9:$J$56)","v":0},{"$f":"SUMIF('Concert 5'!$E$9:$E$56,Statistiques!A430,'Concert 5'!$I$9:$I$56)","v":0},{"$f":"SUMIF('Concert 5'!$E$9:$E$56,Statistiques!A430,'Concert 5'!$J$9:$J$56)","v":0}]
[{"$f":"Ecoles!A427","v":0},{"$f":"Ecoles!B427","v":0},{"$f":"Ecoles!C427","v":0},null,{"$f":"SUMIF('Concert 1'!$E$9:$E$56,Statistiques!A431,'Concert 1'!$I$9:$I$56)+SUMIF('Concert 2'!$E$9:$E$56,Statistiques!A431,'Concert 2'!$I$9:$I$56)+SUMIF('Concert 3'!$E$9:$E$56,Statistiques!A431,'Concert 3'!$I$9:$I$56)+SUMIF('Concert 4'!$E$9:$E$56,Statistiques!A431,'Concert 4'!$I$9:$I$56)+SUMIF('Concert 5'!$E$9:$E$56,Statistiques!A431,'Concert 5'!$I$9:$I$56)","v":0},{"$f":"SUMIF('Concert 1'!$E$9:$E$56,Statistiques!A431,'Concert 1'!$J$9:$J$56)+SUMIF('Concert 2'!$E$9:$E$56,Statistiques!A431,'Concert 2'!$J$9:$J$56)+SUMIF('Concert 3'!$E$9:$E$56,Statistiques!A431,'Concert 3'!$J$9:$J$56)+SUMIF('Concert 4'!$E$9:$E$56,Statistiques!A431,'Concert 4'!$J$9:$J$56)+SUMIF('Concert 5'!$E$9:$E$56,Statistiques!A431,'Concert 5'!$J$9:$J$56)","v":0},null,null,{"$f":"SUMIF('Concert 1'!$E$9:$E$56,Statistiques!A431,'Concert 1'!$I$9:$I$56)","v":0},{"$f":"SUMIF('Concert 1'!$E$9:$E$56,Statistiques!A431,'Concert 1'!$J$9:$J$56)","v":0},{"$f":"SUMIF('Concert 2'!$E$9:$E$56,Statistiques!A431,'Concert 2'!$I$9:$I$56)","v":0},{"$f":"SUMIF('Concert 2'!$E$9:$E$56,Statistiques!A431,'Concert 2'!$J$9:$J$56)","v":0},{"$f":"SUMIF('Concert 3'!$E$9:$E$56,Statistiques!A431,'Concert 3'!$I$9:$I$56)","v":0},{"$f":"SUMIF('Concert 3'!$E$9:$E$56,Statistiques!A431,'Concert 3'!$J$9:$J$56)","v":0},{"$f":"SUMIF('Concert 4'!$E$9:$E$56,Statistiques!A431,'Concert 4'!$I$9:$I$56)","v":0},{"$f":"SUMIF('Concert 4'!$E$9:$E$56,Statistiques!A431,'Concert 4'!$J$9:$J$56)","v":0},{"$f":"SUMIF('Concert 5'!$E$9:$E$56,Statistiques!A431,'Concert 5'!$I$9:$I$56)","v":0},{"$f":"SUMIF('Concert 5'!$E$9:$E$56,Statistiques!A431,'Concert 5'!$J$9:$J$56)","v":0}]
[{"$f":"Ecoles!A428","v":0},{"$f":"Ecoles!B428","v":0},{"$f":"Ecoles!C428","v":0},null,{"$f":"SUMIF('Concert 1'!$E$9:$E$56,Statistiques!A432,'Concert 1'!$I$9:$I$56)+SUMIF('Concert 2'!$E$9:$E$56,Statistiques!A432,'Concert 2'!$I$9:$I$56)+SUMIF('Concert 3'!$E$9:$E$56,Statistiques!A432,'Concert 3'!$I$9:$I$56)+SUMIF('Concert 4'!$E$9:$E$56,Statistiques!A432,'Concert 4'!$I$9:$I$56)+SUMIF('Concert 5'!$E$9:$E$56,Statistiques!A432,'Concert 5'!$I$9:$I$56)","v":0},{"$f":"SUMIF('Concert 1'!$E$9:$E$56,Statistiques!A432,'Concert 1'!$J$9:$J$56)+SUMIF('Concert 2'!$E$9:$E$56,Statistiques!A432,'Concert 2'!$J$9:$J$56)+SUMIF('Concert 3'!$E$9:$E$56,Statistiques!A432,'Concert 3'!$J$9:$J$56)+SUMIF('Concert 4'!$E$9:$E$56,Statistiques!A432,'Concert 4'!$J$9:$J$56)+SUMIF('Concert 5'!$E$9:$E$56,Statistiques!A432,'Concert 5'!$J$9:$J$56)","v":0},null,null,{"$f":"SUMIF('Concert 1'!$E$9:$E$56,Statistiques!A432,'Concert 1'!$I$9:$I$56)","v":0},{"$f":"SUMIF('Concert 1'!$E$9:$E$56,Statistiques!A432,'Concert 1'!$J$9:$J$56)","v":0},{"$f":"SUMIF('Concert 2'!$E$9:$E$56,Statistiques!A432,'Concert 2'!$I$9:$I$56)","v":0},{"$f":"SUMIF('Concert 2'!$E$9:$E$56,Statistiques!A432,'Concert 2'!$J$9:$J$56)","v":0},{"$f":"SUMIF('Concert 3'!$E$9:$E$56,Statistiques!A432,'Concert 3'!$I$9:$I$56)","v":0},{"$f":"SUMIF('Concert 3'!$E$9:$E$56,Statistiques!A432,'Concert 3'!$J$9:$J$56)","v":0},{"$f":"SUMIF('Concert 4'!$E$9:$E$56,Statistiques!A432,'Concert 4'!$I$9:$I$56)","v":0},{"$f":"SUMIF('Concert 4'!$E$9:$E$56,Statistiques!A432,'Concert 4'!$J$9:$J$56)","v":0},{"$f":"SUMIF('Concert 5'!$E$9:$E$56,Statistiques!A432,'Concert 5'!$I$9:$I$56)","v":0},{"$f":"SUMIF('Concert 5'!$E$9:$E$56,Statistiques!A432,'Concert 5'!$J$9:$J$56)","v":0}]
[{"$f":"Ecoles!A429","v":0},{"$f":"Ecoles!B429","v":0},{"$f":"Ecoles!C429","v":0},null,{"$f":"SUMIF('Concert 1'!$E$9:$E$56,Statistiques!A433,'Concert 1'!$I$9:$I$56)+SUMIF('Concert 2'!$E$9:$E$56,Statistiques!A433,'Concert 2'!$I$9:$I$56)+SUMIF('Concert 3'!$E$9:$E$56,Statistiques!A433,'Concert 3'!$I$9:$I$56)+SUMIF('Concert 4'!$E$9:$E$56,Statistiques!A433,'Concert 4'!$I$9:$I$56)+SUMIF('Concert 5'!$E$9:$E$56,Statistiques!A433,'Concert 5'!$I$9:$I$56)","v":0},{"$f":"SUMIF('Concert 1'!$E$9:$E$56,Statistiques!A433,'Concert 1'!$J$9:$J$56)+SUMIF('Concert 2'!$E$9:$E$56,Statistiques!A433,'Concert 2'!$J$9:$J$56)+SUMIF('Concert 3'!$E$9:$E$56,Statistiques!A433,'Concert 3'!$J$9:$J$56)+SUMIF('Concert 4'!$E$9:$E$56,Statistiques!A433,'Concert 4'!$J$9:$J$56)+SUMIF('Concert 5'!$E$9:$E$56,Statistiques!A433,'Concert 5'!$J$9:$J$56)","v":0},null,null,{"$f":"SUMIF('Concert 1'!$E$9:$E$56,Statistiques!A433,'Concert 1'!$I$9:$I$56)","v":0},{"$f":"SUMIF('Concert 1'!$E$9:$E$56,Statistiques!A433,'Concert 1'!$J$9:$J$56)","v":0},{"$f":"SUMIF('Concert 2'!$E$9:$E$56,Statistiques!A433,'Concert 2'!$I$9:$I$56)","v":0},{"$f":"SUMIF('Concert 2'!$E$9:$E$56,Statistiques!A433,'Concert 2'!$J$9:$J$56)","v":0},{"$f":"SUMIF('Concert 3'!$E$9:$E$56,Statistiques!A433,'Concert 3'!$I$9:$I$56)","v":0},{"$f":"SUMIF('Concert 3'!$E$9:$E$56,Statistiques!A433,'Concert 3'!$J$9:$J$56)","v":0},{"$f":"SUMIF('Concert 4'!$E$9:$E$56,Statistiques!A433,'Concert 4'!$I$9:$I$56)","v":0},{"$f":"SUMIF('Concert 4'!$E$9:$E$56,Statistiques!A433,'Concert 4'!$J$9:$J$56)","v":0},{"$f":"SUMIF('Concert 5'!$E$9:$E$56,Statistiques!A433,'Concert 5'!$I$9:$I$56)","v":0},{"$f":"SUMIF('Concert 5'!$E$9:$E$56,Statistiques!A433,'Concert 5'!$J$9:$J$56)","v":0}]
[{"$f":"Ecoles!A430","v":0},{"$f":"Ecoles!B430","v":0},{"$f":"Ecoles!C430","v":0},null,{"$f":"SUMIF('Concert 1'!$E$9:$E$56,Statistiques!A434,'Concert 1'!$I$9:$I$56)+SUMIF('Concert 2'!$E$9:$E$56,Statistiques!A434,'Concert 2'!$I$9:$I$56)+SUMIF('Concert 3'!$E$9:$E$56,Statistiques!A434,'Concert 3'!$I$9:$I$56)+SUMIF('Concert 4'!$E$9:$E$56,Statistiques!A434,'Concert 4'!$I$9:$I$56)+SUMIF('Concert 5'!$E$9:$E$56,Statistiques!A434,'Concert 5'!$I$9:$I$56)","v":0},{"$f":"SUMIF('Concert 1'!$E$9:$E$56,Statistiques!A434,'Concert 1'!$J$9:$J$56)+SUMIF('Concert 2'!$E$9:$E$56,Statistiques!A434,'Concert 2'!$J$9:$J$56)+SUMIF('Concert 3'!$E$9:$E$56,Statistiques!A434,'Concert 3'!$J$9:$J$56)+SUMIF('Concert 4'!$E$9:$E$56,Statistiques!A434,'Concert 4'!$J$9:$J$56)+SUMIF('Concert 5'!$E$9:$E$56,Statistiques!A434,'Concert 5'!$J$9:$J$56)","v":0},null,null,{"$f":"SUMIF('Concert 1'!$E$9:$E$56,Statistiques!A434,'Concert 1'!$I$9:$I$56)","v":0},{"$f":"SUMIF('Concert 1'!$E$9:$E$56,Statistiques!A434,'Concert 1'!$J$9:$J$56)","v":0},{"$f":"SUMIF('Concert 2'!$E$9:$E$56,Statistiques!A434,'Concert 2'!$I$9:$I$56)","v":0},{"$f":"SUMIF('Concert 2'!$E$9:$E$56,Statistiques!A434,'Concert 2'!$J$9:$J$56)","v":0},{"$f":"SUMIF('Concert 3'!$E$9:$E$56,Statistiques!A434,'Concert 3'!$I$9:$I$56)","v":0},{"$f":"SUMIF('Concert 3'!$E$9:$E$56,Statistiques!A434,'Concert 3'!$J$9:$J$56)","v":0},{"$f":"SUMIF('Concert 4'!$E$9:$E$56,Statistiques!A434,'Concert 4'!$I$9:$I$56)","v":0},{"$f":"SUMIF('Concert 4'!$E$9:$E$56,Statistiques!A434,'Concert 4'!$J$9:$J$56)","v":0},{"$f":"SUMIF('Concert 5'!$E$9:$E$56,Statistiques!A434,'Concert 5'!$I$9:$I$56)","v":0},{"$f":"SUMIF('Concert 5'!$E$9:$E$56,Statistiques!A434,'Concert 5'!$J$9:$J$56)","v":0}]
[{"$f":"Ecoles!A431","v":0},{"$f":"Ecoles!B431","v":0},{"$f":"Ecoles!C431","v":0},null,{"$f":"SUMIF('Concert 1'!$E$9:$E$56,Statistiques!A435,'Concert 1'!$I$9:$I$56)+SUMIF('Concert 2'!$E$9:$E$56,Statistiques!A435,'Concert 2'!$I$9:$I$56)+SUMIF('Concert 3'!$E$9:$E$56,Statistiques!A435,'Concert 3'!$I$9:$I$56)+SUMIF('Concert 4'!$E$9:$E$56,Statistiques!A435,'Concert 4'!$I$9:$I$56)+SUMIF('Concert 5'!$E$9:$E$56,Statistiques!A435,'Concert 5'!$I$9:$I$56)","v":0},{"$f":"SUMIF('Concert 1'!$E$9:$E$56,Statistiques!A435,'Concert 1'!$J$9:$J$56)+SUMIF('Concert 2'!$E$9:$E$56,Statistiques!A435,'Concert 2'!$J$9:$J$56)+SUMIF('Concert 3'!$E$9:$E$56,Statistiques!A435,'Concert 3'!$J$9:$J$56)+SUMIF('Concert 4'!$E$9:$E$56,Statistiques!A435,'Concert 4'!$J$9:$J$56)+SUMIF('Concert 5'!$E$9:$E$56,Statistiques!A435,'Concert 5'!$J$9:$J$56)","v":0},null,null,{"$f":"SUMIF('Concert 1'!$E$9:$E$56,Statistiques!A435,'Concert 1'!$I$9:$I$56)","v":0},{"$f":"SUMIF('Concert 1'!$E$9:$E$56,Statistiques!A435,'Concert 1'!$J$9:$J$56)","v":0},{"$f":"SUMIF('Concert 2'!$E$9:$E$56,Statistiques!A435,'Concert 2'!$I$9:$I$56)","v":0},{"$f":"SUMIF('Concert 2'!$E$9:$E$56,Statistiques!A435,'Concert 2'!$J$9:$J$56)","v":0},{"$f":"SUMIF('Concert 3'!$E$9:$E$56,Statistiques!A435,'Concert 3'!$I$9:$I$56)","v":0},{"$f":"SUMIF('Concert 3'!$E$9:$E$56,Statistiques!A435,'Concert 3'!$J$9:$J$56)","v":0},{"$f":"SUMIF('Concert 4'!$E$9:$E$56,Statistiques!A435,'Concert 4'!$I$9:$I$56)","v":0},{"$f":"SUMIF('Concert 4'!$E$9:$E$56,Statistiques!A435,'Concert 4'!$J$9:$J$56)","v":0},{"$f":"SUMIF('Concert 5'!$E$9:$E$56,Statistiques!A435,'Concert 5'!$I$9:$I$56)","v":0},{"$f":"SUMIF('Concert 5'!$E$9:$E$56,Statistiques!A435,'Concert 5'!$J$9:$J$56)","v":0}]
[{"$f":"Ecoles!A432","v":0},{"$f":"Ecoles!B432","v":0},{"$f":"Ecoles!C432","v":0},null,{"$f":"SUMIF('Concert 1'!$E$9:$E$56,Statistiques!A436,'Concert 1'!$I$9:$I$56)+SUMIF('Concert 2'!$E$9:$E$56,Statistiques!A436,'Concert 2'!$I$9:$I$56)+SUMIF('Concert 3'!$E$9:$E$56,Statistiques!A436,'Concert 3'!$I$9:$I$56)+SUMIF('Concert 4'!$E$9:$E$56,Statistiques!A436,'Concert 4'!$I$9:$I$56)+SUMIF('Concert 5'!$E$9:$E$56,Statistiques!A436,'Concert 5'!$I$9:$I$56)","v":0},{"$f":"SUMIF('Concert 1'!$E$9:$E$56,Statistiques!A436,'Concert 1'!$J$9:$J$56)+SUMIF('Concert 2'!$E$9:$E$56,Statistiques!A436,'Concert 2'!$J$9:$J$56)+SUMIF('Concert 3'!$E$9:$E$56,Statistiques!A436,'Concert 3'!$J$9:$J$56)+SUMIF('Concert 4'!$E$9:$E$56,Statistiques!A436,'Concert 4'!$J$9:$J$56)+SUMIF('Concert 5'!$E$9:$E$56,Statistiques!A436,'Concert 5'!$J$9:$J$56)","v":0},null,null,{"$f":"SUMIF('Concert 1'!$E$9:$E$56,Statistiques!A436,'Concert 1'!$I$9:$I$56)","v":0},{"$f":"SUMIF('Concert 1'!$E$9:$E$56,Statistiques!A436,'Concert 1'!$J$9:$J$56)","v":0},{"$f":"SUMIF('Concert 2'!$E$9:$E$56,Statistiques!A436,'Concert 2'!$I$9:$I$56)","v":0},{"$f":"SUMIF('Concert 2'!$E$9:$E$56,Statistiques!A436,'Concert 2'!$J$9:$J$56)","v":0},{"$f":"SUMIF('Concert 3'!$E$9:$E$56,Statistiques!A436,'Concert 3'!$I$9:$I$56)","v":0},{"$f":"SUMIF('Concert 3'!$E$9:$E$56,Statistiques!A436,'Concert 3'!$J$9:$J$56)","v":0},{"$f":"SUMIF('Concert 4'!$E$9:$E$56,Statistiques!A436,'Concert 4'!$I$9:$I$56)","v":0},{"$f":"SUMIF('Concert 4'!$E$9:$E$56,Statistiques!A436,'Concert 4'!$J$9:$J$56)","v":0},{"$f":"SUMIF('Concert 5'!$E$9:$E$56,Statistiques!A436,'Concert 5'!$I$9:$I$56)","v":0},{"$f":"SUMIF('Concert 5'!$E$9:$E$56,Statistiques!A436,'Concert 5'!$J$9:$J$56)","v":0}]
[{"$f":"Ecoles!A433","v":0},{"$f":"Ecoles!B433","v":0},{"$f":"Ecoles!C433","v":0},null,{"$f":"SUMIF('Concert 1'!$E$9:$E$56,Statistiques!A437,'Concert 1'!$I$9:$I$56)+SUMIF('Concert 2'!$E$9:$E$56,Statistiques!A437,'Concert 2'!$I$9:$I$56)+SUMIF('Concert 3'!$E$9:$E$56,Statistiques!A437,'Concert 3'!$I$9:$I$56)+SUMIF('Concert 4'!$E$9:$E$56,Statistiques!A437,'Concert 4'!$I$9:$I$56)+SUMIF('Concert 5'!$E$9:$E$56,Statistiques!A437,'Concert 5'!$I$9:$I$56)","v":0},{"$f":"SUMIF('Concert 1'!$E$9:$E$56,Statistiques!A437,'Concert 1'!$J$9:$J$56)+SUMIF('Concert 2'!$E$9:$E$56,Statistiques!A437,'Concert 2'!$J$9:$J$56)+SUMIF('Concert 3'!$E$9:$E$56,Statistiques!A437,'Concert 3'!$J$9:$J$56)+SUMIF('Concert 4'!$E$9:$E$56,Statistiques!A437,'Concert 4'!$J$9:$J$56)+SUMIF('Concert 5'!$E$9:$E$56,Statistiques!A437,'Concert 5'!$J$9:$J$56)","v":0},null,null,{"$f":"SUMIF('Concert 1'!$E$9:$E$56,Statistiques!A437,'Concert 1'!$I$9:$I$56)","v":0},{"$f":"SUMIF('Concert 1'!$E$9:$E$56,Statistiques!A437,'Concert 1'!$J$9:$J$56)","v":0},{"$f":"SUMIF('Concert 2'!$E$9:$E$56,Statistiques!A437,'Concert 2'!$I$9:$I$56)","v":0},{"$f":"SUMIF('Concert 2'!$E$9:$E$56,Statistiques!A437,'Concert 2'!$J$9:$J$56)","v":0},{"$f":"SUMIF('Concert 3'!$E$9:$E$56,Statistiques!A437,'Concert 3'!$I$9:$I$56)","v":0},{"$f":"SUMIF('Concert 3'!$E$9:$E$56,Statistiques!A437,'Concert 3'!$J$9:$J$56)","v":0},{"$f":"SUMIF('Concert 4'!$E$9:$E$56,Statistiques!A437,'Concert 4'!$I$9:$I$56)","v":0},{"$f":"SUMIF('Concert 4'!$E$9:$E$56,Statistiques!A437,'Concert 4'!$J$9:$J$56)","v":0},{"$f":"SUMIF('Concert 5'!$E$9:$E$56,Statistiques!A437,'Concert 5'!$I$9:$I$56)","v":0},{"$f":"SUMIF('Concert 5'!$E$9:$E$56,Statistiques!A437,'Concert 5'!$J$9:$J$56)","v":0}]
[{"$f":"Ecoles!A434","v":0},{"$f":"Ecoles!B434","v":0},{"$f":"Ecoles!C434","v":0},null,{"$f":"SUMIF('Concert 1'!$E$9:$E$56,Statistiques!A438,'Concert 1'!$I$9:$I$56)+SUMIF('Concert 2'!$E$9:$E$56,Statistiques!A438,'Concert 2'!$I$9:$I$56)+SUMIF('Concert 3'!$E$9:$E$56,Statistiques!A438,'Concert 3'!$I$9:$I$56)+SUMIF('Concert 4'!$E$9:$E$56,Statistiques!A438,'Concert 4'!$I$9:$I$56)+SUMIF('Concert 5'!$E$9:$E$56,Statistiques!A438,'Concert 5'!$I$9:$I$56)","v":0},{"$f":"SUMIF('Concert 1'!$E$9:$E$56,Statistiques!A438,'Concert 1'!$J$9:$J$56)+SUMIF('Concert 2'!$E$9:$E$56,Statistiques!A438,'Concert 2'!$J$9:$J$56)+SUMIF('Concert 3'!$E$9:$E$56,Statistiques!A438,'Concert 3'!$J$9:$J$56)+SUMIF('Concert 4'!$E$9:$E$56,Statistiques!A438,'Concert 4'!$J$9:$J$56)+SUMIF('Concert 5'!$E$9:$E$56,Statistiques!A438,'Concert 5'!$J$9:$J$56)","v":0},null,null,{"$f":"SUMIF('Concert 1'!$E$9:$E$56,Statistiques!A438,'Concert 1'!$I$9:$I$56)","v":0},{"$f":"SUMIF('Concert 1'!$E$9:$E$56,Statistiques!A438,'Concert 1'!$J$9:$J$56)","v":0},{"$f":"SUMIF('Concert 2'!$E$9:$E$56,Statistiques!A438,'Concert 2'!$I$9:$I$56)","v":0},{"$f":"SUMIF('Concert 2'!$E$9:$E$56,Statistiques!A438,'Concert 2'!$J$9:$J$56)","v":0},{"$f":"SUMIF('Concert 3'!$E$9:$E$56,Statistiques!A438,'Concert 3'!$I$9:$I$56)","v":0},{"$f":"SUMIF('Concert 3'!$E$9:$E$56,Statistiques!A438,'Concert 3'!$J$9:$J$56)","v":0},{"$f":"SUMIF('Concert 4'!$E$9:$E$56,Statistiques!A438,'Concert 4'!$I$9:$I$56)","v":0},{"$f":"SUMIF('Concert 4'!$E$9:$E$56,Statistiques!A438,'Concert 4'!$J$9:$J$56)","v":0},{"$f":"SUMIF('Concert 5'!$E$9:$E$56,Statistiques!A438,'Concert 5'!$I$9:$I$56)","v":0},{"$f":"SUMIF('Concert 5'!$E$9:$E$56,Statistiques!A438,'Concert 5'!$J$9:$J$56)","v":0}]
[{"$f":"Ecoles!A435","v":0},{"$f":"Ecoles!B435","v":0},{"$f":"Ecoles!C435","v":0},null,{"$f":"SUMIF('Concert 1'!$E$9:$E$56,Statistiques!A439,'Concert 1'!$I$9:$I$56)+SUMIF('Concert 2'!$E$9:$E$56,Statistiques!A439,'Concert 2'!$I$9:$I$56)+SUMIF('Concert 3'!$E$9:$E$56,Statistiques!A439,'Concert 3'!$I$9:$I$56)+SUMIF('Concert 4'!$E$9:$E$56,Statistiques!A439,'Concert 4'!$I$9:$I$56)+SUMIF('Concert 5'!$E$9:$E$56,Statistiques!A439,'Concert 5'!$I$9:$I$56)","v":0},{"$f":"SUMIF('Concert 1'!$E$9:$E$56,Statistiques!A439,'Concert 1'!$J$9:$J$56)+SUMIF('Concert 2'!$E$9:$E$56,Statistiques!A439,'Concert 2'!$J$9:$J$56)+SUMIF('Concert 3'!$E$9:$E$56,Statistiques!A439,'Concert 3'!$J$9:$J$56)+SUMIF('Concert 4'!$E$9:$E$56,Statistiques!A439,'Concert 4'!$J$9:$J$56)+SUMIF('Concert 5'!$E$9:$E$56,Statistiques!A439,'Concert 5'!$J$9:$J$56)","v":0},null,null,{"$f":"SUMIF('Concert 1'!$E$9:$E$56,Statistiques!A439,'Concert 1'!$I$9:$I$56)","v":0},{"$f":"SUMIF('Concert 1'!$E$9:$E$56,Statistiques!A439,'Concert 1'!$J$9:$J$56)","v":0},{"$f":"SUMIF('Concert 2'!$E$9:$E$56,Statistiques!A439,'Concert 2'!$I$9:$I$56)","v":0},{"$f":"SUMIF('Concert 2'!$E$9:$E$56,Statistiques!A439,'Concert 2'!$J$9:$J$56)","v":0},{"$f":"SUMIF('Concert 3'!$E$9:$E$56,Statistiques!A439,'Concert 3'!$I$9:$I$56)","v":0},{"$f":"SUMIF('Concert 3'!$E$9:$E$56,Statistiques!A439,'Concert 3'!$J$9:$J$56)","v":0},{"$f":"SUMIF('Concert 4'!$E$9:$E$56,Statistiques!A439,'Concert 4'!$I$9:$I$56)","v":0},{"$f":"SUMIF('Concert 4'!$E$9:$E$56,Statistiques!A439,'Concert 4'!$J$9:$J$56)","v":0},{"$f":"SUMIF('Concert 5'!$E$9:$E$56,Statistiques!A439,'Concert 5'!$I$9:$I$56)","v":0},{"$f":"SUMIF('Concert 5'!$E$9:$E$56,Statistiques!A439,'Concert 5'!$J$9:$J$56)","v":0}]
[{"$f":"Ecoles!A436","v":0},{"$f":"Ecoles!B436","v":0},{"$f":"Ecoles!C436","v":0},null,{"$f":"SUMIF('Concert 1'!$E$9:$E$56,Statistiques!A440,'Concert 1'!$I$9:$I$56)+SUMIF('Concert 2'!$E$9:$E$56,Statistiques!A440,'Concert 2'!$I$9:$I$56)+SUMIF('Concert 3'!$E$9:$E$56,Statistiques!A440,'Concert 3'!$I$9:$I$56)+SUMIF('Concert 4'!$E$9:$E$56,Statistiques!A440,'Concert 4'!$I$9:$I$56)+SUMIF('Concert 5'!$E$9:$E$56,Statistiques!A440,'Concert 5'!$I$9:$I$56)","v":0},{"$f":"SUMIF('Concert 1'!$E$9:$E$56,Statistiques!A440,'Concert 1'!$J$9:$J$56)+SUMIF('Concert 2'!$E$9:$E$56,Statistiques!A440,'Concert 2'!$J$9:$J$56)+SUMIF('Concert 3'!$E$9:$E$56,Statistiques!A440,'Concert 3'!$J$9:$J$56)+SUMIF('Concert 4'!$E$9:$E$56,Statistiques!A440,'Concert 4'!$J$9:$J$56)+SUMIF('Concert 5'!$E$9:$E$56,Statistiques!A440,'Concert 5'!$J$9:$J$56)","v":0},null,null,{"$f":"SUMIF('Concert 1'!$E$9:$E$56,Statistiques!A440,'Concert 1'!$I$9:$I$56)","v":0},{"$f":"SUMIF('Concert 1'!$E$9:$E$56,Statistiques!A440,'Concert 1'!$J$9:$J$56)","v":0},{"$f":"SUMIF('Concert 2'!$E$9:$E$56,Statistiques!A440,'Concert 2'!$I$9:$I$56)","v":0},{"$f":"SUMIF('Concert 2'!$E$9:$E$56,Statistiques!A440,'Concert 2'!$J$9:$J$56)","v":0},{"$f":"SUMIF('Concert 3'!$E$9:$E$56,Statistiques!A440,'Concert 3'!$I$9:$I$56)","v":0},{"$f":"SUMIF('Concert 3'!$E$9:$E$56,Statistiques!A440,'Concert 3'!$J$9:$J$56)","v":0},{"$f":"SUMIF('Concert 4'!$E$9:$E$56,Statistiques!A440,'Concert 4'!$I$9:$I$56)","v":0},{"$f":"SUMIF('Concert 4'!$E$9:$E$56,Statistiques!A440,'Concert 4'!$J$9:$J$56)","v":0},{"$f":"SUMIF('Concert 5'!$E$9:$E$56,Statistiques!A440,'Concert 5'!$I$9:$I$56)","v":0},{"$f":"SUMIF('Concert 5'!$E$9:$E$56,Statistiques!A440,'Concert 5'!$J$9:$J$56)","v":0}]
[{"$f":"Ecoles!A437","v":0},{"$f":"Ecoles!B437","v":0},{"$f":"Ecoles!C437","v":0},null,{"$f":"SUMIF('Concert 1'!$E$9:$E$56,Statistiques!A441,'Concert 1'!$I$9:$I$56)+SUMIF('Concert 2'!$E$9:$E$56,Statistiques!A441,'Concert 2'!$I$9:$I$56)+SUMIF('Concert 3'!$E$9:$E$56,Statistiques!A441,'Concert 3'!$I$9:$I$56)+SUMIF('Concert 4'!$E$9:$E$56,Statistiques!A441,'Concert 4'!$I$9:$I$56)+SUMIF('Concert 5'!$E$9:$E$56,Statistiques!A441,'Concert 5'!$I$9:$I$56)","v":0},{"$f":"SUMIF('Concert 1'!$E$9:$E$56,Statistiques!A441,'Concert 1'!$J$9:$J$56)+SUMIF('Concert 2'!$E$9:$E$56,Statistiques!A441,'Concert 2'!$J$9:$J$56)+SUMIF('Concert 3'!$E$9:$E$56,Statistiques!A441,'Concert 3'!$J$9:$J$56)+SUMIF('Concert 4'!$E$9:$E$56,Statistiques!A441,'Concert 4'!$J$9:$J$56)+SUMIF('Concert 5'!$E$9:$E$56,Statistiques!A441,'Concert 5'!$J$9:$J$56)","v":0},null,null,{"$f":"SUMIF('Concert 1'!$E$9:$E$56,Statistiques!A441,'Concert 1'!$I$9:$I$56)","v":0},{"$f":"SUMIF('Concert 1'!$E$9:$E$56,Statistiques!A441,'Concert 1'!$J$9:$J$56)","v":0},{"$f":"SUMIF('Concert 2'!$E$9:$E$56,Statistiques!A441,'Concert 2'!$I$9:$I$56)","v":0},{"$f":"SUMIF('Concert 2'!$E$9:$E$56,Statistiques!A441,'Concert 2'!$J$9:$J$56)","v":0},{"$f":"SUMIF('Concert 3'!$E$9:$E$56,Statistiques!A441,'Concert 3'!$I$9:$I$56)","v":0},{"$f":"SUMIF('Concert 3'!$E$9:$E$56,Statistiques!A441,'Concert 3'!$J$9:$J$56)","v":0},{"$f":"SUMIF('Concert 4'!$E$9:$E$56,Statistiques!A441,'Concert 4'!$I$9:$I$56)","v":0},{"$f":"SUMIF('Concert 4'!$E$9:$E$56,Statistiques!A441,'Concert 4'!$J$9:$J$56)","v":0},{"$f":"SUMIF('Concert 5'!$E$9:$E$56,Statistiques!A441,'Concert 5'!$I$9:$I$56)","v":0},{"$f":"SUMIF('Concert 5'!$E$9:$E$56,Statistiques!A441,'Concert 5'!$J$9:$J$56)","v":0}]
[{"$f":"Ecoles!A438","v":0},{"$f":"Ecoles!B438","v":0},{"$f":"Ecoles!C438","v":0},null,{"$f":"SUMIF('Concert 1'!$E$9:$E$56,Statistiques!A442,'Concert 1'!$I$9:$I$56)+SUMIF('Concert 2'!$E$9:$E$56,Statistiques!A442,'Concert 2'!$I$9:$I$56)+SUMIF('Concert 3'!$E$9:$E$56,Statistiques!A442,'Concert 3'!$I$9:$I$56)+SUMIF('Concert 4'!$E$9:$E$56,Statistiques!A442,'Concert 4'!$I$9:$I$56)+SUMIF('Concert 5'!$E$9:$E$56,Statistiques!A442,'Concert 5'!$I$9:$I$56)","v":0},{"$f":"SUMIF('Concert 1'!$E$9:$E$56,Statistiques!A442,'Concert 1'!$J$9:$J$56)+SUMIF('Concert 2'!$E$9:$E$56,Statistiques!A442,'Concert 2'!$J$9:$J$56)+SUMIF('Concert 3'!$E$9:$E$56,Statistiques!A442,'Concert 3'!$J$9:$J$56)+SUMIF('Concert 4'!$E$9:$E$56,Statistiques!A442,'Concert 4'!$J$9:$J$56)+SUMIF('Concert 5'!$E$9:$E$56,Statistiques!A442,'Concert 5'!$J$9:$J$56)","v":0},null,null,{"$f":"SUMIF('Concert 1'!$E$9:$E$56,Statistiques!A442,'Concert 1'!$I$9:$I$56)","v":0},{"$f":"SUMIF('Concert 1'!$E$9:$E$56,Statistiques!A442,'Concert 1'!$J$9:$J$56)","v":0},{"$f":"SUMIF('Concert 2'!$E$9:$E$56,Statistiques!A442,'Concert 2'!$I$9:$I$56)","v":0},{"$f":"SUMIF('Concert 2'!$E$9:$E$56,Statistiques!A442,'Concert 2'!$J$9:$J$56)","v":0},{"$f":"SUMIF('Concert 3'!$E$9:$E$56,Statistiques!A442,'Concert 3'!$I$9:$I$56)","v":0},{"$f":"SUMIF('Concert 3'!$E$9:$E$56,Statistiques!A442,'Concert 3'!$J$9:$J$56)","v":0},{"$f":"SUMIF('Concert 4'!$E$9:$E$56,Statistiques!A442,'Concert 4'!$I$9:$I$56)","v":0},{"$f":"SUMIF('Concert 4'!$E$9:$E$56,Statistiques!A442,'Concert 4'!$J$9:$J$56)","v":0},{"$f":"SUMIF('Concert 5'!$E$9:$E$56,Statistiques!A442,'Concert 5'!$I$9:$I$56)","v":0},{"$f":"SUMIF('Concert 5'!$E$9:$E$56,Statistiques!A442,'Concert 5'!$J$9:$J$56)","v":0}]
[{"$f":"Ecoles!A439","v":0},{"$f":"Ecoles!B439","v":0},{"$f":"Ecoles!C439","v":0},null,{"$f":"SUMIF('Concert 1'!$E$9:$E$56,Statistiques!A443,'Concert 1'!$I$9:$I$56)+SUMIF('Concert 2'!$E$9:$E$56,Statistiques!A443,'Concert 2'!$I$9:$I$56)+SUMIF('Concert 3'!$E$9:$E$56,Statistiques!A443,'Concert 3'!$I$9:$I$56)+SUMIF('Concert 4'!$E$9:$E$56,Statistiques!A443,'Concert 4'!$I$9:$I$56)+SUMIF('Concert 5'!$E$9:$E$56,Statistiques!A443,'Concert 5'!$I$9:$I$56)","v":0},{"$f":"SUMIF('Concert 1'!$E$9:$E$56,Statistiques!A443,'Concert 1'!$J$9:$J$56)+SUMIF('Concert 2'!$E$9:$E$56,Statistiques!A443,'Concert 2'!$J$9:$J$56)+SUMIF('Concert 3'!$E$9:$E$56,Statistiques!A443,'Concert 3'!$J$9:$J$56)+SUMIF('Concert 4'!$E$9:$E$56,Statistiques!A443,'Concert 4'!$J$9:$J$56)+SUMIF('Concert 5'!$E$9:$E$56,Statistiques!A443,'Concert 5'!$J$9:$J$56)","v":0},null,null,{"$f":"SUMIF('Concert 1'!$E$9:$E$56,Statistiques!A443,'Concert 1'!$I$9:$I$56)","v":0},{"$f":"SUMIF('Concert 1'!$E$9:$E$56,Statistiques!A443,'Concert 1'!$J$9:$J$56)","v":0},{"$f":"SUMIF('Concert 2'!$E$9:$E$56,Statistiques!A443,'Concert 2'!$I$9:$I$56)","v":0},{"$f":"SUMIF('Concert 2'!$E$9:$E$56,Statistiques!A443,'Concert 2'!$J$9:$J$56)","v":0},{"$f":"SUMIF('Concert 3'!$E$9:$E$56,Statistiques!A443,'Concert 3'!$I$9:$I$56)","v":0},{"$f":"SUMIF('Concert 3'!$E$9:$E$56,Statistiques!A443,'Concert 3'!$J$9:$J$56)","v":0},{"$f":"SUMIF('Concert 4'!$E$9:$E$56,Statistiques!A443,'Concert 4'!$I$9:$I$56)","v":0},{"$f":"SUMIF('Concert 4'!$E$9:$E$56,Statistiques!A443,'Concert 4'!$J$9:$J$56)","v":0},{"$f":"SUMIF('Concert 5'!$E$9:$E$56,Statistiques!A443,'Concert 5'!$I$9:$I$56)","v":0},{"$f":"SUMIF('Concert 5'!$E$9:$E$56,Statistiques!A443,'Concert 5'!$J$9:$J$56)","v":0}]
[{"$f":"Ecoles!A440","v":0},{"$f":"Ecoles!B440","v":0},{"$f":"Ecoles!C440","v":0},null,{"$f":"SUMIF('Concert 1'!$E$9:$E$56,Statistiques!A444,'Concert 1'!$I$9:$I$56)+SUMIF('Concert 2'!$E$9:$E$56,Statistiques!A444,'Concert 2'!$I$9:$I$56)+SUMIF('Concert 3'!$E$9:$E$56,Statistiques!A444,'Concert 3'!$I$9:$I$56)+SUMIF('Concert 4'!$E$9:$E$56,Statistiques!A444,'Concert 4'!$I$9:$I$56)+SUMIF('Concert 5'!$E$9:$E$56,Statistiques!A444,'Concert 5'!$I$9:$I$56)","v":0},{"$f":"SUMIF('Concert 1'!$E$9:$E$56,Statistiques!A444,'Concert 1'!$J$9:$J$56)+SUMIF('Concert 2'!$E$9:$E$56,Statistiques!A444,'Concert 2'!$J$9:$J$56)+SUMIF('Concert 3'!$E$9:$E$56,Statistiques!A444,'Concert 3'!$J$9:$J$56)+SUMIF('Concert 4'!$E$9:$E$56,Statistiques!A444,'Concert 4'!$J$9:$J$56)+SUMIF('Concert 5'!$E$9:$E$56,Statistiques!A444,'Concert 5'!$J$9:$J$56)","v":0},null,null,{"$f":"SUMIF('Concert 1'!$E$9:$E$56,Statistiques!A444,'Concert 1'!$I$9:$I$56)","v":0},{"$f":"SUMIF('Concert 1'!$E$9:$E$56,Statistiques!A444,'Concert 1'!$J$9:$J$56)","v":0},{"$f":"SUMIF('Concert 2'!$E$9:$E$56,Statistiques!A444,'Concert 2'!$I$9:$I$56)","v":0},{"$f":"SUMIF('Concert 2'!$E$9:$E$56,Statistiques!A444,'Concert 2'!$J$9:$J$56)","v":0},{"$f":"SUMIF('Concert 3'!$E$9:$E$56,Statistiques!A444,'Concert 3'!$I$9:$I$56)","v":0},{"$f":"SUMIF('Concert 3'!$E$9:$E$56,Statistiques!A444,'Concert 3'!$J$9:$J$56)","v":0},{"$f":"SUMIF('Concert 4'!$E$9:$E$56,Statistiques!A444,'Concert 4'!$I$9:$I$56)","v":0},{"$f":"SUMIF('Concert 4'!$E$9:$E$56,Statistiques!A444,'Concert 4'!$J$9:$J$56)","v":0},{"$f":"SUMIF('Concert 5'!$E$9:$E$56,Statistiques!A444,'Concert 5'!$I$9:$I$56)","v":0},{"$f":"SUMIF('Concert 5'!$E$9:$E$56,Statistiques!A444,'Concert 5'!$J$9:$J$56)","v":0}]
[{"$f":"Ecoles!A441","v":0},{"$f":"Ecoles!B441","v":0},{"$f":"Ecoles!C441","v":0},null,{"$f":"SUMIF('Concert 1'!$E$9:$E$56,Statistiques!A445,'Concert 1'!$I$9:$I$56)+SUMIF('Concert 2'!$E$9:$E$56,Statistiques!A445,'Concert 2'!$I$9:$I$56)+SUMIF('Concert 3'!$E$9:$E$56,Statistiques!A445,'Concert 3'!$I$9:$I$56)+SUMIF('Concert 4'!$E$9:$E$56,Statistiques!A445,'Concert 4'!$I$9:$I$56)+SUMIF('Concert 5'!$E$9:$E$56,Statistiques!A445,'Concert 5'!$I$9:$I$56)","v":0},{"$f":"SUMIF('Concert 1'!$E$9:$E$56,Statistiques!A445,'Concert 1'!$J$9:$J$56)+SUMIF('Concert 2'!$E$9:$E$56,Statistiques!A445,'Concert 2'!$J$9:$J$56)+SUMIF('Concert 3'!$E$9:$E$56,Statistiques!A445,'Concert 3'!$J$9:$J$56)+SUMIF('Concert 4'!$E$9:$E$56,Statistiques!A445,'Concert 4'!$J$9:$J$56)+SUMIF('Concert 5'!$E$9:$E$56,Statistiques!A445,'Concert 5'!$J$9:$J$56)","v":0},null,null,{"$f":"SUMIF('Concert 1'!$E$9:$E$56,Statistiques!A445,'Concert 1'!$I$9:$I$56)","v":0},{"$f":"SUMIF('Concert 1'!$E$9:$E$56,Statistiques!A445,'Concert 1'!$J$9:$J$56)","v":0},{"$f":"SUMIF('Concert 2'!$E$9:$E$56,Statistiques!A445,'Concert 2'!$I$9:$I$56)","v":0},{"$f":"SUMIF('Concert 2'!$E$9:$E$56,Statistiques!A445,'Concert 2'!$J$9:$J$56)","v":0},{"$f":"SUMIF('Concert 3'!$E$9:$E$56,Statistiques!A445,'Concert 3'!$I$9:$I$56)","v":0},{"$f":"SUMIF('Concert 3'!$E$9:$E$56,Statistiques!A445,'Concert 3'!$J$9:$J$56)","v":0},{"$f":"SUMIF('Concert 4'!$E$9:$E$56,Statistiques!A445,'Concert 4'!$I$9:$I$56)","v":0},{"$f":"SUMIF('Concert 4'!$E$9:$E$56,Statistiques!A445,'Concert 4'!$J$9:$J$56)","v":0},{"$f":"SUMIF('Concert 5'!$E$9:$E$56,Statistiques!A445,'Concert 5'!$I$9:$I$56)","v":0},{"$f":"SUMIF('Concert 5'!$E$9:$E$56,Statistiques!A445,'Concert 5'!$J$9:$J$56)","v":0}]
[{"$f":"Ecoles!A442","v":0},{"$f":"Ecoles!B442","v":0},{"$f":"Ecoles!C442","v":0},null,{"$f":"SUMIF('Concert 1'!$E$9:$E$56,Statistiques!A446,'Concert 1'!$I$9:$I$56)+SUMIF('Concert 2'!$E$9:$E$56,Statistiques!A446,'Concert 2'!$I$9:$I$56)+SUMIF('Concert 3'!$E$9:$E$56,Statistiques!A446,'Concert 3'!$I$9:$I$56)+SUMIF('Concert 4'!$E$9:$E$56,Statistiques!A446,'Concert 4'!$I$9:$I$56)+SUMIF('Concert 5'!$E$9:$E$56,Statistiques!A446,'Concert 5'!$I$9:$I$56)","v":0},{"$f":"SUMIF('Concert 1'!$E$9:$E$56,Statistiques!A446,'Concert 1'!$J$9:$J$56)+SUMIF('Concert 2'!$E$9:$E$56,Statistiques!A446,'Concert 2'!$J$9:$J$56)+SUMIF('Concert 3'!$E$9:$E$56,Statistiques!A446,'Concert 3'!$J$9:$J$56)+SUMIF('Concert 4'!$E$9:$E$56,Statistiques!A446,'Concert 4'!$J$9:$J$56)+SUMIF('Concert 5'!$E$9:$E$56,Statistiques!A446,'Concert 5'!$J$9:$J$56)","v":0},null,null,{"$f":"SUMIF('Concert 1'!$E$9:$E$56,Statistiques!A446,'Concert 1'!$I$9:$I$56)","v":0},{"$f":"SUMIF('Concert 1'!$E$9:$E$56,Statistiques!A446,'Concert 1'!$J$9:$J$56)","v":0},{"$f":"SUMIF('Concert 2'!$E$9:$E$56,Statistiques!A446,'Concert 2'!$I$9:$I$56)","v":0},{"$f":"SUMIF('Concert 2'!$E$9:$E$56,Statistiques!A446,'Concert 2'!$J$9:$J$56)","v":0},{"$f":"SUMIF('Concert 3'!$E$9:$E$56,Statistiques!A446,'Concert 3'!$I$9:$I$56)","v":0},{"$f":"SUMIF('Concert 3'!$E$9:$E$56,Statistiques!A446,'Concert 3'!$J$9:$J$56)","v":0},{"$f":"SUMIF('Concert 4'!$E$9:$E$56,Statistiques!A446,'Concert 4'!$I$9:$I$56)","v":0},{"$f":"SUMIF('Concert 4'!$E$9:$E$56,Statistiques!A446,'Concert 4'!$J$9:$J$56)","v":0},{"$f":"SUMIF('Concert 5'!$E$9:$E$56,Statistiques!A446,'Concert 5'!$I$9:$I$56)","v":0},{"$f":"SUMIF('Concert 5'!$E$9:$E$56,Statistiques!A446,'Concert 5'!$J$9:$J$56)","v":0}]
[{"$f":"Ecoles!A443","v":0},{"$f":"Ecoles!B443","v":0},{"$f":"Ecoles!C443","v":0},null,{"$f":"SUMIF('Concert 1'!$E$9:$E$56,Statistiques!A447,'Concert 1'!$I$9:$I$56)+SUMIF('Concert 2'!$E$9:$E$56,Statistiques!A447,'Concert 2'!$I$9:$I$56)+SUMIF('Concert 3'!$E$9:$E$56,Statistiques!A447,'Concert 3'!$I$9:$I$56)+SUMIF('Concert 4'!$E$9:$E$56,Statistiques!A447,'Concert 4'!$I$9:$I$56)+SUMIF('Concert 5'!$E$9:$E$56,Statistiques!A447,'Concert 5'!$I$9:$I$56)","v":0},{"$f":"SUMIF('Concert 1'!$E$9:$E$56,Statistiques!A447,'Concert 1'!$J$9:$J$56)+SUMIF('Concert 2'!$E$9:$E$56,Statistiques!A447,'Concert 2'!$J$9:$J$56)+SUMIF('Concert 3'!$E$9:$E$56,Statistiques!A447,'Concert 3'!$J$9:$J$56)+SUMIF('Concert 4'!$E$9:$E$56,Statistiques!A447,'Concert 4'!$J$9:$J$56)+SUMIF('Concert 5'!$E$9:$E$56,Statistiques!A447,'Concert 5'!$J$9:$J$56)","v":0},null,null,{"$f":"SUMIF('Concert 1'!$E$9:$E$56,Statistiques!A447,'Concert 1'!$I$9:$I$56)","v":0},{"$f":"SUMIF('Concert 1'!$E$9:$E$56,Statistiques!A447,'Concert 1'!$J$9:$J$56)","v":0},{"$f":"SUMIF('Concert 2'!$E$9:$E$56,Statistiques!A447,'Concert 2'!$I$9:$I$56)","v":0},{"$f":"SUMIF('Concert 2'!$E$9:$E$56,Statistiques!A447,'Concert 2'!$J$9:$J$56)","v":0},{"$f":"SUMIF('Concert 3'!$E$9:$E$56,Statistiques!A447,'Concert 3'!$I$9:$I$56)","v":0},{"$f":"SUMIF('Concert 3'!$E$9:$E$56,Statistiques!A447,'Concert 3'!$J$9:$J$56)","v":0},{"$f":"SUMIF('Concert 4'!$E$9:$E$56,Statistiques!A447,'Concert 4'!$I$9:$I$56)","v":0},{"$f":"SUMIF('Concert 4'!$E$9:$E$56,Statistiques!A447,'Concert 4'!$J$9:$J$56)","v":0},{"$f":"SUMIF('Concert 5'!$E$9:$E$56,Statistiques!A447,'Concert 5'!$I$9:$I$56)","v":0},{"$f":"SUMIF('Concert 5'!$E$9:$E$56,Statistiques!A447,'Concert 5'!$J$9:$J$56)","v":0}]
[{"$f":"Ecoles!A444","v":0},{"$f":"Ecoles!B444","v":0},{"$f":"Ecoles!C444","v":0},null,{"$f":"SUMIF('Concert 1'!$E$9:$E$56,Statistiques!A448,'Concert 1'!$I$9:$I$56)+SUMIF('Concert 2'!$E$9:$E$56,Statistiques!A448,'Concert 2'!$I$9:$I$56)+SUMIF('Concert 3'!$E$9:$E$56,Statistiques!A448,'Concert 3'!$I$9:$I$56)+SUMIF('Concert 4'!$E$9:$E$56,Statistiques!A448,'Concert 4'!$I$9:$I$56)+SUMIF('Concert 5'!$E$9:$E$56,Statistiques!A448,'Concert 5'!$I$9:$I$56)","v":0},{"$f":"SUMIF('Concert 1'!$E$9:$E$56,Statistiques!A448,'Concert 1'!$J$9:$J$56)+SUMIF('Concert 2'!$E$9:$E$56,Statistiques!A448,'Concert 2'!$J$9:$J$56)+SUMIF('Concert 3'!$E$9:$E$56,Statistiques!A448,'Concert 3'!$J$9:$J$56)+SUMIF('Concert 4'!$E$9:$E$56,Statistiques!A448,'Concert 4'!$J$9:$J$56)+SUMIF('Concert 5'!$E$9:$E$56,Statistiques!A448,'Concert 5'!$J$9:$J$56)","v":0},null,null,{"$f":"SUMIF('Concert 1'!$E$9:$E$56,Statistiques!A448,'Concert 1'!$I$9:$I$56)","v":0},{"$f":"SUMIF('Concert 1'!$E$9:$E$56,Statistiques!A448,'Concert 1'!$J$9:$J$56)","v":0},{"$f":"SUMIF('Concert 2'!$E$9:$E$56,Statistiques!A448,'Concert 2'!$I$9:$I$56)","v":0},{"$f":"SUMIF('Concert 2'!$E$9:$E$56,Statistiques!A448,'Concert 2'!$J$9:$J$56)","v":0},{"$f":"SUMIF('Concert 3'!$E$9:$E$56,Statistiques!A448,'Concert 3'!$I$9:$I$56)","v":0},{"$f":"SUMIF('Concert 3'!$E$9:$E$56,Statistiques!A448,'Concert 3'!$J$9:$J$56)","v":0},{"$f":"SUMIF('Concert 4'!$E$9:$E$56,Statistiques!A448,'Concert 4'!$I$9:$I$56)","v":0},{"$f":"SUMIF('Concert 4'!$E$9:$E$56,Statistiques!A448,'Concert 4'!$J$9:$J$56)","v":0},{"$f":"SUMIF('Concert 5'!$E$9:$E$56,Statistiques!A448,'Concert 5'!$I$9:$I$56)","v":0},{"$f":"SUMIF('Concert 5'!$E$9:$E$56,Statistiques!A448,'Concert 5'!$J$9:$J$56)","v":0}]
[{"$f":"Ecoles!A445","v":0},{"$f":"Ecoles!B445","v":0},{"$f":"Ecoles!C445","v":0},null,{"$f":"SUMIF('Concert 1'!$E$9:$E$56,Statistiques!A449,'Concert 1'!$I$9:$I$56)+SUMIF('Concert 2'!$E$9:$E$56,Statistiques!A449,'Concert 2'!$I$9:$I$56)+SUMIF('Concert 3'!$E$9:$E$56,Statistiques!A449,'Concert 3'!$I$9:$I$56)+SUMIF('Concert 4'!$E$9:$E$56,Statistiques!A449,'Concert 4'!$I$9:$I$56)+SUMIF('Concert 5'!$E$9:$E$56,Statistiques!A449,'Concert 5'!$I$9:$I$56)","v":0},{"$f":"SUMIF('Concert 1'!$E$9:$E$56,Statistiques!A449,'Concert 1'!$J$9:$J$56)+SUMIF('Concert 2'!$E$9:$E$56,Statistiques!A449,'Concert 2'!$J$9:$J$56)+SUMIF('Concert 3'!$E$9:$E$56,Statistiques!A449,'Concert 3'!$J$9:$J$56)+SUMIF('Concert 4'!$E$9:$E$56,Statistiques!A449,'Concert 4'!$J$9:$J$56)+SUMIF('Concert 5'!$E$9:$E$56,Statistiques!A449,'Concert 5'!$J$9:$J$56)","v":0},null,null,{"$f":"SUMIF('Concert 1'!$E$9:$E$56,Statistiques!A449,'Concert 1'!$I$9:$I$56)","v":0},{"$f":"SUMIF('Concert 1'!$E$9:$E$56,Statistiques!A449,'Concert 1'!$J$9:$J$56)","v":0},{"$f":"SUMIF('Concert 2'!$E$9:$E$56,Statistiques!A449,'Concert 2'!$I$9:$I$56)","v":0},{"$f":"SUMIF('Concert 2'!$E$9:$E$56,Statistiques!A449,'Concert 2'!$J$9:$J$56)","v":0},{"$f":"SUMIF('Concert 3'!$E$9:$E$56,Statistiques!A449,'Concert 3'!$I$9:$I$56)","v":0},{"$f":"SUMIF('Concert 3'!$E$9:$E$56,Statistiques!A449,'Concert 3'!$J$9:$J$56)","v":0},{"$f":"SUMIF('Concert 4'!$E$9:$E$56,Statistiques!A449,'Concert 4'!$I$9:$I$56)","v":0},{"$f":"SUMIF('Concert 4'!$E$9:$E$56,Statistiques!A449,'Concert 4'!$J$9:$J$56)","v":0},{"$f":"SUMIF('Concert 5'!$E$9:$E$56,Statistiques!A449,'Concert 5'!$I$9:$I$56)","v":0},{"$f":"SUMIF('Concert 5'!$E$9:$E$56,Statistiques!A449,'Concert 5'!$J$9:$J$56)","v":0}]
[{"$f":"Ecoles!A446","v":0},{"$f":"Ecoles!B446","v":0},{"$f":"Ecoles!C446","v":0},null,{"$f":"SUMIF('Concert 1'!$E$9:$E$56,Statistiques!A450,'Concert 1'!$I$9:$I$56)+SUMIF('Concert 2'!$E$9:$E$56,Statistiques!A450,'Concert 2'!$I$9:$I$56)+SUMIF('Concert 3'!$E$9:$E$56,Statistiques!A450,'Concert 3'!$I$9:$I$56)+SUMIF('Concert 4'!$E$9:$E$56,Statistiques!A450,'Concert 4'!$I$9:$I$56)+SUMIF('Concert 5'!$E$9:$E$56,Statistiques!A450,'Concert 5'!$I$9:$I$56)","v":0},{"$f":"SUMIF('Concert 1'!$E$9:$E$56,Statistiques!A450,'Concert 1'!$J$9:$J$56)+SUMIF('Concert 2'!$E$9:$E$56,Statistiques!A450,'Concert 2'!$J$9:$J$56)+SUMIF('Concert 3'!$E$9:$E$56,Statistiques!A450,'Concert 3'!$J$9:$J$56)+SUMIF('Concert 4'!$E$9:$E$56,Statistiques!A450,'Concert 4'!$J$9:$J$56)+SUMIF('Concert 5'!$E$9:$E$56,Statistiques!A450,'Concert 5'!$J$9:$J$56)","v":0},null,null,{"$f":"SUMIF('Concert 1'!$E$9:$E$56,Statistiques!A450,'Concert 1'!$I$9:$I$56)","v":0},{"$f":"SUMIF('Concert 1'!$E$9:$E$56,Statistiques!A450,'Concert 1'!$J$9:$J$56)","v":0},{"$f":"SUMIF('Concert 2'!$E$9:$E$56,Statistiques!A450,'Concert 2'!$I$9:$I$56)","v":0},{"$f":"SUMIF('Concert 2'!$E$9:$E$56,Statistiques!A450,'Concert 2'!$J$9:$J$56)","v":0},{"$f":"SUMIF('Concert 3'!$E$9:$E$56,Statistiques!A450,'Concert 3'!$I$9:$I$56)","v":0},{"$f":"SUMIF('Concert 3'!$E$9:$E$56,Statistiques!A450,'Concert 3'!$J$9:$J$56)","v":0},{"$f":"SUMIF('Concert 4'!$E$9:$E$56,Statistiques!A450,'Concert 4'!$I$9:$I$56)","v":0},{"$f":"SUMIF('Concert 4'!$E$9:$E$56,Statistiques!A450,'Concert 4'!$J$9:$J$56)","v":0},{"$f":"SUMIF('Concert 5'!$E$9:$E$56,Statistiques!A450,'Concert 5'!$I$9:$I$56)","v":0},{"$f":"SUMIF('Concert 5'!$E$9:$E$56,Statistiques!A450,'Concert 5'!$J$9:$J$56)","v":0}]
[{"$f":"Ecoles!A447","v":0},{"$f":"Ecoles!B447","v":0},{"$f":"Ecoles!C447","v":0},null,{"$f":"SUMIF('Concert 1'!$E$9:$E$56,Statistiques!A451,'Concert 1'!$I$9:$I$56)+SUMIF('Concert 2'!$E$9:$E$56,Statistiques!A451,'Concert 2'!$I$9:$I$56)+SUMIF('Concert 3'!$E$9:$E$56,Statistiques!A451,'Concert 3'!$I$9:$I$56)+SUMIF('Concert 4'!$E$9:$E$56,Statistiques!A451,'Concert 4'!$I$9:$I$56)+SUMIF('Concert 5'!$E$9:$E$56,Statistiques!A451,'Concert 5'!$I$9:$I$56)","v":0},{"$f":"SUMIF('Concert 1'!$E$9:$E$56,Statistiques!A451,'Concert 1'!$J$9:$J$56)+SUMIF('Concert 2'!$E$9:$E$56,Statistiques!A451,'Concert 2'!$J$9:$J$56)+SUMIF('Concert 3'!$E$9:$E$56,Statistiques!A451,'Concert 3'!$J$9:$J$56)+SUMIF('Concert 4'!$E$9:$E$56,Statistiques!A451,'Concert 4'!$J$9:$J$56)+SUMIF('Concert 5'!$E$9:$E$56,Statistiques!A451,'Concert 5'!$J$9:$J$56)","v":0},null,null,{"$f":"SUMIF('Concert 1'!$E$9:$E$56,Statistiques!A451,'Concert 1'!$I$9:$I$56)","v":0},{"$f":"SUMIF('Concert 1'!$E$9:$E$56,Statistiques!A451,'Concert 1'!$J$9:$J$56)","v":0},{"$f":"SUMIF('Concert 2'!$E$9:$E$56,Statistiques!A451,'Concert 2'!$I$9:$I$56)","v":0},{"$f":"SUMIF('Concert 2'!$E$9:$E$56,Statistiques!A451,'Concert 2'!$J$9:$J$56)","v":0},{"$f":"SUMIF('Concert 3'!$E$9:$E$56,Statistiques!A451,'Concert 3'!$I$9:$I$56)","v":0},{"$f":"SUMIF('Concert 3'!$E$9:$E$56,Statistiques!A451,'Concert 3'!$J$9:$J$56)","v":0},{"$f":"SUMIF('Concert 4'!$E$9:$E$56,Statistiques!A451,'Concert 4'!$I$9:$I$56)","v":0},{"$f":"SUMIF('Concert 4'!$E$9:$E$56,Statistiques!A451,'Concert 4'!$J$9:$J$56)","v":0},{"$f":"SUMIF('Concert 5'!$E$9:$E$56,Statistiques!A451,'Concert 5'!$I$9:$I$56)","v":0},{"$f":"SUMIF('Concert 5'!$E$9:$E$56,Statistiques!A451,'Concert 5'!$J$9:$J$56)","v":0}]
[{"$f":"Ecoles!A448","v":0},{"$f":"Ecoles!B448","v":0},{"$f":"Ecoles!C448","v":0},null,{"$f":"SUMIF('Concert 1'!$E$9:$E$56,Statistiques!A452,'Concert 1'!$I$9:$I$56)+SUMIF('Concert 2'!$E$9:$E$56,Statistiques!A452,'Concert 2'!$I$9:$I$56)+SUMIF('Concert 3'!$E$9:$E$56,Statistiques!A452,'Concert 3'!$I$9:$I$56)+SUMIF('Concert 4'!$E$9:$E$56,Statistiques!A452,'Concert 4'!$I$9:$I$56)+SUMIF('Concert 5'!$E$9:$E$56,Statistiques!A452,'Concert 5'!$I$9:$I$56)","v":0},{"$f":"SUMIF('Concert 1'!$E$9:$E$56,Statistiques!A452,'Concert 1'!$J$9:$J$56)+SUMIF('Concert 2'!$E$9:$E$56,Statistiques!A452,'Concert 2'!$J$9:$J$56)+SUMIF('Concert 3'!$E$9:$E$56,Statistiques!A452,'Concert 3'!$J$9:$J$56)+SUMIF('Concert 4'!$E$9:$E$56,Statistiques!A452,'Concert 4'!$J$9:$J$56)+SUMIF('Concert 5'!$E$9:$E$56,Statistiques!A452,'Concert 5'!$J$9:$J$56)","v":0},null,null,{"$f":"SUMIF('Concert 1'!$E$9:$E$56,Statistiques!A452,'Concert 1'!$I$9:$I$56)","v":0},{"$f":"SUMIF('Concert 1'!$E$9:$E$56,Statistiques!A452,'Concert 1'!$J$9:$J$56)","v":0},{"$f":"SUMIF('Concert 2'!$E$9:$E$56,Statistiques!A452,'Concert 2'!$I$9:$I$56)","v":0},{"$f":"SUMIF('Concert 2'!$E$9:$E$56,Statistiques!A452,'Concert 2'!$J$9:$J$56)","v":0},{"$f":"SUMIF('Concert 3'!$E$9:$E$56,Statistiques!A452,'Concert 3'!$I$9:$I$56)","v":0},{"$f":"SUMIF('Concert 3'!$E$9:$E$56,Statistiques!A452,'Concert 3'!$J$9:$J$56)","v":0},{"$f":"SUMIF('Concert 4'!$E$9:$E$56,Statistiques!A452,'Concert 4'!$I$9:$I$56)","v":0},{"$f":"SUMIF('Concert 4'!$E$9:$E$56,Statistiques!A452,'Concert 4'!$J$9:$J$56)","v":0},{"$f":"SUMIF('Concert 5'!$E$9:$E$56,Statistiques!A452,'Concert 5'!$I$9:$I$56)","v":0},{"$f":"SUMIF('Concert 5'!$E$9:$E$56,Statistiques!A452,'Concert 5'!$J$9:$J$56)","v":0}]
[{"$f":"Ecoles!A449","v":0},{"$f":"Ecoles!B449","v":0},{"$f":"Ecoles!C449","v":0},null,{"$f":"SUMIF('Concert 1'!$E$9:$E$56,Statistiques!A453,'Concert 1'!$I$9:$I$56)+SUMIF('Concert 2'!$E$9:$E$56,Statistiques!A453,'Concert 2'!$I$9:$I$56)+SUMIF('Concert 3'!$E$9:$E$56,Statistiques!A453,'Concert 3'!$I$9:$I$56)+SUMIF('Concert 4'!$E$9:$E$56,Statistiques!A453,'Concert 4'!$I$9:$I$56)+SUMIF('Concert 5'!$E$9:$E$56,Statistiques!A453,'Concert 5'!$I$9:$I$56)","v":0},{"$f":"SUMIF('Concert 1'!$E$9:$E$56,Statistiques!A453,'Concert 1'!$J$9:$J$56)+SUMIF('Concert 2'!$E$9:$E$56,Statistiques!A453,'Concert 2'!$J$9:$J$56)+SUMIF('Concert 3'!$E$9:$E$56,Statistiques!A453,'Concert 3'!$J$9:$J$56)+SUMIF('Concert 4'!$E$9:$E$56,Statistiques!A453,'Concert 4'!$J$9:$J$56)+SUMIF('Concert 5'!$E$9:$E$56,Statistiques!A453,'Concert 5'!$J$9:$J$56)","v":0},null,null,{"$f":"SUMIF('Concert 1'!$E$9:$E$56,Statistiques!A453,'Concert 1'!$I$9:$I$56)","v":0},{"$f":"SUMIF('Concert 1'!$E$9:$E$56,Statistiques!A453,'Concert 1'!$J$9:$J$56)","v":0},{"$f":"SUMIF('Concert 2'!$E$9:$E$56,Statistiques!A453,'Concert 2'!$I$9:$I$56)","v":0},{"$f":"SUMIF('Concert 2'!$E$9:$E$56,Statistiques!A453,'Concert 2'!$J$9:$J$56)","v":0},{"$f":"SUMIF('Concert 3'!$E$9:$E$56,Statistiques!A453,'Concert 3'!$I$9:$I$56)","v":0},{"$f":"SUMIF('Concert 3'!$E$9:$E$56,Statistiques!A453,'Concert 3'!$J$9:$J$56)","v":0},{"$f":"SUMIF('Concert 4'!$E$9:$E$56,Statistiques!A453,'Concert 4'!$I$9:$I$56)","v":0},{"$f":"SUMIF('Concert 4'!$E$9:$E$56,Statistiques!A453,'Concert 4'!$J$9:$J$56)","v":0},{"$f":"SUMIF('Concert 5'!$E$9:$E$56,Statistiques!A453,'Concert 5'!$I$9:$I$56)","v":0},{"$f":"SUMIF('Concert 5'!$E$9:$E$56,Statistiques!A453,'Concert 5'!$J$9:$J$56)","v":0}]
[{"$f":"Ecoles!A450","v":0},{"$f":"Ecoles!B450","v":0},{"$f":"Ecoles!C450","v":0},null,{"$f":"SUMIF('Concert 1'!$E$9:$E$56,Statistiques!A454,'Concert 1'!$I$9:$I$56)+SUMIF('Concert 2'!$E$9:$E$56,Statistiques!A454,'Concert 2'!$I$9:$I$56)+SUMIF('Concert 3'!$E$9:$E$56,Statistiques!A454,'Concert 3'!$I$9:$I$56)+SUMIF('Concert 4'!$E$9:$E$56,Statistiques!A454,'Concert 4'!$I$9:$I$56)+SUMIF('Concert 5'!$E$9:$E$56,Statistiques!A454,'Concert 5'!$I$9:$I$56)","v":0},{"$f":"SUMIF('Concert 1'!$E$9:$E$56,Statistiques!A454,'Concert 1'!$J$9:$J$56)+SUMIF('Concert 2'!$E$9:$E$56,Statistiques!A454,'Concert 2'!$J$9:$J$56)+SUMIF('Concert 3'!$E$9:$E$56,Statistiques!A454,'Concert 3'!$J$9:$J$56)+SUMIF('Concert 4'!$E$9:$E$56,Statistiques!A454,'Concert 4'!$J$9:$J$56)+SUMIF('Concert 5'!$E$9:$E$56,Statistiques!A454,'Concert 5'!$J$9:$J$56)","v":0},null,null,{"$f":"SUMIF('Concert 1'!$E$9:$E$56,Statistiques!A454,'Concert 1'!$I$9:$I$56)","v":0},{"$f":"SUMIF('Concert 1'!$E$9:$E$56,Statistiques!A454,'Concert 1'!$J$9:$J$56)","v":0},{"$f":"SUMIF('Concert 2'!$E$9:$E$56,Statistiques!A454,'Concert 2'!$I$9:$I$56)","v":0},{"$f":"SUMIF('Concert 2'!$E$9:$E$56,Statistiques!A454,'Concert 2'!$J$9:$J$56)","v":0},{"$f":"SUMIF('Concert 3'!$E$9:$E$56,Statistiques!A454,'Concert 3'!$I$9:$I$56)","v":0},{"$f":"SUMIF('Concert 3'!$E$9:$E$56,Statistiques!A454,'Concert 3'!$J$9:$J$56)","v":0},{"$f":"SUMIF('Concert 4'!$E$9:$E$56,Statistiques!A454,'Concert 4'!$I$9:$I$56)","v":0},{"$f":"SUMIF('Concert 4'!$E$9:$E$56,Statistiques!A454,'Concert 4'!$J$9:$J$56)","v":0},{"$f":"SUMIF('Concert 5'!$E$9:$E$56,Statistiques!A454,'Concert 5'!$I$9:$I$56)","v":0},{"$f":"SUMIF('Concert 5'!$E$9:$E$56,Statistiques!A454,'Concert 5'!$J$9:$J$56)","v":0}]
[{"$f":"Ecoles!A451","v":0},{"$f":"Ecoles!B451","v":0},{"$f":"Ecoles!C451","v":0},null,{"$f":"SUMIF('Concert 1'!$E$9:$E$56,Statistiques!A455,'Concert 1'!$I$9:$I$56)+SUMIF('Concert 2'!$E$9:$E$56,Statistiques!A455,'Concert 2'!$I$9:$I$56)+SUMIF('Concert 3'!$E$9:$E$56,Statistiques!A455,'Concert 3'!$I$9:$I$56)+SUMIF('Concert 4'!$E$9:$E$56,Statistiques!A455,'Concert 4'!$I$9:$I$56)+SUMIF('Concert 5'!$E$9:$E$56,Statistiques!A455,'Concert 5'!$I$9:$I$56)","v":0},{"$f":"SUMIF('Concert 1'!$E$9:$E$56,Statistiques!A455,'Concert 1'!$J$9:$J$56)+SUMIF('Concert 2'!$E$9:$E$56,Statistiques!A455,'Concert 2'!$J$9:$J$56)+SUMIF('Concert 3'!$E$9:$E$56,Statistiques!A455,'Concert 3'!$J$9:$J$56)+SUMIF('Concert 4'!$E$9:$E$56,Statistiques!A455,'Concert 4'!$J$9:$J$56)+SUMIF('Concert 5'!$E$9:$E$56,Statistiques!A455,'Concert 5'!$J$9:$J$56)","v":0},null,null,{"$f":"SUMIF('Concert 1'!$E$9:$E$56,Statistiques!A455,'Concert 1'!$I$9:$I$56)","v":0},{"$f":"SUMIF('Concert 1'!$E$9:$E$56,Statistiques!A455,'Concert 1'!$J$9:$J$56)","v":0},{"$f":"SUMIF('Concert 2'!$E$9:$E$56,Statistiques!A455,'Concert 2'!$I$9:$I$56)","v":0},{"$f":"SUMIF('Concert 2'!$E$9:$E$56,Statistiques!A455,'Concert 2'!$J$9:$J$56)","v":0},{"$f":"SUMIF('Concert 3'!$E$9:$E$56,Statistiques!A455,'Concert 3'!$I$9:$I$56)","v":0},{"$f":"SUMIF('Concert 3'!$E$9:$E$56,Statistiques!A455,'Concert 3'!$J$9:$J$56)","v":0},{"$f":"SUMIF('Concert 4'!$E$9:$E$56,Statistiques!A455,'Concert 4'!$I$9:$I$56)","v":0},{"$f":"SUMIF('Concert 4'!$E$9:$E$56,Statistiques!A455,'Concert 4'!$J$9:$J$56)","v":0},{"$f":"SUMIF('Concert 5'!$E$9:$E$56,Statistiques!A455,'Concert 5'!$I$9:$I$56)","v":0},{"$f":"SUMIF('Concert 5'!$E$9:$E$56,Statistiques!A455,'Concert 5'!$J$9:$J$56)","v":0}]
[{"$f":"Ecoles!A452","v":0},{"$f":"Ecoles!B452","v":0},{"$f":"Ecoles!C452","v":0},null,{"$f":"SUMIF('Concert 1'!$E$9:$E$56,Statistiques!A456,'Concert 1'!$I$9:$I$56)+SUMIF('Concert 2'!$E$9:$E$56,Statistiques!A456,'Concert 2'!$I$9:$I$56)+SUMIF('Concert 3'!$E$9:$E$56,Statistiques!A456,'Concert 3'!$I$9:$I$56)+SUMIF('Concert 4'!$E$9:$E$56,Statistiques!A456,'Concert 4'!$I$9:$I$56)+SUMIF('Concert 5'!$E$9:$E$56,Statistiques!A456,'Concert 5'!$I$9:$I$56)","v":0},{"$f":"SUMIF('Concert 1'!$E$9:$E$56,Statistiques!A456,'Concert 1'!$J$9:$J$56)+SUMIF('Concert 2'!$E$9:$E$56,Statistiques!A456,'Concert 2'!$J$9:$J$56)+SUMIF('Concert 3'!$E$9:$E$56,Statistiques!A456,'Concert 3'!$J$9:$J$56)+SUMIF('Concert 4'!$E$9:$E$56,Statistiques!A456,'Concert 4'!$J$9:$J$56)+SUMIF('Concert 5'!$E$9:$E$56,Statistiques!A456,'Concert 5'!$J$9:$J$56)","v":0},null,null,{"$f":"SUMIF('Concert 1'!$E$9:$E$56,Statistiques!A456,'Concert 1'!$I$9:$I$56)","v":0},{"$f":"SUMIF('Concert 1'!$E$9:$E$56,Statistiques!A456,'Concert 1'!$J$9:$J$56)","v":0},{"$f":"SUMIF('Concert 2'!$E$9:$E$56,Statistiques!A456,'Concert 2'!$I$9:$I$56)","v":0},{"$f":"SUMIF('Concert 2'!$E$9:$E$56,Statistiques!A456,'Concert 2'!$J$9:$J$56)","v":0},{"$f":"SUMIF('Concert 3'!$E$9:$E$56,Statistiques!A456,'Concert 3'!$I$9:$I$56)","v":0},{"$f":"SUMIF('Concert 3'!$E$9:$E$56,Statistiques!A456,'Concert 3'!$J$9:$J$56)","v":0},{"$f":"SUMIF('Concert 4'!$E$9:$E$56,Statistiques!A456,'Concert 4'!$I$9:$I$56)","v":0},{"$f":"SUMIF('Concert 4'!$E$9:$E$56,Statistiques!A456,'Concert 4'!$J$9:$J$56)","v":0},{"$f":"SUMIF('Concert 5'!$E$9:$E$56,Statistiques!A456,'Concert 5'!$I$9:$I$56)","v":0},{"$f":"SUMIF('Concert 5'!$E$9:$E$56,Statistiques!A456,'Concert 5'!$J$9:$J$56)","v":0}]
[{"$f":"Ecoles!A453","v":0},{"$f":"Ecoles!B453","v":0},{"$f":"Ecoles!C453","v":0},null,{"$f":"SUMIF('Concert 1'!$E$9:$E$56,Statistiques!A457,'Concert 1'!$I$9:$I$56)+SUMIF('Concert 2'!$E$9:$E$56,Statistiques!A457,'Concert 2'!$I$9:$I$56)+SUMIF('Concert 3'!$E$9:$E$56,Statistiques!A457,'Concert 3'!$I$9:$I$56)+SUMIF('Concert 4'!$E$9:$E$56,Statistiques!A457,'Concert 4'!$I$9:$I$56)+SUMIF('Concert 5'!$E$9:$E$56,Statistiques!A457,'Concert 5'!$I$9:$I$56)","v":0},{"$f":"SUMIF('Concert 1'!$E$9:$E$56,Statistiques!A457,'Concert 1'!$J$9:$J$56)+SUMIF('Concert 2'!$E$9:$E$56,Statistiques!A457,'Concert 2'!$J$9:$J$56)+SUMIF('Concert 3'!$E$9:$E$56,Statistiques!A457,'Concert 3'!$J$9:$J$56)+SUMIF('Concert 4'!$E$9:$E$56,Statistiques!A457,'Concert 4'!$J$9:$J$56)+SUMIF('Concert 5'!$E$9:$E$56,Statistiques!A457,'Concert 5'!$J$9:$J$56)","v":0},null,null,{"$f":"SUMIF('Concert 1'!$E$9:$E$56,Statistiques!A457,'Concert 1'!$I$9:$I$56)","v":0},{"$f":"SUMIF('Concert 1'!$E$9:$E$56,Statistiques!A457,'Concert 1'!$J$9:$J$56)","v":0},{"$f":"SUMIF('Concert 2'!$E$9:$E$56,Statistiques!A457,'Concert 2'!$I$9:$I$56)","v":0},{"$f":"SUMIF('Concert 2'!$E$9:$E$56,Statistiques!A457,'Concert 2'!$J$9:$J$56)","v":0},{"$f":"SUMIF('Concert 3'!$E$9:$E$56,Statistiques!A457,'Concert 3'!$I$9:$I$56)","v":0},{"$f":"SUMIF('Concert 3'!$E$9:$E$56,Statistiques!A457,'Concert 3'!$J$9:$J$56)","v":0},{"$f":"SUMIF('Concert 4'!$E$9:$E$56,Statistiques!A457,'Concert 4'!$I$9:$I$56)","v":0},{"$f":"SUMIF('Concert 4'!$E$9:$E$56,Statistiques!A457,'Concert 4'!$J$9:$J$56)","v":0},{"$f":"SUMIF('Concert 5'!$E$9:$E$56,Statistiques!A457,'Concert 5'!$I$9:$I$56)","v":0},{"$f":"SUMIF('Concert 5'!$E$9:$E$56,Statistiques!A457,'Concert 5'!$J$9:$J$56)","v":0}]
[{"$f":"Ecoles!A454","v":0},{"$f":"Ecoles!B454","v":0},{"$f":"Ecoles!C454","v":0},null,{"$f":"SUMIF('Concert 1'!$E$9:$E$56,Statistiques!A458,'Concert 1'!$I$9:$I$56)+SUMIF('Concert 2'!$E$9:$E$56,Statistiques!A458,'Concert 2'!$I$9:$I$56)+SUMIF('Concert 3'!$E$9:$E$56,Statistiques!A458,'Concert 3'!$I$9:$I$56)+SUMIF('Concert 4'!$E$9:$E$56,Statistiques!A458,'Concert 4'!$I$9:$I$56)+SUMIF('Concert 5'!$E$9:$E$56,Statistiques!A458,'Concert 5'!$I$9:$I$56)","v":0},{"$f":"SUMIF('Concert 1'!$E$9:$E$56,Statistiques!A458,'Concert 1'!$J$9:$J$56)+SUMIF('Concert 2'!$E$9:$E$56,Statistiques!A458,'Concert 2'!$J$9:$J$56)+SUMIF('Concert 3'!$E$9:$E$56,Statistiques!A458,'Concert 3'!$J$9:$J$56)+SUMIF('Concert 4'!$E$9:$E$56,Statistiques!A458,'Concert 4'!$J$9:$J$56)+SUMIF('Concert 5'!$E$9:$E$56,Statistiques!A458,'Concert 5'!$J$9:$J$56)","v":0},null,null,{"$f":"SUMIF('Concert 1'!$E$9:$E$56,Statistiques!A458,'Concert 1'!$I$9:$I$56)","v":0},{"$f":"SUMIF('Concert 1'!$E$9:$E$56,Statistiques!A458,'Concert 1'!$J$9:$J$56)","v":0},{"$f":"SUMIF('Concert 2'!$E$9:$E$56,Statistiques!A458,'Concert 2'!$I$9:$I$56)","v":0},{"$f":"SUMIF('Concert 2'!$E$9:$E$56,Statistiques!A458,'Concert 2'!$J$9:$J$56)","v":0},{"$f":"SUMIF('Concert 3'!$E$9:$E$56,Statistiques!A458,'Concert 3'!$I$9:$I$56)","v":0},{"$f":"SUMIF('Concert 3'!$E$9:$E$56,Statistiques!A458,'Concert 3'!$J$9:$J$56)","v":0},{"$f":"SUMIF('Concert 4'!$E$9:$E$56,Statistiques!A458,'Concert 4'!$I$9:$I$56)","v":0},{"$f":"SUMIF('Concert 4'!$E$9:$E$56,Statistiques!A458,'Concert 4'!$J$9:$J$56)","v":0},{"$f":"SUMIF('Concert 5'!$E$9:$E$56,Statistiques!A458,'Concert 5'!$I$9:$I$56)","v":0},{"$f":"SUMIF('Concert 5'!$E$9:$E$56,Statistiques!A458,'Concert 5'!$J$9:$J$56)","v":0}]
[{"$f":"Ecoles!A455","v":0},{"$f":"Ecoles!B455","v":0},{"$f":"Ecoles!C455","v":0},null,{"$f":"SUMIF('Concert 1'!$E$9:$E$56,Statistiques!A459,'Concert 1'!$I$9:$I$56)+SUMIF('Concert 2'!$E$9:$E$56,Statistiques!A459,'Concert 2'!$I$9:$I$56)+SUMIF('Concert 3'!$E$9:$E$56,Statistiques!A459,'Concert 3'!$I$9:$I$56)+SUMIF('Concert 4'!$E$9:$E$56,Statistiques!A459,'Concert 4'!$I$9:$I$56)+SUMIF('Concert 5'!$E$9:$E$56,Statistiques!A459,'Concert 5'!$I$9:$I$56)","v":0},{"$f":"SUMIF('Concert 1'!$E$9:$E$56,Statistiques!A459,'Concert 1'!$J$9:$J$56)+SUMIF('Concert 2'!$E$9:$E$56,Statistiques!A459,'Concert 2'!$J$9:$J$56)+SUMIF('Concert 3'!$E$9:$E$56,Statistiques!A459,'Concert 3'!$J$9:$J$56)+SUMIF('Concert 4'!$E$9:$E$56,Statistiques!A459,'Concert 4'!$J$9:$J$56)+SUMIF('Concert 5'!$E$9:$E$56,Statistiques!A459,'Concert 5'!$J$9:$J$56)","v":0},null,null,{"$f":"SUMIF('Concert 1'!$E$9:$E$56,Statistiques!A459,'Concert 1'!$I$9:$I$56)","v":0},{"$f":"SUMIF('Concert 1'!$E$9:$E$56,Statistiques!A459,'Concert 1'!$J$9:$J$56)","v":0},{"$f":"SUMIF('Concert 2'!$E$9:$E$56,Statistiques!A459,'Concert 2'!$I$9:$I$56)","v":0},{"$f":"SUMIF('Concert 2'!$E$9:$E$56,Statistiques!A459,'Concert 2'!$J$9:$J$56)","v":0},{"$f":"SUMIF('Concert 3'!$E$9:$E$56,Statistiques!A459,'Concert 3'!$I$9:$I$56)","v":0},{"$f":"SUMIF('Concert 3'!$E$9:$E$56,Statistiques!A459,'Concert 3'!$J$9:$J$56)","v":0},{"$f":"SUMIF('Concert 4'!$E$9:$E$56,Statistiques!A459,'Concert 4'!$I$9:$I$56)","v":0},{"$f":"SUMIF('Concert 4'!$E$9:$E$56,Statistiques!A459,'Concert 4'!$J$9:$J$56)","v":0},{"$f":"SUMIF('Concert 5'!$E$9:$E$56,Statistiques!A459,'Concert 5'!$I$9:$I$56)","v":0},{"$f":"SUMIF('Concert 5'!$E$9:$E$56,Statistiques!A459,'Concert 5'!$J$9:$J$56)","v":0}]
[{"$f":"Ecoles!A456","v":0},{"$f":"Ecoles!B456","v":0},{"$f":"Ecoles!C456","v":0},null,{"$f":"SUMIF('Concert 1'!$E$9:$E$56,Statistiques!A460,'Concert 1'!$I$9:$I$56)+SUMIF('Concert 2'!$E$9:$E$56,Statistiques!A460,'Concert 2'!$I$9:$I$56)+SUMIF('Concert 3'!$E$9:$E$56,Statistiques!A460,'Concert 3'!$I$9:$I$56)+SUMIF('Concert 4'!$E$9:$E$56,Statistiques!A460,'Concert 4'!$I$9:$I$56)+SUMIF('Concert 5'!$E$9:$E$56,Statistiques!A460,'Concert 5'!$I$9:$I$56)","v":0},{"$f":"SUMIF('Concert 1'!$E$9:$E$56,Statistiques!A460,'Concert 1'!$J$9:$J$56)+SUMIF('Concert 2'!$E$9:$E$56,Statistiques!A460,'Concert 2'!$J$9:$J$56)+SUMIF('Concert 3'!$E$9:$E$56,Statistiques!A460,'Concert 3'!$J$9:$J$56)+SUMIF('Concert 4'!$E$9:$E$56,Statistiques!A460,'Concert 4'!$J$9:$J$56)+SUMIF('Concert 5'!$E$9:$E$56,Statistiques!A460,'Concert 5'!$J$9:$J$56)","v":0},null,null,{"$f":"SUMIF('Concert 1'!$E$9:$E$56,Statistiques!A460,'Concert 1'!$I$9:$I$56)","v":0},{"$f":"SUMIF('Concert 1'!$E$9:$E$56,Statistiques!A460,'Concert 1'!$J$9:$J$56)","v":0},{"$f":"SUMIF('Concert 2'!$E$9:$E$56,Statistiques!A460,'Concert 2'!$I$9:$I$56)","v":0},{"$f":"SUMIF('Concert 2'!$E$9:$E$56,Statistiques!A460,'Concert 2'!$J$9:$J$56)","v":0},{"$f":"SUMIF('Concert 3'!$E$9:$E$56,Statistiques!A460,'Concert 3'!$I$9:$I$56)","v":0},{"$f":"SUMIF('Concert 3'!$E$9:$E$56,Statistiques!A460,'Concert 3'!$J$9:$J$56)","v":0},{"$f":"SUMIF('Concert 4'!$E$9:$E$56,Statistiques!A460,'Concert 4'!$I$9:$I$56)","v":0},{"$f":"SUMIF('Concert 4'!$E$9:$E$56,Statistiques!A460,'Concert 4'!$J$9:$J$56)","v":0},{"$f":"SUMIF('Concert 5'!$E$9:$E$56,Statistiques!A460,'Concert 5'!$I$9:$I$56)","v":0},{"$f":"SUMIF('Concert 5'!$E$9:$E$56,Statistiques!A460,'Concert 5'!$J$9:$J$56)","v":0}]
[{"$f":"Ecoles!A457","v":0},{"$f":"Ecoles!B457","v":0},{"$f":"Ecoles!C457","v":0},null,{"$f":"SUMIF('Concert 1'!$E$9:$E$56,Statistiques!A461,'Concert 1'!$I$9:$I$56)+SUMIF('Concert 2'!$E$9:$E$56,Statistiques!A461,'Concert 2'!$I$9:$I$56)+SUMIF('Concert 3'!$E$9:$E$56,Statistiques!A461,'Concert 3'!$I$9:$I$56)+SUMIF('Concert 4'!$E$9:$E$56,Statistiques!A461,'Concert 4'!$I$9:$I$56)+SUMIF('Concert 5'!$E$9:$E$56,Statistiques!A461,'Concert 5'!$I$9:$I$56)","v":0},{"$f":"SUMIF('Concert 1'!$E$9:$E$56,Statistiques!A461,'Concert 1'!$J$9:$J$56)+SUMIF('Concert 2'!$E$9:$E$56,Statistiques!A461,'Concert 2'!$J$9:$J$56)+SUMIF('Concert 3'!$E$9:$E$56,Statistiques!A461,'Concert 3'!$J$9:$J$56)+SUMIF('Concert 4'!$E$9:$E$56,Statistiques!A461,'Concert 4'!$J$9:$J$56)+SUMIF('Concert 5'!$E$9:$E$56,Statistiques!A461,'Concert 5'!$J$9:$J$56)","v":0},null,null,{"$f":"SUMIF('Concert 1'!$E$9:$E$56,Statistiques!A461,'Concert 1'!$I$9:$I$56)","v":0},{"$f":"SUMIF('Concert 1'!$E$9:$E$56,Statistiques!A461,'Concert 1'!$J$9:$J$56)","v":0},{"$f":"SUMIF('Concert 2'!$E$9:$E$56,Statistiques!A461,'Concert 2'!$I$9:$I$56)","v":0},{"$f":"SUMIF('Concert 2'!$E$9:$E$56,Statistiques!A461,'Concert 2'!$J$9:$J$56)","v":0},{"$f":"SUMIF('Concert 3'!$E$9:$E$56,Statistiques!A461,'Concert 3'!$I$9:$I$56)","v":0},{"$f":"SUMIF('Concert 3'!$E$9:$E$56,Statistiques!A461,'Concert 3'!$J$9:$J$56)","v":0},{"$f":"SUMIF('Concert 4'!$E$9:$E$56,Statistiques!A461,'Concert 4'!$I$9:$I$56)","v":0},{"$f":"SUMIF('Concert 4'!$E$9:$E$56,Statistiques!A461,'Concert 4'!$J$9:$J$56)","v":0},{"$f":"SUMIF('Concert 5'!$E$9:$E$56,Statistiques!A461,'Concert 5'!$I$9:$I$56)","v":0},{"$f":"SUMIF('Concert 5'!$E$9:$E$56,Statistiques!A461,'Concert 5'!$J$9:$J$56)","v":0}]
[{"$f":"Ecoles!A458","v":0},{"$f":"Ecoles!B458","v":0},{"$f":"Ecoles!C458","v":0},null,{"$f":"SUMIF('Concert 1'!$E$9:$E$56,Statistiques!A462,'Concert 1'!$I$9:$I$56)+SUMIF('Concert 2'!$E$9:$E$56,Statistiques!A462,'Concert 2'!$I$9:$I$56)+SUMIF('Concert 3'!$E$9:$E$56,Statistiques!A462,'Concert 3'!$I$9:$I$56)+SUMIF('Concert 4'!$E$9:$E$56,Statistiques!A462,'Concert 4'!$I$9:$I$56)+SUMIF('Concert 5'!$E$9:$E$56,Statistiques!A462,'Concert 5'!$I$9:$I$56)","v":0},{"$f":"SUMIF('Concert 1'!$E$9:$E$56,Statistiques!A462,'Concert 1'!$J$9:$J$56)+SUMIF('Concert 2'!$E$9:$E$56,Statistiques!A462,'Concert 2'!$J$9:$J$56)+SUMIF('Concert 3'!$E$9:$E$56,Statistiques!A462,'Concert 3'!$J$9:$J$56)+SUMIF('Concert 4'!$E$9:$E$56,Statistiques!A462,'Concert 4'!$J$9:$J$56)+SUMIF('Concert 5'!$E$9:$E$56,Statistiques!A462,'Concert 5'!$J$9:$J$56)","v":0},null,null,{"$f":"SUMIF('Concert 1'!$E$9:$E$56,Statistiques!A462,'Concert 1'!$I$9:$I$56)","v":0},{"$f":"SUMIF('Concert 1'!$E$9:$E$56,Statistiques!A462,'Concert 1'!$J$9:$J$56)","v":0},{"$f":"SUMIF('Concert 2'!$E$9:$E$56,Statistiques!A462,'Concert 2'!$I$9:$I$56)","v":0},{"$f":"SUMIF('Concert 2'!$E$9:$E$56,Statistiques!A462,'Concert 2'!$J$9:$J$56)","v":0},{"$f":"SUMIF('Concert 3'!$E$9:$E$56,Statistiques!A462,'Concert 3'!$I$9:$I$56)","v":0},{"$f":"SUMIF('Concert 3'!$E$9:$E$56,Statistiques!A462,'Concert 3'!$J$9:$J$56)","v":0},{"$f":"SUMIF('Concert 4'!$E$9:$E$56,Statistiques!A462,'Concert 4'!$I$9:$I$56)","v":0},{"$f":"SUMIF('Concert 4'!$E$9:$E$56,Statistiques!A462,'Concert 4'!$J$9:$J$56)","v":0},{"$f":"SUMIF('Concert 5'!$E$9:$E$56,Statistiques!A462,'Concert 5'!$I$9:$I$56)","v":0},{"$f":"SUMIF('Concert 5'!$E$9:$E$56,Statistiques!A462,'Concert 5'!$J$9:$J$56)","v":0}]
[{"$f":"Ecoles!A459","v":0},{"$f":"Ecoles!B459","v":0},{"$f":"Ecoles!C459","v":0},null,{"$f":"SUMIF('Concert 1'!$E$9:$E$56,Statistiques!A463,'Concert 1'!$I$9:$I$56)+SUMIF('Concert 2'!$E$9:$E$56,Statistiques!A463,'Concert 2'!$I$9:$I$56)+SUMIF('Concert 3'!$E$9:$E$56,Statistiques!A463,'Concert 3'!$I$9:$I$56)+SUMIF('Concert 4'!$E$9:$E$56,Statistiques!A463,'Concert 4'!$I$9:$I$56)+SUMIF('Concert 5'!$E$9:$E$56,Statistiques!A463,'Concert 5'!$I$9:$I$56)","v":0},{"$f":"SUMIF('Concert 1'!$E$9:$E$56,Statistiques!A463,'Concert 1'!$J$9:$J$56)+SUMIF('Concert 2'!$E$9:$E$56,Statistiques!A463,'Concert 2'!$J$9:$J$56)+SUMIF('Concert 3'!$E$9:$E$56,Statistiques!A463,'Concert 3'!$J$9:$J$56)+SUMIF('Concert 4'!$E$9:$E$56,Statistiques!A463,'Concert 4'!$J$9:$J$56)+SUMIF('Concert 5'!$E$9:$E$56,Statistiques!A463,'Concert 5'!$J$9:$J$56)","v":0},null,null,{"$f":"SUMIF('Concert 1'!$E$9:$E$56,Statistiques!A463,'Concert 1'!$I$9:$I$56)","v":0},{"$f":"SUMIF('Concert 1'!$E$9:$E$56,Statistiques!A463,'Concert 1'!$J$9:$J$56)","v":0},{"$f":"SUMIF('Concert 2'!$E$9:$E$56,Statistiques!A463,'Concert 2'!$I$9:$I$56)","v":0},{"$f":"SUMIF('Concert 2'!$E$9:$E$56,Statistiques!A463,'Concert 2'!$J$9:$J$56)","v":0},{"$f":"SUMIF('Concert 3'!$E$9:$E$56,Statistiques!A463,'Concert 3'!$I$9:$I$56)","v":0},{"$f":"SUMIF('Concert 3'!$E$9:$E$56,Statistiques!A463,'Concert 3'!$J$9:$J$56)","v":0},{"$f":"SUMIF('Concert 4'!$E$9:$E$56,Statistiques!A463,'Concert 4'!$I$9:$I$56)","v":0},{"$f":"SUMIF('Concert 4'!$E$9:$E$56,Statistiques!A463,'Concert 4'!$J$9:$J$56)","v":0},{"$f":"SUMIF('Concert 5'!$E$9:$E$56,Statistiques!A463,'Concert 5'!$I$9:$I$56)","v":0},{"$f":"SUMIF('Concert 5'!$E$9:$E$56,Statistiques!A463,'Concert 5'!$J$9:$J$56)","v":0}]
[{"$f":"Ecoles!A460","v":0},{"$f":"Ecoles!B460","v":0},{"$f":"Ecoles!C460","v":0},null,{"$f":"SUMIF('Concert 1'!$E$9:$E$56,Statistiques!A464,'Concert 1'!$I$9:$I$56)+SUMIF('Concert 2'!$E$9:$E$56,Statistiques!A464,'Concert 2'!$I$9:$I$56)+SUMIF('Concert 3'!$E$9:$E$56,Statistiques!A464,'Concert 3'!$I$9:$I$56)+SUMIF('Concert 4'!$E$9:$E$56,Statistiques!A464,'Concert 4'!$I$9:$I$56)+SUMIF('Concert 5'!$E$9:$E$56,Statistiques!A464,'Concert 5'!$I$9:$I$56)","v":0},{"$f":"SUMIF('Concert 1'!$E$9:$E$56,Statistiques!A464,'Concert 1'!$J$9:$J$56)+SUMIF('Concert 2'!$E$9:$E$56,Statistiques!A464,'Concert 2'!$J$9:$J$56)+SUMIF('Concert 3'!$E$9:$E$56,Statistiques!A464,'Concert 3'!$J$9:$J$56)+SUMIF('Concert 4'!$E$9:$E$56,Statistiques!A464,'Concert 4'!$J$9:$J$56)+SUMIF('Concert 5'!$E$9:$E$56,Statistiques!A464,'Concert 5'!$J$9:$J$56)","v":0},null,null,{"$f":"SUMIF('Concert 1'!$E$9:$E$56,Statistiques!A464,'Concert 1'!$I$9:$I$56)","v":0},{"$f":"SUMIF('Concert 1'!$E$9:$E$56,Statistiques!A464,'Concert 1'!$J$9:$J$56)","v":0},{"$f":"SUMIF('Concert 2'!$E$9:$E$56,Statistiques!A464,'Concert 2'!$I$9:$I$56)","v":0},{"$f":"SUMIF('Concert 2'!$E$9:$E$56,Statistiques!A464,'Concert 2'!$J$9:$J$56)","v":0},{"$f":"SUMIF('Concert 3'!$E$9:$E$56,Statistiques!A464,'Concert 3'!$I$9:$I$56)","v":0},{"$f":"SUMIF('Concert 3'!$E$9:$E$56,Statistiques!A464,'Concert 3'!$J$9:$J$56)","v":0},{"$f":"SUMIF('Concert 4'!$E$9:$E$56,Statistiques!A464,'Concert 4'!$I$9:$I$56)","v":0},{"$f":"SUMIF('Concert 4'!$E$9:$E$56,Statistiques!A464,'Concert 4'!$J$9:$J$56)","v":0},{"$f":"SUMIF('Concert 5'!$E$9:$E$56,Statistiques!A464,'Concert 5'!$I$9:$I$56)","v":0},{"$f":"SUMIF('Concert 5'!$E$9:$E$56,Statistiques!A464,'Concert 5'!$J$9:$J$56)","v":0}]
[{"$f":"Ecoles!A461","v":0},{"$f":"Ecoles!B461","v":0},{"$f":"Ecoles!C461","v":0},null,{"$f":"SUMIF('Concert 1'!$E$9:$E$56,Statistiques!A465,'Concert 1'!$I$9:$I$56)+SUMIF('Concert 2'!$E$9:$E$56,Statistiques!A465,'Concert 2'!$I$9:$I$56)+SUMIF('Concert 3'!$E$9:$E$56,Statistiques!A465,'Concert 3'!$I$9:$I$56)+SUMIF('Concert 4'!$E$9:$E$56,Statistiques!A465,'Concert 4'!$I$9:$I$56)+SUMIF('Concert 5'!$E$9:$E$56,Statistiques!A465,'Concert 5'!$I$9:$I$56)","v":0},{"$f":"SUMIF('Concert 1'!$E$9:$E$56,Statistiques!A465,'Concert 1'!$J$9:$J$56)+SUMIF('Concert 2'!$E$9:$E$56,Statistiques!A465,'Concert 2'!$J$9:$J$56)+SUMIF('Concert 3'!$E$9:$E$56,Statistiques!A465,'Concert 3'!$J$9:$J$56)+SUMIF('Concert 4'!$E$9:$E$56,Statistiques!A465,'Concert 4'!$J$9:$J$56)+SUMIF('Concert 5'!$E$9:$E$56,Statistiques!A465,'Concert 5'!$J$9:$J$56)","v":0},null,null,{"$f":"SUMIF('Concert 1'!$E$9:$E$56,Statistiques!A465,'Concert 1'!$I$9:$I$56)","v":0},{"$f":"SUMIF('Concert 1'!$E$9:$E$56,Statistiques!A465,'Concert 1'!$J$9:$J$56)","v":0},{"$f":"SUMIF('Concert 2'!$E$9:$E$56,Statistiques!A465,'Concert 2'!$I$9:$I$56)","v":0},{"$f":"SUMIF('Concert 2'!$E$9:$E$56,Statistiques!A465,'Concert 2'!$J$9:$J$56)","v":0},{"$f":"SUMIF('Concert 3'!$E$9:$E$56,Statistiques!A465,'Concert 3'!$I$9:$I$56)","v":0},{"$f":"SUMIF('Concert 3'!$E$9:$E$56,Statistiques!A465,'Concert 3'!$J$9:$J$56)","v":0},{"$f":"SUMIF('Concert 4'!$E$9:$E$56,Statistiques!A465,'Concert 4'!$I$9:$I$56)","v":0},{"$f":"SUMIF('Concert 4'!$E$9:$E$56,Statistiques!A465,'Concert 4'!$J$9:$J$56)","v":0},{"$f":"SUMIF('Concert 5'!$E$9:$E$56,Statistiques!A465,'Concert 5'!$I$9:$I$56)","v":0},{"$f":"SUMIF('Concert 5'!$E$9:$E$56,Statistiques!A465,'Concert 5'!$J$9:$J$56)","v":0}]
[{"$f":"Ecoles!A462","v":0},{"$f":"Ecoles!B462","v":0},{"$f":"Ecoles!C462","v":0},null,{"$f":"SUMIF('Concert 1'!$E$9:$E$56,Statistiques!A466,'Concert 1'!$I$9:$I$56)+SUMIF('Concert 2'!$E$9:$E$56,Statistiques!A466,'Concert 2'!$I$9:$I$56)+SUMIF('Concert 3'!$E$9:$E$56,Statistiques!A466,'Concert 3'!$I$9:$I$56)+SUMIF('Concert 4'!$E$9:$E$56,Statistiques!A466,'Concert 4'!$I$9:$I$56)+SUMIF('Concert 5'!$E$9:$E$56,Statistiques!A466,'Concert 5'!$I$9:$I$56)","v":0},{"$f":"SUMIF('Concert 1'!$E$9:$E$56,Statistiques!A466,'Concert 1'!$J$9:$J$56)+SUMIF('Concert 2'!$E$9:$E$56,Statistiques!A466,'Concert 2'!$J$9:$J$56)+SUMIF('Concert 3'!$E$9:$E$56,Statistiques!A466,'Concert 3'!$J$9:$J$56)+SUMIF('Concert 4'!$E$9:$E$56,Statistiques!A466,'Concert 4'!$J$9:$J$56)+SUMIF('Concert 5'!$E$9:$E$56,Statistiques!A466,'Concert 5'!$J$9:$J$56)","v":0},null,null,{"$f":"SUMIF('Concert 1'!$E$9:$E$56,Statistiques!A466,'Concert 1'!$I$9:$I$56)","v":0},{"$f":"SUMIF('Concert 1'!$E$9:$E$56,Statistiques!A466,'Concert 1'!$J$9:$J$56)","v":0},{"$f":"SUMIF('Concert 2'!$E$9:$E$56,Statistiques!A466,'Concert 2'!$I$9:$I$56)","v":0},{"$f":"SUMIF('Concert 2'!$E$9:$E$56,Statistiques!A466,'Concert 2'!$J$9:$J$56)","v":0},{"$f":"SUMIF('Concert 3'!$E$9:$E$56,Statistiques!A466,'Concert 3'!$I$9:$I$56)","v":0},{"$f":"SUMIF('Concert 3'!$E$9:$E$56,Statistiques!A466,'Concert 3'!$J$9:$J$56)","v":0},{"$f":"SUMIF('Concert 4'!$E$9:$E$56,Statistiques!A466,'Concert 4'!$I$9:$I$56)","v":0},{"$f":"SUMIF('Concert 4'!$E$9:$E$56,Statistiques!A466,'Concert 4'!$J$9:$J$56)","v":0},{"$f":"SUMIF('Concert 5'!$E$9:$E$56,Statistiques!A466,'Concert 5'!$I$9:$I$56)","v":0},{"$f":"SUMIF('Concert 5'!$E$9:$E$56,Statistiques!A466,'Concert 5'!$J$9:$J$56)","v":0}]
[{"$f":"Ecoles!A463","v":0},{"$f":"Ecoles!B463","v":0},{"$f":"Ecoles!C463","v":0},null,{"$f":"SUMIF('Concert 1'!$E$9:$E$56,Statistiques!A467,'Concert 1'!$I$9:$I$56)+SUMIF('Concert 2'!$E$9:$E$56,Statistiques!A467,'Concert 2'!$I$9:$I$56)+SUMIF('Concert 3'!$E$9:$E$56,Statistiques!A467,'Concert 3'!$I$9:$I$56)+SUMIF('Concert 4'!$E$9:$E$56,Statistiques!A467,'Concert 4'!$I$9:$I$56)+SUMIF('Concert 5'!$E$9:$E$56,Statistiques!A467,'Concert 5'!$I$9:$I$56)","v":0},{"$f":"SUMIF('Concert 1'!$E$9:$E$56,Statistiques!A467,'Concert 1'!$J$9:$J$56)+SUMIF('Concert 2'!$E$9:$E$56,Statistiques!A467,'Concert 2'!$J$9:$J$56)+SUMIF('Concert 3'!$E$9:$E$56,Statistiques!A467,'Concert 3'!$J$9:$J$56)+SUMIF('Concert 4'!$E$9:$E$56,Statistiques!A467,'Concert 4'!$J$9:$J$56)+SUMIF('Concert 5'!$E$9:$E$56,Statistiques!A467,'Concert 5'!$J$9:$J$56)","v":0},null,null,{"$f":"SUMIF('Concert 1'!$E$9:$E$56,Statistiques!A467,'Concert 1'!$I$9:$I$56)","v":0},{"$f":"SUMIF('Concert 1'!$E$9:$E$56,Statistiques!A467,'Concert 1'!$J$9:$J$56)","v":0},{"$f":"SUMIF('Concert 2'!$E$9:$E$56,Statistiques!A467,'Concert 2'!$I$9:$I$56)","v":0},{"$f":"SUMIF('Concert 2'!$E$9:$E$56,Statistiques!A467,'Concert 2'!$J$9:$J$56)","v":0},{"$f":"SUMIF('Concert 3'!$E$9:$E$56,Statistiques!A467,'Concert 3'!$I$9:$I$56)","v":0},{"$f":"SUMIF('Concert 3'!$E$9:$E$56,Statistiques!A467,'Concert 3'!$J$9:$J$56)","v":0},{"$f":"SUMIF('Concert 4'!$E$9:$E$56,Statistiques!A467,'Concert 4'!$I$9:$I$56)","v":0},{"$f":"SUMIF('Concert 4'!$E$9:$E$56,Statistiques!A467,'Concert 4'!$J$9:$J$56)","v":0},{"$f":"SUMIF('Concert 5'!$E$9:$E$56,Statistiques!A467,'Concert 5'!$I$9:$I$56)","v":0},{"$f":"SUMIF('Concert 5'!$E$9:$E$56,Statistiques!A467,'Concert 5'!$J$9:$J$56)","v":0}]
[{"$f":"Ecoles!A464","v":0},{"$f":"Ecoles!B464","v":0},{"$f":"Ecoles!C464","v":0},null,{"$f":"SUMIF('Concert 1'!$E$9:$E$56,Statistiques!A468,'Concert 1'!$I$9:$I$56)+SUMIF('Concert 2'!$E$9:$E$56,Statistiques!A468,'Concert 2'!$I$9:$I$56)+SUMIF('Concert 3'!$E$9:$E$56,Statistiques!A468,'Concert 3'!$I$9:$I$56)+SUMIF('Concert 4'!$E$9:$E$56,Statistiques!A468,'Concert 4'!$I$9:$I$56)+SUMIF('Concert 5'!$E$9:$E$56,Statistiques!A468,'Concert 5'!$I$9:$I$56)","v":0},{"$f":"SUMIF('Concert 1'!$E$9:$E$56,Statistiques!A468,'Concert 1'!$J$9:$J$56)+SUMIF('Concert 2'!$E$9:$E$56,Statistiques!A468,'Concert 2'!$J$9:$J$56)+SUMIF('Concert 3'!$E$9:$E$56,Statistiques!A468,'Concert 3'!$J$9:$J$56)+SUMIF('Concert 4'!$E$9:$E$56,Statistiques!A468,'Concert 4'!$J$9:$J$56)+SUMIF('Concert 5'!$E$9:$E$56,Statistiques!A468,'Concert 5'!$J$9:$J$56)","v":0},null,null,{"$f":"SUMIF('Concert 1'!$E$9:$E$56,Statistiques!A468,'Concert 1'!$I$9:$I$56)","v":0},{"$f":"SUMIF('Concert 1'!$E$9:$E$56,Statistiques!A468,'Concert 1'!$J$9:$J$56)","v":0},{"$f":"SUMIF('Concert 2'!$E$9:$E$56,Statistiques!A468,'Concert 2'!$I$9:$I$56)","v":0},{"$f":"SUMIF('Concert 2'!$E$9:$E$56,Statistiques!A468,'Concert 2'!$J$9:$J$56)","v":0},{"$f":"SUMIF('Concert 3'!$E$9:$E$56,Statistiques!A468,'Concert 3'!$I$9:$I$56)","v":0},{"$f":"SUMIF('Concert 3'!$E$9:$E$56,Statistiques!A468,'Concert 3'!$J$9:$J$56)","v":0},{"$f":"SUMIF('Concert 4'!$E$9:$E$56,Statistiques!A468,'Concert 4'!$I$9:$I$56)","v":0},{"$f":"SUMIF('Concert 4'!$E$9:$E$56,Statistiques!A468,'Concert 4'!$J$9:$J$56)","v":0},{"$f":"SUMIF('Concert 5'!$E$9:$E$56,Statistiques!A468,'Concert 5'!$I$9:$I$56)","v":0},{"$f":"SUMIF('Concert 5'!$E$9:$E$56,Statistiques!A468,'Concert 5'!$J$9:$J$56)","v":0}]
[{"$f":"Ecoles!A465","v":0},{"$f":"Ecoles!B465","v":0},{"$f":"Ecoles!C465","v":0},null,{"$f":"SUMIF('Concert 1'!$E$9:$E$56,Statistiques!A469,'Concert 1'!$I$9:$I$56)+SUMIF('Concert 2'!$E$9:$E$56,Statistiques!A469,'Concert 2'!$I$9:$I$56)+SUMIF('Concert 3'!$E$9:$E$56,Statistiques!A469,'Concert 3'!$I$9:$I$56)+SUMIF('Concert 4'!$E$9:$E$56,Statistiques!A469,'Concert 4'!$I$9:$I$56)+SUMIF('Concert 5'!$E$9:$E$56,Statistiques!A469,'Concert 5'!$I$9:$I$56)","v":0},{"$f":"SUMIF('Concert 1'!$E$9:$E$56,Statistiques!A469,'Concert 1'!$J$9:$J$56)+SUMIF('Concert 2'!$E$9:$E$56,Statistiques!A469,'Concert 2'!$J$9:$J$56)+SUMIF('Concert 3'!$E$9:$E$56,Statistiques!A469,'Concert 3'!$J$9:$J$56)+SUMIF('Concert 4'!$E$9:$E$56,Statistiques!A469,'Concert 4'!$J$9:$J$56)+SUMIF('Concert 5'!$E$9:$E$56,Statistiques!A469,'Concert 5'!$J$9:$J$56)","v":0},null,null,{"$f":"SUMIF('Concert 1'!$E$9:$E$56,Statistiques!A469,'Concert 1'!$I$9:$I$56)","v":0},{"$f":"SUMIF('Concert 1'!$E$9:$E$56,Statistiques!A469,'Concert 1'!$J$9:$J$56)","v":0},{"$f":"SUMIF('Concert 2'!$E$9:$E$56,Statistiques!A469,'Concert 2'!$I$9:$I$56)","v":0},{"$f":"SUMIF('Concert 2'!$E$9:$E$56,Statistiques!A469,'Concert 2'!$J$9:$J$56)","v":0},{"$f":"SUMIF('Concert 3'!$E$9:$E$56,Statistiques!A469,'Concert 3'!$I$9:$I$56)","v":0},{"$f":"SUMIF('Concert 3'!$E$9:$E$56,Statistiques!A469,'Concert 3'!$J$9:$J$56)","v":0},{"$f":"SUMIF('Concert 4'!$E$9:$E$56,Statistiques!A469,'Concert 4'!$I$9:$I$56)","v":0},{"$f":"SUMIF('Concert 4'!$E$9:$E$56,Statistiques!A469,'Concert 4'!$J$9:$J$56)","v":0},{"$f":"SUMIF('Concert 5'!$E$9:$E$56,Statistiques!A469,'Concert 5'!$I$9:$I$56)","v":0},{"$f":"SUMIF('Concert 5'!$E$9:$E$56,Statistiques!A469,'Concert 5'!$J$9:$J$56)","v":0}]
[{"$f":"Ecoles!A466","v":0},{"$f":"Ecoles!B466","v":0},{"$f":"Ecoles!C466","v":0},null,{"$f":"SUMIF('Concert 1'!$E$9:$E$56,Statistiques!A470,'Concert 1'!$I$9:$I$56)+SUMIF('Concert 2'!$E$9:$E$56,Statistiques!A470,'Concert 2'!$I$9:$I$56)+SUMIF('Concert 3'!$E$9:$E$56,Statistiques!A470,'Concert 3'!$I$9:$I$56)+SUMIF('Concert 4'!$E$9:$E$56,Statistiques!A470,'Concert 4'!$I$9:$I$56)+SUMIF('Concert 5'!$E$9:$E$56,Statistiques!A470,'Concert 5'!$I$9:$I$56)","v":0},{"$f":"SUMIF('Concert 1'!$E$9:$E$56,Statistiques!A470,'Concert 1'!$J$9:$J$56)+SUMIF('Concert 2'!$E$9:$E$56,Statistiques!A470,'Concert 2'!$J$9:$J$56)+SUMIF('Concert 3'!$E$9:$E$56,Statistiques!A470,'Concert 3'!$J$9:$J$56)+SUMIF('Concert 4'!$E$9:$E$56,Statistiques!A470,'Concert 4'!$J$9:$J$56)+SUMIF('Concert 5'!$E$9:$E$56,Statistiques!A470,'Concert 5'!$J$9:$J$56)","v":0},null,null,{"$f":"SUMIF('Concert 1'!$E$9:$E$56,Statistiques!A470,'Concert 1'!$I$9:$I$56)","v":0},{"$f":"SUMIF('Concert 1'!$E$9:$E$56,Statistiques!A470,'Concert 1'!$J$9:$J$56)","v":0},{"$f":"SUMIF('Concert 2'!$E$9:$E$56,Statistiques!A470,'Concert 2'!$I$9:$I$56)","v":0},{"$f":"SUMIF('Concert 2'!$E$9:$E$56,Statistiques!A470,'Concert 2'!$J$9:$J$56)","v":0},{"$f":"SUMIF('Concert 3'!$E$9:$E$56,Statistiques!A470,'Concert 3'!$I$9:$I$56)","v":0},{"$f":"SUMIF('Concert 3'!$E$9:$E$56,Statistiques!A470,'Concert 3'!$J$9:$J$56)","v":0},{"$f":"SUMIF('Concert 4'!$E$9:$E$56,Statistiques!A470,'Concert 4'!$I$9:$I$56)","v":0},{"$f":"SUMIF('Concert 4'!$E$9:$E$56,Statistiques!A470,'Concert 4'!$J$9:$J$56)","v":0},{"$f":"SUMIF('Concert 5'!$E$9:$E$56,Statistiques!A470,'Concert 5'!$I$9:$I$56)","v":0},{"$f":"SUMIF('Concert 5'!$E$9:$E$56,Statistiques!A470,'Concert 5'!$J$9:$J$56)","v":0}]
[{"$f":"Ecoles!A467","v":0},{"$f":"Ecoles!B467","v":0},{"$f":"Ecoles!C467","v":0},null,{"$f":"SUMIF('Concert 1'!$E$9:$E$56,Statistiques!A471,'Concert 1'!$I$9:$I$56)+SUMIF('Concert 2'!$E$9:$E$56,Statistiques!A471,'Concert 2'!$I$9:$I$56)+SUMIF('Concert 3'!$E$9:$E$56,Statistiques!A471,'Concert 3'!$I$9:$I$56)+SUMIF('Concert 4'!$E$9:$E$56,Statistiques!A471,'Concert 4'!$I$9:$I$56)+SUMIF('Concert 5'!$E$9:$E$56,Statistiques!A471,'Concert 5'!$I$9:$I$56)","v":0},{"$f":"SUMIF('Concert 1'!$E$9:$E$56,Statistiques!A471,'Concert 1'!$J$9:$J$56)+SUMIF('Concert 2'!$E$9:$E$56,Statistiques!A471,'Concert 2'!$J$9:$J$56)+SUMIF('Concert 3'!$E$9:$E$56,Statistiques!A471,'Concert 3'!$J$9:$J$56)+SUMIF('Concert 4'!$E$9:$E$56,Statistiques!A471,'Concert 4'!$J$9:$J$56)+SUMIF('Concert 5'!$E$9:$E$56,Statistiques!A471,'Concert 5'!$J$9:$J$56)","v":0},null,null,{"$f":"SUMIF('Concert 1'!$E$9:$E$56,Statistiques!A471,'Concert 1'!$I$9:$I$56)","v":0},{"$f":"SUMIF('Concert 1'!$E$9:$E$56,Statistiques!A471,'Concert 1'!$J$9:$J$56)","v":0},{"$f":"SUMIF('Concert 2'!$E$9:$E$56,Statistiques!A471,'Concert 2'!$I$9:$I$56)","v":0},{"$f":"SUMIF('Concert 2'!$E$9:$E$56,Statistiques!A471,'Concert 2'!$J$9:$J$56)","v":0},{"$f":"SUMIF('Concert 3'!$E$9:$E$56,Statistiques!A471,'Concert 3'!$I$9:$I$56)","v":0},{"$f":"SUMIF('Concert 3'!$E$9:$E$56,Statistiques!A471,'Concert 3'!$J$9:$J$56)","v":0},{"$f":"SUMIF('Concert 4'!$E$9:$E$56,Statistiques!A471,'Concert 4'!$I$9:$I$56)","v":0},{"$f":"SUMIF('Concert 4'!$E$9:$E$56,Statistiques!A471,'Concert 4'!$J$9:$J$56)","v":0},{"$f":"SUMIF('Concert 5'!$E$9:$E$56,Statistiques!A471,'Concert 5'!$I$9:$I$56)","v":0},{"$f":"SUMIF('Concert 5'!$E$9:$E$56,Statistiques!A471,'Concert 5'!$J$9:$J$56)","v":0}]
[{"$f":"Ecoles!A468","v":0},{"$f":"Ecoles!B468","v":0},{"$f":"Ecoles!C468","v":0},null,{"$f":"SUMIF('Concert 1'!$E$9:$E$56,Statistiques!A472,'Concert 1'!$I$9:$I$56)+SUMIF('Concert 2'!$E$9:$E$56,Statistiques!A472,'Concert 2'!$I$9:$I$56)+SUMIF('Concert 3'!$E$9:$E$56,Statistiques!A472,'Concert 3'!$I$9:$I$56)+SUMIF('Concert 4'!$E$9:$E$56,Statistiques!A472,'Concert 4'!$I$9:$I$56)+SUMIF('Concert 5'!$E$9:$E$56,Statistiques!A472,'Concert 5'!$I$9:$I$56)","v":0},{"$f":"SUMIF('Concert 1'!$E$9:$E$56,Statistiques!A472,'Concert 1'!$J$9:$J$56)+SUMIF('Concert 2'!$E$9:$E$56,Statistiques!A472,'Concert 2'!$J$9:$J$56)+SUMIF('Concert 3'!$E$9:$E$56,Statistiques!A472,'Concert 3'!$J$9:$J$56)+SUMIF('Concert 4'!$E$9:$E$56,Statistiques!A472,'Concert 4'!$J$9:$J$56)+SUMIF('Concert 5'!$E$9:$E$56,Statistiques!A472,'Concert 5'!$J$9:$J$56)","v":0},null,null,{"$f":"SUMIF('Concert 1'!$E$9:$E$56,Statistiques!A472,'Concert 1'!$I$9:$I$56)","v":0},{"$f":"SUMIF('Concert 1'!$E$9:$E$56,Statistiques!A472,'Concert 1'!$J$9:$J$56)","v":0},{"$f":"SUMIF('Concert 2'!$E$9:$E$56,Statistiques!A472,'Concert 2'!$I$9:$I$56)","v":0},{"$f":"SUMIF('Concert 2'!$E$9:$E$56,Statistiques!A472,'Concert 2'!$J$9:$J$56)","v":0},{"$f":"SUMIF('Concert 3'!$E$9:$E$56,Statistiques!A472,'Concert 3'!$I$9:$I$56)","v":0},{"$f":"SUMIF('Concert 3'!$E$9:$E$56,Statistiques!A472,'Concert 3'!$J$9:$J$56)","v":0},{"$f":"SUMIF('Concert 4'!$E$9:$E$56,Statistiques!A472,'Concert 4'!$I$9:$I$56)","v":0},{"$f":"SUMIF('Concert 4'!$E$9:$E$56,Statistiques!A472,'Concert 4'!$J$9:$J$56)","v":0},{"$f":"SUMIF('Concert 5'!$E$9:$E$56,Statistiques!A472,'Concert 5'!$I$9:$I$56)","v":0},{"$f":"SUMIF('Concert 5'!$E$9:$E$56,Statistiques!A472,'Concert 5'!$J$9:$J$56)","v":0}]
[{"$f":"Ecoles!A469","v":0},{"$f":"Ecoles!B469","v":0},{"$f":"Ecoles!C469","v":0},null,{"$f":"SUMIF('Concert 1'!$E$9:$E$56,Statistiques!A473,'Concert 1'!$I$9:$I$56)+SUMIF('Concert 2'!$E$9:$E$56,Statistiques!A473,'Concert 2'!$I$9:$I$56)+SUMIF('Concert 3'!$E$9:$E$56,Statistiques!A473,'Concert 3'!$I$9:$I$56)+SUMIF('Concert 4'!$E$9:$E$56,Statistiques!A473,'Concert 4'!$I$9:$I$56)+SUMIF('Concert 5'!$E$9:$E$56,Statistiques!A473,'Concert 5'!$I$9:$I$56)","v":0},{"$f":"SUMIF('Concert 1'!$E$9:$E$56,Statistiques!A473,'Concert 1'!$J$9:$J$56)+SUMIF('Concert 2'!$E$9:$E$56,Statistiques!A473,'Concert 2'!$J$9:$J$56)+SUMIF('Concert 3'!$E$9:$E$56,Statistiques!A473,'Concert 3'!$J$9:$J$56)+SUMIF('Concert 4'!$E$9:$E$56,Statistiques!A473,'Concert 4'!$J$9:$J$56)+SUMIF('Concert 5'!$E$9:$E$56,Statistiques!A473,'Concert 5'!$J$9:$J$56)","v":0},null,null,{"$f":"SUMIF('Concert 1'!$E$9:$E$56,Statistiques!A473,'Concert 1'!$I$9:$I$56)","v":0},{"$f":"SUMIF('Concert 1'!$E$9:$E$56,Statistiques!A473,'Concert 1'!$J$9:$J$56)","v":0},{"$f":"SUMIF('Concert 2'!$E$9:$E$56,Statistiques!A473,'Concert 2'!$I$9:$I$56)","v":0},{"$f":"SUMIF('Concert 2'!$E$9:$E$56,Statistiques!A473,'Concert 2'!$J$9:$J$56)","v":0},{"$f":"SUMIF('Concert 3'!$E$9:$E$56,Statistiques!A473,'Concert 3'!$I$9:$I$56)","v":0},{"$f":"SUMIF('Concert 3'!$E$9:$E$56,Statistiques!A473,'Concert 3'!$J$9:$J$56)","v":0},{"$f":"SUMIF('Concert 4'!$E$9:$E$56,Statistiques!A473,'Concert 4'!$I$9:$I$56)","v":0},{"$f":"SUMIF('Concert 4'!$E$9:$E$56,Statistiques!A473,'Concert 4'!$J$9:$J$56)","v":0},{"$f":"SUMIF('Concert 5'!$E$9:$E$56,Statistiques!A473,'Concert 5'!$I$9:$I$56)","v":0},{"$f":"SUMIF('Concert 5'!$E$9:$E$56,Statistiques!A473,'Concert 5'!$J$9:$J$56)","v":0}]
[{"$f":"Ecoles!A470","v":0},{"$f":"Ecoles!B470","v":0},{"$f":"Ecoles!C470","v":0},null,{"$f":"SUMIF('Concert 1'!$E$9:$E$56,Statistiques!A474,'Concert 1'!$I$9:$I$56)+SUMIF('Concert 2'!$E$9:$E$56,Statistiques!A474,'Concert 2'!$I$9:$I$56)+SUMIF('Concert 3'!$E$9:$E$56,Statistiques!A474,'Concert 3'!$I$9:$I$56)+SUMIF('Concert 4'!$E$9:$E$56,Statistiques!A474,'Concert 4'!$I$9:$I$56)+SUMIF('Concert 5'!$E$9:$E$56,Statistiques!A474,'Concert 5'!$I$9:$I$56)","v":0},{"$f":"SUMIF('Concert 1'!$E$9:$E$56,Statistiques!A474,'Concert 1'!$J$9:$J$56)+SUMIF('Concert 2'!$E$9:$E$56,Statistiques!A474,'Concert 2'!$J$9:$J$56)+SUMIF('Concert 3'!$E$9:$E$56,Statistiques!A474,'Concert 3'!$J$9:$J$56)+SUMIF('Concert 4'!$E$9:$E$56,Statistiques!A474,'Concert 4'!$J$9:$J$56)+SUMIF('Concert 5'!$E$9:$E$56,Statistiques!A474,'Concert 5'!$J$9:$J$56)","v":0},null,null,{"$f":"SUMIF('Concert 1'!$E$9:$E$56,Statistiques!A474,'Concert 1'!$I$9:$I$56)","v":0},{"$f":"SUMIF('Concert 1'!$E$9:$E$56,Statistiques!A474,'Concert 1'!$J$9:$J$56)","v":0},{"$f":"SUMIF('Concert 2'!$E$9:$E$56,Statistiques!A474,'Concert 2'!$I$9:$I$56)","v":0},{"$f":"SUMIF('Concert 2'!$E$9:$E$56,Statistiques!A474,'Concert 2'!$J$9:$J$56)","v":0},{"$f":"SUMIF('Concert 3'!$E$9:$E$56,Statistiques!A474,'Concert 3'!$I$9:$I$56)","v":0},{"$f":"SUMIF('Concert 3'!$E$9:$E$56,Statistiques!A474,'Concert 3'!$J$9:$J$56)","v":0},{"$f":"SUMIF('Concert 4'!$E$9:$E$56,Statistiques!A474,'Concert 4'!$I$9:$I$56)","v":0},{"$f":"SUMIF('Concert 4'!$E$9:$E$56,Statistiques!A474,'Concert 4'!$J$9:$J$56)","v":0},{"$f":"SUMIF('Concert 5'!$E$9:$E$56,Statistiques!A474,'Concert 5'!$I$9:$I$56)","v":0},{"$f":"SUMIF('Concert 5'!$E$9:$E$56,Statistiques!A474,'Concert 5'!$J$9:$J$56)","v":0}]
[{"$f":"Ecoles!A471","v":0},{"$f":"Ecoles!B471","v":0},{"$f":"Ecoles!C471","v":0},null,{"$f":"SUMIF('Concert 1'!$E$9:$E$56,Statistiques!A475,'Concert 1'!$I$9:$I$56)+SUMIF('Concert 2'!$E$9:$E$56,Statistiques!A475,'Concert 2'!$I$9:$I$56)+SUMIF('Concert 3'!$E$9:$E$56,Statistiques!A475,'Concert 3'!$I$9:$I$56)+SUMIF('Concert 4'!$E$9:$E$56,Statistiques!A475,'Concert 4'!$I$9:$I$56)+SUMIF('Concert 5'!$E$9:$E$56,Statistiques!A475,'Concert 5'!$I$9:$I$56)","v":0},{"$f":"SUMIF('Concert 1'!$E$9:$E$56,Statistiques!A475,'Concert 1'!$J$9:$J$56)+SUMIF('Concert 2'!$E$9:$E$56,Statistiques!A475,'Concert 2'!$J$9:$J$56)+SUMIF('Concert 3'!$E$9:$E$56,Statistiques!A475,'Concert 3'!$J$9:$J$56)+SUMIF('Concert 4'!$E$9:$E$56,Statistiques!A475,'Concert 4'!$J$9:$J$56)+SUMIF('Concert 5'!$E$9:$E$56,Statistiques!A475,'Concert 5'!$J$9:$J$56)","v":0},null,null,{"$f":"SUMIF('Concert 1'!$E$9:$E$56,Statistiques!A475,'Concert 1'!$I$9:$I$56)","v":0},{"$f":"SUMIF('Concert 1'!$E$9:$E$56,Statistiques!A475,'Concert 1'!$J$9:$J$56)","v":0},{"$f":"SUMIF('Concert 2'!$E$9:$E$56,Statistiques!A475,'Concert 2'!$I$9:$I$56)","v":0},{"$f":"SUMIF('Concert 2'!$E$9:$E$56,Statistiques!A475,'Concert 2'!$J$9:$J$56)","v":0},{"$f":"SUMIF('Concert 3'!$E$9:$E$56,Statistiques!A475,'Concert 3'!$I$9:$I$56)","v":0},{"$f":"SUMIF('Concert 3'!$E$9:$E$56,Statistiques!A475,'Concert 3'!$J$9:$J$56)","v":0},{"$f":"SUMIF('Concert 4'!$E$9:$E$56,Statistiques!A475,'Concert 4'!$I$9:$I$56)","v":0},{"$f":"SUMIF('Concert 4'!$E$9:$E$56,Statistiques!A475,'Concert 4'!$J$9:$J$56)","v":0},{"$f":"SUMIF('Concert 5'!$E$9:$E$56,Statistiques!A475,'Concert 5'!$I$9:$I$56)","v":0},{"$f":"SUMIF('Concert 5'!$E$9:$E$56,Statistiques!A475,'Concert 5'!$J$9:$J$56)","v":0}]
[{"$f":"Ecoles!A472","v":0},{"$f":"Ecoles!B472","v":0},{"$f":"Ecoles!C472","v":0},null,{"$f":"SUMIF('Concert 1'!$E$9:$E$56,Statistiques!A476,'Concert 1'!$I$9:$I$56)+SUMIF('Concert 2'!$E$9:$E$56,Statistiques!A476,'Concert 2'!$I$9:$I$56)+SUMIF('Concert 3'!$E$9:$E$56,Statistiques!A476,'Concert 3'!$I$9:$I$56)+SUMIF('Concert 4'!$E$9:$E$56,Statistiques!A476,'Concert 4'!$I$9:$I$56)+SUMIF('Concert 5'!$E$9:$E$56,Statistiques!A476,'Concert 5'!$I$9:$I$56)","v":0},{"$f":"SUMIF('Concert 1'!$E$9:$E$56,Statistiques!A476,'Concert 1'!$J$9:$J$56)+SUMIF('Concert 2'!$E$9:$E$56,Statistiques!A476,'Concert 2'!$J$9:$J$56)+SUMIF('Concert 3'!$E$9:$E$56,Statistiques!A476,'Concert 3'!$J$9:$J$56)+SUMIF('Concert 4'!$E$9:$E$56,Statistiques!A476,'Concert 4'!$J$9:$J$56)+SUMIF('Concert 5'!$E$9:$E$56,Statistiques!A476,'Concert 5'!$J$9:$J$56)","v":0},null,null,{"$f":"SUMIF('Concert 1'!$E$9:$E$56,Statistiques!A476,'Concert 1'!$I$9:$I$56)","v":0},{"$f":"SUMIF('Concert 1'!$E$9:$E$56,Statistiques!A476,'Concert 1'!$J$9:$J$56)","v":0},{"$f":"SUMIF('Concert 2'!$E$9:$E$56,Statistiques!A476,'Concert 2'!$I$9:$I$56)","v":0},{"$f":"SUMIF('Concert 2'!$E$9:$E$56,Statistiques!A476,'Concert 2'!$J$9:$J$56)","v":0},{"$f":"SUMIF('Concert 3'!$E$9:$E$56,Statistiques!A476,'Concert 3'!$I$9:$I$56)","v":0},{"$f":"SUMIF('Concert 3'!$E$9:$E$56,Statistiques!A476,'Concert 3'!$J$9:$J$56)","v":0},{"$f":"SUMIF('Concert 4'!$E$9:$E$56,Statistiques!A476,'Concert 4'!$I$9:$I$56)","v":0},{"$f":"SUMIF('Concert 4'!$E$9:$E$56,Statistiques!A476,'Concert 4'!$J$9:$J$56)","v":0},{"$f":"SUMIF('Concert 5'!$E$9:$E$56,Statistiques!A476,'Concert 5'!$I$9:$I$56)","v":0},{"$f":"SUMIF('Concert 5'!$E$9:$E$56,Statistiques!A476,'Concert 5'!$J$9:$J$56)","v":0}]
[{"$f":"Ecoles!A473","v":0},{"$f":"Ecoles!B473","v":0},{"$f":"Ecoles!C473","v":0},null,{"$f":"SUMIF('Concert 1'!$E$9:$E$56,Statistiques!A477,'Concert 1'!$I$9:$I$56)+SUMIF('Concert 2'!$E$9:$E$56,Statistiques!A477,'Concert 2'!$I$9:$I$56)+SUMIF('Concert 3'!$E$9:$E$56,Statistiques!A477,'Concert 3'!$I$9:$I$56)+SUMIF('Concert 4'!$E$9:$E$56,Statistiques!A477,'Concert 4'!$I$9:$I$56)+SUMIF('Concert 5'!$E$9:$E$56,Statistiques!A477,'Concert 5'!$I$9:$I$56)","v":0},{"$f":"SUMIF('Concert 1'!$E$9:$E$56,Statistiques!A477,'Concert 1'!$J$9:$J$56)+SUMIF('Concert 2'!$E$9:$E$56,Statistiques!A477,'Concert 2'!$J$9:$J$56)+SUMIF('Concert 3'!$E$9:$E$56,Statistiques!A477,'Concert 3'!$J$9:$J$56)+SUMIF('Concert 4'!$E$9:$E$56,Statistiques!A477,'Concert 4'!$J$9:$J$56)+SUMIF('Concert 5'!$E$9:$E$56,Statistiques!A477,'Concert 5'!$J$9:$J$56)","v":0},null,null,{"$f":"SUMIF('Concert 1'!$E$9:$E$56,Statistiques!A477,'Concert 1'!$I$9:$I$56)","v":0},{"$f":"SUMIF('Concert 1'!$E$9:$E$56,Statistiques!A477,'Concert 1'!$J$9:$J$56)","v":0},{"$f":"SUMIF('Concert 2'!$E$9:$E$56,Statistiques!A477,'Concert 2'!$I$9:$I$56)","v":0},{"$f":"SUMIF('Concert 2'!$E$9:$E$56,Statistiques!A477,'Concert 2'!$J$9:$J$56)","v":0},{"$f":"SUMIF('Concert 3'!$E$9:$E$56,Statistiques!A477,'Concert 3'!$I$9:$I$56)","v":0},{"$f":"SUMIF('Concert 3'!$E$9:$E$56,Statistiques!A477,'Concert 3'!$J$9:$J$56)","v":0},{"$f":"SUMIF('Concert 4'!$E$9:$E$56,Statistiques!A477,'Concert 4'!$I$9:$I$56)","v":0},{"$f":"SUMIF('Concert 4'!$E$9:$E$56,Statistiques!A477,'Concert 4'!$J$9:$J$56)","v":0},{"$f":"SUMIF('Concert 5'!$E$9:$E$56,Statistiques!A477,'Concert 5'!$I$9:$I$56)","v":0},{"$f":"SUMIF('Concert 5'!$E$9:$E$56,Statistiques!A477,'Concert 5'!$J$9:$J$56)","v":0}]
[{"$f":"Ecoles!A474","v":0},{"$f":"Ecoles!B474","v":0},{"$f":"Ecoles!C474","v":0},null,{"$f":"SUMIF('Concert 1'!$E$9:$E$56,Statistiques!A478,'Concert 1'!$I$9:$I$56)+SUMIF('Concert 2'!$E$9:$E$56,Statistiques!A478,'Concert 2'!$I$9:$I$56)+SUMIF('Concert 3'!$E$9:$E$56,Statistiques!A478,'Concert 3'!$I$9:$I$56)+SUMIF('Concert 4'!$E$9:$E$56,Statistiques!A478,'Concert 4'!$I$9:$I$56)+SUMIF('Concert 5'!$E$9:$E$56,Statistiques!A478,'Concert 5'!$I$9:$I$56)","v":0},{"$f":"SUMIF('Concert 1'!$E$9:$E$56,Statistiques!A478,'Concert 1'!$J$9:$J$56)+SUMIF('Concert 2'!$E$9:$E$56,Statistiques!A478,'Concert 2'!$J$9:$J$56)+SUMIF('Concert 3'!$E$9:$E$56,Statistiques!A478,'Concert 3'!$J$9:$J$56)+SUMIF('Concert 4'!$E$9:$E$56,Statistiques!A478,'Concert 4'!$J$9:$J$56)+SUMIF('Concert 5'!$E$9:$E$56,Statistiques!A478,'Concert 5'!$J$9:$J$56)","v":0},null,null,{"$f":"SUMIF('Concert 1'!$E$9:$E$56,Statistiques!A478,'Concert 1'!$I$9:$I$56)","v":0},{"$f":"SUMIF('Concert 1'!$E$9:$E$56,Statistiques!A478,'Concert 1'!$J$9:$J$56)","v":0},{"$f":"SUMIF('Concert 2'!$E$9:$E$56,Statistiques!A478,'Concert 2'!$I$9:$I$56)","v":0},{"$f":"SUMIF('Concert 2'!$E$9:$E$56,Statistiques!A478,'Concert 2'!$J$9:$J$56)","v":0},{"$f":"SUMIF('Concert 3'!$E$9:$E$56,Statistiques!A478,'Concert 3'!$I$9:$I$56)","v":0},{"$f":"SUMIF('Concert 3'!$E$9:$E$56,Statistiques!A478,'Concert 3'!$J$9:$J$56)","v":0},{"$f":"SUMIF('Concert 4'!$E$9:$E$56,Statistiques!A478,'Concert 4'!$I$9:$I$56)","v":0},{"$f":"SUMIF('Concert 4'!$E$9:$E$56,Statistiques!A478,'Concert 4'!$J$9:$J$56)","v":0},{"$f":"SUMIF('Concert 5'!$E$9:$E$56,Statistiques!A478,'Concert 5'!$I$9:$I$56)","v":0},{"$f":"SUMIF('Concert 5'!$E$9:$E$56,Statistiques!A478,'Concert 5'!$J$9:$J$56)","v":0}]
[{"$f":"Ecoles!A475","v":0},{"$f":"Ecoles!B475","v":0},{"$f":"Ecoles!C475","v":0},null,{"$f":"SUMIF('Concert 1'!$E$9:$E$56,Statistiques!A479,'Concert 1'!$I$9:$I$56)+SUMIF('Concert 2'!$E$9:$E$56,Statistiques!A479,'Concert 2'!$I$9:$I$56)+SUMIF('Concert 3'!$E$9:$E$56,Statistiques!A479,'Concert 3'!$I$9:$I$56)+SUMIF('Concert 4'!$E$9:$E$56,Statistiques!A479,'Concert 4'!$I$9:$I$56)+SUMIF('Concert 5'!$E$9:$E$56,Statistiques!A479,'Concert 5'!$I$9:$I$56)","v":0},{"$f":"SUMIF('Concert 1'!$E$9:$E$56,Statistiques!A479,'Concert 1'!$J$9:$J$56)+SUMIF('Concert 2'!$E$9:$E$56,Statistiques!A479,'Concert 2'!$J$9:$J$56)+SUMIF('Concert 3'!$E$9:$E$56,Statistiques!A479,'Concert 3'!$J$9:$J$56)+SUMIF('Concert 4'!$E$9:$E$56,Statistiques!A479,'Concert 4'!$J$9:$J$56)+SUMIF('Concert 5'!$E$9:$E$56,Statistiques!A479,'Concert 5'!$J$9:$J$56)","v":0},null,null,{"$f":"SUMIF('Concert 1'!$E$9:$E$56,Statistiques!A479,'Concert 1'!$I$9:$I$56)","v":0},{"$f":"SUMIF('Concert 1'!$E$9:$E$56,Statistiques!A479,'Concert 1'!$J$9:$J$56)","v":0},{"$f":"SUMIF('Concert 2'!$E$9:$E$56,Statistiques!A479,'Concert 2'!$I$9:$I$56)","v":0},{"$f":"SUMIF('Concert 2'!$E$9:$E$56,Statistiques!A479,'Concert 2'!$J$9:$J$56)","v":0},{"$f":"SUMIF('Concert 3'!$E$9:$E$56,Statistiques!A479,'Concert 3'!$I$9:$I$56)","v":0},{"$f":"SUMIF('Concert 3'!$E$9:$E$56,Statistiques!A479,'Concert 3'!$J$9:$J$56)","v":0},{"$f":"SUMIF('Concert 4'!$E$9:$E$56,Statistiques!A479,'Concert 4'!$I$9:$I$56)","v":0},{"$f":"SUMIF('Concert 4'!$E$9:$E$56,Statistiques!A479,'Concert 4'!$J$9:$J$56)","v":0},{"$f":"SUMIF('Concert 5'!$E$9:$E$56,Statistiques!A479,'Concert 5'!$I$9:$I$56)","v":0},{"$f":"SUMIF('Concert 5'!$E$9:$E$56,Statistiques!A479,'Concert 5'!$J$9:$J$56)","v":0}]
[{"$f":"Ecoles!A476","v":0},{"$f":"Ecoles!B476","v":0},{"$f":"Ecoles!C476","v":0},null,{"$f":"SUMIF('Concert 1'!$E$9:$E$56,Statistiques!A480,'Concert 1'!$I$9:$I$56)+SUMIF('Concert 2'!$E$9:$E$56,Statistiques!A480,'Concert 2'!$I$9:$I$56)+SUMIF('Concert 3'!$E$9:$E$56,Statistiques!A480,'Concert 3'!$I$9:$I$56)+SUMIF('Concert 4'!$E$9:$E$56,Statistiques!A480,'Concert 4'!$I$9:$I$56)+SUMIF('Concert 5'!$E$9:$E$56,Statistiques!A480,'Concert 5'!$I$9:$I$56)","v":0},{"$f":"SUMIF('Concert 1'!$E$9:$E$56,Statistiques!A480,'Concert 1'!$J$9:$J$56)+SUMIF('Concert 2'!$E$9:$E$56,Statistiques!A480,'Concert 2'!$J$9:$J$56)+SUMIF('Concert 3'!$E$9:$E$56,Statistiques!A480,'Concert 3'!$J$9:$J$56)+SUMIF('Concert 4'!$E$9:$E$56,Statistiques!A480,'Concert 4'!$J$9:$J$56)+SUMIF('Concert 5'!$E$9:$E$56,Statistiques!A480,'Concert 5'!$J$9:$J$56)","v":0},null,null,{"$f":"SUMIF('Concert 1'!$E$9:$E$56,Statistiques!A480,'Concert 1'!$I$9:$I$56)","v":0},{"$f":"SUMIF('Concert 1'!$E$9:$E$56,Statistiques!A480,'Concert 1'!$J$9:$J$56)","v":0},{"$f":"SUMIF('Concert 2'!$E$9:$E$56,Statistiques!A480,'Concert 2'!$I$9:$I$56)","v":0},{"$f":"SUMIF('Concert 2'!$E$9:$E$56,Statistiques!A480,'Concert 2'!$J$9:$J$56)","v":0},{"$f":"SUMIF('Concert 3'!$E$9:$E$56,Statistiques!A480,'Concert 3'!$I$9:$I$56)","v":0},{"$f":"SUMIF('Concert 3'!$E$9:$E$56,Statistiques!A480,'Concert 3'!$J$9:$J$56)","v":0},{"$f":"SUMIF('Concert 4'!$E$9:$E$56,Statistiques!A480,'Concert 4'!$I$9:$I$56)","v":0},{"$f":"SUMIF('Concert 4'!$E$9:$E$56,Statistiques!A480,'Concert 4'!$J$9:$J$56)","v":0},{"$f":"SUMIF('Concert 5'!$E$9:$E$56,Statistiques!A480,'Concert 5'!$I$9:$I$56)","v":0},{"$f":"SUMIF('Concert 5'!$E$9:$E$56,Statistiques!A480,'Concert 5'!$J$9:$J$56)","v":0}]
[{"$f":"Ecoles!A477","v":0},{"$f":"Ecoles!B477","v":0},{"$f":"Ecoles!C477","v":0},null,{"$f":"SUMIF('Concert 1'!$E$9:$E$56,Statistiques!A481,'Concert 1'!$I$9:$I$56)+SUMIF('Concert 2'!$E$9:$E$56,Statistiques!A481,'Concert 2'!$I$9:$I$56)+SUMIF('Concert 3'!$E$9:$E$56,Statistiques!A481,'Concert 3'!$I$9:$I$56)+SUMIF('Concert 4'!$E$9:$E$56,Statistiques!A481,'Concert 4'!$I$9:$I$56)+SUMIF('Concert 5'!$E$9:$E$56,Statistiques!A481,'Concert 5'!$I$9:$I$56)","v":0},{"$f":"SUMIF('Concert 1'!$E$9:$E$56,Statistiques!A481,'Concert 1'!$J$9:$J$56)+SUMIF('Concert 2'!$E$9:$E$56,Statistiques!A481,'Concert 2'!$J$9:$J$56)+SUMIF('Concert 3'!$E$9:$E$56,Statistiques!A481,'Concert 3'!$J$9:$J$56)+SUMIF('Concert 4'!$E$9:$E$56,Statistiques!A481,'Concert 4'!$J$9:$J$56)+SUMIF('Concert 5'!$E$9:$E$56,Statistiques!A481,'Concert 5'!$J$9:$J$56)","v":0},null,null,{"$f":"SUMIF('Concert 1'!$E$9:$E$56,Statistiques!A481,'Concert 1'!$I$9:$I$56)","v":0},{"$f":"SUMIF('Concert 1'!$E$9:$E$56,Statistiques!A481,'Concert 1'!$J$9:$J$56)","v":0},{"$f":"SUMIF('Concert 2'!$E$9:$E$56,Statistiques!A481,'Concert 2'!$I$9:$I$56)","v":0},{"$f":"SUMIF('Concert 2'!$E$9:$E$56,Statistiques!A481,'Concert 2'!$J$9:$J$56)","v":0},{"$f":"SUMIF('Concert 3'!$E$9:$E$56,Statistiques!A481,'Concert 3'!$I$9:$I$56)","v":0},{"$f":"SUMIF('Concert 3'!$E$9:$E$56,Statistiques!A481,'Concert 3'!$J$9:$J$56)","v":0},{"$f":"SUMIF('Concert 4'!$E$9:$E$56,Statistiques!A481,'Concert 4'!$I$9:$I$56)","v":0},{"$f":"SUMIF('Concert 4'!$E$9:$E$56,Statistiques!A481,'Concert 4'!$J$9:$J$56)","v":0},{"$f":"SUMIF('Concert 5'!$E$9:$E$56,Statistiques!A481,'Concert 5'!$I$9:$I$56)","v":0},{"$f":"SUMIF('Concert 5'!$E$9:$E$56,Statistiques!A481,'Concert 5'!$J$9:$J$56)","v":0}]
[{"$f":"Ecoles!A478","v":0},{"$f":"Ecoles!B478","v":0},{"$f":"Ecoles!C478","v":0},null,{"$f":"SUMIF('Concert 1'!$E$9:$E$56,Statistiques!A482,'Concert 1'!$I$9:$I$56)+SUMIF('Concert 2'!$E$9:$E$56,Statistiques!A482,'Concert 2'!$I$9:$I$56)+SUMIF('Concert 3'!$E$9:$E$56,Statistiques!A482,'Concert 3'!$I$9:$I$56)+SUMIF('Concert 4'!$E$9:$E$56,Statistiques!A482,'Concert 4'!$I$9:$I$56)+SUMIF('Concert 5'!$E$9:$E$56,Statistiques!A482,'Concert 5'!$I$9:$I$56)","v":0},{"$f":"SUMIF('Concert 1'!$E$9:$E$56,Statistiques!A482,'Concert 1'!$J$9:$J$56)+SUMIF('Concert 2'!$E$9:$E$56,Statistiques!A482,'Concert 2'!$J$9:$J$56)+SUMIF('Concert 3'!$E$9:$E$56,Statistiques!A482,'Concert 3'!$J$9:$J$56)+SUMIF('Concert 4'!$E$9:$E$56,Statistiques!A482,'Concert 4'!$J$9:$J$56)+SUMIF('Concert 5'!$E$9:$E$56,Statistiques!A482,'Concert 5'!$J$9:$J$56)","v":0},null,null,{"$f":"SUMIF('Concert 1'!$E$9:$E$56,Statistiques!A482,'Concert 1'!$I$9:$I$56)","v":0},{"$f":"SUMIF('Concert 1'!$E$9:$E$56,Statistiques!A482,'Concert 1'!$J$9:$J$56)","v":0},{"$f":"SUMIF('Concert 2'!$E$9:$E$56,Statistiques!A482,'Concert 2'!$I$9:$I$56)","v":0},{"$f":"SUMIF('Concert 2'!$E$9:$E$56,Statistiques!A482,'Concert 2'!$J$9:$J$56)","v":0},{"$f":"SUMIF('Concert 3'!$E$9:$E$56,Statistiques!A482,'Concert 3'!$I$9:$I$56)","v":0},{"$f":"SUMIF('Concert 3'!$E$9:$E$56,Statistiques!A482,'Concert 3'!$J$9:$J$56)","v":0},{"$f":"SUMIF('Concert 4'!$E$9:$E$56,Statistiques!A482,'Concert 4'!$I$9:$I$56)","v":0},{"$f":"SUMIF('Concert 4'!$E$9:$E$56,Statistiques!A482,'Concert 4'!$J$9:$J$56)","v":0},{"$f":"SUMIF('Concert 5'!$E$9:$E$56,Statistiques!A482,'Concert 5'!$I$9:$I$56)","v":0},{"$f":"SUMIF('Concert 5'!$E$9:$E$56,Statistiques!A482,'Concert 5'!$J$9:$J$56)","v":0}]
[{"$f":"Ecoles!A479","v":0},{"$f":"Ecoles!B479","v":0},{"$f":"Ecoles!C479","v":0},null,{"$f":"SUMIF('Concert 1'!$E$9:$E$56,Statistiques!A483,'Concert 1'!$I$9:$I$56)+SUMIF('Concert 2'!$E$9:$E$56,Statistiques!A483,'Concert 2'!$I$9:$I$56)+SUMIF('Concert 3'!$E$9:$E$56,Statistiques!A483,'Concert 3'!$I$9:$I$56)+SUMIF('Concert 4'!$E$9:$E$56,Statistiques!A483,'Concert 4'!$I$9:$I$56)+SUMIF('Concert 5'!$E$9:$E$56,Statistiques!A483,'Concert 5'!$I$9:$I$56)","v":0},{"$f":"SUMIF('Concert 1'!$E$9:$E$56,Statistiques!A483,'Concert 1'!$J$9:$J$56)+SUMIF('Concert 2'!$E$9:$E$56,Statistiques!A483,'Concert 2'!$J$9:$J$56)+SUMIF('Concert 3'!$E$9:$E$56,Statistiques!A483,'Concert 3'!$J$9:$J$56)+SUMIF('Concert 4'!$E$9:$E$56,Statistiques!A483,'Concert 4'!$J$9:$J$56)+SUMIF('Concert 5'!$E$9:$E$56,Statistiques!A483,'Concert 5'!$J$9:$J$56)","v":0},null,null,{"$f":"SUMIF('Concert 1'!$E$9:$E$56,Statistiques!A483,'Concert 1'!$I$9:$I$56)","v":0},{"$f":"SUMIF('Concert 1'!$E$9:$E$56,Statistiques!A483,'Concert 1'!$J$9:$J$56)","v":0},{"$f":"SUMIF('Concert 2'!$E$9:$E$56,Statistiques!A483,'Concert 2'!$I$9:$I$56)","v":0},{"$f":"SUMIF('Concert 2'!$E$9:$E$56,Statistiques!A483,'Concert 2'!$J$9:$J$56)","v":0},{"$f":"SUMIF('Concert 3'!$E$9:$E$56,Statistiques!A483,'Concert 3'!$I$9:$I$56)","v":0},{"$f":"SUMIF('Concert 3'!$E$9:$E$56,Statistiques!A483,'Concert 3'!$J$9:$J$56)","v":0},{"$f":"SUMIF('Concert 4'!$E$9:$E$56,Statistiques!A483,'Concert 4'!$I$9:$I$56)","v":0},{"$f":"SUMIF('Concert 4'!$E$9:$E$56,Statistiques!A483,'Concert 4'!$J$9:$J$56)","v":0},{"$f":"SUMIF('Concert 5'!$E$9:$E$56,Statistiques!A483,'Concert 5'!$I$9:$I$56)","v":0},{"$f":"SUMIF('Concert 5'!$E$9:$E$56,Statistiques!A483,'Concert 5'!$J$9:$J$56)","v":0}]
[{"$f":"Ecoles!A480","v":0},{"$f":"Ecoles!B480","v":0},{"$f":"Ecoles!C480","v":0},null,{"$f":"SUMIF('Concert 1'!$E$9:$E$56,Statistiques!A484,'Concert 1'!$I$9:$I$56)+SUMIF('Concert 2'!$E$9:$E$56,Statistiques!A484,'Concert 2'!$I$9:$I$56)+SUMIF('Concert 3'!$E$9:$E$56,Statistiques!A484,'Concert 3'!$I$9:$I$56)+SUMIF('Concert 4'!$E$9:$E$56,Statistiques!A484,'Concert 4'!$I$9:$I$56)+SUMIF('Concert 5'!$E$9:$E$56,Statistiques!A484,'Concert 5'!$I$9:$I$56)","v":0},{"$f":"SUMIF('Concert 1'!$E$9:$E$56,Statistiques!A484,'Concert 1'!$J$9:$J$56)+SUMIF('Concert 2'!$E$9:$E$56,Statistiques!A484,'Concert 2'!$J$9:$J$56)+SUMIF('Concert 3'!$E$9:$E$56,Statistiques!A484,'Concert 3'!$J$9:$J$56)+SUMIF('Concert 4'!$E$9:$E$56,Statistiques!A484,'Concert 4'!$J$9:$J$56)+SUMIF('Concert 5'!$E$9:$E$56,Statistiques!A484,'Concert 5'!$J$9:$J$56)","v":0},null,null,{"$f":"SUMIF('Concert 1'!$E$9:$E$56,Statistiques!A484,'Concert 1'!$I$9:$I$56)","v":0},{"$f":"SUMIF('Concert 1'!$E$9:$E$56,Statistiques!A484,'Concert 1'!$J$9:$J$56)","v":0},{"$f":"SUMIF('Concert 2'!$E$9:$E$56,Statistiques!A484,'Concert 2'!$I$9:$I$56)","v":0},{"$f":"SUMIF('Concert 2'!$E$9:$E$56,Statistiques!A484,'Concert 2'!$J$9:$J$56)","v":0},{"$f":"SUMIF('Concert 3'!$E$9:$E$56,Statistiques!A484,'Concert 3'!$I$9:$I$56)","v":0},{"$f":"SUMIF('Concert 3'!$E$9:$E$56,Statistiques!A484,'Concert 3'!$J$9:$J$56)","v":0},{"$f":"SUMIF('Concert 4'!$E$9:$E$56,Statistiques!A484,'Concert 4'!$I$9:$I$56)","v":0},{"$f":"SUMIF('Concert 4'!$E$9:$E$56,Statistiques!A484,'Concert 4'!$J$9:$J$56)","v":0},{"$f":"SUMIF('Concert 5'!$E$9:$E$56,Statistiques!A484,'Concert 5'!$I$9:$I$56)","v":0},{"$f":"SUMIF('Concert 5'!$E$9:$E$56,Statistiques!A484,'Concert 5'!$J$9:$J$56)","v":0}]
[{"$f":"Ecoles!A481","v":0},{"$f":"Ecoles!B481","v":0},{"$f":"Ecoles!C481","v":0},null,{"$f":"SUMIF('Concert 1'!$E$9:$E$56,Statistiques!A485,'Concert 1'!$I$9:$I$56)+SUMIF('Concert 2'!$E$9:$E$56,Statistiques!A485,'Concert 2'!$I$9:$I$56)+SUMIF('Concert 3'!$E$9:$E$56,Statistiques!A485,'Concert 3'!$I$9:$I$56)+SUMIF('Concert 4'!$E$9:$E$56,Statistiques!A485,'Concert 4'!$I$9:$I$56)+SUMIF('Concert 5'!$E$9:$E$56,Statistiques!A485,'Concert 5'!$I$9:$I$56)","v":0},{"$f":"SUMIF('Concert 1'!$E$9:$E$56,Statistiques!A485,'Concert 1'!$J$9:$J$56)+SUMIF('Concert 2'!$E$9:$E$56,Statistiques!A485,'Concert 2'!$J$9:$J$56)+SUMIF('Concert 3'!$E$9:$E$56,Statistiques!A485,'Concert 3'!$J$9:$J$56)+SUMIF('Concert 4'!$E$9:$E$56,Statistiques!A485,'Concert 4'!$J$9:$J$56)+SUMIF('Concert 5'!$E$9:$E$56,Statistiques!A485,'Concert 5'!$J$9:$J$56)","v":0},null,null,{"$f":"SUMIF('Concert 1'!$E$9:$E$56,Statistiques!A485,'Concert 1'!$I$9:$I$56)","v":0},{"$f":"SUMIF('Concert 1'!$E$9:$E$56,Statistiques!A485,'Concert 1'!$J$9:$J$56)","v":0},{"$f":"SUMIF('Concert 2'!$E$9:$E$56,Statistiques!A485,'Concert 2'!$I$9:$I$56)","v":0},{"$f":"SUMIF('Concert 2'!$E$9:$E$56,Statistiques!A485,'Concert 2'!$J$9:$J$56)","v":0},{"$f":"SUMIF('Concert 3'!$E$9:$E$56,Statistiques!A485,'Concert 3'!$I$9:$I$56)","v":0},{"$f":"SUMIF('Concert 3'!$E$9:$E$56,Statistiques!A485,'Concert 3'!$J$9:$J$56)","v":0},{"$f":"SUMIF('Concert 4'!$E$9:$E$56,Statistiques!A485,'Concert 4'!$I$9:$I$56)","v":0},{"$f":"SUMIF('Concert 4'!$E$9:$E$56,Statistiques!A485,'Concert 4'!$J$9:$J$56)","v":0},{"$f":"SUMIF('Concert 5'!$E$9:$E$56,Statistiques!A485,'Concert 5'!$I$9:$I$56)","v":0},{"$f":"SUMIF('Concert 5'!$E$9:$E$56,Statistiques!A485,'Concert 5'!$J$9:$J$56)","v":0}]
[{"$f":"Ecoles!A482","v":0},{"$f":"Ecoles!B482","v":0},{"$f":"Ecoles!C482","v":0},null,{"$f":"SUMIF('Concert 1'!$E$9:$E$56,Statistiques!A486,'Concert 1'!$I$9:$I$56)+SUMIF('Concert 2'!$E$9:$E$56,Statistiques!A486,'Concert 2'!$I$9:$I$56)+SUMIF('Concert 3'!$E$9:$E$56,Statistiques!A486,'Concert 3'!$I$9:$I$56)+SUMIF('Concert 4'!$E$9:$E$56,Statistiques!A486,'Concert 4'!$I$9:$I$56)+SUMIF('Concert 5'!$E$9:$E$56,Statistiques!A486,'Concert 5'!$I$9:$I$56)","v":0},{"$f":"SUMIF('Concert 1'!$E$9:$E$56,Statistiques!A486,'Concert 1'!$J$9:$J$56)+SUMIF('Concert 2'!$E$9:$E$56,Statistiques!A486,'Concert 2'!$J$9:$J$56)+SUMIF('Concert 3'!$E$9:$E$56,Statistiques!A486,'Concert 3'!$J$9:$J$56)+SUMIF('Concert 4'!$E$9:$E$56,Statistiques!A486,'Concert 4'!$J$9:$J$56)+SUMIF('Concert 5'!$E$9:$E$56,Statistiques!A486,'Concert 5'!$J$9:$J$56)","v":0},null,null,{"$f":"SUMIF('Concert 1'!$E$9:$E$56,Statistiques!A486,'Concert 1'!$I$9:$I$56)","v":0},{"$f":"SUMIF('Concert 1'!$E$9:$E$56,Statistiques!A486,'Concert 1'!$J$9:$J$56)","v":0},{"$f":"SUMIF('Concert 2'!$E$9:$E$56,Statistiques!A486,'Concert 2'!$I$9:$I$56)","v":0},{"$f":"SUMIF('Concert 2'!$E$9:$E$56,Statistiques!A486,'Concert 2'!$J$9:$J$56)","v":0},{"$f":"SUMIF('Concert 3'!$E$9:$E$56,Statistiques!A486,'Concert 3'!$I$9:$I$56)","v":0},{"$f":"SUMIF('Concert 3'!$E$9:$E$56,Statistiques!A486,'Concert 3'!$J$9:$J$56)","v":0},{"$f":"SUMIF('Concert 4'!$E$9:$E$56,Statistiques!A486,'Concert 4'!$I$9:$I$56)","v":0},{"$f":"SUMIF('Concert 4'!$E$9:$E$56,Statistiques!A486,'Concert 4'!$J$9:$J$56)","v":0},{"$f":"SUMIF('Concert 5'!$E$9:$E$56,Statistiques!A486,'Concert 5'!$I$9:$I$56)","v":0},{"$f":"SUMIF('Concert 5'!$E$9:$E$56,Statistiques!A486,'Concert 5'!$J$9:$J$56)","v":0}]
[{"$f":"Ecoles!A483","v":0},{"$f":"Ecoles!B483","v":0},{"$f":"Ecoles!C483","v":0},null,{"$f":"SUMIF('Concert 1'!$E$9:$E$56,Statistiques!A487,'Concert 1'!$I$9:$I$56)+SUMIF('Concert 2'!$E$9:$E$56,Statistiques!A487,'Concert 2'!$I$9:$I$56)+SUMIF('Concert 3'!$E$9:$E$56,Statistiques!A487,'Concert 3'!$I$9:$I$56)+SUMIF('Concert 4'!$E$9:$E$56,Statistiques!A487,'Concert 4'!$I$9:$I$56)+SUMIF('Concert 5'!$E$9:$E$56,Statistiques!A487,'Concert 5'!$I$9:$I$56)","v":0},{"$f":"SUMIF('Concert 1'!$E$9:$E$56,Statistiques!A487,'Concert 1'!$J$9:$J$56)+SUMIF('Concert 2'!$E$9:$E$56,Statistiques!A487,'Concert 2'!$J$9:$J$56)+SUMIF('Concert 3'!$E$9:$E$56,Statistiques!A487,'Concert 3'!$J$9:$J$56)+SUMIF('Concert 4'!$E$9:$E$56,Statistiques!A487,'Concert 4'!$J$9:$J$56)+SUMIF('Concert 5'!$E$9:$E$56,Statistiques!A487,'Concert 5'!$J$9:$J$56)","v":0},null,null,{"$f":"SUMIF('Concert 1'!$E$9:$E$56,Statistiques!A487,'Concert 1'!$I$9:$I$56)","v":0},{"$f":"SUMIF('Concert 1'!$E$9:$E$56,Statistiques!A487,'Concert 1'!$J$9:$J$56)","v":0},{"$f":"SUMIF('Concert 2'!$E$9:$E$56,Statistiques!A487,'Concert 2'!$I$9:$I$56)","v":0},{"$f":"SUMIF('Concert 2'!$E$9:$E$56,Statistiques!A487,'Concert 2'!$J$9:$J$56)","v":0},{"$f":"SUMIF('Concert 3'!$E$9:$E$56,Statistiques!A487,'Concert 3'!$I$9:$I$56)","v":0},{"$f":"SUMIF('Concert 3'!$E$9:$E$56,Statistiques!A487,'Concert 3'!$J$9:$J$56)","v":0},{"$f":"SUMIF('Concert 4'!$E$9:$E$56,Statistiques!A487,'Concert 4'!$I$9:$I$56)","v":0},{"$f":"SUMIF('Concert 4'!$E$9:$E$56,Statistiques!A487,'Concert 4'!$J$9:$J$56)","v":0},{"$f":"SUMIF('Concert 5'!$E$9:$E$56,Statistiques!A487,'Concert 5'!$I$9:$I$56)","v":0},{"$f":"SUMIF('Concert 5'!$E$9:$E$56,Statistiques!A487,'Concert 5'!$J$9:$J$56)","v":0}]
[{"$f":"Ecoles!A484","v":0},{"$f":"Ecoles!B484","v":0},{"$f":"Ecoles!C484","v":0},null,{"$f":"SUMIF('Concert 1'!$E$9:$E$56,Statistiques!A488,'Concert 1'!$I$9:$I$56)+SUMIF('Concert 2'!$E$9:$E$56,Statistiques!A488,'Concert 2'!$I$9:$I$56)+SUMIF('Concert 3'!$E$9:$E$56,Statistiques!A488,'Concert 3'!$I$9:$I$56)+SUMIF('Concert 4'!$E$9:$E$56,Statistiques!A488,'Concert 4'!$I$9:$I$56)+SUMIF('Concert 5'!$E$9:$E$56,Statistiques!A488,'Concert 5'!$I$9:$I$56)","v":0},{"$f":"SUMIF('Concert 1'!$E$9:$E$56,Statistiques!A488,'Concert 1'!$J$9:$J$56)+SUMIF('Concert 2'!$E$9:$E$56,Statistiques!A488,'Concert 2'!$J$9:$J$56)+SUMIF('Concert 3'!$E$9:$E$56,Statistiques!A488,'Concert 3'!$J$9:$J$56)+SUMIF('Concert 4'!$E$9:$E$56,Statistiques!A488,'Concert 4'!$J$9:$J$56)+SUMIF('Concert 5'!$E$9:$E$56,Statistiques!A488,'Concert 5'!$J$9:$J$56)","v":0},null,null,{"$f":"SUMIF('Concert 1'!$E$9:$E$56,Statistiques!A488,'Concert 1'!$I$9:$I$56)","v":0},{"$f":"SUMIF('Concert 1'!$E$9:$E$56,Statistiques!A488,'Concert 1'!$J$9:$J$56)","v":0},{"$f":"SUMIF('Concert 2'!$E$9:$E$56,Statistiques!A488,'Concert 2'!$I$9:$I$56)","v":0},{"$f":"SUMIF('Concert 2'!$E$9:$E$56,Statistiques!A488,'Concert 2'!$J$9:$J$56)","v":0},{"$f":"SUMIF('Concert 3'!$E$9:$E$56,Statistiques!A488,'Concert 3'!$I$9:$I$56)","v":0},{"$f":"SUMIF('Concert 3'!$E$9:$E$56,Statistiques!A488,'Concert 3'!$J$9:$J$56)","v":0},{"$f":"SUMIF('Concert 4'!$E$9:$E$56,Statistiques!A488,'Concert 4'!$I$9:$I$56)","v":0},{"$f":"SUMIF('Concert 4'!$E$9:$E$56,Statistiques!A488,'Concert 4'!$J$9:$J$56)","v":0},{"$f":"SUMIF('Concert 5'!$E$9:$E$56,Statistiques!A488,'Concert 5'!$I$9:$I$56)","v":0},{"$f":"SUMIF('Concert 5'!$E$9:$E$56,Statistiques!A488,'Concert 5'!$J$9:$J$56)","v":0}]
[{"$f":"Ecoles!A485","v":0},{"$f":"Ecoles!B485","v":0},{"$f":"Ecoles!C485","v":0},null,{"$f":"SUMIF('Concert 1'!$E$9:$E$56,Statistiques!A489,'Concert 1'!$I$9:$I$56)+SUMIF('Concert 2'!$E$9:$E$56,Statistiques!A489,'Concert 2'!$I$9:$I$56)+SUMIF('Concert 3'!$E$9:$E$56,Statistiques!A489,'Concert 3'!$I$9:$I$56)+SUMIF('Concert 4'!$E$9:$E$56,Statistiques!A489,'Concert 4'!$I$9:$I$56)+SUMIF('Concert 5'!$E$9:$E$56,Statistiques!A489,'Concert 5'!$I$9:$I$56)","v":0},{"$f":"SUMIF('Concert 1'!$E$9:$E$56,Statistiques!A489,'Concert 1'!$J$9:$J$56)+SUMIF('Concert 2'!$E$9:$E$56,Statistiques!A489,'Concert 2'!$J$9:$J$56)+SUMIF('Concert 3'!$E$9:$E$56,Statistiques!A489,'Concert 3'!$J$9:$J$56)+SUMIF('Concert 4'!$E$9:$E$56,Statistiques!A489,'Concert 4'!$J$9:$J$56)+SUMIF('Concert 5'!$E$9:$E$56,Statistiques!A489,'Concert 5'!$J$9:$J$56)","v":0},null,null,{"$f":"SUMIF('Concert 1'!$E$9:$E$56,Statistiques!A489,'Concert 1'!$I$9:$I$56)","v":0},{"$f":"SUMIF('Concert 1'!$E$9:$E$56,Statistiques!A489,'Concert 1'!$J$9:$J$56)","v":0},{"$f":"SUMIF('Concert 2'!$E$9:$E$56,Statistiques!A489,'Concert 2'!$I$9:$I$56)","v":0},{"$f":"SUMIF('Concert 2'!$E$9:$E$56,Statistiques!A489,'Concert 2'!$J$9:$J$56)","v":0},{"$f":"SUMIF('Concert 3'!$E$9:$E$56,Statistiques!A489,'Concert 3'!$I$9:$I$56)","v":0},{"$f":"SUMIF('Concert 3'!$E$9:$E$56,Statistiques!A489,'Concert 3'!$J$9:$J$56)","v":0},{"$f":"SUMIF('Concert 4'!$E$9:$E$56,Statistiques!A489,'Concert 4'!$I$9:$I$56)","v":0},{"$f":"SUMIF('Concert 4'!$E$9:$E$56,Statistiques!A489,'Concert 4'!$J$9:$J$56)","v":0},{"$f":"SUMIF('Concert 5'!$E$9:$E$56,Statistiques!A489,'Concert 5'!$I$9:$I$56)","v":0},{"$f":"SUMIF('Concert 5'!$E$9:$E$56,Statistiques!A489,'Concert 5'!$J$9:$J$56)","v":0}]
[{"$f":"Ecoles!A486","v":0},{"$f":"Ecoles!B486","v":0},{"$f":"Ecoles!C486","v":0},null,{"$f":"SUMIF('Concert 1'!$E$9:$E$56,Statistiques!A490,'Concert 1'!$I$9:$I$56)+SUMIF('Concert 2'!$E$9:$E$56,Statistiques!A490,'Concert 2'!$I$9:$I$56)+SUMIF('Concert 3'!$E$9:$E$56,Statistiques!A490,'Concert 3'!$I$9:$I$56)+SUMIF('Concert 4'!$E$9:$E$56,Statistiques!A490,'Concert 4'!$I$9:$I$56)+SUMIF('Concert 5'!$E$9:$E$56,Statistiques!A490,'Concert 5'!$I$9:$I$56)","v":0},{"$f":"SUMIF('Concert 1'!$E$9:$E$56,Statistiques!A490,'Concert 1'!$J$9:$J$56)+SUMIF('Concert 2'!$E$9:$E$56,Statistiques!A490,'Concert 2'!$J$9:$J$56)+SUMIF('Concert 3'!$E$9:$E$56,Statistiques!A490,'Concert 3'!$J$9:$J$56)+SUMIF('Concert 4'!$E$9:$E$56,Statistiques!A490,'Concert 4'!$J$9:$J$56)+SUMIF('Concert 5'!$E$9:$E$56,Statistiques!A490,'Concert 5'!$J$9:$J$56)","v":0},null,null,{"$f":"SUMIF('Concert 1'!$E$9:$E$56,Statistiques!A490,'Concert 1'!$I$9:$I$56)","v":0},{"$f":"SUMIF('Concert 1'!$E$9:$E$56,Statistiques!A490,'Concert 1'!$J$9:$J$56)","v":0},{"$f":"SUMIF('Concert 2'!$E$9:$E$56,Statistiques!A490,'Concert 2'!$I$9:$I$56)","v":0},{"$f":"SUMIF('Concert 2'!$E$9:$E$56,Statistiques!A490,'Concert 2'!$J$9:$J$56)","v":0},{"$f":"SUMIF('Concert 3'!$E$9:$E$56,Statistiques!A490,'Concert 3'!$I$9:$I$56)","v":0},{"$f":"SUMIF('Concert 3'!$E$9:$E$56,Statistiques!A490,'Concert 3'!$J$9:$J$56)","v":0},{"$f":"SUMIF('Concert 4'!$E$9:$E$56,Statistiques!A490,'Concert 4'!$I$9:$I$56)","v":0},{"$f":"SUMIF('Concert 4'!$E$9:$E$56,Statistiques!A490,'Concert 4'!$J$9:$J$56)","v":0},{"$f":"SUMIF('Concert 5'!$E$9:$E$56,Statistiques!A490,'Concert 5'!$I$9:$I$56)","v":0},{"$f":"SUMIF('Concert 5'!$E$9:$E$56,Statistiques!A490,'Concert 5'!$J$9:$J$56)","v":0}]
[{"$f":"Ecoles!A487","v":0},{"$f":"Ecoles!B487","v":0},{"$f":"Ecoles!C487","v":0},null,{"$f":"SUMIF('Concert 1'!$E$9:$E$56,Statistiques!A491,'Concert 1'!$I$9:$I$56)+SUMIF('Concert 2'!$E$9:$E$56,Statistiques!A491,'Concert 2'!$I$9:$I$56)+SUMIF('Concert 3'!$E$9:$E$56,Statistiques!A491,'Concert 3'!$I$9:$I$56)+SUMIF('Concert 4'!$E$9:$E$56,Statistiques!A491,'Concert 4'!$I$9:$I$56)+SUMIF('Concert 5'!$E$9:$E$56,Statistiques!A491,'Concert 5'!$I$9:$I$56)","v":0},{"$f":"SUMIF('Concert 1'!$E$9:$E$56,Statistiques!A491,'Concert 1'!$J$9:$J$56)+SUMIF('Concert 2'!$E$9:$E$56,Statistiques!A491,'Concert 2'!$J$9:$J$56)+SUMIF('Concert 3'!$E$9:$E$56,Statistiques!A491,'Concert 3'!$J$9:$J$56)+SUMIF('Concert 4'!$E$9:$E$56,Statistiques!A491,'Concert 4'!$J$9:$J$56)+SUMIF('Concert 5'!$E$9:$E$56,Statistiques!A491,'Concert 5'!$J$9:$J$56)","v":0},null,null,{"$f":"SUMIF('Concert 1'!$E$9:$E$56,Statistiques!A491,'Concert 1'!$I$9:$I$56)","v":0},{"$f":"SUMIF('Concert 1'!$E$9:$E$56,Statistiques!A491,'Concert 1'!$J$9:$J$56)","v":0},{"$f":"SUMIF('Concert 2'!$E$9:$E$56,Statistiques!A491,'Concert 2'!$I$9:$I$56)","v":0},{"$f":"SUMIF('Concert 2'!$E$9:$E$56,Statistiques!A491,'Concert 2'!$J$9:$J$56)","v":0},{"$f":"SUMIF('Concert 3'!$E$9:$E$56,Statistiques!A491,'Concert 3'!$I$9:$I$56)","v":0},{"$f":"SUMIF('Concert 3'!$E$9:$E$56,Statistiques!A491,'Concert 3'!$J$9:$J$56)","v":0},{"$f":"SUMIF('Concert 4'!$E$9:$E$56,Statistiques!A491,'Concert 4'!$I$9:$I$56)","v":0},{"$f":"SUMIF('Concert 4'!$E$9:$E$56,Statistiques!A491,'Concert 4'!$J$9:$J$56)","v":0},{"$f":"SUMIF('Concert 5'!$E$9:$E$56,Statistiques!A491,'Concert 5'!$I$9:$I$56)","v":0},{"$f":"SUMIF('Concert 5'!$E$9:$E$56,Statistiques!A491,'Concert 5'!$J$9:$J$56)","v":0}]
[{"$f":"Ecoles!A488","v":0},{"$f":"Ecoles!B488","v":0},{"$f":"Ecoles!C488","v":0},null,{"$f":"SUMIF('Concert 1'!$E$9:$E$56,Statistiques!A492,'Concert 1'!$I$9:$I$56)+SUMIF('Concert 2'!$E$9:$E$56,Statistiques!A492,'Concert 2'!$I$9:$I$56)+SUMIF('Concert 3'!$E$9:$E$56,Statistiques!A492,'Concert 3'!$I$9:$I$56)+SUMIF('Concert 4'!$E$9:$E$56,Statistiques!A492,'Concert 4'!$I$9:$I$56)+SUMIF('Concert 5'!$E$9:$E$56,Statistiques!A492,'Concert 5'!$I$9:$I$56)","v":0},{"$f":"SUMIF('Concert 1'!$E$9:$E$56,Statistiques!A492,'Concert 1'!$J$9:$J$56)+SUMIF('Concert 2'!$E$9:$E$56,Statistiques!A492,'Concert 2'!$J$9:$J$56)+SUMIF('Concert 3'!$E$9:$E$56,Statistiques!A492,'Concert 3'!$J$9:$J$56)+SUMIF('Concert 4'!$E$9:$E$56,Statistiques!A492,'Concert 4'!$J$9:$J$56)+SUMIF('Concert 5'!$E$9:$E$56,Statistiques!A492,'Concert 5'!$J$9:$J$56)","v":0},null,null,{"$f":"SUMIF('Concert 1'!$E$9:$E$56,Statistiques!A492,'Concert 1'!$I$9:$I$56)","v":0},{"$f":"SUMIF('Concert 1'!$E$9:$E$56,Statistiques!A492,'Concert 1'!$J$9:$J$56)","v":0},{"$f":"SUMIF('Concert 2'!$E$9:$E$56,Statistiques!A492,'Concert 2'!$I$9:$I$56)","v":0},{"$f":"SUMIF('Concert 2'!$E$9:$E$56,Statistiques!A492,'Concert 2'!$J$9:$J$56)","v":0},{"$f":"SUMIF('Concert 3'!$E$9:$E$56,Statistiques!A492,'Concert 3'!$I$9:$I$56)","v":0},{"$f":"SUMIF('Concert 3'!$E$9:$E$56,Statistiques!A492,'Concert 3'!$J$9:$J$56)","v":0},{"$f":"SUMIF('Concert 4'!$E$9:$E$56,Statistiques!A492,'Concert 4'!$I$9:$I$56)","v":0},{"$f":"SUMIF('Concert 4'!$E$9:$E$56,Statistiques!A492,'Concert 4'!$J$9:$J$56)","v":0},{"$f":"SUMIF('Concert 5'!$E$9:$E$56,Statistiques!A492,'Concert 5'!$I$9:$I$56)","v":0},{"$f":"SUMIF('Concert 5'!$E$9:$E$56,Statistiques!A492,'Concert 5'!$J$9:$J$56)","v":0}]
[{"$f":"Ecoles!A489","v":0},{"$f":"Ecoles!B489","v":0},{"$f":"Ecoles!C489","v":0},null,{"$f":"SUMIF('Concert 1'!$E$9:$E$56,Statistiques!A493,'Concert 1'!$I$9:$I$56)+SUMIF('Concert 2'!$E$9:$E$56,Statistiques!A493,'Concert 2'!$I$9:$I$56)+SUMIF('Concert 3'!$E$9:$E$56,Statistiques!A493,'Concert 3'!$I$9:$I$56)+SUMIF('Concert 4'!$E$9:$E$56,Statistiques!A493,'Concert 4'!$I$9:$I$56)+SUMIF('Concert 5'!$E$9:$E$56,Statistiques!A493,'Concert 5'!$I$9:$I$56)","v":0},{"$f":"SUMIF('Concert 1'!$E$9:$E$56,Statistiques!A493,'Concert 1'!$J$9:$J$56)+SUMIF('Concert 2'!$E$9:$E$56,Statistiques!A493,'Concert 2'!$J$9:$J$56)+SUMIF('Concert 3'!$E$9:$E$56,Statistiques!A493,'Concert 3'!$J$9:$J$56)+SUMIF('Concert 4'!$E$9:$E$56,Statistiques!A493,'Concert 4'!$J$9:$J$56)+SUMIF('Concert 5'!$E$9:$E$56,Statistiques!A493,'Concert 5'!$J$9:$J$56)","v":0},null,null,{"$f":"SUMIF('Concert 1'!$E$9:$E$56,Statistiques!A493,'Concert 1'!$I$9:$I$56)","v":0},{"$f":"SUMIF('Concert 1'!$E$9:$E$56,Statistiques!A493,'Concert 1'!$J$9:$J$56)","v":0},{"$f":"SUMIF('Concert 2'!$E$9:$E$56,Statistiques!A493,'Concert 2'!$I$9:$I$56)","v":0},{"$f":"SUMIF('Concert 2'!$E$9:$E$56,Statistiques!A493,'Concert 2'!$J$9:$J$56)","v":0},{"$f":"SUMIF('Concert 3'!$E$9:$E$56,Statistiques!A493,'Concert 3'!$I$9:$I$56)","v":0},{"$f":"SUMIF('Concert 3'!$E$9:$E$56,Statistiques!A493,'Concert 3'!$J$9:$J$56)","v":0},{"$f":"SUMIF('Concert 4'!$E$9:$E$56,Statistiques!A493,'Concert 4'!$I$9:$I$56)","v":0},{"$f":"SUMIF('Concert 4'!$E$9:$E$56,Statistiques!A493,'Concert 4'!$J$9:$J$56)","v":0},{"$f":"SUMIF('Concert 5'!$E$9:$E$56,Statistiques!A493,'Concert 5'!$I$9:$I$56)","v":0},{"$f":"SUMIF('Concert 5'!$E$9:$E$56,Statistiques!A493,'Concert 5'!$J$9:$J$56)","v":0}]
[{"$f":"Ecoles!A490","v":0},{"$f":"Ecoles!B490","v":0},{"$f":"Ecoles!C490","v":0},null,{"$f":"SUMIF('Concert 1'!$E$9:$E$56,Statistiques!A494,'Concert 1'!$I$9:$I$56)+SUMIF('Concert 2'!$E$9:$E$56,Statistiques!A494,'Concert 2'!$I$9:$I$56)+SUMIF('Concert 3'!$E$9:$E$56,Statistiques!A494,'Concert 3'!$I$9:$I$56)+SUMIF('Concert 4'!$E$9:$E$56,Statistiques!A494,'Concert 4'!$I$9:$I$56)+SUMIF('Concert 5'!$E$9:$E$56,Statistiques!A494,'Concert 5'!$I$9:$I$56)","v":0},{"$f":"SUMIF('Concert 1'!$E$9:$E$56,Statistiques!A494,'Concert 1'!$J$9:$J$56)+SUMIF('Concert 2'!$E$9:$E$56,Statistiques!A494,'Concert 2'!$J$9:$J$56)+SUMIF('Concert 3'!$E$9:$E$56,Statistiques!A494,'Concert 3'!$J$9:$J$56)+SUMIF('Concert 4'!$E$9:$E$56,Statistiques!A494,'Concert 4'!$J$9:$J$56)+SUMIF('Concert 5'!$E$9:$E$56,Statistiques!A494,'Concert 5'!$J$9:$J$56)","v":0},null,null,{"$f":"SUMIF('Concert 1'!$E$9:$E$56,Statistiques!A494,'Concert 1'!$I$9:$I$56)","v":0},{"$f":"SUMIF('Concert 1'!$E$9:$E$56,Statistiques!A494,'Concert 1'!$J$9:$J$56)","v":0},{"$f":"SUMIF('Concert 2'!$E$9:$E$56,Statistiques!A494,'Concert 2'!$I$9:$I$56)","v":0},{"$f":"SUMIF('Concert 2'!$E$9:$E$56,Statistiques!A494,'Concert 2'!$J$9:$J$56)","v":0},{"$f":"SUMIF('Concert 3'!$E$9:$E$56,Statistiques!A494,'Concert 3'!$I$9:$I$56)","v":0},{"$f":"SUMIF('Concert 3'!$E$9:$E$56,Statistiques!A494,'Concert 3'!$J$9:$J$56)","v":0},{"$f":"SUMIF('Concert 4'!$E$9:$E$56,Statistiques!A494,'Concert 4'!$I$9:$I$56)","v":0},{"$f":"SUMIF('Concert 4'!$E$9:$E$56,Statistiques!A494,'Concert 4'!$J$9:$J$56)","v":0},{"$f":"SUMIF('Concert 5'!$E$9:$E$56,Statistiques!A494,'Concert 5'!$I$9:$I$56)","v":0},{"$f":"SUMIF('Concert 5'!$E$9:$E$56,Statistiques!A494,'Concert 5'!$J$9:$J$56)","v":0}]
[{"$f":"Ecoles!A491","v":0},{"$f":"Ecoles!B491","v":0},{"$f":"Ecoles!C491","v":0},null,{"$f":"SUMIF('Concert 1'!$E$9:$E$56,Statistiques!A495,'Concert 1'!$I$9:$I$56)+SUMIF('Concert 2'!$E$9:$E$56,Statistiques!A495,'Concert 2'!$I$9:$I$56)+SUMIF('Concert 3'!$E$9:$E$56,Statistiques!A495,'Concert 3'!$I$9:$I$56)+SUMIF('Concert 4'!$E$9:$E$56,Statistiques!A495,'Concert 4'!$I$9:$I$56)+SUMIF('Concert 5'!$E$9:$E$56,Statistiques!A495,'Concert 5'!$I$9:$I$56)","v":0},{"$f":"SUMIF('Concert 1'!$E$9:$E$56,Statistiques!A495,'Concert 1'!$J$9:$J$56)+SUMIF('Concert 2'!$E$9:$E$56,Statistiques!A495,'Concert 2'!$J$9:$J$56)+SUMIF('Concert 3'!$E$9:$E$56,Statistiques!A495,'Concert 3'!$J$9:$J$56)+SUMIF('Concert 4'!$E$9:$E$56,Statistiques!A495,'Concert 4'!$J$9:$J$56)+SUMIF('Concert 5'!$E$9:$E$56,Statistiques!A495,'Concert 5'!$J$9:$J$56)","v":0},null,null,{"$f":"SUMIF('Concert 1'!$E$9:$E$56,Statistiques!A495,'Concert 1'!$I$9:$I$56)","v":0},{"$f":"SUMIF('Concert 1'!$E$9:$E$56,Statistiques!A495,'Concert 1'!$J$9:$J$56)","v":0},{"$f":"SUMIF('Concert 2'!$E$9:$E$56,Statistiques!A495,'Concert 2'!$I$9:$I$56)","v":0},{"$f":"SUMIF('Concert 2'!$E$9:$E$56,Statistiques!A495,'Concert 2'!$J$9:$J$56)","v":0},{"$f":"SUMIF('Concert 3'!$E$9:$E$56,Statistiques!A495,'Concert 3'!$I$9:$I$56)","v":0},{"$f":"SUMIF('Concert 3'!$E$9:$E$56,Statistiques!A495,'Concert 3'!$J$9:$J$56)","v":0},{"$f":"SUMIF('Concert 4'!$E$9:$E$56,Statistiques!A495,'Concert 4'!$I$9:$I$56)","v":0},{"$f":"SUMIF('Concert 4'!$E$9:$E$56,Statistiques!A495,'Concert 4'!$J$9:$J$56)","v":0},{"$f":"SUMIF('Concert 5'!$E$9:$E$56,Statistiques!A495,'Concert 5'!$I$9:$I$56)","v":0},{"$f":"SUMIF('Concert 5'!$E$9:$E$56,Statistiques!A495,'Concert 5'!$J$9:$J$56)","v":0}]
[{"$f":"Ecoles!A492","v":0},{"$f":"Ecoles!B492","v":0},{"$f":"Ecoles!C492","v":0},null,{"$f":"SUMIF('Concert 1'!$E$9:$E$56,Statistiques!A496,'Concert 1'!$I$9:$I$56)+SUMIF('Concert 2'!$E$9:$E$56,Statistiques!A496,'Concert 2'!$I$9:$I$56)+SUMIF('Concert 3'!$E$9:$E$56,Statistiques!A496,'Concert 3'!$I$9:$I$56)+SUMIF('Concert 4'!$E$9:$E$56,Statistiques!A496,'Concert 4'!$I$9:$I$56)+SUMIF('Concert 5'!$E$9:$E$56,Statistiques!A496,'Concert 5'!$I$9:$I$56)","v":0},{"$f":"SUMIF('Concert 1'!$E$9:$E$56,Statistiques!A496,'Concert 1'!$J$9:$J$56)+SUMIF('Concert 2'!$E$9:$E$56,Statistiques!A496,'Concert 2'!$J$9:$J$56)+SUMIF('Concert 3'!$E$9:$E$56,Statistiques!A496,'Concert 3'!$J$9:$J$56)+SUMIF('Concert 4'!$E$9:$E$56,Statistiques!A496,'Concert 4'!$J$9:$J$56)+SUMIF('Concert 5'!$E$9:$E$56,Statistiques!A496,'Concert 5'!$J$9:$J$56)","v":0},null,null,{"$f":"SUMIF('Concert 1'!$E$9:$E$56,Statistiques!A496,'Concert 1'!$I$9:$I$56)","v":0},{"$f":"SUMIF('Concert 1'!$E$9:$E$56,Statistiques!A496,'Concert 1'!$J$9:$J$56)","v":0},{"$f":"SUMIF('Concert 2'!$E$9:$E$56,Statistiques!A496,'Concert 2'!$I$9:$I$56)","v":0},{"$f":"SUMIF('Concert 2'!$E$9:$E$56,Statistiques!A496,'Concert 2'!$J$9:$J$56)","v":0},{"$f":"SUMIF('Concert 3'!$E$9:$E$56,Statistiques!A496,'Concert 3'!$I$9:$I$56)","v":0},{"$f":"SUMIF('Concert 3'!$E$9:$E$56,Statistiques!A496,'Concert 3'!$J$9:$J$56)","v":0},{"$f":"SUMIF('Concert 4'!$E$9:$E$56,Statistiques!A496,'Concert 4'!$I$9:$I$56)","v":0},{"$f":"SUMIF('Concert 4'!$E$9:$E$56,Statistiques!A496,'Concert 4'!$J$9:$J$56)","v":0},{"$f":"SUMIF('Concert 5'!$E$9:$E$56,Statistiques!A496,'Concert 5'!$I$9:$I$56)","v":0},{"$f":"SUMIF('Concert 5'!$E$9:$E$56,Statistiques!A496,'Concert 5'!$J$9:$J$56)","v":0}]
[{"$f":"Ecoles!A493","v":0},{"$f":"Ecoles!B493","v":0},{"$f":"Ecoles!C493","v":0},null,{"$f":"SUMIF('Concert 1'!$E$9:$E$56,Statistiques!A497,'Concert 1'!$I$9:$I$56)+SUMIF('Concert 2'!$E$9:$E$56,Statistiques!A497,'Concert 2'!$I$9:$I$56)+SUMIF('Concert 3'!$E$9:$E$56,Statistiques!A497,'Concert 3'!$I$9:$I$56)+SUMIF('Concert 4'!$E$9:$E$56,Statistiques!A497,'Concert 4'!$I$9:$I$56)+SUMIF('Concert 5'!$E$9:$E$56,Statistiques!A497,'Concert 5'!$I$9:$I$56)","v":0},{"$f":"SUMIF('Concert 1'!$E$9:$E$56,Statistiques!A497,'Concert 1'!$J$9:$J$56)+SUMIF('Concert 2'!$E$9:$E$56,Statistiques!A497,'Concert 2'!$J$9:$J$56)+SUMIF('Concert 3'!$E$9:$E$56,Statistiques!A497,'Concert 3'!$J$9:$J$56)+SUMIF('Concert 4'!$E$9:$E$56,Statistiques!A497,'Concert 4'!$J$9:$J$56)+SUMIF('Concert 5'!$E$9:$E$56,Statistiques!A497,'Concert 5'!$J$9:$J$56)","v":0},null,null,{"$f":"SUMIF('Concert 1'!$E$9:$E$56,Statistiques!A497,'Concert 1'!$I$9:$I$56)","v":0},{"$f":"SUMIF('Concert 1'!$E$9:$E$56,Statistiques!A497,'Concert 1'!$J$9:$J$56)","v":0},{"$f":"SUMIF('Concert 2'!$E$9:$E$56,Statistiques!A497,'Concert 2'!$I$9:$I$56)","v":0},{"$f":"SUMIF('Concert 2'!$E$9:$E$56,Statistiques!A497,'Concert 2'!$J$9:$J$56)","v":0},{"$f":"SUMIF('Concert 3'!$E$9:$E$56,Statistiques!A497,'Concert 3'!$I$9:$I$56)","v":0},{"$f":"SUMIF('Concert 3'!$E$9:$E$56,Statistiques!A497,'Concert 3'!$J$9:$J$56)","v":0},{"$f":"SUMIF('Concert 4'!$E$9:$E$56,Statistiques!A497,'Concert 4'!$I$9:$I$56)","v":0},{"$f":"SUMIF('Concert 4'!$E$9:$E$56,Statistiques!A497,'Concert 4'!$J$9:$J$56)","v":0},{"$f":"SUMIF('Concert 5'!$E$9:$E$56,Statistiques!A497,'Concert 5'!$I$9:$I$56)","v":0},{"$f":"SUMIF('Concert 5'!$E$9:$E$56,Statistiques!A497,'Concert 5'!$J$9:$J$56)","v":0}]
[{"$f":"Ecoles!A494","v":0},{"$f":"Ecoles!B494","v":0},{"$f":"Ecoles!C494","v":0},null,{"$f":"SUMIF('Concert 1'!$E$9:$E$56,Statistiques!A498,'Concert 1'!$I$9:$I$56)+SUMIF('Concert 2'!$E$9:$E$56,Statistiques!A498,'Concert 2'!$I$9:$I$56)+SUMIF('Concert 3'!$E$9:$E$56,Statistiques!A498,'Concert 3'!$I$9:$I$56)+SUMIF('Concert 4'!$E$9:$E$56,Statistiques!A498,'Concert 4'!$I$9:$I$56)+SUMIF('Concert 5'!$E$9:$E$56,Statistiques!A498,'Concert 5'!$I$9:$I$56)","v":0},{"$f":"SUMIF('Concert 1'!$E$9:$E$56,Statistiques!A498,'Concert 1'!$J$9:$J$56)+SUMIF('Concert 2'!$E$9:$E$56,Statistiques!A498,'Concert 2'!$J$9:$J$56)+SUMIF('Concert 3'!$E$9:$E$56,Statistiques!A498,'Concert 3'!$J$9:$J$56)+SUMIF('Concert 4'!$E$9:$E$56,Statistiques!A498,'Concert 4'!$J$9:$J$56)+SUMIF('Concert 5'!$E$9:$E$56,Statistiques!A498,'Concert 5'!$J$9:$J$56)","v":0},null,null,{"$f":"SUMIF('Concert 1'!$E$9:$E$56,Statistiques!A498,'Concert 1'!$I$9:$I$56)","v":0},{"$f":"SUMIF('Concert 1'!$E$9:$E$56,Statistiques!A498,'Concert 1'!$J$9:$J$56)","v":0},{"$f":"SUMIF('Concert 2'!$E$9:$E$56,Statistiques!A498,'Concert 2'!$I$9:$I$56)","v":0},{"$f":"SUMIF('Concert 2'!$E$9:$E$56,Statistiques!A498,'Concert 2'!$J$9:$J$56)","v":0},{"$f":"SUMIF('Concert 3'!$E$9:$E$56,Statistiques!A498,'Concert 3'!$I$9:$I$56)","v":0},{"$f":"SUMIF('Concert 3'!$E$9:$E$56,Statistiques!A498,'Concert 3'!$J$9:$J$56)","v":0},{"$f":"SUMIF('Concert 4'!$E$9:$E$56,Statistiques!A498,'Concert 4'!$I$9:$I$56)","v":0},{"$f":"SUMIF('Concert 4'!$E$9:$E$56,Statistiques!A498,'Concert 4'!$J$9:$J$56)","v":0},{"$f":"SUMIF('Concert 5'!$E$9:$E$56,Statistiques!A498,'Concert 5'!$I$9:$I$56)","v":0},{"$f":"SUMIF('Concert 5'!$E$9:$E$56,Statistiques!A498,'Concert 5'!$J$9:$J$56)","v":0}]
[{"$f":"Ecoles!A495","v":0},{"$f":"Ecoles!B495","v":0},{"$f":"Ecoles!C495","v":0},null,{"$f":"SUMIF('Concert 1'!$E$9:$E$56,Statistiques!A499,'Concert 1'!$I$9:$I$56)+SUMIF('Concert 2'!$E$9:$E$56,Statistiques!A499,'Concert 2'!$I$9:$I$56)+SUMIF('Concert 3'!$E$9:$E$56,Statistiques!A499,'Concert 3'!$I$9:$I$56)+SUMIF('Concert 4'!$E$9:$E$56,Statistiques!A499,'Concert 4'!$I$9:$I$56)+SUMIF('Concert 5'!$E$9:$E$56,Statistiques!A499,'Concert 5'!$I$9:$I$56)","v":0},{"$f":"SUMIF('Concert 1'!$E$9:$E$56,Statistiques!A499,'Concert 1'!$J$9:$J$56)+SUMIF('Concert 2'!$E$9:$E$56,Statistiques!A499,'Concert 2'!$J$9:$J$56)+SUMIF('Concert 3'!$E$9:$E$56,Statistiques!A499,'Concert 3'!$J$9:$J$56)+SUMIF('Concert 4'!$E$9:$E$56,Statistiques!A499,'Concert 4'!$J$9:$J$56)+SUMIF('Concert 5'!$E$9:$E$56,Statistiques!A499,'Concert 5'!$J$9:$J$56)","v":0},null,null,{"$f":"SUMIF('Concert 1'!$E$9:$E$56,Statistiques!A499,'Concert 1'!$I$9:$I$56)","v":0},{"$f":"SUMIF('Concert 1'!$E$9:$E$56,Statistiques!A499,'Concert 1'!$J$9:$J$56)","v":0},{"$f":"SUMIF('Concert 2'!$E$9:$E$56,Statistiques!A499,'Concert 2'!$I$9:$I$56)","v":0},{"$f":"SUMIF('Concert 2'!$E$9:$E$56,Statistiques!A499,'Concert 2'!$J$9:$J$56)","v":0},{"$f":"SUMIF('Concert 3'!$E$9:$E$56,Statistiques!A499,'Concert 3'!$I$9:$I$56)","v":0},{"$f":"SUMIF('Concert 3'!$E$9:$E$56,Statistiques!A499,'Concert 3'!$J$9:$J$56)","v":0},{"$f":"SUMIF('Concert 4'!$E$9:$E$56,Statistiques!A499,'Concert 4'!$I$9:$I$56)","v":0},{"$f":"SUMIF('Concert 4'!$E$9:$E$56,Statistiques!A499,'Concert 4'!$J$9:$J$56)","v":0},{"$f":"SUMIF('Concert 5'!$E$9:$E$56,Statistiques!A499,'Concert 5'!$I$9:$I$56)","v":0},{"$f":"SUMIF('Concert 5'!$E$9:$E$56,Statistiques!A499,'Concert 5'!$J$9:$J$56)","v":0}]
[{"$f":"Ecoles!A496","v":0},{"$f":"Ecoles!B496","v":0},{"$f":"Ecoles!C496","v":0},null,{"$f":"SUMIF('Concert 1'!$E$9:$E$56,Statistiques!A500,'Concert 1'!$I$9:$I$56)+SUMIF('Concert 2'!$E$9:$E$56,Statistiques!A500,'Concert 2'!$I$9:$I$56)+SUMIF('Concert 3'!$E$9:$E$56,Statistiques!A500,'Concert 3'!$I$9:$I$56)+SUMIF('Concert 4'!$E$9:$E$56,Statistiques!A500,'Concert 4'!$I$9:$I$56)+SUMIF('Concert 5'!$E$9:$E$56,Statistiques!A500,'Concert 5'!$I$9:$I$56)","v":0},{"$f":"SUMIF('Concert 1'!$E$9:$E$56,Statistiques!A500,'Concert 1'!$J$9:$J$56)+SUMIF('Concert 2'!$E$9:$E$56,Statistiques!A500,'Concert 2'!$J$9:$J$56)+SUMIF('Concert 3'!$E$9:$E$56,Statistiques!A500,'Concert 3'!$J$9:$J$56)+SUMIF('Concert 4'!$E$9:$E$56,Statistiques!A500,'Concert 4'!$J$9:$J$56)+SUMIF('Concert 5'!$E$9:$E$56,Statistiques!A500,'Concert 5'!$J$9:$J$56)","v":0},null,null,{"$f":"SUMIF('Concert 1'!$E$9:$E$56,Statistiques!A500,'Concert 1'!$I$9:$I$56)","v":0},{"$f":"SUMIF('Concert 1'!$E$9:$E$56,Statistiques!A500,'Concert 1'!$J$9:$J$56)","v":0},{"$f":"SUMIF('Concert 2'!$E$9:$E$56,Statistiques!A500,'Concert 2'!$I$9:$I$56)","v":0},{"$f":"SUMIF('Concert 2'!$E$9:$E$56,Statistiques!A500,'Concert 2'!$J$9:$J$56)","v":0},{"$f":"SUMIF('Concert 3'!$E$9:$E$56,Statistiques!A500,'Concert 3'!$I$9:$I$56)","v":0},{"$f":"SUMIF('Concert 3'!$E$9:$E$56,Statistiques!A500,'Concert 3'!$J$9:$J$56)","v":0},{"$f":"SUMIF('Concert 4'!$E$9:$E$56,Statistiques!A500,'Concert 4'!$I$9:$I$56)","v":0},{"$f":"SUMIF('Concert 4'!$E$9:$E$56,Statistiques!A500,'Concert 4'!$J$9:$J$56)","v":0},{"$f":"SUMIF('Concert 5'!$E$9:$E$56,Statistiques!A500,'Concert 5'!$I$9:$I$56)","v":0},{"$f":"SUMIF('Concert 5'!$E$9:$E$56,Statistiques!A500,'Concert 5'!$J$9:$J$56)","v":0}]

{"sheet":"Tableau de bord","index":3,"n_rows":24,"n_cols":24,"rows_kept":24,"cut":false,"hidden":false,"merged":[[2,14,2,18],[1,14,1,18],[23,21,23,22],[6,0,6,2],[6,8,6,10],[6,12,6,14],[6,16,6,18],[6,4,6,6],[9,21,9,22],[16,21,16,22]]}
["  "]
[null,null,"Saison",null,{"$f":"Données!F2","v":0},null,null,null,null,null,null,null,null,null,"JM France "]
[null,null,null,null,null,null,null,null,null,null,null,null,null,null,{"$f":"Données!M2","v":0},null,null,null,null,null,null,"élèves inscrits",{"$f":"'Concert 1'!H2+'Concert 2'!H2+'Concert 3'!H2+'Concert 4'!H2+'Concert 5'!H2","v":0}]
["Accueil",null,null,null,null,null,null,null,null,null,null,null,null,null,null,null,null,null,null,null,null,"élèves présents",{"$f":"SUM(C8:S8)","v":0}]
[null,null,null,null,null,null,null,null,null,null,null,null,null,null,null,null,null,null,null,null,null,"Variation Inscrits / Présents",{"$f":"W4-W3","v":0},{"$f":"W5/W3","v":{"$error":"#DIV/0!"}}]
[null,null,null,null,null,null,null,null,null,null,null,null,null,null,null,null,null,null,null,null,null,"Second degré",{"$f":"'Concert 1'!P3+'Concert 2'!P3+'Concert 3'!P3+'Concert 4'!P3+'Concert 5'!P3","v":0},{"$f":"W6/W4","v":{"$error":"#DIV/0!"}}]
[{"$f":"Données!N12","v":"00:00:00"},null,null,null,{"$f":"Données!N13","v":"00:00:00"},null,null,null,{"$f":"Données!N14","v":"00:00:00"},null,null,null,{"$f":"Données!N15","v":"00:00:00"},null,null,null,{"$f":"Données!N16","v":"00:00:00"},null,null,null,null,"accompagnateurs",{"$f":"C9+G9+K9+O9+S9","v":0},{"$f":"W7/W4","v":{"$error":"#DIV/0!"}}]
[null,"élèves présents",{"$f":"'Concert 1'!I2","v":0},null,null,"élèves présents",{"$f":"'Concert 2'!I2","v":0},null,null,"élèves présents",{"$f":"'Concert 3'!I2","v":0},null,null,"élèves présents",{"$f":"'Concert 4'!I2","v":0},null,null,"élèves présents",{"$f":"'Concert 5'!I2","v":0},null,null,"Nb de spectateurs",{"$f":"W4+W7","v":0}]
[null,"accompagnateurs",{"$f":"SUM('Concert 1'!O5,'Concert 1'!Q5,'Concert 1'!S5)","v":0},null,null,"accompagnateurs",{"$f":"SUM('Concert 2'!$O$5,'Concert 2'!$Q$5,'Concert 2'!$S$5)","v":0},null,null,"accompagnateurs",{"$f":"SUM('Concert 3'!$O$5,'Concert 3'!$Q$5,'Concert 3'!$S$5)","v":0},null,null,"accompagnateurs",{"$f":"SUM('Concert 4'!$O$5,'Concert 4'!$Q$5,'Concert 4'!$S$5)","v":0},null,null,"accompagnateurs",{"$f":"SUM('Concert 5'!$O$5,'Concert 5'!$Q$5,'Concert 5'!$S$5)","v":0}]
[null,"Total",{"$f":"C8+C9","v":0},null,null,"Total",{"$f":"G8+G9","v":0},null,null,"Total",{"$f":"K8+K9","v":0},null,null,"Total",{"$f":"O8+O9","v":0},null,null,"Total",{"$f":"S8+S9","v":0},null,"Charges",{"$f":"'Concert 1'!U28+'Concert 2'!U29+'Concert 3'!U28+'Concert 4'!U28+'Concert 5'!U28","v":0}]
[null,null,null,null,null,null,null,null,null,null,null,null,null,null,null,null,null,null,null,null,null,"Coûts de cessions :",{"$f":"'Concert 1'!U21+'Concert 2'!U22+'Concert 3'!U21+'Concert 4'!U21+'Concert 5'!U21","v":0}]
[null,null,null,null,null,null,null,null,null,null,null,null,null,null,null,null,null,null,null,null,null,"Frais de Régie :",{"$f":"'Concert 1'!U23+'Concert 2'!U24+'Concert 3'!U23+'Concert 4'!U23+'Concert 5'!U23","v":0}]
[null,null,null,null,null,null,null,null,null,null,null,null,null,null,null,null,null,null,null,null,null,"Locations :",{"$f":"SUM(C25,G25,K25,O25,S25)","v":0}]
[null,null,null,null,null,null,null,null,null,null,null,null,null,null,null,null,null,null,null,null,null,"Droits d'auteurs :",{"$f":"'Concert 1'!U25+'Concert 2'!U26+'Concert 3'!U25+'Concert 4'!U25+'Concert 5'!U25","v":0}]
[null,null,null,null,null,null,null,null,null,null,null,null,null,null,null,null,null,null,null,null,null,"Autre :",{"$f":"'Concert 1'!U26+'Concert 2'!U27+'Concert 3'!U26+'Concert 4'!U26+'Concert 5'!U26","v":0}]
[]
[null,null,null,null,null,null,null,null,null,null,null,null,null,null,null,null,null,null,null,null,"Produits",{"$f":"SUM(W18:W22)","v":0}]
[null,null,null,null,null,null,null,null,null,null,null,null,null,null,null,null,null,null,null,null,null,"Entrées",{"$f":"'Concert 1'!W28+'Concert 2'!W29+'Concert 3'!W28+'Concert 4'!W28+'Concert 5'!W28","v":0}]
[null,null,null,null,null,null,null,null,null,null,null,null,null,null,null,null,null,null,null,null,null,{"$f":"Données!B24","v":"Mairie"},{"$f":"Données!C24","v":0}]
[null,null,null,null,null,null,null,null,null,null,null,null,null,null,null,null,null,null,null,null,null,{"$f":"Données!B25","v":"Com Agglo"},{"$f":"Données!C25","v":0}]
[null,null,null,null,null,null,null,null,null,null,null,null,null,null,null,null,null,null,null,null,null,{"$f":"Données!B26","v":"Conseil Dép"},{"$f":"Données!C26","v":0}]
[null,null,null,null,null,null,null,null,null,null,null,null,null,null,null,null,null,null,null,null,null,{"$f":"Données!B27","v":"Autre"},{"$f":"Données!C27","v":0}]
[]
[null,"Bilan prévisionnel :",{"$f":"'Concert 1'!U31","v":0},null,null,"Bilan prévisionnel :",{"$f":"'Concert 2'!$U$32","v":0},null,null,"Bilan prévisionnel :",{"$f":"'Concert 3'!$U$31","v":0},null,null,"Bilan prévisionnel :",{"$f":"'Concert 4'!$W$30","v":0},null,null,"Bilan prévisionnel :",{"$f":"'Concert 5'!$U$31","v":0},null,"Résultat",{"$f":"V17-V10","v":0}]

{"sheet":"Mode d'emploi","index":4,"n_rows":125,"n_cols":5,"rows_kept":125,"cut":false,"hidden":false,"merged":[[4,0,13,0]]}
[null,null,null,"Cet outil est conçu pour la gestion des inscriptions des élèves aux concerts des JM France"]
[]
[null,null,null,"Un clic sur le logo JM France permet toujours de retourner à l'accueil de cette application."]
["Accueil"]
["Table des matières               cliquez sur la ligne de votre choix","Nouvelle saison",null,"Capacité de cet outil de gestion"]
[null,"Capacité de cet outil de gestion"]
[null,"Configuration",null,null,"Cette application est dimensionnée pour 5 dates au plus par saison et un maximum de 3 séances par date."]
[null,"Établissements scolaires"]
[null,"Gestion des fichiers"]
[null,"Saisie des inscriptions"]
[null,"Budgets prévisionnels",null,"Configuration"]
[null,"Fiches statistiques UNJM France"]
[null,"Synthèse par établissement",null,null,"En premier lieu, il convient de renseigner les données spécifiques à votre délégation ou association dans le menu Configuration."]
[null,"Tableau de bord"]
[null,null,null,null,"Les zones à renseigner sont toujours de la même couleur bleue. "]
[null,null,null,null,"Vous ne pourrez écrire que dans ces zones. Les autres plages sont protégées en écriture."]
[null,null,null,null,"Table des matières :"]
[]
[]
[null,null,null,"Établissements scolaires"]
[]
[null,null,null,null,"Vous devrez vous procurer, auprès de la DSDEN ou de votre conseiller.e pédagogique en Éducation musicale, un fichier regroupant la liste des établissements de votre secteur, voire de votre département."]
[]
[null,null,null,null,"La première colonne de ce fichier devra obligatoirement contenir le numéro RNE de l'établissement (Répertoire National des Établissements scolaires). Exemple : 0320154J"]
[]
[null,null,null,null,"La deuxième colonne devra obligatoirement contenir le nom des établissements scolaires."]
[]
[null,null,null,null,"La troisième colonne contiendra la circonscription à laquelle appartient l'école"]
[]
[null,null,null,null,"Le tableau que vous récupèrerez pourra comporter d'autres colonnes, dans l'orde que vous souhaitez."]
[]
[null,null,null,null,"Sur la page des établissements scolaires de cette application (bouton Écoles-Établissements de la page d'accueil), vous pourrez coller les trois premières colonnes de votre tableau. (copier/coller à partir du fichier récupéré, pour vous éviter une saisie fastidieuse).  Cette liste des établissements pourra être conservée d'année en année et être mise à jour, le cas échéant."]
[null,null,null,null,"Table des matières :"]
[]
[]
[]
[]
[null,null,null,"Saisie des inscriptions"]
[]
[null,null,null,null,"Pour la saisie des inscriptions, utiliser le bouton de la page d'accueil qui vous dirigera vers le concert que vous souhaitez."]
[]
[null,null,null,null,"Pour inscrire une école à un concert, il faut saisir le numéro RNE de cette école dans la première colonne. (ce numéro est dans votre liste des établissements, il apparaît également dans les adresses mail des écoles)."]
[]
[null,null,null,null,"Le nom de l'école s'inscrira tout seul."]
[]
[null,null,null,null,"En fonction des vœux des écoles, que vous aurez collectés, vous renseignerez, pour chaque inscription, les zones bleues de la ligne correspondante."]
[]
[null,null,null,null,"Vous inscrirez ensuite les élèves dans la zone \"répartion par séance\" en fonction des vœux des écoles ou de vos choix."]
[null,null,null,null,"Le nombre d'enfants par séance se calculera (en haut de colonne) au fur et à mesure de vos saisies."]
[]
[null,null,null,null,"Le jour du concert, vous pourrez saisir, dans cette même zone, le nombre d'accompagnateurs et ajuster le nombre d'élèves en fonction des présents."]
[]
[null,null,null,null,"Vous avez, à tout moment, la possibilité d'effectuer un tri alphabétique par établissement et par séance en utilisisant les boutons en tête de liste."]
[]
[null,null,null,null,"Table des matières :"]
[]
[null,null,null,"Budgets prévisionnels"]
[]
[null,null,null,null,"Pour chaque concert il apparaît, sur la droite, un budget prévisionnel qui se met à jour en fonction des inscriptions."]
[]
[null,null,null,null,"Vous pourrez, dans ce budget, renseigner les coûts des frais de régie, de location de salle, de droits d'auteurs et autres frais liés au concert."]
[]
[null,null,null,null,"Vous pourrez également saisir l'estimation de la recette d'un concert tous publics, le cas échéant."]
[null,null,null,null,"Table des matières :"]
[]
[null,null,null,"Fiches statistiques"]
[]
[null,null,null,null,"Vous pouvez accéder aux fiches statistiques de chaque concert à partir des boutons de la page d'accueil."]
[]
[null,null,null,null,"Ces fiches seront automatiquement remplies en fonction des inscriptions."]
[]
[null,null,null,null,"Attention, les nombres d'élèves pris en compte sont ceux que vous aurez saisis et mis à jour en fonction des présents dans la zone \"répartition par séance\"."]
[]
[null,null,null,null,"La partie basse du document correspondant à un éventuel concert tous public n'est pas complétée. Vous devrez renseigner le nombre de spectateurs pour chaque tarifs."]
[]
[null,null,null,null,"Il faudra ensuite imprimer la feuille (au format pdf, ajuster le contenu à une page) pour l'envoyer à l'UNJM France."]
[null,null,null,null,"Table des matières :"]
[]
[null,null,null,"Tableau de bord."]
[]
[null,null,null,null,"Le tableau de bord vous permet d'avoir, à tout moment, une vue d'ensemble des inscriptions aux concerts de votre programmation de saison."]
[null,null,null,null,"Table des matières :"]
[]
[]
[]
[null,null,null,"Gestion des fichiers"]
[]
[null,null,null,null,"Ce fichier Excel comporte des macros. Il est préférable d'utiliser une version qui en permette l'utilisation."]
[]
[null,null,null,null,"Les pages sont protégées pour éviter d'effacer des formules."]
[]
[null,null,null,null,"Vous ne devrez jamais ajouter ou supprimer une ligne ou une colonne."]
[]
[null,null,null,null,"A la première utilisation, à partir du fichier initial, ouvert avec Excel, vous devrez tout de suite enregistrer, en le renommant, un fichier qui sera votre outil de travail :   Ouvrir le fichier initial puis enregistrer sous un nom que vous choisirez."]
[]
[null,null,null,null,"Pour toutes les autres utilisations, utilisez le fichier que vous avez personnalisé et faites régulièrement des enregistrements de votre travail (Menu Fichier puis enregistrer ou clic sur le logo du disque, en haut à gauche de l'écran.)"]
[]
[null,null,null,null,"Régulièrement, il est conseillé de faire un fichier de sauvegarde. Mais vous devrez toujour travailler sur le même fichier. "]
[]
[null,null,null,null,"Il est pratique de se créer un raccourci, sur le bureau, vers votre fichier de travail. Pour cela, utilisez le gestionnaire de fichier. Vous vous placez dans le dossier qui contient votre fichier de travail. Faites un clic droit sur votre fichier de gestion des inscriptions. Dans le menu contextuel qui apparaît, choisissez \"envoyer vers : le bureau. Un raccourci vers votre fichier de travail sera alors présent sur votre bureau."]
[null,null,null,null,"Table des matières :"]
[]
[]
[null,null,null,"Synthèse par établissement"]
[]
[null,null,null,null,"cette page Synthèse vous permet de visualiser l'ensemble des inscriptions de l'année , tous concerts confondus mais également pour chaque concert."]
[]
[]
[]
[]
[null,null,null,null,"Table des matières :"]
[]
[]
[]
[null,null,null,"Nouvelle saison"]
[]
[null,null,null,1,"Avant de commencer une nouvelle saison, il est préférable de télécharger le fichier vierge disponible dans les ressources de l'UNJM FRance. "]
[]
[null,null,null,2,"Dans \"Configuration\" vous devrez actualiser vos données (Noms des concerts, horaires des séances, salles, dates,coût de cession, tarifs, …)"]
[null,null,null,null,"Vérifiez et actualisez toutes les zones bleues."]
[]
[null,null,null,3,"Vous devrez également renseigner la page Établissements scolaires. Pour cela vous pouvez effectuer un copier-coller du tableau de l'année précédente s'il n'y a pas eu de changement."]
[]
[]
[null,null,null,null,"Table des matières :"]

{"sheet":"Concert 1","index":5,"n_rows":56,"n_cols":23,"rows_kept":56,"cut":false,"hidden":false,"merged":[[0,4,0,6],[18,19,18,20],[18,21,18,22],[6,12,7,12],[3,13,3,18]]}
[null,null,null,null,{"$f":"Données!D12","v":0},null,null,"Inscrits","Présents"]
[null,null,null,null,null,null,null,{"$f":"SUM(I9:I56)","v":0},{"$f":"SUM(J9:J56)","v":0},null,null,null,null,null,"1er degré :",{"$f":"(SUM($J$9:$J$56)-SUMIF($G$9:$G$56,\"Clg Lyc\",$J$9:$J$56))","v":0},"élèves"]
[null,null,null,null,null,{"$f":"Données!N12","v":"00:00:00"},null,null,null,null,null,null,null,null,"Clg Lyc :",{"$f":"SUMIF($G$9:$G$56,\"Clg Lyc\",$J$9:$J$56)","v":0},"élèves"]
[null,null,null,null,null,null,null,"Variation I/P :",{"$f":"I2-H2","v":0},{"$f":"I4/H2","v":{"$error":"#DIV/0!"}},null,null,null,"Répartition par séance"]
[null,null,null,null,"Accueil",{"$f":"Données!L12","v":0},null,null,null,null,null,null,"Nb d'élèves et acc :",{"$f":"SUMIF($M$9:$M$56,\"\",N9:N56)","v":0},{"$f":"SUMIF($M$9:$M$56,\"\",O9:O56)","v":0},0,0,0,0]
[null,null,null,null,null,null,null,null,null,null,null,null,null,{"$f":"Données!F12","v":0},null,{"$f":"Données!G12","v":0},null,{"$f":"Données!H12","v":0}]
[null,null,null,null,null,"Établissements","Public","Classes","Nb él   inscrits","Nb él présents","Matin","Après midi",null,"Matin         1","Nb Acc","Matin         2","Nb Acc","Après-midi","Nb Acc"]
[]
[{"$f":"IF(E9<>0,\"x\",\"\")","v":""},{"$f":"IF(N9<>0,\"x\",\"\")","v":""},{"$f":"IF(P9<>0,\"x\",\"\")","v":""},{"$f":"IF(R9<>0,\"x\",\"\")","v":""},null,{"$f":"IF(E9=\"\",\"\",VLOOKUP(E9,Ecoles!$A$3:$M$242,2,FALSE))","v":""},null,null,null,{"$f":"N9+P9+R9","v":0}]
["","","","",null,{"$f":"IF(E10=\"\",\"\",VLOOKUP(E10,Ecoles!$A$3:$M$242,2,FALSE))","v":""},null,null,null,0]
["","","","",null,{"$f":"IF(E11=\"\",\"\",VLOOKUP(E11,Ecoles!$A$3:$M$242,2,FALSE))","v":""},null,null,null,0]
["","","","",null,{"$f":"IF(E12=\"\",\"\",VLOOKUP(E12,Ecoles!$A$3:$M$242,2,FALSE))","v":""},null,null,null,0]
["","","","",null,{"$f":"IF(E13=\"\",\"\",VLOOKUP(E13,Ecoles!$A$3:$M$242,2,FALSE))","v":""},null,null,null,0]
["","","","",null,{"$f":"IF(E14=\"\",\"\",VLOOKUP(E14,Ecoles!$A$3:$M$242,2,FALSE))","v":""},null,null,null,0]
["","","","",null,{"$f":"IF(E15=\"\",\"\",VLOOKUP(E15,Ecoles!$A$3:$M$242,2,FALSE))","v":""},null,null,null,0]
["","","","",null,{"$f":"IF(E16=\"\",\"\",VLOOKUP(E16,Ecoles!$A$3:$M$242,2,FALSE))","v":""},null,null,null,0]
["","","","",null,{"$f":"IF(E17=\"\",\"\",VLOOKUP(E17,Ecoles!$A$3:$M$242,2,FALSE))","v":""},null,null,null,0]
["","","","",null,{"$f":"IF(E18=\"\",\"\",VLOOKUP(E18,Ecoles!$A$3:$M$242,2,FALSE))","v":""},null,null,null,0]
["","","","",null,{"$f":"IF(E19=\"\",\"\",VLOOKUP(E19,Ecoles!$A$3:$M$242,2,FALSE))","v":""},null,null,null,0,null,null,null,null,null,null,null,null,null,"Charges",null,"Produits"]
["","","","",null,{"$f":"IF(E20=\"\",\"\",VLOOKUP(E20,Ecoles!$A$3:$M$242,2,FALSE))","v":""},null,null,null,0]
["","","","",null,{"$f":"IF(E21=\"\",\"\",VLOOKUP(E21,Ecoles!$A$3:$M$242,2,FALSE))","v":""},null,null,null,0,null,null,null,null,null,null,null,null,null,"Coût de cession",{"$f":"ROUND(Données!O12*0.9,-1)","v":0},"Entrées 1er degré",{"$f":"(SUM($J$9:$J$56)-SUMIF($G$9:$G$56,\"Clg Lyc\",$J$9:$J$56))*Données!M24","v":0}]
["","","","",null,{"$f":"IF(E22=\"\",\"\",VLOOKUP(E22,Ecoles!$A$3:$M$242,2,FALSE))","v":""},null,null,null,0]
["","","","",null,{"$f":"IF(E23=\"\",\"\",VLOOKUP(E23,Ecoles!$A$3:$M$242,2,FALSE))","v":""},null,null,null,0,null,null,null,null,null,null,null,null,null,"Régie",null,"Entrées 2nd degré",{"$f":"SUMIF($G$9:$G$56,\"Clg Lyc\",$J$9:$J$56)*Données!M25","v":0}]
["","","","",null,{"$f":"IF(E24=\"\",\"\",VLOOKUP(E24,Ecoles!$A$3:$M$242,2,FALSE))","v":""},null,null,null,0,null,null,null,null,null,null,null,null,null,"Location"]
["","","","",null,{"$f":"IF(E25=\"\",\"\",VLOOKUP(E25,Ecoles!$A$3:$M$242,2,FALSE))","v":""},null,null,null,0,null,null,null,null,null,null,null,null,null,"Droits d'auteurs"]
["","","","",null,{"$f":"IF(E26=\"\",\"\",VLOOKUP(E26,Ecoles!$A$3:$M$242,2,FALSE))","v":""},null,null,null,0,null,null,null,null,null,null,null,null,null,"Autre",null,"Tout public"]
["","","","",null,{"$f":"IF(E27=\"\",\"\",VLOOKUP(E27,Ecoles!$A$3:$M$242,2,FALSE))","v":""},null,null,null,0]
["","","","",null,{"$f":"IF(E28=\"\",\"\",VLOOKUP(E28,Ecoles!$A$3:$M$242,2,FALSE))","v":""},null,null,null,0,null,null,null,null,null,null,null,null,null,"Total",{"$f":"SUM(U21:U27)","v":0},"Total",{"$f":"SUM(W21:W26)","v":0}]
["","","","",null,{"$f":"IF(E29=\"\",\"\",VLOOKUP(E29,Ecoles!$A$3:$M$242,2,FALSE))","v":""},null,null,null,0]
["","","","",null,{"$f":"IF(E30=\"\",\"\",VLOOKUP(E30,Ecoles!$A$3:$M$242,2,FALSE))","v":""},null,null,null,0]
["","","","",null,{"$f":"IF(E31=\"\",\"\",VLOOKUP(E31,Ecoles!$A$3:$M$242,2,FALSE))","v":""},null,null,null,0,null,null,null,null,null,null,null,null,null,"Bilan ",{"$f":"W28-U28","v":0}]
["","","","",null,{"$f":"IF(E32=\"\",\"\",VLOOKUP(E32,Ecoles!$A$3:$M$242,2,FALSE))","v":""},null,null,null,0]
["","","","",null,{"$f":"IF(E33=\"\",\"\",VLOOKUP(E33,Ecoles!$A$3:$M$242,2,FALSE))","v":""},null,null,null,0]
["","","","",null,{"$f":"IF(E34=\"\",\"\",VLOOKUP(E34,Ecoles!$A$3:$M$242,2,FALSE))","v":""},null,null,null,0]
["","","","",null,{"$f":"IF(E35=\"\",\"\",VLOOKUP(E35,Ecoles!$A$3:$M$242,2,FALSE))","v":""},null,null,null,0]
["","","","",null,{"$f":"IF(E36=\"\",\"\",VLOOKUP(E36,Ecoles!$A$3:$M$242,2,FALSE))","v":""},null,null,null,0]
["","","","",null,{"$f":"IF(E37=\"\",\"\",VLOOKUP(E37,Ecoles!$A$3:$M$242,2,FALSE))","v":""},null,null,null,0]
["","","","",null,{"$f":"IF(E38=\"\",\"\",VLOOKUP(E38,Ecoles!$A$3:$M$242,2,FALSE))","v":""},null,null,null,0]
["","","","",null,{"$f":"IF(E39=\"\",\"\",VLOOKUP(E39,Ecoles!$A$3:$M$242,2,FALSE))","v":""},null,null,null,0]
["","","","",null,{"$f":"IF(E40=\"\",\"\",VLOOKUP(E40,Ecoles!$A$3:$M$242,2,FALSE))","v":""},null,null,null,0]
["","","","",null,{"$f":"IF(E41=\"\",\"\",VLOOKUP(E41,Ecoles!$A$3:$M$242,2,FALSE))","v":""},null,null,null,0]
["","","","",null,{"$f":"IF(E42=\"\",\"\",VLOOKUP(E42,Ecoles!$A$3:$M$242,2,FALSE))","v":""},null,null,null,0]
["","","","",null,{"$f":"IF(E43=\"\",\"\",VLOOKUP(E43,Ecoles!$A$3:$M$242,2,FALSE))","v":""},null,null,null,0]
["","","","",null,{"$f":"IF(E44=\"\",\"\",VLOOKUP(E44,Ecoles!$A$3:$M$242,2,FALSE))","v":""},null,null,null,0]
["","","","",null,{"$f":"IF(E45=\"\",\"\",VLOOKUP(E45,Ecoles!$A$3:$M$242,2,FALSE))","v":""},null,null,null,0]
["","","","",null,{"$f":"IF(E46=\"\",\"\",VLOOKUP(E46,Ecoles!$A$3:$M$242,2,FALSE))","v":""},null,null,null,0]
["","","","",null,{"$f":"IF(E47=\"\",\"\",VLOOKUP(E47,Ecoles!$A$3:$M$242,2,FALSE))","v":""},null,null,null,0]
["","","","",null,{"$f":"IF(E48=\"\",\"\",VLOOKUP(E48,Ecoles!$A$3:$M$242,2,FALSE))","v":""},null,null,null,0]
["","","","",null,{"$f":"IF(E49=\"\",\"\",VLOOKUP(E49,Ecoles!$A$3:$M$242,2,FALSE))","v":""},null,null,null,0]
["","","","",null,{"$f":"IF(E50=\"\",\"\",VLOOKUP(E50,Ecoles!$A$3:$M$242,2,FALSE))","v":""},null,null,null,0]
["","","","",null,{"$f":"IF(E51=\"\",\"\",VLOOKUP(E51,Ecoles!$A$3:$M$242,2,FALSE))","v":""},null,null,null,0]
["","","","",null,{"$f":"IF(E52=\"\",\"\",VLOOKUP(E52,Ecoles!$A$3:$M$242,2,FALSE))","v":""},null,null,null,0]
["","","","",null,{"$f":"IF(E53=\"\",\"\",VLOOKUP(E53,Ecoles!$A$3:$M$242,2,FALSE))","v":""},null,null,null,0]
["","","","",null,{"$f":"IF(E54=\"\",\"\",VLOOKUP(E54,Ecoles!$A$3:$M$242,2,FALSE))","v":""},null,null,null,0]
["","","","",null,{"$f":"IF(E55=\"\",\"\",VLOOKUP(E55,Ecoles!$A$3:$M$242,2,FALSE))","v":""},null,null,null,0]
["","","","",null,{"$f":"IF(E56=\"\",\"\",VLOOKUP(E56,Ecoles!$A$3:$M$242,2,FALSE))","v":""},null,null,null,0]

{"sheet":"Concert 2","index":6,"n_rows":56,"n_cols":23,"rows_kept":56,"cut":false,"hidden":false,"merged":[[0,4,0,6],[19,19,19,20],[19,21,19,22],[6,4,6,5],[6,12,7,12],[3,13,3,18]]}
[null,null,null,null,{"$f":"Données!D13","v":0},null,null,"Inscrits","Présents"]
[null,null,null,null,null,null,null,{"$f":"SUM(I9:I56)","v":0},{"$f":"SUM(J9:J56)","v":0},null,null,null,null,null,"1er degré :",{"$f":"(SUM($J$9:$J$56)-SUMIF($G$9:$G$56,\"Clg Lyc\",$J$9:$J$56))","v":0},"élèves"]
[null,null,null,null,null,{"$f":"Données!N13","v":"00:00:00"},null,null,null,null,null,null,null,null,"Clg Lyc :",{"$f":"SUMIF($G$9:$G$56,\"Clg Lyc\",$J$9:$J$56)","v":0},"élèves"]
[null,null,null,null,null,null,null,"Variation I/P :",{"$f":"I2-H2","v":0},{"$f":"I4/H2","v":{"$error":"#DIV/0!"}},null,null,null,"Répartition par séance"]
[null,null,null,null,"Accueil",{"$f":"Données!L13","v":0},null,null,null,null,null,null,"Nb d'élèves et acc :",{"$f":"SUMIF($M$9:$M$56,\"\",N9:N56)","v":0},{"$f":"SUMIF($M$9:$M$56,\"\",O9:O56)","v":0},0,0,0,0]
[null,null,null,null,null,null,null,null,null,null,null,null,null,{"$f":"Données!F13","v":0},null,{"$f":"Données!G13","v":0},null,{"$f":"Données!H13","v":0}]
[null,null,null,null,"Établissement",null,"Public","Classes","Nb él   inscrits","Nb él présents","9h30","11h00",null,"Matin         1","Nb Acc","Matin         2","Nb Acc","Après-midi","Nb Acc"]
[]
[{"$f":"IF(E9<>0,\"x\",\"\")","v":""},{"$f":"IF(N9<>0,\"x\",\"\")","v":""},{"$f":"IF(P9<>0,\"x\",\"\")","v":""},{"$f":"IF(R9<>0,\"x\",\"\")","v":""},null,{"$f":"IF(E9=\"\",\"\",VLOOKUP(E9,Ecoles!$A$3:$M$242,2,FALSE))","v":""},null,null,null,{"$f":"N9+P9+R9","v":0}]
["","","","",null,{"$f":"IF(E10=\"\",\"\",VLOOKUP(E10,Ecoles!$A$3:$M$242,2,FALSE))","v":""},null,null,null,0]
["","","","",null,{"$f":"IF(E11=\"\",\"\",VLOOKUP(E11,Ecoles!$A$3:$M$242,2,FALSE))","v":""},null,null,null,0]
["","","","",null,{"$f":"IF(E12=\"\",\"\",VLOOKUP(E12,Ecoles!$A$3:$M$242,2,FALSE))","v":""},null,null,null,0]
["","","","",null,{"$f":"IF(E13=\"\",\"\",VLOOKUP(E13,Ecoles!$A$3:$M$242,2,FALSE))","v":""},null,null,null,0]
["","","","",null,{"$f":"IF(E14=\"\",\"\",VLOOKUP(E14,Ecoles!$A$3:$M$242,2,FALSE))","v":""},null,null,null,0]
["","","","",null,{"$f":"IF(E15=\"\",\"\",VLOOKUP(E15,Ecoles!$A$3:$M$242,2,FALSE))","v":""},null,null,null,0]
["","","","",null,{"$f":"IF(E16=\"\",\"\",VLOOKUP(E16,Ecoles!$A$3:$M$242,2,FALSE))","v":""},null,null,null,0]
["","","","",null,{"$f":"IF(E17=\"\",\"\",VLOOKUP(E17,Ecoles!$A$3:$M$242,2,FALSE))","v":""},null,null,null,0]
["","","","",null,{"$f":"IF(E18=\"\",\"\",VLOOKUP(E18,Ecoles!$A$3:$M$242,2,FALSE))","v":""},null,null,null,0]
["","","","",null,{"$f":"IF(E19=\"\",\"\",VLOOKUP(E19,Ecoles!$A$3:$M$242,2,FALSE))","v":""},null,null,null,0]
["","","","",null,{"$f":"IF(E20=\"\",\"\",VLOOKUP(E20,Ecoles!$A$3:$M$242,2,FALSE))","v":""},null,null,null,0,null,null,null,null,null,null,null,null,null,"Charges",null,"Produits"]
["","","","",null,{"$f":"IF(E21=\"\",\"\",VLOOKUP(E21,Ecoles!$A$3:$M$242,2,FALSE))","v":""},null,null,null,0]
["","","","",null,{"$f":"IF(E22=\"\",\"\",VLOOKUP(E22,Ecoles!$A$3:$M$242,2,FALSE))","v":""},null,null,null,0,null,null,null,null,null,null,null,null,null,"Coût de cession",{"$f":"ROUND(Données!O13*0.9,-1)","v":0},"Entrées 1er degré",{"$f":"(SUM(J9:J56)-SUMIF($G$9:$G$56,\"Clg Lyc\",J9:J56))*Données!M24","v":0}]
["","","","",null,{"$f":"IF(E23=\"\",\"\",VLOOKUP(E23,Ecoles!$A$3:$M$242,2,FALSE))","v":""},null,null,null,0]
["","","","",null,{"$f":"IF(E24=\"\",\"\",VLOOKUP(E24,Ecoles!$A$3:$M$242,2,FALSE))","v":""},null,null,null,0,null,null,null,null,null,null,null,null,null,"Régie",null,"Entrées 2nd degré",{"$f":"SUMIF($G$9:$G$56,\"Clg Lyc\",J9:J56)*Données!M25","v":0}]
["","","","",null,{"$f":"IF(E25=\"\",\"\",VLOOKUP(E25,Ecoles!$A$3:$M$242,2,FALSE))","v":""},null,null,null,0,null,null,null,null,null,null,null,null,null,"Location"]
["","","","",null,{"$f":"IF(E26=\"\",\"\",VLOOKUP(E26,Ecoles!$A$3:$M$242,2,FALSE))","v":""},null,null,null,0,null,null,null,null,null,null,null,null,null,"Droits d'auteurs"]
["","","","",null,{"$f":"IF(E27=\"\",\"\",VLOOKUP(E27,Ecoles!$A$3:$M$242,2,FALSE))","v":""},null,null,null,0,null,null,null,null,null,null,null,null,null,"Autre",null,"Tout Public"]
["","","","",null,{"$f":"IF(E28=\"\",\"\",VLOOKUP(E28,Ecoles!$A$3:$M$242,2,FALSE))","v":""},null,null,null,0]
["","","","",null,{"$f":"IF(E29=\"\",\"\",VLOOKUP(E29,Ecoles!$A$3:$M$242,2,FALSE))","v":""},null,null,null,0,null,null,null,null,null,null,null,null,null,"Total",{"$f":"SUM(U22:U28)","v":0},"Total",{"$f":"SUM(W22:W27)","v":0}]
["","","","",null,{"$f":"IF(E30=\"\",\"\",VLOOKUP(E30,Ecoles!$A$3:$M$242,2,FALSE))","v":""},null,null,null,0]
["","","","",null,{"$f":"IF(E31=\"\",\"\",VLOOKUP(E31,Ecoles!$A$3:$M$242,2,FALSE))","v":""},null,null,null,0]
["","","","",null,{"$f":"IF(E32=\"\",\"\",VLOOKUP(E32,Ecoles!$A$3:$M$242,2,FALSE))","v":""},null,null,null,0,null,null,null,null,null,null,null,null,null,"Bilan ",{"$f":"W29-U29","v":0}]
["","","","",null,{"$f":"IF(E33=\"\",\"\",VLOOKUP(E33,Ecoles!$A$3:$M$242,2,FALSE))","v":""},null,null,null,0]
["","","","",null,{"$f":"IF(E34=\"\",\"\",VLOOKUP(E34,Ecoles!$A$3:$M$242,2,FALSE))","v":""},null,null,null,0]
["","","","",null,{"$f":"IF(E35=\"\",\"\",VLOOKUP(E35,Ecoles!$A$3:$M$242,2,FALSE))","v":""},null,null,null,0]
["","","","",null,{"$f":"IF(E36=\"\",\"\",VLOOKUP(E36,Ecoles!$A$3:$M$242,2,FALSE))","v":""},null,null,null,0]
["","","","",null,{"$f":"IF(E37=\"\",\"\",VLOOKUP(E37,Ecoles!$A$3:$M$242,2,FALSE))","v":""},null,null,null,0]
["","","","",null,{"$f":"IF(E38=\"\",\"\",VLOOKUP(E38,Ecoles!$A$3:$M$242,2,FALSE))","v":""},null,null,null,0]
["","","","",null,{"$f":"IF(E39=\"\",\"\",VLOOKUP(E39,Ecoles!$A$3:$M$242,2,FALSE))","v":""},null,null,null,0]
["","","","",null,{"$f":"IF(E40=\"\",\"\",VLOOKUP(E40,Ecoles!$A$3:$M$242,2,FALSE))","v":""},null,null,null,0]
["","","","",null,{"$f":"IF(E41=\"\",\"\",VLOOKUP(E41,Ecoles!$A$3:$M$242,2,FALSE))","v":""},null,null,null,0]
["","","","",null,{"$f":"IF(E42=\"\",\"\",VLOOKUP(E42,Ecoles!$A$3:$M$242,2,FALSE))","v":""},null,null,null,0]
["","","","",null,{"$f":"IF(E43=\"\",\"\",VLOOKUP(E43,Ecoles!$A$3:$M$242,2,FALSE))","v":""},null,null,null,0]
["","","","",null,{"$f":"IF(E44=\"\",\"\",VLOOKUP(E44,Ecoles!$A$3:$M$242,2,FALSE))","v":""},null,null,null,0]
["","","","",null,{"$f":"IF(E45=\"\",\"\",VLOOKUP(E45,Ecoles!$A$3:$M$242,2,FALSE))","v":""},null,null,null,0]
["","","","",null,{"$f":"IF(E46=\"\",\"\",VLOOKUP(E46,Ecoles!$A$3:$M$242,2,FALSE))","v":""},null,null,null,0]
["","","","",null,{"$f":"IF(E47=\"\",\"\",VLOOKUP(E47,Ecoles!$A$3:$M$242,2,FALSE))","v":""},null,null,null,0]
["","","","",null,{"$f":"IF(E48=\"\",\"\",VLOOKUP(E48,Ecoles!$A$3:$M$242,2,FALSE))","v":""},null,null,null,0]
["","","","",null,{"$f":"IF(E49=\"\",\"\",VLOOKUP(E49,Ecoles!$A$3:$M$242,2,FALSE))","v":""},null,null,null,0]
["","","","",null,{"$f":"IF(E50=\"\",\"\",VLOOKUP(E50,Ecoles!$A$3:$M$242,2,FALSE))","v":""},null,null,null,0]
["","","","",null,{"$f":"IF(E51=\"\",\"\",VLOOKUP(E51,Ecoles!$A$3:$M$242,2,FALSE))","v":""},null,null,null,0]
["","","","",null,{"$f":"IF(E52=\"\",\"\",VLOOKUP(E52,Ecoles!$A$3:$M$242,2,FALSE))","v":""},null,null,null,0]
["","","","",null,{"$f":"IF(E53=\"\",\"\",VLOOKUP(E53,Ecoles!$A$3:$M$242,2,FALSE))","v":""},null,null,null,0]
["","","","",null,{"$f":"IF(E54=\"\",\"\",VLOOKUP(E54,Ecoles!$A$3:$M$242,2,FALSE))","v":""},null,null,null,0]
["","","","",null,{"$f":"IF(E55=\"\",\"\",VLOOKUP(E55,Ecoles!$A$3:$M$242,2,FALSE))","v":""},null,null,null,0]
["","","","",null,{"$f":"IF(E56=\"\",\"\",VLOOKUP(E56,Ecoles!$A$3:$M$242,2,FALSE))","v":""},null,null,null,0]

{"sheet":"Concert 3","index":7,"n_rows":56,"n_cols":25,"rows_kept":56,"cut":false,"hidden":false,"merged":[[0,4,0,6],[18,19,18,20],[18,21,18,22],[6,4,6,5],[6,12,7,12],[3,13,3,18]]}
[null,null,null,null,{"$f":"Données!D14","v":0},null,null,"Inscrits","Présents"]
[null,null,null,null,null,null,null,{"$f":"SUM(I9:I56)","v":0},{"$f":"SUM(J9:J56)","v":0},null,null,null,null,null,"1er degré :",{"$f":"(SUM($J$9:$J$56)-SUMIF($G$9:$G$56,\"Clg Lyc\",$J$9:$J$56))","v":0},"élèves"]
[null,null,null,null,null,{"$f":"Données!N14","v":"00:00:00"},null,null,null,null,null,null,null,null,"Clg Lyc :",{"$f":"SUMIF($G$9:$G$56,\"Clg Lyc\",$J$9:$J$56)","v":0},"élèves"]
[null,null,null,null,null,null,null,"Variation I/P :",{"$f":"I2-H2","v":0},{"$f":"I4/H2","v":{"$error":"#DIV/0!"}},null,null,null,"Répartition par séance"]
[null,null,null,null,"Accueil",{"$f":"Données!L14","v":0},null,null,null,null,null,null,"Nb d'élèves et acc :",{"$f":"SUMIF($M$9:$M$56,\"\",N9:N56)","v":0},{"$f":"SUMIF($M$9:$M$56,\"\",O9:O56)","v":0},0,0,0,0]
[null,null,null,null,null,null,null,null,null,null,null,null,null,{"$f":"Données!F14","v":0},null,{"$f":"Données!G14","v":0},null,{"$f":"Données!H14","v":0}]
[null,null,null,null,"Établissement",null,"Public","Classes","Nb él   inscrits","Nb él présents","Matin","Après midi",null,"Matin         1","Nb Acc","Matin         2","Nb Acc","Après-midi","Nb Acc"]
[]
[{"$f":"IF(E9<>0,\"x\",\"\")","v":""},{"$f":"IF(N9<>0,\"x\",\"\")","v":""},{"$f":"IF(P9<>0,\"x\",\"\")","v":""},{"$f":"IF(R9<>0,\"x\",\"\")","v":""},null,{"$f":"IF(E9=\"\",\"\",VLOOKUP(E9,Ecoles!$A$3:$M$242,2,FALSE))","v":""},null,null,null,{"$f":"N9+P9+R9","v":0}]
["","","","",null,{"$f":"IF(E10=\"\",\"\",VLOOKUP(E10,Ecoles!$A$3:$M$242,2,FALSE))","v":""},null,null,null,0]
["","","","",null,{"$f":"IF(E11=\"\",\"\",VLOOKUP(E11,Ecoles!$A$3:$M$242,2,FALSE))","v":""},null,null,null,0]
["","","","",null,{"$f":"IF(E12=\"\",\"\",VLOOKUP(E12,Ecoles!$A$3:$M$242,2,FALSE))","v":""},null,null,null,0,null,null,null,null,null,null,null,null,null,null,null,null,null,null," "]
["","","","",null,{"$f":"IF(E13=\"\",\"\",VLOOKUP(E13,Ecoles!$A$3:$M$242,2,FALSE))","v":""},null,null,null,0]
["","","","",null,{"$f":"IF(E14=\"\",\"\",VLOOKUP(E14,Ecoles!$A$3:$M$242,2,FALSE))","v":""},null,null,null,0]
["","","","",null,{"$f":"IF(E15=\"\",\"\",VLOOKUP(E15,Ecoles!$A$3:$M$242,2,FALSE))","v":""},null,null,null,0]
["","","","",null,{"$f":"IF(E16=\"\",\"\",VLOOKUP(E16,Ecoles!$A$3:$M$242,2,FALSE))","v":""},null,null,null,0]
["","","","",null,{"$f":"IF(E17=\"\",\"\",VLOOKUP(E17,Ecoles!$A$3:$M$242,2,FALSE))","v":""},null,null,null,0]
["","","","",null,{"$f":"IF(E18=\"\",\"\",VLOOKUP(E18,Ecoles!$A$3:$M$242,2,FALSE))","v":""},null,null,null,0]
["","","","",null,{"$f":"IF(E19=\"\",\"\",VLOOKUP(E19,Ecoles!$A$3:$M$242,2,FALSE))","v":""},null,null,null,0,null,null,null,null,null,null,null,null,null,"Charges",null,"Produits"]
["","","","",null,{"$f":"IF(E20=\"\",\"\",VLOOKUP(E20,Ecoles!$A$3:$M$242,2,FALSE))","v":""},null,null,null,0]
["","","","",null,{"$f":"IF(E21=\"\",\"\",VLOOKUP(E21,Ecoles!$A$3:$M$242,2,FALSE))","v":""},null,null,null,0,null,null,null,null,null,null,null,null,null,"Coût de cession",{"$f":"ROUND(Données!O14*0.9,-1)","v":0},"Entrées 1er degré",{"$f":"(SUM($J$9:$J$56)-SUMIF($G$9:$G$56,\"Clg Lyc\",$J$9:$J$56))*Données!M24","v":0}]
["","","","",null,{"$f":"IF(E22=\"\",\"\",VLOOKUP(E22,Ecoles!$A$3:$M$242,2,FALSE))","v":""},null,null,null,0]
["","","","",null,{"$f":"IF(E23=\"\",\"\",VLOOKUP(E23,Ecoles!$A$3:$M$242,2,FALSE))","v":""},null,null,null,0,null,null,null,null,null,null,null,null,null,"Régie",null,"Entrées 2nd degré",{"$f":"SUMIF($G$9:$G$56,\"Clg Lyc\",$J$9:$J$56)*Données!M25","v":0}]
["","","","",null,{"$f":"IF(E24=\"\",\"\",VLOOKUP(E24,Ecoles!$A$3:$M$242,2,FALSE))","v":""},null,null,null,0,null,null,null,null,null,null,null,null,null,"Location"]
["","","","",null,{"$f":"IF(E25=\"\",\"\",VLOOKUP(E25,Ecoles!$A$3:$M$242,2,FALSE))","v":""},null,null,null,0,null,null,null,null,null,null,null,null,null,"Droits d'auteurs"]
["","","","",null,{"$f":"IF(E26=\"\",\"\",VLOOKUP(E26,Ecoles!$A$3:$M$242,2,FALSE))","v":""},null,null,null,0,null,null,null,null,null,null,null,null,null,"Autre",null,"Tout public"]
["","","","",null,{"$f":"IF(E27=\"\",\"\",VLOOKUP(E27,Ecoles!$A$3:$M$242,2,FALSE))","v":""},null,null,null,0]
["","","","",null,{"$f":"IF(E28=\"\",\"\",VLOOKUP(E28,Ecoles!$A$3:$M$242,2,FALSE))","v":""},null,null,null,0,null,null,null,null,null,null,null,null,null,"Total",{"$f":"SUM(U21:U27)","v":0},"Total",{"$f":"SUM(W21:W26)","v":0}]
["","","","",null,{"$f":"IF(E29=\"\",\"\",VLOOKUP(E29,Ecoles!$A$3:$M$242,2,FALSE))","v":""},null,null,null,0]
["","","","",null,{"$f":"IF(E30=\"\",\"\",VLOOKUP(E30,Ecoles!$A$3:$M$242,2,FALSE))","v":""},null,null,null,0]
["","","","",null,{"$f":"IF(E31=\"\",\"\",VLOOKUP(E31,Ecoles!$A$3:$M$242,2,FALSE))","v":""},null,null,null,0,null,null,null,null,null,null,null,null,null,"Bilan ",{"$f":"W28-U28","v":0}]
["","","","",null,{"$f":"IF(E32=\"\",\"\",VLOOKUP(E32,Ecoles!$A$3:$M$242,2,FALSE))","v":""},null,null,null,0]
["","","","",null,{"$f":"IF(E33=\"\",\"\",VLOOKUP(E33,Ecoles!$A$3:$M$242,2,FALSE))","v":""},null,null,null,0]
["","","","",null,{"$f":"IF(E34=\"\",\"\",VLOOKUP(E34,Ecoles!$A$3:$M$242,2,FALSE))","v":""},null,null,null,0]
["","","","",null,{"$f":"IF(E35=\"\",\"\",VLOOKUP(E35,Ecoles!$A$3:$M$242,2,FALSE))","v":""},null,null,null,0]
["","","","",null,{"$f":"IF(E36=\"\",\"\",VLOOKUP(E36,Ecoles!$A$3:$M$242,2,FALSE))","v":""},null,null,null,0]
["","","","",null,{"$f":"IF(E37=\"\",\"\",VLOOKUP(E37,Ecoles!$A$3:$M$242,2,FALSE))","v":""},null,null,null,0]
["","","","",null,{"$f":"IF(E38=\"\",\"\",VLOOKUP(E38,Ecoles!$A$3:$M$242,2,FALSE))","v":""},null,null,null,0]
["","","","",null,{"$f":"IF(E39=\"\",\"\",VLOOKUP(E39,Ecoles!$A$3:$M$242,2,FALSE))","v":""},null,null,null,0]
["","","","",null,{"$f":"IF(E40=\"\",\"\",VLOOKUP(E40,Ecoles!$A$3:$M$242,2,FALSE))","v":""},null,null,null,0]
["","","","",null,{"$f":"IF(E41=\"\",\"\",VLOOKUP(E41,Ecoles!$A$3:$M$242,2,FALSE))","v":""},null,null,null,0]
["","","","",null,{"$f":"IF(E42=\"\",\"\",VLOOKUP(E42,Ecoles!$A$3:$M$242,2,FALSE))","v":""},null,null,null,0]
["","","","",null,{"$f":"IF(E43=\"\",\"\",VLOOKUP(E43,Ecoles!$A$3:$M$242,2,FALSE))","v":""},null,null,null,0]
["","","","",null,{"$f":"IF(E44=\"\",\"\",VLOOKUP(E44,Ecoles!$A$3:$M$242,2,FALSE))","v":""},null,null,null,0]
["","","","",null,{"$f":"IF(E45=\"\",\"\",VLOOKUP(E45,Ecoles!$A$3:$M$242,2,FALSE))","v":""},null,null,null,0]
["","","","",null,{"$f":"IF(E46=\"\",\"\",VLOOKUP(E46,Ecoles!$A$3:$M$242,2,FALSE))","v":""},null,null,null,0]
["","","","",null,{"$f":"IF(E47=\"\",\"\",VLOOKUP(E47,Ecoles!$A$3:$M$242,2,FALSE))","v":""},null,null,null,0]
["","","","",null,{"$f":"IF(E48=\"\",\"\",VLOOKUP(E48,Ecoles!$A$3:$M$242,2,FALSE))","v":""},null,null,null,0]
["","","","",null,{"$f":"IF(E49=\"\",\"\",VLOOKUP(E49,Ecoles!$A$3:$M$242,2,FALSE))","v":""},null,null,null,0]
["","","","",null,{"$f":"IF(E50=\"\",\"\",VLOOKUP(E50,Ecoles!$A$3:$M$242,2,FALSE))","v":""},null,null,null,0]
["","","","",null,{"$f":"IF(E51=\"\",\"\",VLOOKUP(E51,Ecoles!$A$3:$M$242,2,FALSE))","v":""},null,null,null,0]
["","","","",null,{"$f":"IF(E52=\"\",\"\",VLOOKUP(E52,Ecoles!$A$3:$M$242,2,FALSE))","v":""},null,null,null,0]
["","","","",null,{"$f":"IF(E53=\"\",\"\",VLOOKUP(E53,Ecoles!$A$3:$M$242,2,FALSE))","v":""},null,null,null,0]
["","","","",null,{"$f":"IF(E54=\"\",\"\",VLOOKUP(E54,Ecoles!$A$3:$M$242,2,FALSE))","v":""},null,null,null,0]
["","","","",null,{"$f":"IF(E55=\"\",\"\",VLOOKUP(E55,Ecoles!$A$3:$M$242,2,FALSE))","v":""},null,null,null,0]
["","","","",null,{"$f":"IF(E56=\"\",\"\",VLOOKUP(E56,Ecoles!$A$3:$M$242,2,FALSE))","v":""},null,null,null,0]

{"sheet":"Concert 4","index":8,"n_rows":56,"n_cols":23,"rows_kept":56,"cut":false,"hidden":false,"merged":[[0,4,0,6],[18,19,18,20],[18,21,18,22],[6,4,6,5],[6,12,7,12],[3,13,3,18]]}
[null,null,null,null,{"$f":"Données!D15","v":0},null,null,"Inscrits","Présents"]
[null,null,null,null,null,null,null,{"$f":"SUM(I9:I56)","v":0},{"$f":"SUM(J9:J56)","v":0},null,null,null,null,null,"1er degré :",{"$f":"(SUM($J$9:$J$56)-SUMIF($G$9:$G$56,\"Clg Lyc\",$J$9:$J$56))","v":0},"élèves"]
[null,null,null,null,null,{"$f":"Données!N15","v":"00:00:00"},null,null,null,null,null,null,null,null,"Clg Lyc :",{"$f":"SUMIF($G$9:$G$56,\"Clg Lyc\",$J$9:$J$56)","v":0},"élèves"]
[null,null,null,null,null,null,null,"Variation I/P :",{"$f":"I2-H2","v":0},{"$f":"I4/H2","v":{"$error":"#DIV/0!"}},null,null,null,"Répartition par séance"]
[null,null,null,null,"Accueil",{"$f":"Données!L15","v":0},null,null,null,null,null,null,"Nb d'élèves et acc :",{"$f":"SUMIF($M$9:$M$56,\"\",N9:N56)","v":0},{"$f":"SUMIF($M$9:$M$56,\"\",O9:O56)","v":0},0,0,0,0]
[null,null,null,null,null,null,null,null,null,null,null,null,null,{"$f":"Données!F15","v":0},null,{"$f":"Données!G15","v":0},null,{"$f":"Données!H15","v":0}]
[null,null,null,null,"Établissement",null,"Public","Classes","Nb él   inscrits","Nb él présents","Matin","Après midi",null,"Matin         1","Nb Acc","Matin         2","Nb Acc","Après-midi","Nb Acc"]
[]
[{"$f":"IF(E9<>0,\"x\",\"\")","v":""},{"$f":"IF(N9<>0,\"x\",\"\")","v":""},{"$f":"IF(P9<>0,\"x\",\"\")","v":""},{"$f":"IF(R9<>0,\"x\",\"\")","v":""},null,{"$f":"IF(E9=\"\",\"\",VLOOKUP(E9,Ecoles!$A$3:$M$242,2,FALSE))","v":""},null,null,null,{"$f":"N9+P9+R9","v":0}]
["","","","",null,{"$f":"IF(E10=\"\",\"\",VLOOKUP(E10,Ecoles!$A$3:$M$242,2,FALSE))","v":""},null,null,null,0]
["","","","",null,{"$f":"IF(E11=\"\",\"\",VLOOKUP(E11,Ecoles!$A$3:$M$242,2,FALSE))","v":""},null,null,null,0]
["","","","",null,{"$f":"IF(E12=\"\",\"\",VLOOKUP(E12,Ecoles!$A$3:$M$242,2,FALSE))","v":""},null,null,null,0]
["","","","",null,{"$f":"IF(E13=\"\",\"\",VLOOKUP(E13,Ecoles!$A$3:$M$242,2,FALSE))","v":""},null,null,null,0]
["","","","",null,{"$f":"IF(E14=\"\",\"\",VLOOKUP(E14,Ecoles!$A$3:$M$242,2,FALSE))","v":""},null,null,null,0]
["","","","",null,{"$f":"IF(E15=\"\",\"\",VLOOKUP(E15,Ecoles!$A$3:$M$242,2,FALSE))","v":""},null,null,null,0]
["","","","",null,{"$f":"IF(E16=\"\",\"\",VLOOKUP(E16,Ecoles!$A$3:$M$242,2,FALSE))","v":""},null,null,null,0]
["","","","",null,{"$f":"IF(E17=\"\",\"\",VLOOKUP(E17,Ecoles!$A$3:$M$242,2,FALSE))","v":""},null,null,null,0]
["","","","",null,{"$f":"IF(E18=\"\",\"\",VLOOKUP(E18,Ecoles!$A$3:$M$242,2,FALSE))","v":""},null,null,null,0]
["","","","",null,{"$f":"IF(E19=\"\",\"\",VLOOKUP(E19,Ecoles!$A$3:$M$242,2,FALSE))","v":""},null,null,null,0,null,null,null,null,null,null,null,null,null,"Charges",null,"Produits"]
["","","","",null,{"$f":"IF(E20=\"\",\"\",VLOOKUP(E20,Ecoles!$A$3:$M$242,2,FALSE))","v":""},null,null,null,0]
["","","","",null,{"$f":"IF(E21=\"\",\"\",VLOOKUP(E21,Ecoles!$A$3:$M$242,2,FALSE))","v":""},null,null,null,0,null,null,null,null,null,null,null,null,null,"Coût de cession",{"$f":"ROUND(Données!O15*0.9,-1)","v":0},"Entrées 1er degré",{"$f":"(SUM($J$9:$J$56)-SUMIF($G$9:$G$56,\"Clg Lyc\",$J$9:$J$56))*Données!M24","v":0}]
["","","","",null,{"$f":"IF(E22=\"\",\"\",VLOOKUP(E22,Ecoles!$A$3:$M$242,2,FALSE))","v":""},null,null,null,0]
["","","","",null,{"$f":"IF(E23=\"\",\"\",VLOOKUP(E23,Ecoles!$A$3:$M$242,2,FALSE))","v":""},null,null,null,0,null,null,null,null,null,null,null,null,null,"Régie",null,"Entrées 2nd degré",{"$f":"SUMIF($G$9:$G$56,\"Clg Lyc\",$J$9:$J$56)*Données!M25","v":0}]
["","","","",null,{"$f":"IF(E24=\"\",\"\",VLOOKUP(E24,Ecoles!$A$3:$M$242,2,FALSE))","v":""},null,null,null,0,null,null,null,null,null,null,null,null,null,"Location"]
["","","","",null,{"$f":"IF(E25=\"\",\"\",VLOOKUP(E25,Ecoles!$A$3:$M$242,2,FALSE))","v":""},null,null,null,0,null,null,null,null,null,null,null,null,null,"Droits d'auteurs"]
["","","","",null,{"$f":"IF(E26=\"\",\"\",VLOOKUP(E26,Ecoles!$A$3:$M$242,2,FALSE))","v":""},null,null,null,0,null,null,null,null,null,null,null,null,null,"Autre",null,"Tout Public"]
["","","","",null,{"$f":"IF(E27=\"\",\"\",VLOOKUP(E27,Ecoles!$A$3:$M$242,2,FALSE))","v":""},null,null,null,0]
["","","","",null,{"$f":"IF(E28=\"\",\"\",VLOOKUP(E28,Ecoles!$A$3:$M$242,2,FALSE))","v":""},null,null,null,0,null,null,null,null,null,null,null,null,null,"Total",{"$f":"SUM(U21:U27)","v":0},"Total",{"$f":"SUM(W21:W26)","v":0}]
["","","","",null,{"$f":"IF(E29=\"\",\"\",VLOOKUP(E29,Ecoles!$A$3:$M$242,2,FALSE))","v":""},null,null,null,0]
["","","","",null,{"$f":"IF(E30=\"\",\"\",VLOOKUP(E30,Ecoles!$A$3:$M$242,2,FALSE))","v":""},null,null,null,0,null,null,null,null,null,null,null,null,null,null,null,"Bilan ",{"$f":"W28-U28","v":0}]
["","","","",null,{"$f":"IF(E31=\"\",\"\",VLOOKUP(E31,Ecoles!$A$3:$M$242,2,FALSE))","v":""},null,null,null,0]
["","","","",null,{"$f":"IF(E32=\"\",\"\",VLOOKUP(E32,Ecoles!$A$3:$M$242,2,FALSE))","v":""},null,null,null,0]
["","","","",null,{"$f":"IF(E33=\"\",\"\",VLOOKUP(E33,Ecoles!$A$3:$M$242,2,FALSE))","v":""},null,null,null,0]
["","","","",null,{"$f":"IF(E34=\"\",\"\",VLOOKUP(E34,Ecoles!$A$3:$M$242,2,FALSE))","v":""},null,null,null,0]
["","","","",null,{"$f":"IF(E35=\"\",\"\",VLOOKUP(E35,Ecoles!$A$3:$M$242,2,FALSE))","v":""},null,null,null,0]
["","","","",null,{"$f":"IF(E36=\"\",\"\",VLOOKUP(E36,Ecoles!$A$3:$M$242,2,FALSE))","v":""},null,null,null,0]
["","","","",null,{"$f":"IF(E37=\"\",\"\",VLOOKUP(E37,Ecoles!$A$3:$M$242,2,FALSE))","v":""},null,null,null,0]
["","","","",null,{"$f":"IF(E38=\"\",\"\",VLOOKUP(E38,Ecoles!$A$3:$M$242,2,FALSE))","v":""},null,null,null,0]
["","","","",null,{"$f":"IF(E39=\"\",\"\",VLOOKUP(E39,Ecoles!$A$3:$M$242,2,FALSE))","v":""},null,null,null,0]
["","","","",null,{"$f":"IF(E40=\"\",\"\",VLOOKUP(E40,Ecoles!$A$3:$M$242,2,FALSE))","v":""},null,null,null,0]
["","","","",null,{"$f":"IF(E41=\"\",\"\",VLOOKUP(E41,Ecoles!$A$3:$M$242,2,FALSE))","v":""},null,null,null,0]
["","","","",null,{"$f":"IF(E42=\"\",\"\",VLOOKUP(E42,Ecoles!$A$3:$M$242,2,FALSE))","v":""},null,null,null,0]
["","","","",null,{"$f":"IF(E43=\"\",\"\",VLOOKUP(E43,Ecoles!$A$3:$M$242,2,FALSE))","v":""},null,null,null,0]
["","","","",null,{"$f":"IF(E44=\"\",\"\",VLOOKUP(E44,Ecoles!$A$3:$M$242,2,FALSE))","v":""},null,null,null,0]
["","","","",null,{"$f":"IF(E45=\"\",\"\",VLOOKUP(E45,Ecoles!$A$3:$M$242,2,FALSE))","v":""},null,null,null,0]
["","","","",null,{"$f":"IF(E46=\"\",\"\",VLOOKUP(E46,Ecoles!$A$3:$M$242,2,FALSE))","v":""},null,null,null,0]
["","","","",null,{"$f":"IF(E47=\"\",\"\",VLOOKUP(E47,Ecoles!$A$3:$M$242,2,FALSE))","v":""},null,null,null,0]
["","","","",null,{"$f":"IF(E48=\"\",\"\",VLOOKUP(E48,Ecoles!$A$3:$M$242,2,FALSE))","v":""},null,null,null,0]
["","","","",null,{"$f":"IF(E49=\"\",\"\",VLOOKUP(E49,Ecoles!$A$3:$M$242,2,FALSE))","v":""},null,null,null,0]
["","","","",null,{"$f":"IF(E50=\"\",\"\",VLOOKUP(E50,Ecoles!$A$3:$M$242,2,FALSE))","v":""},null,null,null,0]
["","","","",null,{"$f":"IF(E51=\"\",\"\",VLOOKUP(E51,Ecoles!$A$3:$M$242,2,FALSE))","v":""},null,null,null,0]
["","","","",null,{"$f":"IF(E52=\"\",\"\",VLOOKUP(E52,Ecoles!$A$3:$M$242,2,FALSE))","v":""},null,null,null,0]
["","","","",null,{"$f":"IF(E53=\"\",\"\",VLOOKUP(E53,Ecoles!$A$3:$M$242,2,FALSE))","v":""},null,null,null,0]
["","","","",null,{"$f":"IF(E54=\"\",\"\",VLOOKUP(E54,Ecoles!$A$3:$M$242,2,FALSE))","v":""},null,null,null,0]
["","","","",null,{"$f":"IF(E55=\"\",\"\",VLOOKUP(E55,Ecoles!$A$3:$M$242,2,FALSE))","v":""},null,null,null,0]
["","","","",null,{"$f":"IF(E56=\"\",\"\",VLOOKUP(E56,Ecoles!$A$3:$M$242,2,FALSE))","v":""},null,null,null,0]

{"sheet":"Concert 5","index":9,"n_rows":56,"n_cols":23,"rows_kept":56,"cut":false,"hidden":false,"merged":[[18,19,18,20],[18,21,18,22],[6,4,6,5],[0,4,0,6],[6,12,7,12],[3,13,3,18]]}
[null,null,null,null,{"$f":"Données!D16","v":0},null,null,"Inscrits","Présents"]
[null,null,null,null,null,null,null,{"$f":"SUM(I9:I56)","v":0},{"$f":"SUM(J9:J56)","v":0},null,null,null,null,null,"1er degré :",{"$f":"(SUM($J$9:$J$56)-SUMIF($G$9:$G$56,\"Clg Lyc\",$J$9:$J$56))","v":0},"élèves"]
[null,null,null,null,null,{"$f":"Données!N16","v":"00:00:00"},null,null,null,null,null,null,null,null,"Clg Lyc :",{"$f":"SUMIF($G$9:$G$56,\"Clg Lyc\",$J$9:$J$56)","v":0},"élèves"]
[null,null,null,null,null,null,null,"Variation I/P :",{"$f":"I2-H2","v":0},{"$f":"I4/H2","v":{"$error":"#DIV/0!"}},null,null,null,"Répartition par séance"]
[null,null,null,null,"Accueil",{"$f":"Données!L16","v":0},null,null,null,null,null,null,"Nb d'élèves et acc :",{"$f":"SUMIF($M$9:$M$56,\"\",N9:N56)","v":0},{"$f":"SUMIF($M$9:$M$56,\"\",O9:O56)","v":0},0,0,0,0]
[null,null,null,null,null,null,null,null,null,null,null,null,null,{"$f":"Données!F16","v":0},null,{"$f":"Données!G16","v":0},null,{"$f":"Données!H16","v":0}]
[null,null,null,null,"Établissement",null,"Public","Classes","Nb él   inscrits","Nb él présents","Matin","Après midi",null,"Matin         1","Nb Acc","Matin         2","Nb Acc","Après-midi","Nb Acc"]
[]
[{"$f":"IF(E9<>0,\"x\",\"\")","v":""},{"$f":"IF(N9<>0,\"x\",\"\")","v":""},{"$f":"IF(P9<>0,\"x\",\"\")","v":""},{"$f":"IF(R9<>0,\"x\",\"\")","v":""},null,{"$f":"IF(E9=\"\",\"\",VLOOKUP(E9,Ecoles!$A$3:$M$242,2,FALSE))","v":""},null,null,null,{"$f":"N9+P9+R9","v":0}]
["","","","",null,{"$f":"IF(E10=\"\",\"\",VLOOKUP(E10,Ecoles!$A$3:$M$242,2,FALSE))","v":""},null,null,null,0]
["","","","",null,{"$f":"IF(E11=\"\",\"\",VLOOKUP(E11,Ecoles!$A$3:$M$242,2,FALSE))","v":""},null,null,null,0]
["","","","",null,{"$f":"IF(E12=\"\",\"\",VLOOKUP(E12,Ecoles!$A$3:$M$242,2,FALSE))","v":""},null,null,null,0]
["","","","",null,{"$f":"IF(E13=\"\",\"\",VLOOKUP(E13,Ecoles!$A$3:$M$242,2,FALSE))","v":""},null,null,null,0]
["","","","",null,{"$f":"IF(E14=\"\",\"\",VLOOKUP(E14,Ecoles!$A$3:$M$242,2,FALSE))","v":""},null,null,null,0]
["","","","",null,{"$f":"IF(E15=\"\",\"\",VLOOKUP(E15,Ecoles!$A$3:$M$242,2,FALSE))","v":""},null,null,null,0]
["","","","",null,{"$f":"IF(E16=\"\",\"\",VLOOKUP(E16,Ecoles!$A$3:$M$242,2,FALSE))","v":""},null,null,null,0]
["","","","",null,{"$f":"IF(E17=\"\",\"\",VLOOKUP(E17,Ecoles!$A$3:$M$242,2,FALSE))","v":""},null,null,null,0]
["","","","",null,{"$f":"IF(E18=\"\",\"\",VLOOKUP(E18,Ecoles!$A$3:$M$242,2,FALSE))","v":""},null,null,null,0]
["","","","",null,{"$f":"IF(E19=\"\",\"\",VLOOKUP(E19,Ecoles!$A$3:$M$242,2,FALSE))","v":""},null,null,null,0,null,null,null,null,null,null,null,null,null,"Charges",null,"Produits"]
["","","","",null,{"$f":"IF(E20=\"\",\"\",VLOOKUP(E20,Ecoles!$A$3:$M$242,2,FALSE))","v":""},null,null,null,0]
["","","","",null,{"$f":"IF(E21=\"\",\"\",VLOOKUP(E21,Ecoles!$A$3:$M$242,2,FALSE))","v":""},null,null,null,0,null,null,null,null,null,null,null,null,null,"Coût de cession",{"$f":"ROUND(Données!O16*0.9,-1)","v":0},"Entrées 1er degré",{"$f":"(SUM($J$9:$J$56)-SUMIF($G$9:$G$56,\"Clg Lyc\",$J$9:$J$56))*Données!M24","v":0}]
["","","","",null,{"$f":"IF(E22=\"\",\"\",VLOOKUP(E22,Ecoles!$A$3:$M$242,2,FALSE))","v":""},null,null,null,0]
["","","","",null,{"$f":"IF(E23=\"\",\"\",VLOOKUP(E23,Ecoles!$A$3:$M$242,2,FALSE))","v":""},null,null,null,0,null,null,null,null,null,null,null,null,null,"Régie",null,"Entrées 2nd degré",{"$f":"SUMIF($G$9:$G$56,\"Clg Lyc\",$J$9:$J$56)*Données!M25","v":0}]
["","","","",null,{"$f":"IF(E24=\"\",\"\",VLOOKUP(E24,Ecoles!$A$3:$M$242,2,FALSE))","v":""},null,null,null,0,null,null,null,null,null,null,null,null,null,"Location"]
["","","","",null,{"$f":"IF(E25=\"\",\"\",VLOOKUP(E25,Ecoles!$A$3:$M$242,2,FALSE))","v":""},null,null,null,0,null,null,null,null,null,null,null,null,null,"Droits d'auteurs"]
["","","","",null,{"$f":"IF(E26=\"\",\"\",VLOOKUP(E26,Ecoles!$A$3:$M$242,2,FALSE))","v":""},null,null,null,0,null,null,null,null,null,null,null,null,null,"Autre",null,"Tout Public"]
["","","","",null,{"$f":"IF(E27=\"\",\"\",VLOOKUP(E27,Ecoles!$A$3:$M$242,2,FALSE))","v":""},null,null,null,0]
["","","","",null,{"$f":"IF(E28=\"\",\"\",VLOOKUP(E28,Ecoles!$A$3:$M$242,2,FALSE))","v":""},null,null,null,0,null,null,null,null,null,null,null,null,null,"Total",{"$f":"SUM(U21:U27)","v":0},"Total",{"$f":"SUM(W21:W26)","v":0}]
["","","","",null,{"$f":"IF(E29=\"\",\"\",VLOOKUP(E29,Ecoles!$A$3:$M$242,2,FALSE))","v":""},null,null,null,0]
["","","","",null,{"$f":"IF(E30=\"\",\"\",VLOOKUP(E30,Ecoles!$A$3:$M$242,2,FALSE))","v":""},null,null,null,0]
["","","","",null,{"$f":"IF(E31=\"\",\"\",VLOOKUP(E31,Ecoles!$A$3:$M$242,2,FALSE))","v":""},null,null,null,0,null,null,null,null,null,null,null,null,null,"Bilan ",{"$f":"W28-U28","v":0}]
["","","","",null,{"$f":"IF(E32=\"\",\"\",VLOOKUP(E32,Ecoles!$A$3:$M$242,2,FALSE))","v":""},null,null,null,0]
["","","","",null,{"$f":"IF(E33=\"\",\"\",VLOOKUP(E33,Ecoles!$A$3:$M$242,2,FALSE))","v":""},null,null,null,0]
["","","","",null,{"$f":"IF(E34=\"\",\"\",VLOOKUP(E34,Ecoles!$A$3:$M$242,2,FALSE))","v":""},null,null,null,0]
["","","","",null,{"$f":"IF(E35=\"\",\"\",VLOOKUP(E35,Ecoles!$A$3:$M$242,2,FALSE))","v":""},null,null,null,0]
["","","","",null,{"$f":"IF(E36=\"\",\"\",VLOOKUP(E36,Ecoles!$A$3:$M$242,2,FALSE))","v":""},null,null,null,0]
["","","","",null,{"$f":"IF(E37=\"\",\"\",VLOOKUP(E37,Ecoles!$A$3:$M$242,2,FALSE))","v":""},null,null,null,0]
["","","","",null,{"$f":"IF(E38=\"\",\"\",VLOOKUP(E38,Ecoles!$A$3:$M$242,2,FALSE))","v":""},null,null,null,0]
["","","","",null,{"$f":"IF(E39=\"\",\"\",VLOOKUP(E39,Ecoles!$A$3:$M$242,2,FALSE))","v":""},null,null,null,0]
["","","","",null,{"$f":"IF(E40=\"\",\"\",VLOOKUP(E40,Ecoles!$A$3:$M$242,2,FALSE))","v":""},null,null,null,0]
["","","","",null,{"$f":"IF(E41=\"\",\"\",VLOOKUP(E41,Ecoles!$A$3:$M$242,2,FALSE))","v":""},null,null,null,0]
["","","","",null,{"$f":"IF(E42=\"\",\"\",VLOOKUP(E42,Ecoles!$A$3:$M$242,2,FALSE))","v":""},null,null,null,0]
["","","","",null,{"$f":"IF(E43=\"\",\"\",VLOOKUP(E43,Ecoles!$A$3:$M$242,2,FALSE))","v":""},null,null,null,0]
["","","","",null,{"$f":"IF(E44=\"\",\"\",VLOOKUP(E44,Ecoles!$A$3:$M$242,2,FALSE))","v":""},null,null,null,0]
["","","","",null,{"$f":"IF(E45=\"\",\"\",VLOOKUP(E45,Ecoles!$A$3:$M$242,2,FALSE))","v":""},null,null,null,0]
["","","","",null,{"$f":"IF(E46=\"\",\"\",VLOOKUP(E46,Ecoles!$A$3:$M$242,2,FALSE))","v":""},null,null,null,0]
["","","","",null,{"$f":"IF(E47=\"\",\"\",VLOOKUP(E47,Ecoles!$A$3:$M$242,2,FALSE))","v":""},null,null,null,0]
["","","","",null,{"$f":"IF(E48=\"\",\"\",VLOOKUP(E48,Ecoles!$A$3:$M$242,2,FALSE))","v":""},null,null,null,0]
["","","","",null,{"$f":"IF(E49=\"\",\"\",VLOOKUP(E49,Ecoles!$A$3:$M$242,2,FALSE))","v":""},null,null,null,0]
["","","","",null,{"$f":"IF(E50=\"\",\"\",VLOOKUP(E50,Ecoles!$A$3:$M$242,2,FALSE))","v":""},null,null,null,0]
["","","","",null,{"$f":"IF(E51=\"\",\"\",VLOOKUP(E51,Ecoles!$A$3:$M$242,2,FALSE))","v":""},null,null,null,0]
["","","","",null,{"$f":"IF(E52=\"\",\"\",VLOOKUP(E52,Ecoles!$A$3:$M$242,2,FALSE))","v":""},null,null,null,0]
["","","","",null,{"$f":"IF(E53=\"\",\"\",VLOOKUP(E53,Ecoles!$A$3:$M$242,2,FALSE))","v":""},null,null,null,0]
["","","","",null,{"$f":"IF(E54=\"\",\"\",VLOOKUP(E54,Ecoles!$A$3:$M$242,2,FALSE))","v":""},null,null,null,0]
["","","","",null,{"$f":"IF(E55=\"\",\"\",VLOOKUP(E55,Ecoles!$A$3:$M$242,2,FALSE))","v":""},null,null,null,0]
["","","","",null,{"$f":"IF(E56=\"\",\"\",VLOOKUP(E56,Ecoles!$A$3:$M$242,2,FALSE))","v":""},null,null,null,0]

{"sheet":"Stat Concert 1","index":10,"n_rows":41,"n_cols":12,"rows_kept":41,"cut":false,"hidden":false,"merged":[[36,9,36,10],[38,0,38,11],[39,0,39,11],[40,0,40,11],[47,0,47,11],[27,2,27,3],[27,5,27,6],[27,9,27,10],[29,6,29,7],[30,1,34,3],[30,6,30,7],[31,6,31,7],[32,6,32,7],[33,6,33,7],[34,6,34,7],[24,1,25,3],[24,6,25,7],[24,8,25,8],[24,10,25,10],[24,11,25,11],[18,1,22,3],[0,0,0,3],[0,4,1,10],[2,4,2,10],[4,0,4,1],[4,2,4,11],[18,6,18,7],[19,6,19,7],[19,10,20,10],[19,11,20,11],[20,6,20,7],[21,6,21,7],[21,10,21,11],[22,6,22,7],[10,9,10,10],[6,2,6,3],[6,6,6,11],[10,6,10,8],[50,0,50,11],[36,1,36,3],[36,6,36,7],[12,6,12,7],[13,1,17,3],[13,6,13,7],[14,6,14,7],[15,6,15,7],[16,6,16,7],[17,6,17,7],[17,10,18,10],[17,11,18,11]]}
[{"$f":"Données!F2","v":0},null,null,null,"STATISTIQUES À ADRESSER \nAU SERVICE DES TOURNEES cbrun@jmfrance.org\nLE LENDEMAIN DU CONCERT"]
[]
[null,null,null,null,"Vous pouvez télécharger ce document sur www.jmfrance.org > Documentation > Espace réseau",null,null,null,null,null,null,"Accueil"]
[]
["VILLE : ",null,{"$f":"Données!M2","v":0}]
[]
["DATE :",null,{"$f":"Données!N12","v":"00:00:00"},null,"SPECTACLE :",null,{"$f":"Données!D12","v":0}]
[]
["CAPACITÉ DE LA SALLE : ",null,null,null,{"$f":"Données!M12","v":0}]
[]
["Type 1 :",null,null,null,"SCOLAIRE ",null,null,null,null,"Nombre de séances : ",null,{"$f":"COUNTA(Données!F12:H12)","v":0}]
[]
[null,null,null,null,null,"TARIF *","NOMBRE",null,"RECETTES **\n(nb x tarif)",null,"DONT","NOMBRE"]
[null,"ENFANTS",null,null,"tarif 1",{"$f":"Données!M24","v":0},{"$f":"L14","v":0},null,{"$f":"G14*F14","v":0},null,"Cycle 1 (maternelles)",{"$f":"SUMIF('Concert 1'!$G$9:$G$56,\"Cycle 1\",'Concert 1'!$J$9:$J$56)","v":0}]
[null,null,null,null,"tarif 2",{"$f":"Données!M25","v":0},{"$f":"L15","v":0},null,{"$f":"G15*F15","v":0},null,"Cycle 2 (CP/CE1/CE2)",{"$f":"SUMIF('Concert 1'!$G$9:$G$56,\"Cycle 2\",'Concert 1'!$J$9:$J$56)","v":0}]
[null,null,null,null,"tarif 3",{"$f":"Données!M26","v":0},{"$f":"L16","v":0},null,0,null,"Cycle 3 (CM1/CM2/hors 6ème)",{"$f":"SUMIF('Concert 1'!$G$9:$G$56,\"Cycle 3\",'Concert 1'!$J$9:$J$56)","v":0}]
[null,null,null,null,"tarif 4",{"$f":"Données!M27","v":0},{"$f":"L17","v":0},null,0,null,"Collèges & lycées",{"$f":"SUMIF('Concert 1'!$G$9:$G$56,\"Clg Lyc\",'Concert 1'!$J$9:$J$56)","v":0}]
[null,null,null,null,"exonéré",0,null,null,0,null,"Publics spécifiques\n(IME, maisons de retraite…)",{"$f":"SUMIF('Concert 1'!$G$9:$G$56,\"Spé\",'Concert 1'!$J$9:$J$56)","v":0}]
[null,"ADULTES",null,null,"tarif 1",{"$f":"Données!M30","v":0},null,null,0]
[null,null,null,null,"tarif 2",{"$f":"Données!M31","v":0},null,null,0,null,"Autre, préciser \n\n…………………",{"$f":"SUMIF('Concert 1'!$G$9:$G$56,\"Séniors\",'Concert 1'!$J$9:$J$56)","v":0}]
[null,null,null,null,"tarif 3",{"$f":"Données!M32","v":0},null,null,0]
[null,null,null,null,"tarif 4",{"$f":"Données!M33","v":0},null,null,0]
[null,null,null,null,"exonéré",0,{"$f":"'Concert 1'!O5+'Concert 1'!Q5+'Concert 1'!S5","v":0},null,0,null,"Accompagnateurs",{"$f":"'Concert 1'!O5+'Concert 1'!Q5+'Concert 1'!S5","v":0}]
[]
[null,"TOTAL 1 ***",null,null,"Payant ",{"$f":"SUM(G14:H17,G19:H22)","v":0},{"$f":"SUM(G14:H23)","v":0},null,{"$f":"SUM(I14:I23)","v":0},null,"TOTAL 2 ***",{"$f":"SUM(L14:L21)+L23","v":0}]
[null,null,null,null,"Exonéré ",{"$f":"G18+G23","v":0}]
[]
["Type 2 :",null,"FAMILIALE",null,null,"TOUT PUBLIC ",null,null,"AUTRE","Nombre de séances : ",null,{"$f":"COUNTA(Données!I12)","v":0}]
[]
[null,null,null,null,null,"TARIF *","NOMBRE",null,"RECETTES **\n(nb x tarif)"]
[null,"SPECTATEURS",null,null,"tarif 1",{"$f":"Données!O24","v":0},null,null,{"$f":"F31*G31","v":0}]
[null,null,null,null,"tarif 2",{"$f":"Données!O25","v":0},null,null,{"$f":"F32*G32","v":0}]
[null,null,null,null,"tarif 3",{"$f":"Données!O26","v":0},null,null,0]
[null,null,null,null,"tarif 4",{"$f":"Données!O27","v":0},null,null,0]
[null,null,null,null,"exonéré",0,null,null,0]
[]
[null,null,null,null,null,"TOTAL ",{"$f":"SUM(G31:H36)","v":0},null,{"$f":"SUM(I31:I35)","v":0}]
[]
["* Dans votre comptabilité, ne pas oublier de faire apparaître 25% du tarif en cotisation et non en recettes"]
["** Les recettes sont indispensables pour les déclarations Sacem/SACD. En leur absence, un tarif forfaitaire est appliqué."]
["*** TOTAL 1 doit être égal à TOTAL 2"]

{"sheet":"Stat Concert 2","index":11,"n_rows":41,"n_cols":12,"rows_kept":41,"cut":false,"hidden":false,"merged":[[36,6,36,7],[36,9,36,10],[38,0,38,11],[39,0,39,11],[40,0,40,11],[24,1,25,3],[24,6,25,7],[24,8,25,8],[24,10,25,10],[24,11,25,11],[17,10,18,10],[17,11,18,11],[18,1,22,3],[18,6,18,7],[19,6,19,7],[19,10,20,10],[19,11,20,11],[20,6,20,7],[21,6,21,7],[21,10,21,11],[22,6,22,7],[12,6,12,7],[13,1,17,3],[13,6,13,7],[14,6,14,7],[15,6,15,7],[16,6,16,7],[17,6,17,7],[4,0,4,1],[4,2,4,11],[6,2,6,3],[6,6,6,11],[10,6,10,8],[10,9,10,10],[0,0,0,3],[0,4,1,10],[50,0,50,11],[47,0,47,11],[27,2,27,3],[27,5,27,6],[27,9,27,10],[29,6,29,7],[30,1,34,3],[30,6,30,7],[31,6,31,7],[32,6,32,7],[33,6,33,7],[34,6,34,7],[36,1,36,3],[2,4,2,10]]}
[{"$f":"Données!F2","v":0},null,null,null,"STATISTIQUES À ADRESSER \nAU SERVICE DES TOURNEES cbrun@jmfrance.org\nLE LENDEMAIN DU CONCERT"]
[]
[null,null,null,null,"Vous pouvez télécharger ce document sur www.jmfrance.org > Documentation > Espace réseau",null,null,null,null,null,null,"Accueil"]
[]
["VILLE : ",null,{"$f":"Données!M2","v":0}]
[]
["DATE :",null,{"$f":"Données!N13","v":"00:00:00"},null,"SPECTACLE :",null,{"$f":"Données!D13","v":0}]
[]
["CAPACITÉ DE LA SALLE : ",null,null,null,{"$f":"Données!M13","v":0}]
[]
["Type 1 :",null,null,null,"SCOLAIRE ",null,null,null,null,"Nombre de séances : ",null,{"$f":"COUNTA(Données!F13:H13)","v":0}]
[]
[null,null,null,null,null,"TARIF *","NOMBRE",null,"RECETTES **\n(nb x tarif)",null,"DONT","NOMBRE"]
[null,"ENFANTS",null,null,"tarif 1",{"$f":"Données!M24","v":0},{"$f":"L14","v":0},null,{"$f":"G14*F14","v":0},null,"Cycle 1 (maternelles)",{"$f":"SUMIF('Concert 2'!$G$9:$G$56,\"Cycle 1\",'Concert 2'!$J$9:$J$56)","v":0}]
[null,null,null,null,"tarif 2",{"$f":"Données!M25","v":0},{"$f":"L15","v":0},null,{"$f":"G15*F15","v":0},null,"Cycle 2 (CP/CE1/CE2)",{"$f":"SUMIF('Concert 2'!$G$9:$G$56,\"Cycle 2\",'Concert 2'!$J$9:$J$56)","v":0}]
[null,null,null,null,"tarif 3",{"$f":"Données!M26","v":0},{"$f":"L16","v":0},null,0,null,"Cycle 3 (CM1/CM2/hors 6ème)",{"$f":"SUMIF('Concert 2'!$G$9:$G$56,\"Cycle 3\",'Concert 2'!$J$9:$J$56)","v":0}]
[null,null,null,null,"tarif 4",{"$f":"Données!M27","v":0},{"$f":"L17","v":0},null,0,null,"Collèges & lycées",{"$f":"SUMIF('Concert 2'!$G$9:$G$56,\"Clg Lyc\",'Concert 2'!$J$9:$J$56)","v":0}]
[null,null,null,null,"exonéré",0,null,null,0,null,"Publics spécifiques\n(IME, maisons de retraite…)",{"$f":"SUMIF('Concert 2'!$G$9:$G$56,\"Spé\",'Concert 2'!$J$9:$J$56)","v":0}]
[null,"ADULTES",null,null,"tarif 1",{"$f":"Données!M30","v":0},null,null,0]
[null,null,null,null,"tarif 2",{"$f":"Données!M31","v":0},null,null,0,null,"Autre, préciser \n\n…………………",{"$f":"SUMIF('Concert 2'!$G$9:$G$56,\"Séniors\",'Concert 2'!$J$9:$J$56)","v":0}]
[null,null,null,null,"tarif 3",{"$f":"Données!M32","v":0},null,null,0]
[null,null,null,null,"tarif 4",{"$f":"Données!M33","v":0},null,null,0]
[null,null,null,null,"exonéré",0,{"$f":"'Concert 2'!O5+'Concert 2'!Q5+'Concert 2'!S5","v":0},null,0,null,"Accompagnateurs",{"$f":"'Concert 2'!O5+'Concert 2'!Q5+'Concert 2'!S5","v":0}]
[]
[null,"TOTAL 1 ***",null,null,"Payant ",{"$f":"SUM(G14:H17,G19:H22)","v":0},{"$f":"SUM(G14:H23)","v":0},null,{"$f":"SUM(I14:I23)","v":0},null,"TOTAL 2 ***",{"$f":"SUM(L14:L21)+L23","v":0}]
[null,null,null,null,"Exonéré ",{"$f":"G18+G23","v":0}]
[]
["Type 2 :",null,"FAMILIALE",null,null,"TOUT PUBLIC ",null,null,"AUTRE","Nombre de séances : ",null,{"$f":"COUNTA(Données!I13)","v":0}]
[]
[null,null,null,null,null,"TARIF *","NOMBRE",null,"RECETTES **\n(nb x tarif)"]
[null,"SPECTATEURS",null,null,"tarif 1",{"$f":"Données!O24","v":0},null,null,{"$f":"F31*G31","v":0}]
[null,null,null,null,"tarif 2",{"$f":"Données!O25","v":0},null,null,{"$f":"F32*G32","v":0}]
[null,null,null,null,"tarif 3",{"$f":"Données!O26","v":0},null,null,0]
[null,null,null,null,"tarif 4",{"$f":"Données!O27","v":0},null,null,0]
[null,null,null,null,"exonéré",0,null,null,0]
[]
[null,null,null,null,null,"TOTAL ",{"$f":"SUM(G31:H36)","v":0},null,{"$f":"SUM(I31:I35)","v":0}]
[]
["* Dans votre comptabilité, ne pas oublier de faire apparaître 25% du tarif en cotisation et non en recettes"]
["** Les recettes sont indispensables pour les déclarations Sacem/SACD. En leur absence, un tarif forfaitaire est appliqué."]
["*** TOTAL 1 doit être égal à TOTAL 2"]

{"sheet":"Stat Concert 3","index":12,"n_rows":41,"n_cols":12,"rows_kept":41,"cut":false,"hidden":false,"merged":[[36,6,36,7],[36,9,36,10],[38,0,38,11],[39,0,39,11],[40,0,40,11],[24,1,25,3],[24,6,25,7],[24,8,25,8],[24,10,25,10],[24,11,25,11],[17,10,18,10],[17,11,18,11],[18,1,22,3],[18,6,18,7],[19,6,19,7],[19,10,20,10],[19,11,20,11],[20,6,20,7],[21,6,21,7],[21,10,21,11],[22,6,22,7],[12,6,12,7],[13,1,17,3],[13,6,13,7],[14,6,14,7],[15,6,15,7],[16,6,16,7],[17,6,17,7],[4,0,4,1],[4,2,4,11],[6,2,6,3],[6,6,6,11],[10,6,10,8],[10,9,10,10],[0,0,0,3],[0,4,1,10],[50,0,50,11],[47,0,47,11],[27,2,27,3],[27,5,27,6],[27,9,27,10],[29,6,29,7],[30,1,34,3],[30,6,30,7],[31,6,31,7],[32,6,32,7],[33,6,33,7],[34,6,34,7],[36,1,36,3],[2,4,2,10]]}
[{"$f":"Données!F2","v":0},null,null,null,"STATISTIQUES À ADRESSER \nAU SERVICE DES TOURNEES cbrun@jmfrance.org\nLE LENDEMAIN DU CONCERT"]
[]
[null,null,null,null,"Vous pouvez télécharger ce document sur www.jmfrance.org > Documentation > Espace réseau",null,null,null,null,null,null,"Accueil"]
[]
["VILLE : ",null,{"$f":"Données!M2","v":0}]
[]
["DATE :",null,{"$f":"Données!N14","v":"00:00:00"},null,"SPECTACLE :",null,{"$f":"Données!D14","v":0}]
[]
["CAPACITÉ DE LA SALLE : ",null,null,null,{"$f":"Données!M14","v":0}]
[]
["Type 1 :",null,null,null,"SCOLAIRE ",null,null,null,null,"Nombre de séances : ",null,{"$f":"COUNTA(Données!F14:H14)","v":0}]
[]
[null,null,null,null,null,"TARIF *","NOMBRE",null,"RECETTES **\n(nb x tarif)",null,"DONT","NOMBRE"]
[null,"ENFANTS",null,null,"tarif 1",{"$f":"Données!M24","v":0},{"$f":"L14","v":0},null,{"$f":"G14*F14","v":0},null,"Cycle 1 (maternelles)",{"$f":"SUMIF('Concert 3'!$G$9:$G$56,\"Cycle 1\",'Concert 3'!$J$9:$J$56)","v":0}]
[null,null,null,null,"tarif 2",{"$f":"Données!M25","v":0},{"$f":"L15","v":0},null,{"$f":"G15*F15","v":0},null,"Cycle 2 (CP/CE1/CE2)",{"$f":"SUMIF('Concert 3'!$G$9:$G$56,\"Cycle 2\",'Concert 3'!$J$9:$J$56)","v":0}]
[null,null,null,null,"tarif 3",{"$f":"Données!M26","v":0},{"$f":"L16","v":0},null,0,null,"Cycle 3 (CM1/CM2/hors 6ème)",{"$f":"SUMIF('Concert 3'!$G$9:$G$56,\"Cycle 3\",'Concert 3'!$J$9:$J$56)","v":0}]
[null,null,null,null,"tarif 4",{"$f":"Données!M27","v":0},{"$f":"L17","v":0},null,0,null,"Collèges & lycées",{"$f":"SUMIF('Concert 3'!$G$9:$G$56,\"Clg Lyc\",'Concert 3'!$J$9:$J$56)","v":0}]
[null,null,null,null,"exonéré",0,null,null,0,null,"Publics spécifiques\n(IME, maisons de retraite…)",{"$f":"SUMIF('Concert 3'!$G$9:$G$56,\"Spé\",'Concert 3'!$J$9:$J$56)","v":0}]
[null,"ADULTES",null,null,"tarif 1",{"$f":"Données!M30","v":0},null,null,0]
[null,null,null,null,"tarif 2",{"$f":"Données!M31","v":0},null,null,0,null,"Autre, préciser \n\n…………………",{"$f":"SUMIF('Concert 3'!$G$9:$G$56,\"Séniors\",'Concert 3'!$J$9:$J$56)","v":0}]
[null,null,null,null,"tarif 3",{"$f":"Données!M32","v":0},null,null,0]
[null,null,null,null,"tarif 4",{"$f":"Données!M33","v":0},null,null,0]
[null,null,null,null,"exonéré",0,{"$f":"'Concert 3'!O5+'Concert 3'!Q5+'Concert 3'!S5","v":0},null,0,null,"Accompagnateurs",{"$f":"'Concert 3'!O5+'Concert 3'!Q5+'Concert 3'!S5","v":0}]
[]
[null,"TOTAL 1 ***",null,null,"Payant ",{"$f":"SUM(G14:H17,G19:H22)","v":0},{"$f":"SUM(G14:H23)","v":0},null,{"$f":"SUM(I14:I23)","v":0},null,"TOTAL 2 ***",{"$f":"SUM(L14:L21)+L23","v":0}]
[null,null,null,null,"Exonéré ",{"$f":"G18+G23","v":0}]
[]
["Type 2 :",null,"FAMILIALE",null,null,"TOUT PUBLIC ",null,null,"AUTRE","Nombre de séances : ",null,{"$f":"COUNTA(Données!I14)","v":0}]
[]
[null,null,null,null,null,"TARIF *","NOMBRE",null,"RECETTES **\n(nb x tarif)"]
[null,"SPECTATEURS",null,null,"tarif 1",{"$f":"Données!O24","v":0},null,null,{"$f":"F31*G31","v":0}]
[null,null,null,null,"tarif 2",{"$f":"Données!O25","v":0},null,null,{"$f":"F32*G32","v":0}]
[null,null,null,null,"tarif 3",{"$f":"Données!O26","v":0},null,null,0]
[null,null,null,null,"tarif 4",{"$f":"Données!O27","v":0},null,null,0]
[null,null,null,null,"exonéré",0,null,null,0]
[]
[null,null,null,null,null,"TOTAL ",{"$f":"SUM(G31:H36)","v":0},null,{"$f":"SUM(I31:I35)","v":0}]
[]
["* Dans votre comptabilité, ne pas oublier de faire apparaître 25% du tarif en cotisation et non en recettes"]
["** Les recettes sont indispensables pour les déclarations Sacem/SACD. En leur absence, un tarif forfaitaire est appliqué."]
["*** TOTAL 1 doit être égal à TOTAL 2"]

{"sheet":"Stat Concert 4","index":13,"n_rows":41,"n_cols":12,"rows_kept":41,"cut":false,"hidden":false,"merged":[[27,2,27,3],[27,5,27,6],[27,9,27,10],[29,6,29,7],[30,1,34,3],[30,6,30,7],[31,6,31,7],[32,6,32,7],[33,6,33,7],[34,6,34,7],[24,1,25,3],[24,6,25,7],[24,8,25,8],[24,10,25,10],[24,11,25,11],[17,11,18,11],[18,1,22,3],[18,6,18,7],[19,6,19,7],[19,10,20,10],[19,11,20,11],[20,6,20,7],[21,6,21,7],[21,10,21,11],[22,6,22,7],[10,9,10,10],[12,6,12,7],[13,1,17,3],[13,6,13,7],[14,6,14,7],[15,6,15,7],[16,6,16,7],[17,6,17,7],[17,10,18,10],[0,0,0,3],[0,4,1,10],[2,4,2,10],[47,0,47,11],[50,0,50,11],[36,1,36,3],[36,6,36,7],[36,9,36,10],[38,0,38,11],[39,0,39,11],[40,0,40,11],[4,0,4,1],[4,2,4,11],[6,2,6,3],[6,6,6,11],[10,6,10,8]]}
[{"$f":"Données!F2","v":0},null,null,null,"STATISTIQUES À ADRESSER \nAU SERVICE DES TOURNEES cbrun@jmfrance.org\nLE LENDEMAIN DU CONCERT"]
[]
[null,null,null,null,"Vous pouvez télécharger ce document sur www.jmfrance.org > Documentation > Espace réseau",null,null,null,null,null,null,"Accueil"]
[]
["VILLE : ",null,{"$f":"Données!M2","v":0}]
[]
["DATE :",null,{"$f":"Données!N15","v":"00:00:00"},null,"SPECTACLE :",null,{"$f":"Données!D15","v":0}]
[]
["CAPACITÉ DE LA SALLE : ",null,null,null,{"$f":"Données!M15","v":0}]
[]
["Type 1 :",null,null,null,"SCOLAIRE ",null,null,null,null,"Nombre de séances : ",null,{"$f":"COUNTA(Données!F15:H15)","v":0}]
[]
[null,null,null,null,null,"TARIF *","NOMBRE",null,"RECETTES **\n(nb x tarif)",null,"DONT","NOMBRE"]
[null,"ENFANTS",null,null,"tarif 1",{"$f":"Données!M24","v":0},{"$f":"L14","v":0},null,{"$f":"G14*F14","v":0},null,"Cycle 1 (maternelles)",{"$f":"SUMIF('Concert 4'!$G$9:$G$56,\"Cycle 1\",'Concert 4'!$J$9:$J$56)","v":0}]
[null,null,null,null,"tarif 2",{"$f":"Données!M25","v":0},{"$f":"L15","v":0},null,{"$f":"G15*F15","v":0},null,"Cycle 2 (CP/CE1/CE2)",{"$f":"SUMIF('Concert 4'!$G$9:$G$56,\"Cycle 2\",'Concert 4'!$J$9:$J$56)","v":0}]
[null,null,null,null,"tarif 3",{"$f":"Données!M26","v":0},{"$f":"L16","v":0},null,0,null,"Cycle 3 (CM1/CM2/hors 6ème)",{"$f":"SUMIF('Concert 4'!$G$9:$G$56,\"Cycle 3\",'Concert 4'!$J$9:$J$56)","v":0}]
[null,null,null,null,"tarif 4",{"$f":"Données!M27","v":0},{"$f":"L17","v":0},null,0,null,"Collèges & lycées",{"$f":"SUMIF('Concert 4'!$G$9:$G$56,\"Clg Lyc\",'Concert 4'!$J$9:$J$56)","v":0}]
[null,null,null,null,"exonéré",0,null,null,0,null,"Publics spécifiques\n(IME, maisons de retraite…)",{"$f":"SUMIF('Concert 4'!$G$9:$G$56,\"Spé\",'Concert 4'!$J$9:$J$56)","v":0}]
[null,"ADULTES",null,null,"tarif 1",{"$f":"Données!M30","v":0},null,null,0]
[null,null,null,null,"tarif 2",{"$f":"Données!M31","v":0},null,null,0,null,"Autre, préciser \n\n…………………",{"$f":"SUMIF('Concert 4'!$G$9:$G$56,\"Séniors\",'Concert 4'!$J$9:$J$56)","v":0}]
[null,null,null,null,"tarif 3",{"$f":"Données!M32","v":0},null,null,0]
[null,null,null,null,"tarif 4",{"$f":"Données!M33","v":0},null,null,0]
[null,null,null,null,"exonéré",0,{"$f":"'Concert 4'!O5+'Concert 4'!Q5+'Concert 4'!S5","v":0},null,0,null,"Accompagnateurs",{"$f":"'Concert 1'!O5+'Concert 1'!Q5+'Concert 1'!S5","v":0}]
[]
[null,"TOTAL 1 ***",null,null,"Payant ",{"$f":"SUM(G14:H17,G19:H22)","v":0},{"$f":"SUM(G14:H23)","v":0},null,{"$f":"SUM(I14:I23)","v":0},null,"TOTAL 2 ***",{"$f":"SUM(L14:L21)+L23","v":0}]
[null,null,null,null,"Exonéré ",{"$f":"G18+G23","v":0}]
[]
["Type 2 :",null,"FAMILIALE",null,null,"TOUT PUBLIC ",null,null,"AUTRE","Nombre de séances : ",null,{"$f":"COUNTA(Données!I15)","v":0}]
[]
[null,null,null,null,null,"TARIF *","NOMBRE",null,"RECETTES **\n(nb x tarif)"]
[null,"SPECTATEURS",null,null,"tarif 1",{"$f":"Données!O24","v":0},null,null,{"$f":"F31*G31","v":0}]
[null,null,null,null,"tarif 2",{"$f":"Données!O25","v":0},null,null,{"$f":"F32*G32","v":0}]
[null,null,null,null,"tarif 3",{"$f":"Données!O26","v":0},null,null,0]
[null,null,null,null,"tarif 4",{"$f":"Données!O27","v":0},null,null,0]
[null,null,null,null,"exonéré",0,null,null,0]
[]
[null,null,null,null,null,"TOTAL ",{"$f":"SUM(G31:H36)","v":0},null,{"$f":"SUM(I31:I35)","v":0}]
[]
["* Dans votre comptabilité, ne pas oublier de faire apparaître 25% du tarif en cotisation et non en recettes"]
["** Les recettes sont indispensables pour les déclarations Sacem/SACD. En leur absence, un tarif forfaitaire est appliqué."]
["*** TOTAL 1 doit être égal à TOTAL 2"]

{"sheet":"Stat Concert 5","index":14,"n_rows":41,"n_cols":12,"rows_kept":41,"cut":false,"hidden":false,"merged":[[27,2,27,3],[27,5,27,6],[27,9,27,10],[29,6,29,7],[30,1,34,3],[30,6,30,7],[31,6,31,7],[32,6,32,7],[33,6,33,7],[34,6,34,7],[24,1,25,3],[24,6,25,7],[24,8,25,8],[24,10,25,10],[24,11,25,11],[17,11,18,11],[18,1,22,3],[18,6,18,7],[19,6,19,7],[19,10,20,10],[19,11,20,11],[20,6,20,7],[21,6,21,7],[21,10,21,11],[22,6,22,7],[10,9,10,10],[12,6,12,7],[13,1,17,3],[13,6,13,7],[14,6,14,7],[15,6,15,7],[16,6,16,7],[17,6,17,7],[17,10,18,10],[0,0,0,3],[0,4,1,10],[2,4,2,10],[47,0,47,11],[50,0,50,11],[36,1,36,3],[36,6,36,7],[36,9,36,10],[38,0,38,11],[39,0,39,11],[40,0,40,11],[4,0,4,1],[4,2,4,11],[6,2,6,3],[6,6,6,11],[10,6,10,8]]}
[{"$f":"Données!F2","v":0},null,null,null,"STATISTIQUES À ADRESSER \nAU SERVICE DES TOURNEES cbrun@jmfrance.org\nLE LENDEMAIN DU CONCERT"]
[]
[null,null,null,null,"Vous pouvez télécharger ce document sur www.jmfrance.org > Documentation > Espace réseau",null,null,null,null,null,null,"Accueil"]
[]
["VILLE : ",null,{"$f":"Données!M2","v":0}]
[]
["DATE :",null,{"$f":"Données!N16","v":"00:00:00"},null,"SPECTACLE :",null,{"$f":"Données!D16","v":0}]
[]
["CAPACITÉ DE LA SALLE : ",null,null,null,{"$f":"Données!M16","v":0}]
[]
["Type 1 :",null,null,null,"SCOLAIRE ",null,null,null,null,"Nombre de séances : ",null,{"$f":"COUNTA(Données!F16:H16)","v":0}]
[]
[null,null,null,null,null,"TARIF *","NOMBRE",null,"RECETTES **\n(nb x tarif)",null,"DONT","NOMBRE"]
[null,"ENFANTS",null,null,"tarif 1",{"$f":"Données!M24","v":0},{"$f":"L14","v":0},null,{"$f":"G14*F14","v":0},null,"Cycle 1 (maternelles)",{"$f":"SUMIF('Concert 5'!$G$9:$G$56,\"Cycle 1\",'Concert 5'!$J$9:$J$56)","v":0}]
[null,null,null,null,"tarif 2",{"$f":"Données!M25","v":0},{"$f":"L15","v":0},null,{"$f":"G15*F15","v":0},null,"Cycle 2 (CP/CE1/CE2)",{"$f":"SUMIF('Concert 5'!$G$9:$G$56,\"Cycle 2\",'Concert 5'!$J$9:$J$56)","v":0}]
[null,null,null,null,"tarif 3",{"$f":"Données!M26","v":0},{"$f":"L16","v":0},null,0,null,"Cycle 3 (CM1/CM2/hors 6ème)",{"$f":"SUMIF('Concert 5'!$G$9:$G$56,\"Cycle 3\",'Concert 5'!$J$9:$J$56)","v":0}]
[null,null,null,null,"tarif 4",{"$f":"Données!M27","v":0},{"$f":"L17","v":0},null,0,null,"Collèges & lycées",{"$f":"SUMIF('Concert 5'!$G$9:$G$56,\"Clg Lyc\",'Concert 5'!$J$9:$J$56)","v":0}]
[null,null,null,null,"exonéré",0,null,null,0,null,"Publics spécifiques\n(IME, maisons de retraite…)",{"$f":"SUMIF('Concert 5'!$G$9:$G$56,\"Spé\",'Concert 5'!$J$9:$J$56)","v":0}]
[null,"ADULTES",null,null,"tarif 1",{"$f":"Données!M30","v":0},null,null,0]
[null,null,null,null,"tarif 2",{"$f":"Données!M31","v":0},null,null,0,null,"Autre, préciser \n\n…………………",{"$f":"SUMIF('Concert 5'!$G$9:$G$56,\"Séniors\",'Concert 5'!$J$9:$J$56)","v":0}]
[null,null,null,null,"tarif 3",{"$f":"Données!M32","v":0},null,null,0]
[null,null,null,null,"tarif 4",{"$f":"Données!M33","v":0},null,null,0]
[null,null,null,null,"exonéré",0,{"$f":"'Concert 5'!O5+'Concert 5'!Q5+'Concert 5'!S5","v":0},null,0,null,"Accompagnateurs",{"$f":"'Concert 5'!O5+'Concert 5'!Q5+'Concert 5'!S5","v":0}]
[]
[null,"TOTAL 1 ***",null,null,"Payant ",{"$f":"SUM(G14:H17,G19:H22)","v":0},{"$f":"SUM(G14:H23)","v":0},null,{"$f":"SUM(I14:I23)","v":0},null,"TOTAL 2 ***",{"$f":"SUM(L14:L21)+L23","v":0}]
[null,null,null,null,"Exonéré ",{"$f":"G18+G23","v":0}]
[]
["Type 2 :",null,"FAMILIALE",null,null,"TOUT PUBLIC ",null,null,"AUTRE","Nombre de séances : ",null,{"$f":"COUNTA(Données!I12)","v":0}]
[]
[null,null,null,null,null,"TARIF *","NOMBRE",null,"RECETTES **\n(nb x tarif)"]
[null,"SPECTATEURS",null,null,"tarif 1",{"$f":"Données!O24","v":0},null,null,{"$f":"F31*G31","v":0}]
[null,null,null,null,"tarif 2",{"$f":"Données!O25","v":0},null,null,{"$f":"F32*G32","v":0}]
[null,null,null,null,"tarif 3",{"$f":"Données!O26","v":0},null,null,0]
[null,null,null,null,"tarif 4",{"$f":"Données!O27","v":0},null,null,0]
[null,null,null,null,"exonéré",0,null,null,0]
[]
[null,null,null,null,null,"TOTAL ",{"$f":"SUM(G31:H36)","v":0},null,{"$f":"SUM(I31:I35)","v":0}]
[]
["* Dans votre comptabilité, ne pas oublier de faire apparaître 25% du tarif en cotisation et non en recettes"]
["** Les recettes sont indispensables pour les déclarations Sacem/SACD. En leur absence, un tarif forfaitaire est appliqué."]
["*** TOTAL 1 doit être égal à TOTAL 2"]

{"sheet":"Données","index":15,"n_rows":36,"n_cols":15,"rows_kept":36,"cut":false,"hidden":false,"merged":[[19,1,19,2],[1,5,1,6],[9,16,9,17],[1,12,1,15],[8,5,8,8],[11,3,11,4],[12,3,12,4],[13,3,13,4],[14,3,14,4],[15,3,15,4]]}
[]
[null,null,null,null,"Saison :",null,null,null,null,null,"Association / Délégation :","JM France"]
[]
[]
["Accueil"]
[]
[]
[null,null,"Programmation"]
[null,null,null,null,null,"Horaires"]
[null,null,null,"Nom des concerts retenus",null,"Matin 1","Matin 2","Après-midi","Tous Publics",null,null,"Salle","Jauge maxi","Dates","Coûts de cessions"]
[]
[null,null,1]
[null,null,2]
[null,null,3]
[null,null,4]
[null,null,5]
[]
[]
[]
[null,"Subventions ",null,null,"Niveaux",null,"Classes",null,"Vœux",null,null,null,"Tarifs"]
[]
[null,"Origine","Montant",null,"Cycle 1",null,"PS Mat",null,"Vœu 1",null,null,null,"Scolaires",null,"Tous Publics"]
[null,null,null,null,"Cycle 2",null,"MS Mat",null,"Vœu 2",null,null,"Enfants"]
[null,"Mairie",null,null,"Cycle 3",null,"GS Mat",null,"Indifférent",null,null,"Tarif 1(Cycle 1)",null,"Tarif 1"]
[null,"Com Agglo",null,null,"Clg Lyc",null,"CP",null,"Impossible",null,null,"Tarif 2 (Cycle 2)",null,"Tarif 2"]
[null,"Conseil Dép",null,null,"Spé",null,"CE 1",null,null,null,null,"Tarif 3 (Cycle3)",null,"Tarif 3"]
[null,"Autre",null,null,"Séniors",null,"CE 2",null,null,null,null,"Tarif 4 (Clg Lyc autre)",null,"Tarif 4"]
[null,null,null,null,null,null,"CM 1"]
[null,null,null,null,null,null,"CM 2",null,null,null,null,"Adultes"]
[null,null,null,null,null,null,"6ème",null,null,null,null,"Tarif 1"]
[null,null,null,null,null,null,"5ème",null,null,null,null,"Tarif 2"]
[null,null,null,null,null,null,"4ème",null,null,null,null,"Tarif 3"]
[null,null,null,null,null,null,"3ème",null,null,null,null,"Tarif 4"]
[null,null,null,null,null,null,"2nde"]
[null,null,null,null,null,null,"1ère"]
[null,null,null,null,null,null,"Tle"]